{"text_format":"1","workbook":"xlsx","n_sheets":13,"sheets":["VKL","Rohdaten","Plau_kuehlen","Plau_heizen","Master-Auslegung_V52-V67","Master-Auswertung_V52-V67","BG;WT3,2;k","Heizen_Auslegung_V78-V85","Heizen_Auswertung_V78-V85","BG;WT3,2;h","Auslegung_BG800_kondensierend","Legende","Legende_Abkürzungen"],"not_rendered":{"charts":31,"images":18,"macros":1,"external_links":8,"defined_names":191,"comments":0,"pivot_tables":0},"unopened":[],"bounds":{"document_bytes":16777216,"sheet_cells":100000,"rows_first":2000,"rows_last":500,"rows_between":2000,"halvings":0,"cell_chars":16384,"cell_head_chars":4096},"cells_cut":0,"cells_raw":0,"read":"whole","date_system":"1900"}

{"sheet":"VKL","index":0,"n_rows":76,"n_cols":81,"rows_kept":76,"cut":false,"hidden":false,"merged":[[1,44,4,44],[1,43,4,43],[1,34,1,37],[7,6,7,7],[4,6,4,8]]}
["  Tel.  +49 (0)711 8201-0 ",null,null,null,null,null,null,null,null,null,null,null,null,null,"Email:","info@LTG.de",null,null,null,null,null,null,null,null,null,null,null,{"$f":"IF(AND(IF(OR(B36<B42,B37<B42,B38<B42,B39<B42,B36>B43,B37>B43,B38>B43,B39>B43),,),COUNT(B36:B39)=4),\"Grenzwerte\",\"\")","v":""},null,null,"Volumenstrom","Drehzahl",null,null,null,null,null,"Auslegung  ",1,2,3,4,null,null,null,null,"y =","x = ","y =","x = ",null,null,null,"Passwort eingeben, um Adminbereich einzublenden","Raumluft",null,null,{"$f":"IF(BG1=BH1,1,IF(BG2=BH1,2,IF(BG3=BH1,3,IF(BG4=BH1,4,0))))","v":1},"Deutsch","Deutsch",null,"Akustik-Zielwertsuche ausführen","Volumenströme zurücksetzen",null,null,null,null,null,null,null,null,null,null,null,null,null,null,null,"Vergleich, ob für Enthalphieberechnung Taupunkttemperatur Ansaug genommen werden kann"]
["LTG Aktiengesellschaft ",null,null,null,null,null,null,null,null,null,null,null,null,null,null,null,null,null,null,null,null,null,null,null,null,null,null,null,null,null,"[m³/h]","[1/min]",null,null,"Sollwert Schallleistungspegel LWA [dB(A)]           ",null,null,null,35,40,45,50,null,"3D-Strömung","Schalldämpfer\n (30-35mm Polyestervlies)",null,"L_WA","Drehzahl","Druck/rho","Drehzahl",null,null,null,"Dialogaufforderung","In Inputbox eingetragener Text",null,null,null,"Englisch",null,null,"calculate: target value (acoustic)","reset flow rates",null,null,null,null,null,null,null,null,null,null,null,null,null,null,null,"Wasservorlauf",5]
[{"$f":"S3","v":"Auslegetool: VKL-Deckengerät, 4L (3,2mm), mit Filter "},null,null,null,null,null,null,null,null,null,null,null,null,null,null,null,null,null,{"$f":"CONCATENATE(S5,\": \",S6,\", \",S7,\", \", S8,S9,S10)","v":"Auslegetool: VKL-Deckengerät, 4L (3,2mm), mit Filter "},null,null,null,null,null,null,null,null,null,null,null,null,null,null,null,null,null,null,null,null,null,null,null,null,null,null,null,null,null,null,null,null,null,null,null,null,null,null,null,"Franzoesisch",null,null,"calculate: target value (acoustic)","réinitialiser le volume des flux",null,null,null,null,null,null,null,null,null,null,null,null,null,null,null,"rF",50]
[null,null,null,null,null,null,null,null,null,null,null,null,null,null,null,null,null,null,null,null,null,null,null,null,null,null,null,null,null,null,null,null,null,null,null,null,null,null,null,null,null,null,null,null,null,null,null,null,null,null,null,null,null,null,null,null,null,null,"Italienisch",null,null,"calculate: target value (acoustic)","ripristino del volume dei flussi"]
[null,null,null,null,null,null,"Kühlfall:",null,null,null,null,"Heizfall:",null,null,null,null,null,null,"Auslegetool","mit Filter ",null,null,null,null,null,null,null,null,null,null,null,null,null,null,null,null,null,null,null,null,null,null,null,null,null,null,"m","b","m","b","Messung",null,null,null,null,null,null,null,null,null,null,null,null,null,null,null,null,null,null,null,null,null,null,null,null,null,null,null,"Torr",760]
["Projekt:",null,null,null,null,null,null,"Ansaugtemperatur:",26,"°C",null,null,"Ansaugtemperatur:",22,"°C",null,null,null,"VKL-Deckengerät","ohne Filter",null,"Auslegungsgrenzen",null,null,null,null,null,null,null,null,"Auslegetool","Abfrage",null,null,"Tabellenblatt",null,null,null,null,null,null,null,null,"Nein","Ja",1,27.426961767810191,-136.91231836884276,8.7673928228736031E-8,2.6940910458354903,"M3: Prototyp, ohne Schalldämpfer, mit Filter, Mit Schlitzschiene LDB12/M/3, mit 3-3,5 cm Polyestervlies"]
[null,null,null,null,null,null,null,"Kühlwasservorlauf¹:",16,"°C",null,null,"Heizwasservorlauf:",55,"°C",null,null,null,"4L (3,2mm)","mit 3D-Strömung",null,null,"T_Ansaug","T_Vorlauf","T_Vorlauf2","rF [%]",null,null,null,1,"Volumenstrom vorgeben",1,null,null,{"$f":"MID(CELL(\"dateiname\",A1),FIND(\"]\",CELL(\"dateiname\",A1))+1,255)","v":"VKL"},null,null,null,null,null,null,null,null,"Nein","Nein",2,26.329152138243959,-129.53295568464273,3.7086683127606223E-8,2.8271434963101458,"M4: Prototyp, ohne Schalldämpfer, mit Filter, Mit Schlitzschiene LDB12/M/3",null,null,null,null,null,null,null,null,null,null,null,null,null,null,null,null,null,null,null,null,null,null,null,null,null,null,null,"Volumenstrom","Taupunkt Ansaug","Taupunkt im Kasten"]
["Datum:",{"$f":"TODAY()","v":"2026-06-23"},null,null,null,null,"Kühlwasservorlauf \nkondensierender Betrieb²:",null,6,"°C",null,null,null,null,null,null,null,null,{"$f":"IF(AB8=TRUE,L_mitFilter,L_ohneFilter)","v":"mit Filter "},"ohne 3D-Strömung","Taupunkt Ansaugbed.","Kühlfall",null,null,null,null,null,true,{"$f":"IF(AB8=TRUE,1,2)","v":1},2,"Drehzahl vorgeben",null,null,null,null,null,null,null,null,null,null,null,null,"Ja","Nein",3,26.400020868094817,-130.21411302298836,2.1095357022413742E-5,1.928705130530505,"M5: Prototyp, ohne Schalldämpfer, mit Filter, Mit Schlitzschiene LDB12/M/3, mit 3D-Strömung",null,null,null,null,null,null,null,null,null,null,null,null,null,null,null,null,null,null,null,null,null,null,null,null,null,null,null,"[m³/h]","[°C]","[°C]"]
["Bearbeiter:",null,null,null,null,null,null,"relative Feuchte²:",50,"%",null,null,null,null,null,null,null,null,{"$f":"IF(AB9=TRUE,L_mit3D,\"\")","v":""},"mit Schalldämmung","[°C]","Minimal",{"$f":"Auslegung_BG800_kondensierend!O74","v":21},16,{"$f":"Auslegung_BG800_kondensierend!Q74","v":3},{"$f":"Auslegung_BG800_kondensierend!R74","v":1},null,false,{"$f":"IF(AB9=TRUE,1,2)","v":2},null,{"$f":"'Master-Auswertung_V52-V67'!A136","v":"BG"},{"$f":"'Master-Auswertung_V52-V67'!B136","v":"WT bzw. Laufradlänge"},{"$f":"'Master-Auswertung_V52-V67'!C136","v":"Verhältnis"},null,null,null,null,null,null,null,null,null,null,"Ja","Ja",4,26.774365339163779,-132.34307428102989,9.4498766572265261E-7,2.3476152016125913,"M6: Prototyp, ohne Schalldämpfer, mit Filter, Mit Schlitzschiene LDB12/M/3, mit 3-3,5cm Polyestervlies, mit 3D-Strömung",null,null,null,null,null,null,null,null,null,null,null,null,null,null,null,null,null,null,null,null,null,null,null,null,null,null,null,55.342684999032826,7.2329292237053755,7.2887355734611026]
[null,null,null,null,null,null,null,"projektierte Leistung:",-800,"W",null,null,"projektierte Leistung:",1000,"W",null,null,null,{"$f":"IF(AB10=TRUE,L_mitSchalld,\"\")","v":""},"ohne Schalldämmung",{"$f":"BD32","v":{"$error":"#NAME?"}},"Maximal",{"$f":"Auslegung_BG800_kondensierend!O75","v":27},24,{"$f":"Auslegung_BG800_kondensierend!Q75","v":16},{"$f":"Auslegung_BG800_kondensierend!R75","v":99},null,false,{"$f":"IF(AB10=TRUE,1,2)","v":2},null,{"$f":"'Master-Auswertung_V52-V67'!A137","v":"Baugröße 800"},{"$f":"'Master-Auswertung_V52-V67'!B137","v":820},{"$f":"'Master-Auswertung_V52-V67'!C137","v":1},null,null,null,null,null,null,null,null,null,null,{"$f":"IF($AC$9=2,\"Nein\",\"Ja\")","v":"Nein"},{"$f":"IF($AC$10=2,\"Nein\",\"Ja\")","v":"Nein"},{"$f":"IF(AND(AR10=\"Nein\", AS10=\"JA\"),1,IF(AND(AR10=\"Nein\",AS10=\"Nein\"),2,IF(AND(AR10=\"Ja\",AS10=\"Nein\"),3,4)))","v":2},{"$f":"VLOOKUP($AT$10,$AT$6:$AY$9,2,0)","v":26.329152138243959},{"$f":"VLOOKUP($AT$10,$AT$6:$AY$9,3,0)","v":-129.53295568464273},{"$f":"VLOOKUP($AT$10,$AT$6:$AY$9,4,0)","v":3.7086683127606223E-8},{"$f":"VLOOKUP($AT$10,$AT$6:$AY$9,5,0)","v":2.8271434963101458},{"$f":"VLOOKUP($AT$10,$AT$6:$AY$9,6,0)","v":"M4: Prototyp, ohne Schalldämpfer, mit Filter, Mit Schlitzschiene LDB12/M/3"},null,null,null,null,null,null,null,null,null,null,null,null,null,null,null,null,null,null,null,null,null,null,null,null,null,null,null,109.52496612838792,9.0297886996492558,9.0598194704293746]
[null,null,null,null,null,null,null,null,null,null,null,null,null,null,null,null,null,null,null,null,null,null,null,null,null,null,null,null,null,null,null,null,null,null,null,null,null,null,null,null,null,null,null,null,null,null,null,null,null,null,null,null,null,null,null,null,null,null,null,null,null,null,null,null,null,null,null,null,null,null,null,null,null,null,null,null,null,null,163.26007066195126,10.208611359902919,10.226491431651684]
[null,null,null,null,null,null,null,"Nennwassermenge:",200,"kg/h",null,null,"Nennwassermenge:",120,"kg/h",null,null,null,null,null,null,"Heizfall",null,null,null,null,null,null,null,null,{"$f":"'Master-Auswertung_V52-V67'!A139","v":"Baugröße 630"},{"$f":"'Master-Auswertung_V52-V67'!B139","v":590},{"$f":"'Master-Auswertung_V52-V67'!C139","v":0.71951219512195119},null,null,null,null,null,null,null,null,null,null,null,null,null,null,null,null,null,null,null,null,null,null,null,null,null,null,null,null,null,null,null,null,null,null,null,null,null,null,null,null,null,null,null,null,null,216.72807000733741,11.028203519575097,11.039641507117626]
[null,null,null,null,null,null,null,"Wassermenge Kühlen:",200,"kg/h",null,null,"Wassermenge Heizen:",120,"kg/h",null,null,null,null,null,null,"Minimal",19,30,null,null,null,null,null,null,{"$f":"'Master-Auswertung_V52-V67'!A137","v":"Baugröße 800"},{"$f":"'Master-Auswertung_V52-V67'!B140","v":820},{"$f":"'Master-Auswertung_V52-V67'!C140","v":1},null,null,null,null,null,null,null,null,null,null,"\\\\file\\Daten\\E\\cer\\Projekte\\Cer-Projekte\\2016\\2016-05-23 LHG_LVC\\Messungen\\2017-03-06 Akustik_ISH-Prototyp.xlsm"]
[null,null,null,null,null,null,null,null,null,null,null,null,null,null,null,null,null,null,null,null,null,"Maximal",27,80,null,null,null,null,null,null,{"$f":"'Master-Auswertung_V52-V67'!A141","v":"Baugröße 1000"},{"$f":"'Master-Auswertung_V52-V67'!B141","v":1020},{"$f":"'Master-Auswertung_V52-V67'!C141","v":1.2439024390243902}]
[null,null,null,null,null,null,null,null,null,null,null,null,null,null,null,null,null,null,null,null,null,null,null,null,null,null,null,null,null,null,null,null,null,null,null,null,null,null,null,null,null,null,null,"y =","mLN(x) + b"]
[]
[]
["Baugröße 630",null,null,null,null,null,null,null,null,null,null,null,null,null,null,null,null,null,"lt. Wikipedia 15-20ml / Tropfen",null,null,null,null,null,null,null,null,null,null,null,{"$f":"'Master-Auswertung_V52-V67'!A142","v":"Baugröße 1200"},{"$f":"'Master-Auswertung_V52-V67'!B142","v":1200},{"$f":"'Master-Auswertung_V52-V67'!C142","v":1.4634146341463414},null,null,null,null,null,null,null,null,null,null,null,null,null,null,null,null,null,null,null,null,null,null,null,null,null,{"$f":"Torr_in_Pa(760)","v":{"$error":"#NAME?"}}]
[]
["Auslegung",{"$f":"IF($AF$7=1,$AE$1,$AF$1)","v":"Volumenstrom"},{"$f":"IF($AF$7=2,$AE$1,$AF$1)","v":"Drehzahl"},{"$f":"L_Volumenstrom","v":"Volumenstrom"},{"$f":"L_Drehzahl","v":"Drehzahl"},"Steuerspannung    (mit Filter)","LWA","LA18","QSK1)","QTotal2)","QSensibel,K2)","QSH","tKWRL","tKWRL2)","tWWRL","Kondensat²","Zulufttemp.²",null,"Tropfen","Zulufttemp.","Taupunkt nach WT","qSK1)","qSH1)","qSK2)","qtotal2)","Steuerspannung (mit Filter)","dp / rho",null,null,null,null,null,null,null,null,null,null,null,null,null,null,null,null,null,null,null,null,null,null,null,null,null,null,null,"Randparameter:",null,null,null,null,"Wassermenge Gesamt in der Luft","latente \nLeistung","Verdampfungsenthalpie",null,null,"Kondensatmenge","Volumenstrom Wasser (Ansaug)","Volumenstrom Luft (Ansaug)","Masse Luft","Masse Wasser (im Volumenstrom) - Kasten","Zulufttemperatur","Dichte Luft (Kasten)","Dichte Wasser (Kasten)","Volumenstrom Luft","Volumenstrom Wasser","Massenstrom Kasten","Volumenstrom Kasten","Dichte Misch(Kasten)","phi_x (kg_H20/kg_Gesamt Wassergehalt)","Feuchte nach WT (Kasten)","Taupunkt im Kasten"]
[null,{"$f":"IF($AF$7=1,$AE$2,$AF$2)","v":"[m³/h]"},{"$f":"IF($AF$7=2,$AE$2,$AF$2)","v":"[1/min]"},"[m³/h]","[1/min]","[V]","[dB(A)]","[dB(A)]","[W]","[W]","[W]","[W]","[°C]","[°C]","[°C]","[kg/h] bzw. [l / h]","[°C]",null,"[Anzahl / min]",{"$f":"BR21","v":"[°C]"},"[°C]","[W]","[W]","[W]","[W]","[V]","[(Pa*m³)/kg]","Grenzen der Auslegung",null,null,"Abhängig von Abfrage",null,null,"heizen",null,null,null,null,null,null,null,null,null,null,null,null,null,null,null,null,null,null,null,null,"rel. Feuchte",{"$f":"I9","v":50},"%",null,null,"kg H20 / h","W bzw. J / s","kJ/mol","kJ/g","J/kg","kg / h bzw.l / h","[m³/h]","[m³/h]","[kg/h]","[kg/h]","[°C]","[kg/m³]","[kg/m³]","[m³/h]","[m³/h]","[kg/h]","[m³/h]","[kg/m³]",null,"rF [%]","[°C]"]
[{"$f":"IF(B22=\"\",\"\",1)","v":1},107.1530557757868,{"$f":"IF(B22=\"\",\"\",'Master-Auswertung_V52-V67'!C252)","v":546.4144783819612},{"$f":"IF(B22=\"\",\"\",IF($AF$7=1,B22,C22))","v":107.1530557757868},{"$f":"IF(B22=\"\",\"\",IF($AF$7=1,C22,B22))","v":546.4144783819612},{"$f":"Z22","v":3.9123839437968289},{"$f":"IFERROR(IF(OR(B22=\"\",B22=0,$AU$10*LN(E22)+$AV$10+10*LOG($AF$12/$AF$10)<20),\"<20\",$AU$10*LN(E22)+$AV$10+10*LOG($AF$12/$AF$10)),\"\")","v":35.000019138423561},{"$f":"IFERROR(IF(B22=\"\",\"\",G22-6.5),\"\")","v":28.500019138423561},{"$f":"IF(OR(B22<$AE$23,B22>$AE$24),\"\",IF(B22=\"\",\"\",IF(B22=0,,IFERROR((V22*($I$7-$I$6)),\"\"))))","v":-269.60018255239265},{"$f":"IF(OR(B22<$AE$23,B22>$AE$24),\"\",IFERROR(Y22*($I$8-$I$6),\"\"))","v":-767.13151678683448},{"$f":"IF(OR(B22<$AE$23,B22>$AE$24),\"\",IFERROR(X22*($I$8-$I$6),\"\"))","v":-501.55007724796644},{"$f":"IF(OR(B22<$AE$23,B22>$AE$24),\"\",IF(D22=0,,IFERROR((W22*($N$7-$N$6)),\"\")))","v":785.43840741561951},{"$f":"IF(OR(B22<$AE$23,B22>$AE$24),\"\",IF(IFERROR(IF(I22=0,,$I$7-((I22/(4.2*$I$13/3.6)))),)=0,\"\",IFERROR(IF(I22=0,,$I$7-((I22/(4.2*$I$13/3.6)))),)))","v":17.15542935379597},{"$f":"IF(OR(B22<$AE$23,B22>$AE$24),\"\",IF(IFERROR(IF(J22=0,,$I$8-((J22/(4.2*$I$13/3.6)))),)=0,\"\",IFERROR(IF(J22=0,,$I$8-((J22/(4.2*$I$13/3.6)))),)))","v":9.2877065005150055},{"$f":"IF(OR(B22<$AE$23,B22>$AE$24),\"\",IF(B22=\"\",\"\",IFERROR(IF(L22=0,,($N$7-((L22/(4.2*$N$13/3.6))))),)))","v":49.389725661317001},{"$f":"IFERROR(BM22,\"\")","v":0.3849965069182788},{"$f":"T22","v":11.957934462528852},null,{"$f":"IFERROR(P22*1000/15/60,\"\")","v":0.42777389657586529},{"$f":"IFERROR(BR22,\"\")","v":11.957934462528852},{"$f":"IFERROR(CB22,\"\")","v":""},{"$f":"'Master-Auswertung_V52-V67'!M252","v":26.960018255239266},{"$f":"'Heizen_Auswertung_V78-V85'!M252","v":23.801163861079377},{"$f":"'Master-Auswertung_V52-V67'!N252","v":25.077503862398324},{"$f":"'Master-Auswertung_V52-V67'!O252","v":38.356575839341723},{"$f":"'Master-Auswertung_V52-V67'!Q252","v":3.9123839437968289},{"$f":"IF(B22=\"\",\"\",$AW$10*E22^$AX$10)","v":2.0351014922381911},{"$f":"$AB$72","v":"Drehzahl [1/min]"},{"$f":"$AC$72","v":"Volumenstrom [m³/h]"},{"$f":"$AD$72","v":"Wasser-Massenstrom [kg/h] kühlen"},{"$f":"IF($AF$7=1,AC22,AB22)","v":"Volumenstrom [m³/h]"},"Einheit",null,{"$f":"$AD$72","v":"Wasser-Massenstrom [kg/h] kühlen"},null,null,null,null,null,null,null,null,null,null,null,null,null,null,null,null,null,null,null,null,"Druck",760,"Torr",null,null,{"$f":"$BD$34*(D22*$BD$24)","v":{"$error":"#NAME?"}},{"$f":"J22-K22","v":-265.58143953886804},{"$f":"50.09-0.9298*(273.15+$I$8)/1000-65.19*((273.15+$I$8)/1000)^2","v":44.750533670225003},{"$f":"BJ22/$BD$27","v":2.4833814467383464},{"$f":"BK22*1000000","v":2483381.4467383465},{"$f":"ABS(BI22)/BL22*3600","v":0.3849965069182788},{"$f":"BH22/$BD$39","v":{"$error":"#NAME?"}},{"$f":"D22-BN22","v":{"$error":"#NAME?"}},{"$f":"BO22*$BD$38","v":{"$error":"#NAME?"}},{"$f":"BH22-BM22","v":{"$error":"#NAME?"}},{"$f":"K22*3/D22+$BD$23","v":11.957934462528852},{"$f":"dichteLuft(0,Torr_in_Pa($BD$22),BR22)","v":{"$error":"#NAME?"}},{"$f":"999.972-7*10^(-3)*(BR22-4)^2","v":999.52869895363062},{"$f":"BP22/BS22*$BD$38","v":{"$error":"#NAME?"}},{"$f":"BQ22/BT22*$BD$38","v":{"$error":"#NAME?"}},{"$f":"BQ22+BP22","v":{"$error":"#NAME?"}},{"$f":"BU22+BV22","v":{"$error":"#NAME?"}},{"$f":"BW22/BX22","v":{"$error":"#NAME?"}},{"$f":"BQ22/BX22/BY22","v":{"$error":"#NAME?"}},{"$f":"rf_prozent_von_T_grad_x_hf_gH2O_kg_trLuft(BR22,BZ22*1000)","v":{"$error":"#NAME?"}},{"$f":"td_T_grad_rf_prozent(BR22,CA22)","v":{"$error":"#NAME?"}}]
[{"$f":"IF(B23=\"\",\"\",2)","v":2},134.03517977466791,{"$f":"IF(B23=\"\",\"\",'Master-Auswertung_V52-V67'!C253)","v":660.68803871282785},{"$f":"IF(B23=\"\",\"\",IF($AF$7=1,B23,C23))","v":134.03517977466791},{"$f":"IF(B23=\"\",\"\",IF($AF$7=1,C23,B23))","v":660.68803871282785},{"$f":"Z23","v":4.9109146393781291},{"$f":"IFERROR(IF(OR(B23=\"\",B23=0,$AU$10*LN(E23)+$AV$10+10*LOG($AF$12/$AF$10)<20),\"<20\",$AU$10*LN(E23)+$AV$10+10*LOG($AF$12/$AF$10)),\"\")","v":40.000029636053448},{"$f":"IFERROR(IF(B23=\"\",\"\",G23-6.5),\"\")","v":33.500029636053448},{"$f":"IF(OR(B23<$AE$23,B23>$AE$24),\"\",IF(B23=\"\",\"\",IF(B23=0,,IFERROR((V23*($I$7-$I$6)),\"\"))))","v":-322.73043630094787},{"$f":"IF(OR(B23<$AE$23,B23>$AE$24),\"\",IFERROR(Y23*($I$8-$I$6),\"\"))","v":-889.36077428630426},{"$f":"IF(OR(B23<$AE$23,B23>$AE$24),\"\",IFERROR(X23*($I$8-$I$6),\"\"))","v":-592.54220926244977},{"$f":"IF(OR(B23<$AE$23,B23>$AE$24),\"\",IF(D23=0,,IFERROR((W23*($N$7-$N$6)),\"\")))","v":910.57968402947483},{"$f":"IF(OR(B23<$AE$23,B23>$AE$24),\"\",IF(IFERROR(IF(I23=0,,$I$7-((I23/(4.2*$I$13/3.6)))),)=0,\"\",IFERROR(IF(I23=0,,$I$7-((I23/(4.2*$I$13/3.6)))),)))","v":17.383130441289776},{"$f":"IF(OR(B23<$AE$23,B23>$AE$24),\"\",IF(IFERROR(IF(J23=0,,$I$8-((J23/(4.2*$I$13/3.6)))),)=0,\"\",IFERROR(IF(J23=0,,$I$8-((J23/(4.2*$I$13/3.6)))),)))","v":9.8115461755127331},{"$f":"IF(OR(B23<$AE$23,B23>$AE$24),\"\",IF(B23=\"\",\"\",IFERROR(IF(L23=0,,($N$7-((L23/(4.2*$N$13/3.6))))),)))","v":48.495859399789467},{"$f":"IFERROR(BM23,\"\")","v":0.4302789792882189},{"$f":"T23","v":12.737611492924538},null,{"$f":"IFERROR(P23*1000/15/60,\"\")","v":0.47808775476468768},{"$f":"IFERROR(BR23,\"\")","v":12.737611492924538},{"$f":"IFERROR(CB23,\"\")","v":""},{"$f":"'Master-Auswertung_V52-V67'!M253","v":32.27304363009479},{"$f":"'Heizen_Auswertung_V78-V85'!M253","v":27.593323758468934},{"$f":"'Master-Auswertung_V52-V67'!N253","v":29.627110463122488},{"$f":"'Master-Auswertung_V52-V67'!O253","v":44.468038714315213},{"$f":"'Master-Auswertung_V52-V67'!Q253","v":4.9109146393781291},{"$f":"IF(B23=\"\",\"\",$AW$10*E23^$AX$10)","v":3.4813893845131729},{"$f":"AB73","v":304.10478598610166},{"$f":"AC73*$AG$12","v":53.744880484857454},{"$f":"AD73","v":62.167367666666671},{"$f":"IF($AF$7=1,AC23,AB23)","v":53.744880484857454},{"$f":"IF($AF$7=1,\"m³/h\",\"1/min\")","v":"m³/h"},null,{"$f":"AH73","v":61.562867333333337},null,null,null,null,null,null,null,null,null,null,null,null,null,null,null,null,null,null,null,null,"(Ansaug) Temperatur",{"$f":"I6","v":26},"°C",null,null,{"$f":"$BD$34*(D23*$BD$24)","v":{"$error":"#NAME?"}},{"$f":"J23-K23","v":-296.81856502385449},{"$f":"50.09-0.9298*(273.15+$I$8)/1000-65.19*((273.15+$I$8)/1000)^2","v":44.750533670225003},{"$f":"BJ23/$BD$27","v":2.4833814467383464},{"$f":"BK23*1000000","v":2483381.4467383465},{"$f":"ABS(BI23)/BL23*3600","v":0.4302789792882189},{"$f":"BH23/$BD$39","v":{"$error":"#NAME?"}},{"$f":"D23-BN23","v":{"$error":"#NAME?"}},{"$f":"BO23*$BD$38","v":{"$error":"#NAME?"}},{"$f":"BH23-BM23","v":{"$error":"#NAME?"}},{"$f":"K23*3/D23+$BD$23","v":12.737611492924538},{"$f":"dichteLuft(0,Torr_in_Pa($BD$22),BR23)","v":{"$error":"#NAME?"}},{"$f":"999.972-7*10^(-3)*(BR23-4)^2","v":999.43757901779099},{"$f":"BP23/BS23*$BD$38","v":{"$error":"#NAME?"}},{"$f":"BQ23/BT23*$BD$38","v":{"$error":"#NAME?"}},{"$f":"BQ23+BP23","v":{"$error":"#NAME?"}},{"$f":"BU23+BV23","v":{"$error":"#NAME?"}},{"$f":"BW23/BX23","v":{"$error":"#NAME?"}},{"$f":"BQ23/BX23/BY23","v":{"$error":"#NAME?"}},{"$f":"rf_prozent_von_T_grad_x_hf_gH2O_kg_trLuft(BR23,BZ23*1000)","v":{"$error":"#NAME?"}},{"$f":"td_T_grad_rf_prozent(BR23,CA23)","v":{"$error":"#NAME?"}}]
[{"$f":"IF(B24=\"\",\"\",3)","v":3},167.66070839900547,{"$f":"IF(B24=\"\",\"\",'Master-Auswertung_V52-V67'!C254)","v":798.8573032713399},{"$f":"IF(B24=\"\",\"\",IF($AF$7=1,B24,C24))","v":167.66070839900547},{"$f":"IF(B24=\"\",\"\",IF($AF$7=1,C24,B24))","v":798.8573032713399},6.1642682686804227,{"$f":"IFERROR(IF(OR(B24=\"\",B24=0,$AU$10*LN(E24)+$AV$10+10*LOG($AF$12/$AF$10)<20),\"<20\",$AU$10*LN(E24)+$AV$10+10*LOG($AF$12/$AF$10)),\"\")","v":44.999950391235238},{"$f":"IFERROR(IF(B24=\"\",\"\",G24-6.5),\"\")","v":38.499950391235238},{"$f":"IF(OR(B24<$AE$23,B24>$AE$24),\"\",IF(B24=\"\",\"\",IF(B24=0,,IFERROR((V24*($I$7-$I$6)),\"\"))))","v":-382.51116613733234},{"$f":"IF(OR(B24<$AE$23,B24>$AE$24),\"\",IFERROR(Y24*($I$8-$I$6),\"\"))","v":-1022.0032178388381},{"$f":"IF(OR(B24<$AE$23,B24>$AE$24),\"\",IFERROR(X24*($I$8-$I$6),\"\"))","v":-694.9828253664374},{"$f":"IF(OR(B24<$AE$23,B24>$AE$24),\"\",IF(D24=0,,IFERROR((W24*($N$7-$N$6)),\"\")))","v":1034.0845357312405},{"$f":"IF(OR(B24<$AE$23,B24>$AE$24),\"\",IF(IFERROR(IF(I24=0,,$I$7-((I24/(4.2*$I$13/3.6)))),)=0,\"\",IFERROR(IF(I24=0,,$I$7-((I24/(4.2*$I$13/3.6)))),)))","v":17.639333569159994},10.380013790737877,{"$f":"IF(OR(B24<$AE$23,B24>$AE$24),\"\",IF(B24=\"\",\"\",IFERROR(IF(L24=0,,($N$7-((L24/(4.2*$N$13/3.6))))),)))","v":47.613681887633994},{"$f":"IFERROR(BM24,\"\")","v":0.47406064599816677},13.56447771210968,null,{"$f":"IFERROR(P24*1000/15/60,\"\")","v":0.52673405110907423},{"$f":"IFERROR(BR24,\"\")","v":13.56447771210968},{"$f":"IFERROR(CB24,\"\")","v":""},{"$f":"'Master-Auswertung_V52-V67'!M254","v":38.251116613733231},{"$f":"'Heizen_Auswertung_V78-V85'!M254","v":31.335895022158802},{"$f":"'Master-Auswertung_V52-V67'!N254","v":34.749141268321871},{"$f":"'Master-Auswertung_V52-V67'!O254","v":51.100160891941904},{"$f":"'Master-Auswertung_V52-V67'!Q254","v":6.1642682686804227},5.9554549496036469,{"$f":"AB74","v":1205.7544423342297},{"$f":"AC74*$AG$12","v":272.33010581299379},{"$f":"AD74","v":307.19070266666671},{"$f":"IF($AF$7=1,AC24,AB24)","v":272.33010581299379},{"$f":"IF($AF$7=1,\"m³/h\",\"1/min\")","v":"m³/h"},null,{"$f":"AH74","v":231.00826900000001},null,null,null,null,null,null,null,null,null,null,null,null,null,null,null,null,null,null,null,null,"Dichte",{"$f":"dichteLuft(BD21,Torr_in_Pa(BD22),BD23)","v":{"$error":"#NAME?"}},"kg/m³",null,null,{"$error":"#NAME?"},-327.02039247240066,44.750533670225003,2.4833814467383464,2483381.4467383465,0.47406064599816677,{"$error":"#NAME?"},{"$error":"#NAME?"},{"$error":"#NAME?"},{"$error":"#NAME?"},13.56447771210968,{"$f":"dichteLuft(0,Torr_in_Pa($BD$22),BR24)","v":{"$error":"#NAME?"}},999.3316453626619,{"$error":"#NAME?"},{"$error":"#NAME?"},{"$error":"#NAME?"},{"$error":"#NAME?"},{"$error":"#NAME?"},{"$error":"#NAME?"},{"$error":"#NAME?"},{"$error":"#NAME?"}]
[{"$f":"IF(B25=\"\",\"\",4)","v":4},209.72129362659112,{"$f":"IF(B25=\"\",\"\",'Master-Auswertung_V52-V67'!C255)","v":965.91943124904276},{"$f":"IF(B25=\"\",\"\",IF($AF$7=1,B25,C25))","v":209.72129362659112},{"$f":"IF(B25=\"\",\"\",IF($AF$7=1,C25,B25))","v":965.91943124904276},7.7374773796870349,{"$f":"IFERROR(IF(OR(B25=\"\",B25=0,$AU$10*LN(E25)+$AV$10+10*LOG($AF$12/$AF$10)<20),\"<20\",$AU$10*LN(E25)+$AV$10+10*LOG($AF$12/$AF$10)),\"\")","v":49.999806108539751},{"$f":"IFERROR(IF(B25=\"\",\"\",G25-6.5),\"\")","v":43.499806108539751},{"$f":"IF(OR(B25<$AE$23,B25>$AE$24),\"\",IF(B25=\"\",\"\",IF(B25=0,,IFERROR((V25*($I$7-$I$6)),\"\"))))","v":-447.58872681590799},{"$f":"IF(OR(B25<$AE$23,B25>$AE$24),\"\",IFERROR(Y25*($I$8-$I$6),\"\"))","v":-1161.6462933705939},{"$f":"IF(OR(B25<$AE$23,B25>$AE$24),\"\",IFERROR(X25*($I$8-$I$6),\"\"))","v":-807.95826449340211},{"$f":"IF(OR(B25<$AE$23,B25>$AE$24),\"\",IF(D25=0,,IFERROR((W25*($N$7-$N$6)),\"\")))","v":1161.9622534011614},{"$f":"IF(OR(B25<$AE$23,B25>$AE$24),\"\",IF(IFERROR(IF(I25=0,,$I$7-((I25/(4.2*$I$13/3.6)))),)=0,\"\",IFERROR(IF(I25=0,,$I$7-((I25/(4.2*$I$13/3.6)))),)))","v":17.918237400639605},10.978484114445402,{"$f":"IF(OR(B25<$AE$23,B25>$AE$24),\"\",IF(B25=\"\",\"\",IFERROR(IF(L25=0,,($N$7-((L25/(4.2*$N$13/3.6))))),)))","v":46.700269618563134},{"$f":"IFERROR(BM25,\"\")","v":0.51271902092616584},14.442400141800018,null,{"$f":"IFERROR(P25*1000/15/60,\"\")","v":0.56968780102907313},{"$f":"IFERROR(BR25,\"\")","v":14.442400141800018},{"$f":"IFERROR(CB25,\"\")","v":""},{"$f":"'Master-Auswertung_V52-V67'!M255","v":44.758872681590802},{"$f":"'Heizen_Auswertung_V78-V85'!M255","v":35.210977375792773},{"$f":"'Master-Auswertung_V52-V67'!N255","v":40.397913224670106},{"$f":"'Master-Auswertung_V52-V67'!O255","v":58.08231466852969},{"$f":"'Master-Auswertung_V52-V67'!Q255","v":7.7374773796870349},10.187655573981505,null,null,null,{"$f":"AVERAGE(AE23:AE24)","v":163.03749314892562},null,null,null,null,null,null,null,null,null,null,null,null,null,null,null,null,null,null,null,null,null,null,null,"Verdampfungsenthalpie",{"$f":"50.09-0.9298*(273.15+BD32)/1000-65.19*((273.15+BD32)/1000)^2","v":{"$error":"#NAME?"}},"kJ/mol",null,null,{"$error":"#NAME?"},-353.68802887719175,44.750533670225003,2.4833814467383464,2483381.4467383465,0.51271902092616584,{"$error":"#NAME?"},{"$error":"#NAME?"},{"$error":"#NAME?"},{"$error":"#NAME?"},{"$f":"K25*3/D25+$BD$23","v":14.442400141800018},{"$f":"dichteLuft(0,Torr_in_Pa($BD$22),BR25)","v":{"$error":"#NAME?"}},999.20869395494969,{"$error":"#NAME?"},{"$error":"#NAME?"},{"$error":"#NAME?"},{"$error":"#NAME?"},{"$error":"#NAME?"},{"$error":"#NAME?"},{"$error":"#NAME?"},{"$error":"#NAME?"}]
[]
[{"$f":"IF(OR(B22<B28,B23<B28,B24<B28,B25<B28,B22>B29,B23>B29,B24>B29,B25>B29),\"Grenzwerte\",\"\")","v":""},null,null,null,null,null,null,null,null,"DpK =",{"$f":"'Master-Auswertung_V52-V67'!D247","v":19.533332037422326},"[kPa]","DpH =",{"$f":"'Heizen_Auswertung_V78-V85'!D247","v":4.1354678017746851},"[kPa]",null,null,null,null,null,null,null,null,null,null,null,null,null,null,null,null,null,null,null,null,null,null,null,null,null,null,null,null,null,null,null,null,null,null,null,null,null,null,null,"molare Masse Wasser",18.02,"g/mol"]
["  Minimal",{"$f":"AE23","v":53.744880484857454},{"$f":"AF23","v":"m³/h"},null,null,null,null,null,null,null,null,null,null,null,null,null,null,null,null,null,null,null,null,null,null,null,null,null,null,null,null,null,null,null,null,null,null,null,null,null,null,null,null,null,null,null,null,null,null,null,null,null,null,null,"Verdampfungsenthalpie",{"$f":"BD25/BD27","v":{"$error":"#NAME?"}},"kJ/g"]
["  Maximal",{"$f":"AE24","v":272.33010581299379},{"$f":"AF24","v":"m³/h"},null,null,null,null,null,null,null,null,null,null,null,null,null,null,null,null,null,null,null,null,null,null,null,null,null,null,null,null,null,null,null,null,null,null,null,null,null,null,null,null,null,null,null,null,null,null,null,null,null,null,null,"Verdampfungsenthalpie",{"$f":"BD28*1000000","v":{"$error":"#NAME?"}},"J/kg"]
[]
[]
["Baugröße 800",null,null,null,null,null,null,null,null,null,null,null,null,null,null,null,null,null,null,null,null,null,null,null,null,null,null,null,null,null,null,null,null,null,null,null,null,null,null,null,null,null,null,null,null,null,null,null,null,null,null,null,null,null,"Taupunkttemperatur",{"$f":"td_T_grad_rf_prozent(BD23,BD21)","v":{"$error":"#NAME?"}},"°C"]
[]
[{"$f":"L_Auslegung","v":"Auslegung"},{"$f":"IF($AF$7=1,$AE$1,$AF$1)","v":"Volumenstrom"},{"$f":"IF($AF$7=2,$AE$1,$AF$1)","v":"Drehzahl"},{"$f":"L_Volumenstrom","v":"Volumenstrom"},{"$f":"L_Drehzahl","v":"Drehzahl"},{"$f":"L_Steuerspannung","v":"Steuerspannung    (mit Filter)"},"LWA","LA18","QSK1)","QTotal2)","QSensibel,K2)","QSH","tKWRL","tKWRL2)","tWWRL",{"$f":"P20","v":"Kondensat²"},{"$f":"Q20","v":"Zulufttemp.²"},null,"Tropfen","Zulufttemp.","Taupunkt nach WT","qSK1)","qSH1)","qSK2)","qtotal2)","Steuerspannung (mit Filter)","dp / rho",null,null,null,null,null,null,null,null,null,null,null,null,null,null,null,null,null,null,null,null,null,null,null,null,null,null,null,"phi_x (kg_H20/kg_Gesamt Wassergehalt)",{"$f":"phi_x($BD$21,Torr_in_Pa($BD$22),$BD$23)","v":{"$error":"#NAME?"}},"kg_H20/kg_Gesamt",null,null,"Wassermenge Gesamt in der Luft","latente \nLeistung",null,null,null,"Kondensatmenge",null,null,null,null,"Zulufttemperatur",null,null,null,null,null,null,null,null,null,"Taupunkt im Kasten"]
[null,{"$f":"IF($AF$7=1,$AE$2,$AF$2)","v":"[m³/h]"},{"$f":"IF($AF$7=2,$AE$2,$AF$2)","v":"[1/min]"},"[m³/h]","[1/min]","[V]","[dB(A)]","[dB(A)]","[W]","[W]","[W]","[W]","[°C]","[°C]","[°C]","[kg/h] bzw. [l / h]","[°C]",null,"[Anzahl / min]",{"$f":"BR35","v":"[°C]"},"[°C]","[W]","[W]","[W]","[W]","[V]","[(Pa*m³)/kg]","Grenzen der Auslegung",null,null,"Abhängig von Abfrage",null,null,"heizen",null,null,null,null,null,null,null,null,null,null,null,null,null,null,null,null,null,null,null,null,null,null,null,null,null,"kg H20 / h","W bzw. J / s",null,null,null,"kg / h bzw.l / h",null,null,null,null,"[°C]",null,null,null,null,null,null,null,null,null,"[°C]"]
[{"$f":"IF(B36=\"\",\"\",1)","v":1},139.69402283391284,{"$f":"IF(B36=\"\",\"\",'Master-Auswertung_V52-V67'!C238)","v":517.54370589476957},{"$f":"IF(B36=\"\",\"\",IF($AF$7=1,B36,C36))","v":139.69402283391284},{"$f":"IF(B36=\"\",\"\",IF($AF$7=1,C36,B36))","v":517.54370589476957},{"$f":"Z36","v":3.6662511205488344},{"$f":"IFERROR(IF(OR(B36=\"\",B36=0,$AU$10*LN(E36)+$AV$10+10*LOG($AF$13/$AF$10)<20),\"<20\",$AU$10*LN(E36)+$AV$10+10*LOG($AF$13/$AF$10)),\"\")","v":35.00039037273325},{"$f":"IFERROR(IF(B36=\"\",\"\",G36-6.5),\"\")","v":28.50039037273325},{"$f":"IF(OR(B36<$AE$73,B36>$AE$74),\"\",IF(B36=\"\",\"\",IF(B36=0,,IFERROR((V36*($I$7-$I$6)),\"\"))))","v":-352.18774884386266},{"$f":"IF(OR(B36<$AE$73,B36>$AE$74),\"\",IFERROR(Y36*($I$8-$I$6),\"\"))","v":-1011.2796916580724},{"$f":"IF(OR(B36<$AE$73,B36>$AE$74),\"\",IFERROR(X36*($I$8-$I$6),\"\"))","v":-657.83124607114951},{"$f":"IF(OR(B36<$AE$73,B36>$AE$74),\"\",IF(D36=0,,IFERROR((W36*($N$7-$N$6)),\"\")))","v":994.86050569085774},{"$f":"IF(OR(B36<$AE$73,B36>$AE$74),\"\",IF(IFERROR(IF(I36=0,,$I$7-((I36/(4.2*$I$13/3.6)))),)=0,\"\",IFERROR(IF(I36=0,,$I$7-((I36/(4.2*$I$13/3.6)))),)))","v":17.509376066473699},{"$f":"IF(OR(B36<$AE$37,B36>$AE$38),\"\",IF(IFERROR(IF(J36=0,,$I$8-((J36/(4.2*$I$13/3.6)))),)=0,\"\",IFERROR(IF(J36=0,,$I$8-((J36/(4.2*$I$13/3.6)))),)))","v":10.33405582139174},{"$f":"IF(OR(B36<$AE$73,B36>$AE$74),\"\",IF(B36=\"\",\"\",IFERROR(IF(L36=0,,($N$7-((L36/(4.2*$N$13/3.6))))),)))","v":47.893853530779587},{"$f":"IFERROR(BM36,\"\")","v":0.51237171228129341},{"$f":"T36","v":11.872740306435265},null,{"$f":"IFERROR(P36*1000/15/60,\"\")","v":0.56930190253477042},{"$f":"IFERROR(BR36,\"\")","v":11.872740306435265},{"$f":"IFERROR(CB36,\"\")","v":""},{"$f":"'Master-Auswertung_V52-V67'!M238","v":35.218774884386264},{"$f":"'Heizen_Auswertung_V78-V85'!M266","v":30.147288051238114},{"$f":"'Master-Auswertung_V52-V67'!N238","v":32.891562303557478},{"$f":"'Master-Auswertung_V52-V67'!O238","v":50.563984582903615},{"$f":"'Master-Auswertung_V52-V67'!Q238","v":3.6662511205488344},{"$f":"IF(B36=\"\",\"\",$AW$10*E36^$AX$10)","v":1.7455636619580273},{"$f":"$AB$72","v":"Drehzahl [1/min]"},{"$f":"$AC$72","v":"Volumenstrom [m³/h]"},{"$f":"$AD$72","v":"Wasser-Massenstrom [kg/h] kühlen"},{"$f":"IF($AF$7=1,AC36,AB36)","v":"Volumenstrom [m³/h]"},"Einheit",null,{"$f":"$AD$72","v":"Wasser-Massenstrom [kg/h] kühlen"},null,null,null,null,null,null,null,null,null,null,null,null,null,null,null,null,null,null,null,null,"universelle Gaskonstante",8.3144597999999998,"J/ mol K",null,null,{"$f":"$BD$34*(D36*$BD$24)","v":{"$error":"#NAME?"}},{"$f":"J36-K36","v":-353.44844558692284},{"$f":"50.09-0.9298*(273.15+$I$8)/1000-65.19*((273.15+$I$8)/1000)^2","v":44.750533670225003},{"$f":"BJ36/$BD$27","v":2.4833814467383464},{"$f":"BK36*1000000","v":2483381.4467383465},{"$f":"ABS(BI36)/BL36*3600","v":0.51237171228129341},{"$f":"BH36/$BD$39","v":{"$error":"#NAME?"}},{"$f":"D36-BN36","v":{"$error":"#NAME?"}},{"$f":"BO36*$BD$38","v":{"$error":"#NAME?"}},{"$f":"BH36-BM36","v":{"$error":"#NAME?"}},{"$f":"K36*3/D36+$BD$23","v":11.872740306435265},{"$f":"dichteLuft(0,Torr_in_Pa($BD$22),BR36)","v":{"$error":"#NAME?"}},{"$f":"999.972-7*10^(-3)*(BR36-4)^2","v":999.53813972047203},{"$f":"BP36/BS36*$BD$38","v":{"$error":"#NAME?"}},{"$f":"BQ36/BT36*$BD$38","v":{"$error":"#NAME?"}},{"$f":"BQ36+BP36","v":{"$error":"#NAME?"}},{"$f":"BU36+BV36","v":{"$error":"#NAME?"}},{"$f":"BW36/BX36","v":{"$error":"#NAME?"}},{"$f":"BQ36/BX36/BY36","v":{"$error":"#NAME?"}},{"$f":"rf_prozent_von_T_grad_x_hf_gH2O_kg_trLuft(BR36,BZ36*1000)","v":{"$error":"#NAME?"}},{"$f":"td_T_grad_rf_prozent(BR36,CA36)","v":{"$error":"#NAME?"}}]
[{"$f":"IF(B37=\"\",\"\",2)","v":2},174.73952118343757,{"$f":"IF(B37=\"\",\"\",'Master-Auswertung_V52-V67'!C239)","v":625.77829255026722},{"$f":"IF(B37=\"\",\"\",IF($AF$7=1,B37,C37))","v":174.73952118343757},{"$f":"IF(B37=\"\",\"\",IF($AF$7=1,C37,B37))","v":625.77829255026722},4.6019531031838712,{"$f":"IFERROR(IF(OR(B37=\"\",B37=0,$AU$10*LN(E37)+$AV$10+10*LOG($AF$13/$AF$10)<20),\"<20\",$AU$10*LN(E37)+$AV$10+10*LOG($AF$13/$AF$10)),\"\")","v":40.000353384961528},{"$f":"IFERROR(IF(B37=\"\",\"\",G37-6.5),\"\")","v":33.500353384961528},{"$f":"IF(OR(B37<$AE$73,B37>$AE$74),\"\",IF(B37=\"\",\"\",IF(B37=0,,IFERROR((V37*($I$7-$I$6)),\"\"))))","v":-421.33669889567705},{"$f":"IF(OR(B37<$AE$73,B37>$AE$74),\"\",IFERROR(Y37*($I$8-$I$6),\"\"))","v":-1171.7385750362159},{"$f":"IF(OR(B37<$AE$73,B37>$AE$74),\"\",IFERROR(X37*($I$8-$I$6),\"\"))","v":-776.34632190888635},{"$f":"IF(OR(B37<$AE$73,B37>$AE$74),\"\",IF(D37=0,,IFERROR((W37*($N$7-$N$6)),\"\")))","v":1151.2679192393491},{"$f":"IF(OR(B37<$AE$73,B37>$AE$74),\"\",IF(IFERROR(IF(I37=0,,$I$7-((I37/(4.2*$I$13/3.6)))),)=0,\"\",IFERROR(IF(I37=0,,$I$7-((I37/(4.2*$I$13/3.6)))),)))","v":17.805728709552902},{"$f":"IF(OR(B37<$AE$37,B37>$AE$38),\"\",IF(IFERROR(IF(J37=0,,$I$8-((J37/(4.2*$I$13/3.6)))),)=0,\"\",IFERROR(IF(J37=0,,$I$8-((J37/(4.2*$I$13/3.6)))),)))","v":11.021736750155211},{"$f":"IF(OR(B37<$AE$73,B37>$AE$74),\"\",IF(B37=\"\",\"\",IFERROR(IF(L37=0,,($N$7-((L37/(4.2*$N$13/3.6))))),)))","v":46.776657719718933},{"$f":"IFERROR(BM37,\"\")","v":0.57317498007721879},{"$f":"T37","v":12.671366901127724},null,{"$f":"IFERROR(P37*1000/15/60,\"\")","v":0.63686108897468752},{"$f":"IFERROR(BR37,\"\")","v":12.671366901127724},{"$f":"IFERROR(CB37,\"\")","v":""},{"$f":"'Master-Auswertung_V52-V67'!M239","v":42.133669889567706},{"$f":"'Heizen_Auswertung_V78-V85'!M267","v":34.886906643616641},{"$f":"'Master-Auswertung_V52-V67'!N239","v":38.817316095444319},{"$f":"'Master-Auswertung_V52-V67'!O239","v":58.586928751810802},{"$f":"'Master-Auswertung_V52-V67'!Q239","v":4.6019531031838712},{"$f":"IF(B37=\"\",\"\",$AW$10*E37^$AX$10)","v":2.9860701495361575},{"$f":"AB73","v":304.10478598610166},{"$f":"AC73*$AG$13","v":74.696274572174772},{"$f":"AD73","v":62.167367666666671},{"$f":"IF($AF$7=1,AC37,AB37)","v":74.696274572174772},{"$f":"IF($AF$7=1,\"m³/h\",\"1/min\")","v":"m³/h"},null,{"$f":"AH73","v":61.562867333333337},null,null,null,null,null,null,null,null,null,null,null,null,null,null,null,null,null,null,null,null,null,null,null,null,null,{"$f":"$BD$34*(D37*$BD$24)","v":{"$error":"#NAME?"}},{"$f":"J37-K37","v":-395.39225312732958},{"$f":"50.09-0.9298*(273.15+$I$8)/1000-65.19*((273.15+$I$8)/1000)^2","v":44.750533670225003},{"$f":"BJ37/$BD$27","v":2.4833814467383464},{"$f":"BK37*1000000","v":2483381.4467383465},{"$f":"ABS(BI37)/BL37*3600","v":0.57317498007721879},{"$f":"BH37/$BD$39","v":{"$error":"#NAME?"}},{"$f":"D37-BN37","v":{"$error":"#NAME?"}},{"$f":"BO37*$BD$38","v":{"$error":"#NAME?"}},{"$f":"BH37-BM37","v":{"$error":"#NAME?"}},{"$f":"K37*3/D37+$BD$23","v":12.671366901127724},{"$f":"dichteLuft(0,Torr_in_Pa($BD$22),BR37)","v":{"$error":"#NAME?"}},{"$f":"999.972-7*10^(-3)*(BR37-4)^2","v":999.44565177246216},{"$f":"BP37/BS37*$BD$38","v":{"$error":"#NAME?"}},{"$f":"BQ37/BT37*$BD$38","v":{"$error":"#NAME?"}},{"$f":"BQ37+BP37","v":{"$error":"#NAME?"}},{"$f":"BU37+BV37","v":{"$error":"#NAME?"}},{"$f":"BW37/BX37","v":{"$error":"#NAME?"}},{"$f":"BQ37/BX37/BY37","v":{"$error":"#NAME?"}},{"$f":"rf_prozent_von_T_grad_x_hf_gH2O_kg_trLuft(BR37,BZ37*1000)","v":{"$error":"#NAME?"}},{"$f":"td_T_grad_rf_prozent(BR37,CA37)","v":{"$error":"#NAME?"}}]
[{"$f":"IF(B38=\"\",\"\",3)","v":3},218.57527244750682,{"$f":"IF(B38=\"\",\"\",'Master-Auswertung_V52-V67'!C240)","v":756.64304869176635},{"$f":"IF(B38=\"\",\"\",IF($AF$7=1,B38,C38))","v":218.57527244750682},{"$f":"IF(B38=\"\",\"\",IF($AF$7=1,C38,B38))","v":756.64304869176635},5.7764189650565241,{"$f":"IFERROR(IF(OR(B38=\"\",B38=0,$AU$10*LN(E38)+$AV$10+10*LOG($AF$13/$AF$10)<20),\"<20\",$AU$10*LN(E38)+$AV$10+10*LOG($AF$13/$AF$10)),\"\")","v":45.000139973938417},{"$f":"IFERROR(IF(B38=\"\",\"\",G38-6.5),\"\")","v":38.500139973938417},{"$f":"IF(OR(B38<$AE$73,B38>$AE$74),\"\",IF(B38=\"\",\"\",IF(B38=0,,IFERROR((V38*($I$7-$I$6)),\"\"))))","v":-498.28563376096986},{"$f":"IF(OR(B38<$AE$73,B38>$AE$74),\"\",IFERROR(Y38*($I$8-$I$6),\"\"))","v":-1342.8745676779404},{"$f":"IF(OR(B38<$AE$73,B38>$AE$74),\"\",IFERROR(X38*($I$8-$I$6),\"\"))","v":-907.71350533328882},{"$f":"IF(OR(B38<$AE$73,B38>$AE$74),\"\",IF(D38=0,,IFERROR((W38*($N$7-$N$6)),\"\")))","v":1309.967679814165},{"$f":"IF(OR(B38<$AE$73,B38>$AE$74),\"\",IF(IFERROR(IF(I38=0,,$I$7-((I38/(4.2*$I$13/3.6)))),)=0,\"\",IFERROR(IF(I38=0,,$I$7-((I38/(4.2*$I$13/3.6)))),)))","v":18.135509858975585},11.755176718619744,{"$f":"IF(OR(B38<$AE$73,B38>$AE$74),\"\",IF(B38=\"\",\"\",IFERROR(IF(L38=0,,($N$7-((L38/(4.2*$N$13/3.6))))),)))","v":45.643088001327392},{"$f":"IFERROR(BM38,\"\")","v":0.63082529125691877},13.541406283028389,null,{"$f":"IFERROR(P38*1000/15/60,\"\")","v":0.70091699028546528},{"$f":"IFERROR(BR38,\"\")","v":13.541406283028389},{"$f":"IFERROR(CB38,\"\")","v":""},{"$f":"'Master-Auswertung_V52-V67'!M240","v":49.828563376096987},{"$f":"'Heizen_Auswertung_V78-V85'!M268","v":39.695990297398936},{"$f":"'Master-Auswertung_V52-V67'!N240","v":45.385675266664443},{"$f":"'Master-Auswertung_V52-V67'!O240","v":67.143728383897013},{"$f":"'Master-Auswertung_V52-V67'!Q240","v":5.7764189650565241},5.1080612064848268,{"$f":"AB74","v":1205.7544423342297},{"$f":"AC74*$AG$13","v":378.49268943500834},{"$f":"AD74","v":307.19070266666671},{"$f":"IF($AF$7=1,AC38,AB38)","v":378.49268943500834},{"$f":"IF($AF$7=1,\"m³/h\",\"1/min\")","v":"m³/h"},null,{"$f":"AH74","v":231.00826900000001},null,null,null,null,null,null,null,null,null,null,null,null,null,null,null,null,null,null,null,null,"Dichte Luft_Trocken (T_Anszaug_Druck)",{"$f":"dichteLuft(0,Torr_in_Pa(BD22),BD23)","v":{"$error":"#NAME?"}},"kg/m³",null,null,{"$error":"#NAME?"},-435.16106234465155,44.750533670225003,2.4833814467383464,2483381.4467383465,0.63082529125691877,{"$error":"#NAME?"},{"$error":"#NAME?"},{"$error":"#NAME?"},{"$error":"#NAME?"},13.541406283028389,{"$f":"dichteLuft(0,Torr_in_Pa($BD$22),BR38)","v":{"$error":"#NAME?"}},999.33473096299531,{"$error":"#NAME?"},{"$error":"#NAME?"},{"$error":"#NAME?"},{"$error":"#NAME?"},{"$error":"#NAME?"},{"$error":"#NAME?"},{"$error":"#NAME?"},{"$error":"#NAME?"}]
[{"$f":"IF(B39=\"\",\"\",4)","v":4},273.40845080236602,{"$f":"IF(B39=\"\",\"\",'Master-Auswertung_V52-V67'!C241)","v":914.87648125616442},{"$f":"IF(B39=\"\",\"\",IF($AF$7=1,B39,C39))","v":273.40845080236602},{"$f":"IF(B39=\"\",\"\",IF($AF$7=1,C39,B39))","v":914.87648125616442},7.2506378891761054,{"$f":"IFERROR(IF(OR(B39=\"\",B39=0,$AU$10*LN(E39)+$AV$10+10*LOG($AF$13/$AF$10)<20),\"<20\",$AU$10*LN(E39)+$AV$10+10*LOG($AF$13/$AF$10)),\"\")","v":49.99997895369043},{"$f":"IFERROR(IF(B39=\"\",\"\",G39-6.5),\"\")","v":43.49997895369043},{"$f":"IF(OR(B39<$AE$73,B39>$AE$74),\"\",IF(B39=\"\",\"\",IF(B39=0,,IFERROR((V39*($I$7-$I$6)),\"\"))))","v":-580.85033972062615},{"$f":"IF(OR(B39<$AE$73,B39>$AE$74),\"\",IFERROR(Y39*($I$8-$I$6),\"\"))","v":-1519.9391463691084},{"$f":"IF(OR(B39<$AE$73,B39>$AE$74),\"\",IFERROR(X39*($I$8-$I$6),\"\"))","v":-1050.0170248390123},{"$f":"IF(OR(B39<$AE$73,B39>$AE$74),\"\",IF(D39=0,,IFERROR((W39*($N$7-$N$6)),\"\")))","v":1465.688189954082},{"$f":"IF(OR(B39<$AE$73,B39>$AE$74),\"\",IF(IFERROR(IF(I39=0,,$I$7-((I39/(4.2*$I$13/3.6)))),)=0,\"\",IFERROR(IF(I39=0,,$I$7-((I39/(4.2*$I$13/3.6)))),)))","v":18.489358598802685},12.514024913010465,{"$f":"IF(OR(B39<$AE$73,B39>$AE$74),\"\",IF(B39=\"\",\"\",IFERROR(IF(L39=0,,($N$7-((L39/(4.2*$N$13/3.6))))),)))","v":44.530798643185129},{"$f":"IFERROR(BM39,\"\")","v":0.68121618599117639},14.478589212320804,null,{"$f":"IFERROR(P39*1000/15/60,\"\")","v":0.75690687332352935},{"$f":"IFERROR(BR39,\"\")","v":14.478589212320804},{"$f":"IFERROR(CB39,\"\")","v":""},{"$f":"'Master-Auswertung_V52-V67'!M241","v":58.085033972062611},{"$f":"'Heizen_Auswertung_V78-V85'!M269","v":44.414793634972177},{"$f":"'Master-Auswertung_V52-V67'!N241","v":52.500851241950613},{"$f":"'Master-Auswertung_V52-V67'!O241","v":75.996957318455415},{"$f":"'Master-Auswertung_V52-V67'!Q241","v":7.2506378891761054},8.738051943426079,null,null,null,{"$f":"AVERAGE(AE37:AE38)","v":226.59448200359157},null,null,null,null,null,null,null,null,null,null,null,null,null,null,null,null,null,null,null,null,null,null,null,"Dichte Wasser (T_Ansuag_Druck)",{"$f":"999.972-7*10^(-3)*(BD23-4)^2","v":996.58399999999995},"kg/m³",null,null,{"$error":"#NAME?"},-469.92212153009609,44.750533670225003,2.4833814467383464,2483381.4467383465,0.68121618599117639,{"$error":"#NAME?"},{"$error":"#NAME?"},{"$error":"#NAME?"},{"$error":"#NAME?"},14.478589212320804,{"$f":"dichteLuft(0,Torr_in_Pa($BD$22),BR39)","v":{"$error":"#NAME?"}},999.20339417683601,{"$error":"#NAME?"},{"$error":"#NAME?"},{"$error":"#NAME?"},{"$error":"#NAME?"},{"$error":"#NAME?"},{"$error":"#NAME?"},{"$error":"#NAME?"},{"$error":"#NAME?"}]
[]
[{"$f":"IF(OR(B36<B42,B37<B42,B38<B42,B39<B42,B36>B43,B37>B43,B38>B43,B39>B43),\"Grenzwerte\",\"\")","v":""},null,null,null,null,null,null,null,null,"DpK =",{"$f":"'Master-Auswertung_V52-V67'!D233","v":24.164501376514277},"[kPa]","DpH =",{"$f":"'Heizen_Auswertung_V78-V85'!D261","v":5.115948328583376},"[kPa]"]
["  Minimal",{"$f":"AE73","v":74.696274572174772},{"$f":"AF73","v":"m³/h"}]
["  Maximal",{"$f":"AE74","v":378.49268943500834},{"$f":"AF74","v":"m³/h"}]
[]
[]
["Baugröße 1000"]
[]
[{"$f":"L_Auslegung","v":"Auslegung"},{"$f":"IF($AF$7=1,$AE$1,$AF$1)","v":"Volumenstrom"},{"$f":"IF($AF$7=2,$AE$1,$AF$1)","v":"Drehzahl"},{"$f":"L_Volumenstrom","v":"Volumenstrom"},{"$f":"L_Drehzahl","v":"Drehzahl"},{"$f":"F34","v":"Steuerspannung    (mit Filter)"},"LWA","LA18","QSK1)","QTotal2)","QSensibel,K2)","QSH","tKWRL","tKWRL2)","tWWRL",{"$f":"P20","v":"Kondensat²"},{"$f":"Q20","v":"Zulufttemp.²"},null,"Tropfen","Zulufttemp.","Taupunkt nach WT","qSK1)","qSH1)","qSK2)","qtotal2)","Steuerspannung (mit Filter)","dp / rho",null,null,null,null,null,null,null,null,null,null,null,null,null,null,null,null,null,null,null,null,null,null,null,null,null,null,null,null,null,null,null,null,"Wassermenge Gesamt in der Luft","latente \nLeistung",null,null,null,"Kondensatmenge",null,null,null,null,"Zulufttemperatur",null,null,null,null,null,null,null,null,null,"Taupunkt im Kasten"]
[null,{"$f":"IF($AF$7=1,$AE$2,$AF$2)","v":"[m³/h]"},{"$f":"IF($AF$7=2,$AE$2,$AF$2)","v":"[1/min]"},"[m³/h]","[1/min]","[V]","[dB(A)]","[dB(A)]","[W]","[W]","[W]","[W]","[°C]","[°C]","[°C]","[kg/h] bzw. [l / h]","[°C]",null,"[Anzahl / min]",{"$f":"BR49","v":"[°C]"},"[°C]","[W]","[W]","[W]","[W]","[V]","[(Pa*m³)/kg]","Grenzen der Auslegung",null,null,"Abhängig von Abfrage",null,null,"heizen",null,null,null,null,null,null,null,null,null,null,null,null,null,null,null,null,null,null,null,null,null,null,null,null,null,"kg H20 / h","W bzw. J / s",null,null,null,"kg / h bzw.l / h",null,null,null,null,"[°C]",null,null,null,null,null,null,null,null,null,"[°C]"]
[{"$f":"IF(B50=\"\",\"\",1)","v":1},166.54338598998621,{"$f":"IF(B50=\"\",\"\",'Master-Auswertung_V52-V67'!C280)","v":499.23580914657231},{"$f":"IF(B50=\"\",\"\",IF($AF$7=1,B50,C50))","v":166.54338598998621},{"$f":"IF(B50=\"\",\"\",IF($AF$7=1,C50,B50))","v":499.23580914657231},{"$f":"Z50","v":3.5115569234757675},{"$f":"IFERROR(IF(OR(B50=\"\",B50=0,$AU$10*LN(E50)+$AV$10+10*LOG($AF$14/$AF$10)<20),\"<20\",$AU$10*LN(E50)+$AV$10+10*LOG($AF$14/$AF$10)),\"\")","v":34.999997834405512},{"$f":"IFERROR(IF(B50=\"\",\"\",G50-6.5),\"\")","v":28.499997834405512},{"$f":"IF(OR(B50<$AE$51,B50>$AE$52),\"\",IF(B50=\"\",\"\",IF(B50=0,,IFERROR((V50*($I$7-$I$6)),\"\"))))","v":-417.1163210677235},{"$f":"IF(OR(B50<$AE$51,B50>$AE$52),\"\",IFERROR(Y50*($I$8-$I$6),\"\"))","v":-1204.8914305479732},{"$f":"IF(OR(B50<$AE$51,B50>$AE$52),\"\",IFERROR(X50*($I$8-$I$6),\"\"))","v":-781.21185264765359},{"$f":"IF(OR(B50<$AE$51,B50>$AE$52),\"\",IF(D50=0,,IFERROR((W50*($N$7-$N$6)),\"\")))","v":1160.6654284551635},{"$f":"IF(OR(B50<$AE$51,B50>$AE$52),\"\",IF(IFERROR(IF(I50=0,,$I$7-((I50/(4.2*$I$13/3.6)))),)=0,\"\",IFERROR(IF(I50=0,,$I$7-((I50/(4.2*$I$13/3.6)))),)))","v":17.78764137600453},{"$f":"IF(OR(B50<$AE$51,B50>$AE$52),\"\",IF(IFERROR(IF(J50=0,,$I$8-((J50/(4.2*$I$13/3.6)))),)=0,\"\",IFERROR(IF(J50=0,,$I$8-((J50/(4.2*$I$13/3.6)))),)))","v":11.16382041663417},{"$f":"IF(OR(B50<$AE$51,B50>$AE$52),\"\",IF(B50=\"\",\"\",IFERROR(IF(L50=0,,($N$7-((L50/(4.2*$N$13/3.6))))),)))","v":46.709532653891692},{"$f":"IFERROR(BM50,\"\")","v":0.61418131412892574},{"$f":"T50","v":11.927777653782798},null,{"$f":"IFERROR(P50*1000/15/60,\"\")","v":0.68242368236547302},{"$f":"IFERROR(BR50,\"\")","v":11.927777653782798},{"$f":"IFERROR(CB50,\"\")","v":""},{"$f":"'Master-Auswertung_V52-V67'!M280","v":41.711632106772349},{"$f":"'Heizen_Auswertung_V78-V85'!M280","v":35.17167965015647},{"$f":"'Master-Auswertung_V52-V67'!N280","v":39.060592632382679},{"$f":"'Master-Auswertung_V52-V67'!O280","v":60.244571527398655},{"$f":"'Master-Auswertung_V52-V67'!Q280","v":3.5115569234757675},{"$f":"IF(B50=\"\",\"\",$AW$10*E50^$AX$10)","v":1.576578086997563},{"$f":"$AB$72","v":"Drehzahl [1/min]"},{"$f":"$AC$72","v":"Volumenstrom [m³/h]"},{"$f":"$AD$72","v":"Wasser-Massenstrom [kg/h] kühlen"},{"$f":"IF($AF$7=1,AC50,AB50)","v":"Volumenstrom [m³/h]"},"Einheit",null,{"$f":"AH72","v":"Wasser-Massenstrom [kg/h] heizen"},null,null,null,null,null,null,null,null,null,null,null,null,null,null,null,null,null,null,null,null,null,null,null,null,null,{"$f":"$BD$34*(D50*$BD$24)","v":{"$error":"#NAME?"}},{"$f":"J50-K50","v":-423.6795779003196},{"$f":"50.09-0.9298*(273.15+$I$8)/1000-65.19*((273.15+$I$8)/1000)^2","v":44.750533670225003},{"$f":"BJ50/$BD$27","v":2.4833814467383464},{"$f":"BK50*1000000","v":2483381.4467383465},{"$f":"ABS(BI50)/BL50*3600","v":0.61418131412892574},{"$f":"BH50/$BD$39","v":{"$error":"#NAME?"}},{"$f":"D50-BN50","v":{"$error":"#NAME?"}},{"$f":"BO50*$BD$38","v":{"$error":"#NAME?"}},{"$f":"BH50-BM50","v":{"$error":"#NAME?"}},{"$f":"K50*3/D50+$BD$23","v":11.927777653782798},{"$f":"dichteLuft(0,Torr_in_Pa($BD$22),BR50)","v":{"$error":"#NAME?"}},{"$f":"999.972-7*10^(-3)*(BR50-4)^2","v":999.53205239030524},{"$f":"BP50/BS50*$BD$38","v":{"$error":"#NAME?"}},{"$f":"BQ50/BT50*$BD$38","v":{"$error":"#NAME?"}},{"$f":"BQ50+BP50","v":{"$error":"#NAME?"}},{"$f":"BU50+BV50","v":{"$error":"#NAME?"}},{"$f":"BW50/BX50","v":{"$error":"#NAME?"}},{"$f":"BQ50/BX50/BY50","v":{"$error":"#NAME?"}},{"$f":"rf_prozent_von_T_grad_x_hf_gH2O_kg_trLuft(BR50,BZ50*1000)","v":{"$error":"#NAME?"}},{"$f":"td_T_grad_rf_prozent(BR50,CA50)","v":{"$error":"#NAME?"}}]
[{"$f":"IF(B51=\"\",\"\",2)","v":2},208.32502063006203,{"$f":"IF(B51=\"\",\"\",'Master-Auswertung_V52-V67'!C281)","v":603.64249797491175},{"$f":"IF(B51=\"\",\"\",IF($AF$7=1,B51,C51))","v":208.32502063006203},{"$f":"IF(B51=\"\",\"\",IF($AF$7=1,C51,B51))","v":603.64249797491175},4.4077852802915629,{"$f":"IFERROR(IF(OR(B51=\"\",B51=0,$AU$10*LN(E51)+$AV$10+10*LOG($AF$14/$AF$10)<20),\"<20\",$AU$10*LN(E51)+$AV$10+10*LOG($AF$14/$AF$10)),\"\")","v":39.999998199137387},{"$f":"IFERROR(IF(B51=\"\",\"\",G51-6.5),\"\")","v":33.499998199137387},{"$f":"IF(OR(B51<$AE$51,B51>$AE$52),\"\",IF(B51=\"\",\"\",IF(B51=0,,IFERROR((V51*($I$7-$I$6)),\"\"))))","v":-499.04139009365667},{"$f":"IF(OR(B51<$AE$51,B51>$AE$52),\"\",IFERROR(Y51*($I$8-$I$6),\"\"))","v":-1396.3050560562392},{"$f":"IF(OR(B51<$AE$51,B51>$AE$52),\"\",IFERROR(X51*($I$8-$I$6),\"\"))","v":-921.7924151932632},{"$f":"IF(OR(B51<$AE$51,B51>$AE$52),\"\",IF(D51=0,,IFERROR((W51*($N$7-$N$6)),\"\")))","v":1340.887675408741},{"$f":"IF(OR(B51<$AE$51,B51>$AE$52),\"\",IF(IFERROR(IF(I51=0,,$I$7-((I51/(4.2*$I$13/3.6)))),)=0,\"\",IFERROR(IF(I51=0,,$I$7-((I51/(4.2*$I$13/3.6)))),)))","v":18.138748814687101},{"$f":"IF(OR(B51<$AE$51,B51>$AE$52),\"\",IF(IFERROR(IF(J51=0,,$I$8-((J51/(4.2*$I$13/3.6)))),)=0,\"\",IFERROR(IF(J51=0,,$I$8-((J51/(4.2*$I$13/3.6)))),)))","v":11.984164525955311},{"$f":"IF(OR(B51<$AE$51,B51>$AE$52),\"\",IF(B51=\"\",\"\",IFERROR(IF(L51=0,,($N$7-((L51/(4.2*$N$13/3.6))))),)))","v":45.422230889937566},{"$f":"IFERROR(BM51,\"\")","v":0.68787076965172211},{"$f":"T51","v":12.725659562081733},null,{"$f":"IFERROR(P51*1000/15/60,\"\")","v":0.76430085516858004},{"$f":"IFERROR(BR51,\"\")","v":12.725659562081733},{"$f":"IFERROR(CB51,\"\")","v":""},{"$f":"'Master-Auswertung_V52-V67'!M281","v":49.904139009365664},{"$f":"'Heizen_Auswertung_V78-V85'!M281","v":40.63295986087094},{"$f":"'Master-Auswertung_V52-V67'!N281","v":46.089620759663163},{"$f":"'Master-Auswertung_V52-V67'!O281","v":69.815252802811955},{"$f":"'Master-Auswertung_V52-V67'!Q281","v":4.4077852802915629},{"$f":"IF(B51=\"\",\"\",$AW$10*E51^$AX$10)","v":2.6970036948837182},{"$f":"AB73","v":304.10478598610166},{"$f":"AC73*$AG$14","v":92.914878126363746},{"$f":"AD73","v":62.167367666666671},{"$f":"IF($AF$7=1,AC51,AB51)","v":92.914878126363746},{"$f":"IF($AF$7=1,\"m³/h\",\"1/min\")","v":"m³/h"},null,{"$f":"AH73","v":61.562867333333337},null,null,null,null,null,null,null,null,null,null,null,null,null,null,null,null,null,null,null,null,null,null,null,null,null,{"$f":"$BD$34*(D51*$BD$24)","v":{"$error":"#NAME?"}},{"$f":"J51-K51","v":-474.51264086297601},{"$f":"50.09-0.9298*(273.15+$I$8)/1000-65.19*((273.15+$I$8)/1000)^2","v":44.750533670225003},{"$f":"BJ51/$BD$27","v":2.4833814467383464},{"$f":"BK51*1000000","v":2483381.4467383465},{"$f":"ABS(BI51)/BL51*3600","v":0.68787076965172211},{"$f":"BH51/$BD$39","v":{"$error":"#NAME?"}},{"$f":"D51-BN51","v":{"$error":"#NAME?"}},{"$f":"BO51*$BD$38","v":{"$error":"#NAME?"}},{"$f":"BH51-BM51","v":{"$error":"#NAME?"}},{"$f":"K51*3/D51+$BD$23","v":12.725659562081733},{"$f":"dichteLuft(0,Torr_in_Pa($BD$22),BR51)","v":{"$error":"#NAME?"}},{"$f":"999.972-7*10^(-3)*(BR51-4)^2","v":999.43904005644652},{"$f":"BP51/BS51*$BD$38","v":{"$error":"#NAME?"}},{"$f":"BQ51/BT51*$BD$38","v":{"$error":"#NAME?"}},{"$f":"BQ51+BP51","v":{"$error":"#NAME?"}},{"$f":"BU51+BV51","v":{"$error":"#NAME?"}},{"$f":"BW51/BX51","v":{"$error":"#NAME?"}},{"$f":"BQ51/BX51/BY51","v":{"$error":"#NAME?"}},{"$f":"rf_prozent_von_T_grad_x_hf_gH2O_kg_trLuft(BR51,BZ51*1000)","v":{"$error":"#NAME?"}},{"$f":"td_T_grad_rf_prozent(BR51,CA51)","v":{"$error":"#NAME?"}}]
[{"$f":"IF(B52=\"\",\"\",3)","v":3},260.58869163782259,{"$f":"IF(B52=\"\",\"\",'Master-Auswertung_V52-V67'!C282)","v":729.88419825137987},{"$f":"IF(B52=\"\",\"\",IF($AF$7=1,B52,C52))","v":260.58869163782259},{"$f":"IF(B52=\"\",\"\",IF($AF$7=1,C52,B52))","v":729.88419825137987},5.5327524278424676,{"$f":"IFERROR(IF(OR(B52=\"\",B52=0,$AU$10*LN(E52)+$AV$10+10*LOG($AF$14/$AF$10)<20),\"<20\",$AU$10*LN(E52)+$AV$10+10*LOG($AF$14/$AF$10)),\"\")","v":45.000003111402656},38.500003111402656,{"$f":"IF(OR(B52<$AE$51,B52>$AE$52),\"\",IF(B52=\"\",\"\",IF(B52=0,,IFERROR((V52*($I$7-$I$6)),\"\"))))","v":-589.37347677336629},{"$f":"IF(OR(B52<$AE$51,B52>$AE$52),\"\",IFERROR(Y52*($I$8-$I$6),\"\"))","v":-1597.6353696330077},{"$f":"IF(OR(B52<$AE$51,B52>$AE$52),\"\",IFERROR(X52*($I$8-$I$6),\"\"))","v":-1075.7047076343638},{"$f":"IF(OR(B52<$AE$51,B52>$AE$52),\"\",IF(D52=0,,IFERROR((W52*($N$7-$N$6)),\"\")))","v":1522.9023960349487},{"$f":"IF(OR(B52<$AE$51,B52>$AE$52),\"\",IF(IFERROR(IF(I52=0,,$I$7-((I52/(4.2*$I$13/3.6)))),)=0,\"\",IFERROR(IF(I52=0,,$I$7-((I52/(4.2*$I$13/3.6)))),)))","v":18.525886329028712},12.847008726998606,{"$f":"IF(OR(B52<$AE$51,B52>$AE$52),\"\",IF(B52=\"\",\"\",IFERROR(IF(L52=0,,($N$7-((L52/(4.2*$N$13/3.6))))),)))","v":44.122125742607508},{"$f":"IFERROR(BM52,\"\")","v":0.756609656427496},13.616062298711435,null,{"$f":"IFERROR(P52*1000/15/60,\"\")","v":0.84067739603055114},{"$f":"IFERROR(BR52,\"\")","v":13.616062298711435},{"$f":"IFERROR(CB52,\"\")","v":""},{"$f":"'Master-Auswertung_V52-V67'!M282","v":58.937347677336632},{"$f":"'Heizen_Auswertung_V78-V85'!M282","v":46.148557455604504},{"$f":"'Master-Auswertung_V52-V67'!N282","v":53.785235381718195},{"$f":"'Master-Auswertung_V52-V67'!O282","v":79.881768481650383},{"$f":"'Master-Auswertung_V52-V67'!Q282","v":5.5327524278424676},4.6136836113722213,{"$f":"AB74","v":1205.7544423342297},{"$f":"AC74*$AG$14","v":470.80797954110795},{"$f":"AD74","v":307.19070266666671},{"$f":"IF($AF$7=1,AC52,AB52)","v":470.80797954110795},{"$f":"IF($AF$7=1,\"m³/h\",\"1/min\")","v":"m³/h"},null,{"$f":"AH74","v":231.00826900000001},null,null,null,null,null,null,null,null,null,null,null,null,null,null,null,null,null,null,null,null,null,null,null,null,null,{"$error":"#NAME?"},-521.93066199864393,44.750533670225003,2.4833814467383464,2483381.4467383465,0.756609656427496,{"$error":"#NAME?"},{"$error":"#NAME?"},{"$error":"#NAME?"},{"$error":"#NAME?"},13.616062298711435,{"$f":"dichteLuft(0,Torr_in_Pa($BD$22),BR52)","v":{"$error":"#NAME?"}},999.32471942107111,{"$error":"#NAME?"},{"$error":"#NAME?"},{"$error":"#NAME?"},{"$error":"#NAME?"},{"$error":"#NAME?"},{"$error":"#NAME?"},{"$error":"#NAME?"},{"$error":"#NAME?"}]
[{"$f":"IF(B53=\"\",\"\",4)","v":4},325.96390436076189,{"$f":"IF(B53=\"\",\"\",'Master-Auswertung_V52-V67'!C283)","v":882.52691105732276},{"$f":"IF(B53=\"\",\"\",IF($AF$7=1,B53,C53))","v":325.96390436076189},{"$f":"IF(B53=\"\",\"\",IF($AF$7=1,C53,B53))","v":882.52691105732276},6.9448337784023746,{"$f":"IFERROR(IF(OR(B53=\"\",B53=0,$AU$10*LN(E53)+$AV$10+10*LOG($AF$14/$AF$10)<20),\"<20\",$AU$10*LN(E53)+$AV$10+10*LOG($AF$14/$AF$10)),\"\")","v":49.999998448638699},43.499998448638699,{"$f":"IF(OR(B53<$AE$51,B53>$AE$52),\"\",IF(B53=\"\",\"\",IF(B53=0,,IFERROR((V53*($I$7-$I$6)),\"\"))))","v":-685.26621248953393},{"$f":"IF(OR(B53<$AE$51,B53>$AE$52),\"\",IFERROR(Y53*($I$8-$I$6),\"\"))","v":-1802.9723718028615},{"$f":"IF(OR(B53<$AE$51,B53>$AE$52),\"\",IFERROR(X53*($I$8-$I$6),\"\"))","v":-1240.1740479439193},{"$f":"IF(OR(B53<$AE$51,B53>$AE$52),\"\",IF(D53=0,,IFERROR((W53*($N$7-$N$6)),\"\")))","v":1692.924595250063},{"$f":"IF(OR(B53<$AE$51,B53>$AE$52),\"\",IF(IFERROR(IF(I53=0,,$I$7-((I53/(4.2*$I$13/3.6)))),)=0,\"\",IFERROR(IF(I53=0,,$I$7-((I53/(4.2*$I$13/3.6)))),)))","v":18.936855196383718},13.727024450583693,{"$f":"IF(OR(B53<$AE$51,B53>$AE$52),\"\",IF(B53=\"\",\"\",IFERROR(IF(L53=0,,($N$7-((L53/(4.2*$N$13/3.6))))),)))","v":42.907681462499554},{"$f":"IFERROR(BM53,\"\")","v":0.81585290433462065},14.58609160689751,null,{"$f":"IFERROR(P53*1000/15/60,\"\")","v":0.90650322703846742},{"$f":"IFERROR(BR53,\"\")","v":14.58609160689751},{"$f":"IFERROR(CB53,\"\")","v":""},{"$f":"'Master-Auswertung_V52-V67'!M283","v":68.52662124895339},{"$f":"'Heizen_Auswertung_V78-V85'!M283","v":51.300745310607972},{"$f":"'Master-Auswertung_V52-V67'!N283","v":62.008702397195968},{"$f":"'Master-Auswertung_V52-V67'!O283","v":90.148618590143073},{"$f":"'Master-Auswertung_V52-V67'!Q283","v":6.9448337784023746},7.8924825432120294,null,null,null,{"$f":"AVERAGE(AE51:AE52)","v":281.86142883373583},null,null,null,null,null,null,null,null,null,null,null,null,null,null,null,null,null,null,null,null,null,null,null,null,null,null,null,null,{"$error":"#NAME?"},-562.79832385894224,44.750533670225003,2.4833814467383464,2483381.4467383465,0.81585290433462065,{"$error":"#NAME?"},{"$error":"#NAME?"},{"$error":"#NAME?"},{"$error":"#NAME?"},14.58609160689751,{"$f":"dichteLuft(0,Torr_in_Pa($BD$22),BR53)","v":{"$error":"#NAME?"}},999.18754265143264,{"$error":"#NAME?"},{"$error":"#NAME?"},{"$error":"#NAME?"},{"$error":"#NAME?"},{"$error":"#NAME?"},{"$error":"#NAME?"},{"$error":"#NAME?"},{"$error":"#NAME?"}]
[]
[{"$f":"IF(OR(B50<B56,B51<B56,B52<B56,B53<B56,B50>B57,B51>B57,B52>B57,B53>B57),\"Grenzwerte\",\"\")","v":""},null,null,null,null,null,null,null,null,"DpK =",{"$f":"'Master-Auswertung_V52-V67'!D275","v":28.317587971864072},"[kPa]","DpH =",{"$f":"'Heizen_Auswertung_V78-V85'!D275","v":5.9952123404860576},"[kPa]"]
["  Minimal",{"$f":"AE51","v":92.914878126363746},{"$f":"AF51","v":"m³/h"}]
["  Maximal",{"$f":"AE52","v":470.80797954110795},{"$f":"AF52","v":"m³/h"}]
[]
[]
[" Baugröße 1200"]
[]
["Auslegung",{"$f":"IF($AF$7=1,$AE$1,$AF$1)","v":"Volumenstrom"},{"$f":"IF($AF$7=2,$AE$1,$AF$1)","v":"Drehzahl"},"Volumenstrom","Drehzahl","dp / rho","LWA","LA18","QSK1)","QTotal2)","QSensibel,K2)","QSH","tKWRL","tKWRL2)","tWWRL",null,null,null,null,null,null,"qSK1)","qSH1)","qSK2)","qtotal2)","Steuer-spannung"]
[null,{"$f":"IF($AF$7=1,$AE$2,$AF$2)","v":"[m³/h]"},{"$f":"IF($AF$7=2,$AE$2,$AF$2)","v":"[1/min]"},"[m³/h]","[1/min]","[(Pa*m³)/kg]","[dB(A)]","[dB(A)]","[W]","[W]","[W]","[W]","[°C]","[°C]","[°C]",null,null,null,null,null,null,"[W]","[W]","[W]","[W]","[V]",null,"Grenzen der Auslegung",null,null,"Abhängig von Abfrage",null,null,"heizen"]
[{"$f":"IF(B64=\"\",\"\",1)","v":1},161.36323610164138,{"$f":"IF(B64=\"\",\"\",'Master-Auswertung_V52-V67'!C294)","v":486.03062630142102},{"$f":"IF(B64=\"\",\"\",IF($AF$7=1,B64,C64))","v":161.36323610164138},{"$f":"IF(B64=\"\",\"\",IF($AF$7=1,C64,B64))","v":486.03062630142102},{"$f":"IF(B64=\"\",\"\",$AW$10*E64^$AX$10)","v":1.4615094236504729},{"$f":"IFERROR(IF(OR(B64=\"\",B64=0,$AU$10*LN(E64)+$AV$10+10*LOG($AF$18/$AF$10)<20),\"<20\",$AU$10*LN(E64)+$AV$10+10*LOG($AF$18/$AF$10)),\"\")","v":35.000005403628847},{"$f":"IFERROR(IF(B64=\"\",\"\",G64-6.5),\"\")","v":28.500005403628847},{"$f":"IF(OR(B64<$AE$51,B64>$AE$52),\"\",IF(B64=\"\",\"\",IF(B64=0,,IFERROR((V64*($I$7-$I$6)),\"\"))))","v":-484.49112613344221},{"$f":"IF(OR(B64<$AE$51,B64>$AE$52),\"\",IFERROR(Y64*($I$8-$I$6),\"\"))","v":-1405.6932785507979},{"$f":"IF(OR(B64<$AE$51,B64>$AE$52),\"\",IFERROR(X64*($I$8-$I$6),\"\"))","v":-909.22885650048465},{"$f":"IF(OR(B64<$AE$51,B64>$AE$52),\"\",IF(D64=0,,IFERROR((W64*($N$7-$N$6)),\"\")))","v":1314.4679812362519},{"$f":"IF(OR(B64<$AE$51,B64>$AE$52),\"\",IF(IFERROR(IF(I64=0,,$I$7-((I64/(4.2*$I$13/3.6)))),)=0,\"\",IFERROR(IF(I64=0,,$I$7-((I64/(4.2*$I$13/3.6)))),)))","v":18.076390540571897},{"$f":"IF(OR(B64<$AE$51,B64>$AE$52),\"\",IF(IFERROR(IF(K64=0,,$I$8-((K64/(4.2*$I$13/3.6)))),)=0,\"\",IFERROR(IF(K64=0,,$I$8-((K64/(4.2*$I$13/3.6)))),)))","v":9.8966950992877916},{"$f":"IF(OR(B64<$AE$51,B64>$AE$52),\"\",IF(B64=\"\",\"\",IFERROR(IF(L64=0,,($N$7-((L64/(4.2*$N$13/3.6))))),)))","v":45.61094299116963},null,null,null,null,null,null,{"$f":"'Master-Auswertung_V52-V67'!M294","v":48.449112613344219},{"$f":"'Heizen_Auswertung_V78-V85'!M294","v":39.832363067765208},{"$f":"'Master-Auswertung_V52-V67'!N294","v":45.461442825024236},{"$f":"'Master-Auswertung_V52-V67'!O294","v":70.284663927539896},{"$f":"'Master-Auswertung_V52-V67'!Q294","v":3.400667999996752},null,{"$f":"$AB$72","v":"Drehzahl [1/min]"},{"$f":"$AC$72","v":"Volumenstrom [m³/h]"},{"$f":"$AD$72","v":"Wasser-Massenstrom [kg/h] kühlen"},{"$f":"IF($AF$7=1,AC64,AB64)","v":"Volumenstrom [m³/h]"},"Einheit",null,{"$f":"AH50","v":"Wasser-Massenstrom [kg/h] heizen"}]
[{"$f":"IF(B65=\"\",\"\",2)","v":2},201.84519142823666,{"$f":"IF(B65=\"\",\"\",'Master-Auswertung_V52-V67'!C295)","v":587.67541051744854},{"$f":"IF(B65=\"\",\"\",IF($AF$7=1,B65,C65))","v":201.84519142823666},{"$f":"IF(B65=\"\",\"\",IF($AF$7=1,C65,B65))","v":587.67541051744854},{"$f":"IF(B65=\"\",\"\",$AW$10*E65^$AX$10)","v":2.5001560812618484},{"$f":"IFERROR(IF(OR(B65=\"\",B65=0,$AU$10*LN(E65)+$AV$10+10*LOG($AF$18/$AF$10)<20),\"<20\",$AU$10*LN(E65)+$AV$10+10*LOG($AF$18/$AF$10)),\"\")","v":39.999993898455301},{"$f":"IF(B65=\"\",\"\",G65-6.5)","v":33.499993898455301},{"$f":"IF(OR(B65<$AE$51,B65>$AE$52),\"\",IF(B65=\"\",\"\",IF(B65=0,,IFERROR((V65*($I$7-$I$6)),\"\"))))","v":-578.79794051055478},{"$f":"IF(OR(B65<$AE$51,B65>$AE$52),\"\",IFERROR(Y65*($I$8-$I$6),\"\"))","v":-1626.821627866922},{"$f":"IF(OR(B65<$AE$51,B65>$AE$52),\"\",IFERROR(X65*($I$8-$I$6),\"\"))","v":-1071.1234733929994},{"$f":"IF(OR(B65<$AE$51,B65>$AE$52),\"\",IF(D65=0,,IFERROR((W65*($N$7-$N$6)),\"\")))","v":1514.2702812851273},{"$f":"IF(OR(B65<$AE$51,B65>$AE$52),\"\",IF(IFERROR(IF(I65=0,,$I$7-((I65/(4.2*$I$13/3.6)))),)=0,\"\",IFERROR(IF(I65=0,,$I$7-((I65/(4.2*$I$13/3.6)))),)))","v":18.480562602188094},{"$f":"IF(OR(B65<$AE$51,B65>$AE$52),\"\",IF(IFERROR(IF(K65=0,,$I$8-((K65/(4.2*$I$13/3.6)))),)=0,\"\",IFERROR(IF(K65=0,,$I$8-((K65/(4.2*$I$13/3.6)))),)))","v":10.590529171684285},{"$f":"IF(OR(B65<$AE$51,B65>$AE$52),\"\",IF(B65=\"\",\"\",IFERROR(IF(L65=0,,($N$7-((L65/(4.2*$N$13/3.6))))),)))","v":44.183783705106237},null,null,null,null,null,null,{"$f":"'Master-Auswertung_V52-V67'!M295","v":57.879794051055484},{"$f":"'Heizen_Auswertung_V78-V85'!M295","v":45.886978220761435},{"$f":"'Master-Auswertung_V52-V67'!N295","v":53.556173669649965},{"$f":"'Master-Auswertung_V52-V67'!O295","v":81.341081393346101},{"$f":"'Master-Auswertung_V52-V67'!Q295","v":4.2685927044225753},null,{"$f":"AB51","v":304.10478598610166},{"$f":"AC51*$AG$14","v":115.57704352303783},{"$f":"AD51","v":62.167367666666671},{"$f":"IF($AF$7=1,AC65,AB65)","v":115.57704352303783},{"$f":"IF($AF$7=1,\"m³/h\",\"1/min\")","v":"m³/h"},null,{"$f":"AH51","v":61.562867333333337}]
[{"$f":"IF(B66=\"\",\"\",3)","v":3},252.48319008240352,{"$f":"IF(B66=\"\",\"\",'Master-Auswertung_V52-V67'!C296)","v":710.57776419048889},{"$f":"IF(B66=\"\",\"\",IF($AF$7=1,B66,C66))","v":252.48319008240352},{"$f":"IF(B66=\"\",\"\",IF($AF$7=1,C66,B66))","v":710.57776419048889},{"$f":"IF(B66=\"\",\"\",$AW$10*E66^$AX$10)","v":4.2769406118225932},{"$f":"IFERROR(IF(OR(B66=\"\",B66=0,$AU$10*LN(E66)+$AV$10+10*LOG($AF$18/$AF$10)<20),\"<20\",$AU$10*LN(E66)+$AV$10+10*LOG($AF$18/$AF$10)),\"\")","v":44.999995173419535},{"$f":"IF(B66=\"\",\"\",G66-6.5)","v":38.499995173419535},{"$f":"IF(OR(B66<$AE$51,B66>$AE$52),\"\",IF(B66=\"\",\"\",IF(B66=0,,IFERROR((V66*($I$7-$I$6)),\"\"))))","v":-681.40284220430715},{"$f":"IF(OR(B66<$AE$51,B66>$AE$52),\"\",IFERROR(Y66*($I$8-$I$6),\"\"))","v":-1855.2204313214199},{"$f":"IF(OR(B66<$AE$51,B66>$AE$52),\"\",IFERROR(X66*($I$8-$I$6),\"\"))","v":-1245.5531416754056},{"$f":"IF(OR(B66<$AE$51,B66>$AE$52),\"\",IF(D66=0,,IFERROR((W66*($N$7-$N$6)),\"\")))","v":1716.8670998396137},{"$f":"IF(OR(B66<$AE$51,B66>$AE$52),\"\",IF(IFERROR(IF(I66=0,,$I$7-((I66/(4.2*$I$13/3.6)))),)=0,\"\",IFERROR(IF(I66=0,,$I$7-((I66/(4.2*$I$13/3.6)))),)))","v":18.920297895161315},{"$f":"IF(OR(B66<$AE$51,B66>$AE$52),\"\",IF(IFERROR(IF(K66=0,,$I$8-((K66/(4.2*$I$13/3.6)))),)=0,\"\",IFERROR(IF(K66=0,,$I$8-((K66/(4.2*$I$13/3.6)))),)))","v":11.338084892894596},{"$f":"IF(OR(B66<$AE$51,B66>$AE$52),\"\",IF(B66=\"\",\"\",IFERROR(IF(L66=0,,($N$7-((L66/(4.2*$N$13/3.6))))),)))","v":42.736663572574187},null,null,null,null,null,null,{"$f":"'Master-Auswertung_V52-V67'!M296","v":68.140284220430715},{"$f":"'Heizen_Auswertung_V78-V85'!M296","v":52.02627575271557},{"$f":"'Master-Auswertung_V52-V67'!N296","v":62.277657083770279},{"$f":"'Master-Auswertung_V52-V67'!O296","v":92.761021566070994},{"$f":"'Master-Auswertung_V52-V67'!Q296","v":5.3580338518576829},null,{"$f":"AB52","v":1205.7544423342297},{"$f":"AC52*$AG$14","v":585.63919406332946},{"$f":"AD52","v":307.19070266666671},{"$f":"IF($AF$7=1,AC66,AB66)","v":585.63919406332946},{"$f":"IF($AF$7=1,\"m³/h\",\"1/min\")","v":"m³/h"},null,{"$f":"AH52","v":231.00826900000001}]
[{"$f":"IF(B67=\"\",\"\",4)","v":4},315.82528283981998,{"$f":"IF(B67=\"\",\"\",'Master-Auswertung_V52-V67'!C297)","v":859.18367306983089},{"$f":"IF(B67=\"\",\"\",IF($AF$7=1,B67,C67))","v":315.82528283981998},{"$f":"IF(B67=\"\",\"\",IF($AF$7=1,C67,B67))","v":859.18367306983089},{"$f":"IF(B67=\"\",\"\",$AW$10*E67^$AX$10)","v":7.3164463150832582},{"$f":"IFERROR(IF(OR(B67=\"\",B67=0,$AU$10*LN(E67)+$AV$10+10*LOG($AF$18/$AF$10)<20),\"<20\",$AU$10*LN(E67)+$AV$10+10*LOG($AF$18/$AF$10)),\"\")","v":50.000015159048843},{"$f":"IF(B67=\"\",\"\",G67-6.5)","v":43.500015159048843},{"$f":"IF(OR(B67<$AE$51,B67>$AE$52),\"\",IF(B67=\"\",\"\",IF(B67=0,,IFERROR((V67*($I$7-$I$6)),\"\"))))","v":-788.44483070255751},{"$f":"IF(OR(B67<$AE$51,B67>$AE$52),\"\",IFERROR(Y67*($I$8-$I$6),\"\"))","v":-2082.9375256475241},{"$f":"IF(OR(B67<$AE$51,B67>$AE$52),\"\",IFERROR(X67*($I$8-$I$6),\"\"))","v":-1428.2475291138346},{"$f":"IF(OR(B67<$AE$51,B67>$AE$52),\"\",IF(D67=0,,IFERROR((W67*($N$7-$N$6)),\"\")))","v":1899.8198127218845},{"$f":"IF(OR(B67<$AE$51,B67>$AE$52),\"\",IF(IFERROR(IF(I67=0,,$I$7-((I67/(4.2*$I$13/3.6)))),)=0,\"\",IFERROR(IF(I67=0,,$I$7-((I67/(4.2*$I$13/3.6)))),)))","v":19.379049274439531},{"$f":"IF(OR(B67<$AE$51,B67>$AE$52),\"\",IF(IFERROR(IF(K67=0,,$I$8-((K67/(4.2*$I$13/3.6)))),)=0,\"\",IFERROR(IF(K67=0,,$I$8-((K67/(4.2*$I$13/3.6)))),)))","v":12.121060839059291},{"$f":"IF(OR(B67<$AE$51,B67>$AE$52),\"\",IF(B67=\"\",\"\",IFERROR(IF(L67=0,,($N$7-((L67/(4.2*$N$13/3.6))))),)))","v":41.429858480557968},null,null,null,null,null,null,{"$f":"'Master-Auswertung_V52-V67'!M297","v":78.844483070255748},{"$f":"'Heizen_Auswertung_V78-V85'!M297","v":57.570297355208623},{"$f":"'Master-Auswertung_V52-V67'!N297","v":71.412376455691728},{"$f":"'Master-Auswertung_V52-V67'!O297","v":104.1468762823762},{"$f":"'Master-Auswertung_V52-V67'!Q297","v":6.7255306762795435},null,null,null,null,{"$f":"AVERAGE(AE65:AE66)","v":350.60811879318362}]
[]
[{"$f":"IF(OR(B64<B70,B65<B70,B66<B70,B67<B70,B64>B71,B65>B71,B66>B71,B67>B71),\"Grenzwerte\",\"\")","v":""},null,null,null,null,null,null,null,null,"DpK =",{"$f":"'Master-Auswertung_V52-V67'!D289","v":32.444395967232076},"[kPa]","DpH =",{"$f":"'Heizen_Auswertung_V78-V85'!D289","v":6.8689128210929917},"[kPa]"]
["  Minimal",{"$f":"AE51","v":92.914878126363746},{"$f":"AF51","v":"m³/h"}]
["  Maximal",{"$f":"AE52","v":470.80797954110795},{"$f":"AF52","v":"m³/h"},null,null,null,null,null,null,null,null,null,null,null,null,null,null,null,null,null,null,null,null,null,null,null,null,"Grenzen der Auslegung",null,null,"Abhängig von Abfrage",null,null,"heizen"]
[null,null,null,null,null,null,null,null,null,null,null,null,null,null,null,null,null,null,null,null,null,null,null,null,null,null,null,{"$f":"'Master-Auswertung_V52-V67'!A218","v":"Drehzahl [1/min]"},{"$f":"'Master-Auswertung_V52-V67'!B218","v":"Volumenstrom [m³/h]"},{"$f":"'Master-Auswertung_V52-V67'!C218","v":"Wasser-Massenstrom [kg/h] kühlen"},{"$f":"IF($AF$7=1,AC72,AB72)","v":"Volumenstrom [m³/h]"},"Einheit",null,{"$f":"'Master-Auswertung_V52-V67'!D218","v":"Wasser-Massenstrom [kg/h] heizen"}]
["© LTG Aktiengesellschaft - 18.02.2020, TT/EI, V2.5",null,null,null,null,null,null,null,null,null,null,null,null,null,null,null,null,null,null,null,null,null,null,null,null,null,null,{"$f":"'Master-Auswertung_V52-V67'!A219","v":304.10478598610166},{"$f":"'Master-Auswertung_V52-V67'!B219","v":74.696274572174772},{"$f":"'Master-Auswertung_V52-V67'!C219","v":62.167367666666671},{"$f":"IF($AF$7=1,AC73,AB73)","v":74.696274572174772},{"$f":"IF($AF$7=1,\"m³/h\",\"1/min\")","v":"m³/h"},null,{"$f":"'Master-Auswertung_V52-V67'!D219","v":61.562867333333337}]
["Angaben zu Toleranzen sowie weitere Spezifikationen sind der aktuellen Technischen Dokumentation zu entnehmen. Diese finden Sie auf www.LTG.de.",null,null,null,null,null,null,null,null,null,null,null,null,null,null,null,null,null,false,null,null,null,null,null,null,null,null,{"$f":"'Master-Auswertung_V52-V67'!A220","v":1205.7544423342297},{"$f":"'Master-Auswertung_V52-V67'!B220","v":378.49268943500834},{"$f":"'Master-Auswertung_V52-V67'!C220","v":307.19070266666671},{"$f":"IF($AF$7=1,AC74,AB74)","v":378.49268943500834},{"$f":"IF($AF$7=1,\"m³/h\",\"1/min\")","v":"m³/h"},null,{"$f":"'Master-Auswertung_V52-V67'!D220","v":231.00826900000001}]
["Eine Fehlerfreiheit des Programms kann nicht zugesichert werden.",null,null,null,null,null,null,null,null,null,null,null,null,null,null,null,null,null,null,null,null,null,null,null,null,null,null,null,null,null,{"$f":"AVERAGE(AE73:AE74)","v":226.59448200359157}]
["Aus Programmierfehlern entstandener Schaden geht nicht zu Lasten der LTG Aktiengesellschaft. Technische Änderungen im Rahmen der Weiterentwicklung vorbehalten."]

{"sheet":"Rohdaten","index":1,"n_rows":630,"n_cols":34,"rows_kept":630,"cut":false,"hidden":true,"merged":[[1,25,1,33],[3,7,5,14],[3,21,3,22],[3,23,3,24],[3,25,3,26],[3,27,3,28],[4,21,4,22],[4,23,4,24],[4,25,4,26],[4,27,4,28],[5,21,5,22],[5,23,5,24],[5,25,5,26],[5,27,5,28]]}
[]
[null,"  Kalorischer Prüfstand",null,null,null,null,null,null,null,null,null,null,null,null,null,null,null,null,null,null,null,null,null,null,null,"LTG Aktiengesellschaft"]
[]
[null,null,null,null,null,null,null,"VKL800, Holz-Prototyp bzw. ISH-Prototyp, 4L",null,null,null,null,null,null,null,null,"Prüfling:","Gerät:","VKL800, Prototyp, 4L",null,null,"Wärmetauscher:",null,"4 L",null,"Ausblashals:"]
[null,null,null,null,null,null,null,null,null,null,null,null,null,null,null,null,null,"Baugröße:",800,null,null,"Lamellenabstand:",null,3.2,null,"MQ Gitter:",null,"nein"]
[null,null,null,null,null,null,null,null,null,null,null,null,null,null,null,null,null,"Filter:",null,null,null,"Verrohrung:",null,"fluchtend",null,"Sonstiges:",null,"LDB12/M/3"]
[1,2,3,4,5,6,null,8,9,10,11,12,13,14,15,16,17,18,19,20,21,22,23,24,25,26,27,28,29,30,31,32,33]
[null,"Bemerkung","Dp - Wasserseitig\n[kPa]","Drehzahl [1/min]","Dp - Kasten\n[Pa]","Spannung [V]","L wa","Date","Time","Name","Projekt","Wassermenge [kg/h]","T Wasser Vorlauf [°C]","T Wasser Rücklauf [°C]","T Wasser Spreizung [°C]","Q Sek [W]","q Sek [W/K]","V Sek [m³/h]","i [-]","T Ansaug mean [°C]","T Ausblas mean [°C]","T WT in [°C]","T WT out [°C]","Mess-strecke","Wirkdruck","V Prim [m³/h]","T Ansaug 1","T Ansaug 2","T Ansaug 3","T Ausblas 1","T Ausblas 2","T Ausblas 3","Halle"]
[]
[null,"VKL 800, Prototyp Holz - Vorstudie"]
[null,"Drehzahlvariation"]
[]
[null,"Prototyp Holz, 3,2mm Lamellenabstand",22.7,529,3,3.4,null,"2016-09-19","11:24:13","TT","LVC-neu, 800, 4L, LDB 12/M/3 1000",197.80402699999999,15.911,17.620999999999999,-1.71,-392.73989599999999,35.597912000000001,146.617682,0,26.943667000000001,18.943667000000001,26.943667000000001,18.943667000000001,"-",0,0,27,26.95,26.89,18.98,18.79,19.059999999999999,28.52,27.49]
[null,{"$f":"CONCATENATE(\"mit \",ROUND(L16,0),\" kg/h wasserseitig, \",ROUND(D16,0),\" 1/min Drehzahl\")","v":"mit 198 kg/h wasserseitig, 529 1/min Drehzahl"},22.7,529,3,3.4,null,"2016-09-19","11:36:03","TT","LVC-neu, 800, 4L, LDB 12/M/3 1000",196.87481600000001,15.903,17.625,-1.722,-393.63807000000003,35.517285000000001,146.391819,0,26.986000000000001,18.955333,26.986000000000001,18.955333,"-",0,0,27.04,27,26.92,18.98,18.809999999999999,19.07,28.48,27.51]
[null,null,22.7,529,3,3.4,null,"2016-09-19","11:36:18","TT","LVC-neu, 800, 4L, LDB 12/M/3 1000",200.05262999999999,15.901999999999999,17.623999999999999,-1.722,-399.99189799999999,36.069968000000003,148.67454799999999,0,26.991333000000001,18.956333000000001,26.991333000000001,18.956333000000001,"-",0,0,27.04,27.01,26.92,18.989999999999998,18.809999999999999,19.07,28.45,27.49]
["V1",null,{"$f":"AVERAGE(C13:C15)","v":22.7},{"$f":"AVERAGE(D13:D15)","v":529},{"$f":"AVERAGE(E13:E15)","v":3},{"$f":"AVERAGE(F13:F15)","v":3.4},null,{"$f":"H15","v":"2016-09-19"},null,{"$f":"J15","v":"TT"},null,{"$f":"AVERAGE(L13:L15)","v":198.24382433333335},15.905333333333333,17.623333333333331,-1.718,-395.45662133333332,35.728388333333335,147.22801633333333,0,26.97366666666667,18.951777666666668,null,null,null,null,{"$f":"AVERAGE(Z13:Z15)","v":0},27.026666666666667,26.986666666666668,26.91,18.983333333333334,18.803333333333331,19.066666666666666]
[]
[null,"Prototyp Holz, 3,2mm Lamellenabstand",22.5,907,11.3,6,null,"2016-09-19","11:51:02","TT","LVC-neu, 800, 4L, LDB 12/M/3 1000",197.80366599999999,15.920999999999999,18.457000000000001,-2.536,-582.44827799999996,52.312581000000002,260.888418,0,27.055,20.387333000000002,27.055,20.387333000000002,"-",0,0,27.14,27.05,26.98,20.57,20.34,20.25,28.41,27.52]
[null,{"$f":"CONCATENATE(\"mit \",ROUND(L21,0),\" kg/h wasserseitig, \",ROUND(D21,0),\" 1/min Drehzahl\")","v":"mit 199 kg/h wasserseitig, 908 1/min Drehzahl"},22.5,908,11.3,6,null,"2016-09-19","11:51:31","TT","LVC-neu, 800, 4L, LDB 12/M/3 1000",199.127251,15.929,18.463999999999999,-2.5350000000000001,-586.11446999999998,52.652894000000003,262.30763899999999,0,27.060666999999999,20.387333000000002,27.060666999999999,20.387333000000002,"-",0,0,27.15,27.05,26.98,20.57,20.34,20.25,28.46,27.54]
[null,null,22.5,908,11.3,6,null,"2016-09-19","11:52:00","TT","LVC-neu, 800, 4L, LDB 12/M/3 1000",199.12580399999999,15.926,18.47,-2.544,-588.19107499999996,52.779386000000002,263.07930599999997,0,27.070333000000002,20.393000000000001,27.070333000000002,20.393000000000001,"-",0,0,27.16,27.07,26.98,20.58,20.34,20.25,28.55,27.54]
["V2",null,{"$f":"AVERAGE(C18:C20)","v":22.5},{"$f":"AVERAGE(D18:D20)","v":907.66666666666663},{"$f":"AVERAGE(E18:E20)","v":11.300000000000002},{"$f":"AVERAGE(F18:F20)","v":6},null,{"$f":"H20","v":"2016-09-19"},null,{"$f":"J20","v":"TT"},null,{"$f":"AVERAGE(L18:L20)","v":198.68557366666667},15.925333333333334,18.463666666666665,-2.5383333333333336,-585.58460766666656,52.581620333333341,262.09178766666668,0,27.062000000000001,20.389222,null,null,null,null,{"$f":"AVERAGE(Z18:Z20)","v":0},27.150000000000002,27.056666666666668,26.98,20.573333333333334,20.34,20.25]
[]
[null,"Prototyp Holz, 3,2mm Lamellenabstand",22.4,1210,20.6,8,null,"2016-09-19","12:43:49","TT","LVC-neu, 800, 4L, LDB 12/M/3 1000",198.594437,15.923999999999999,18.913,-2.9889999999999999,-689.23413000000005,61.469242999999999,354.25184899999999,0,27.136666999999999,21.326000000000001,27.136666999999999,21.326000000000001,"-",0,0,27.18,27.2,27.03,21.5,21.35,21.12,28.34,27.55]
[null,{"$f":"CONCATENATE(\"mit \",ROUND(L26,0),\" kg/h wasserseitig, \",ROUND(D26,0),\" 1/min Drehzahl\")","v":"mit 199 kg/h wasserseitig, 1210 1/min Drehzahl"},22.4,1210,20.6,8,null,"2016-09-19","12:44:03","TT","LVC-neu, 800, 4L, LDB 12/M/3 1000",199.124776,15.93,18.914999999999999,-2.9849999999999999,-690.14987799999994,61.638869999999997,355.27279800000002,0,27.126667000000001,21.324999999999999,27.126667000000001,21.324999999999999,"-",0,0,27.18,27.18,27.02,21.5,21.36,21.12,28.35,27.55]
[null,null,22.4,1210,20.6,8,null,"2016-09-19","12:44:18","TT","LVC-neu, 800, 4L, LDB 12/M/3 1000",198.79642799999999,15.933,18.914000000000001,-2.9809999999999999,-688.08855500000004,61.430993000000001,353.68333699999999,0,27.134,21.323667,27.134,21.323667,"-",0,0,27.19,27.2,27.02,21.49,21.36,21.12,28.39,27.56]
["V3",null,{"$f":"AVERAGE(C23:C25)","v":22.399999999999995},{"$f":"AVERAGE(D23:D25)","v":1210},{"$f":"AVERAGE(E23:E25)","v":20.6},{"$f":"AVERAGE(F23:F25)","v":8},null,{"$f":"H25","v":"2016-09-19"},null,{"$f":"J25","v":"TT"},null,{"$f":"AVERAGE(L23:L25)","v":198.83854699999998},15.929,18.914000000000001,-2.9849999999999999,-689.15752100000009,61.513035333333335,354.4026613333333,0,27.132444666666668,21.324888999999999,null,null,null,null,{"$f":"AVERAGE(Z23:Z25)","v":0},27.183333333333334,27.193333333333332,27.02333333333333,21.496666666666666,21.356666666666666,21.12]
[]
[null,"Prototyp Holz, 3,2mm Lamellenabstand",22.4,1507,32.5,10,null,"2016-09-19","12:59:46","TT","LVC-neu, 800, 4L, LDB 12/M/3 1000",198.59314800000001,15.923999999999999,19.300999999999998,-3.3769999999999998,-778.69807800000001,69.742484000000005,453.95840399999997,0,27.089333,21.966332999999999,27.089333,21.966332999999999,"-",0,0,27.18,27.14,26.95,22.15,22.01,21.73,28.77,27.77]
[null,{"$f":"CONCATENATE(\"mit \",ROUND(L31,0),\" kg/h wasserseitig, \",ROUND(D31,0),\" 1/min Drehzahl\")","v":"mit 199 kg/h wasserseitig, 1507 1/min Drehzahl"},22.4,1507,32.5,10,null,"2016-09-19","13:00:15","TT","LVC-neu, 800, 4L, LDB 12/M/3 1000",199.12438,15.929,19.314,-3.3849999999999998,-782.630719,70.044515000000004,455.45089100000001,0,27.102333000000002,21.970333,27.102333000000002,21.970333,"-",0,0,27.21,27.14,26.96,22.15,22.02,21.73,28.72,27.81]
[null,null,22.4,1507,32.5,10,null,"2016-09-19","13:00:58","TT","LVC-neu, 800, 4L, LDB 12/M/3 1000",198.59318200000001,15.939,19.302,-3.363,-775.46996799999999,69.418132999999997,450.37686400000001,0,27.11,21.967666999999999,27.11,21.967666999999999,"-",0,0,27.21,27.15,26.97,22.15,22.02,21.73,28.8,27.78]
["V4",null,{"$f":"AVERAGE(C28:C30)","v":22.399999999999995},{"$f":"AVERAGE(D28:D30)","v":1507},{"$f":"AVERAGE(E28:E30)","v":32.5},{"$f":"AVERAGE(F28:F30)","v":10},null,{"$f":"H30","v":"2016-09-19"},null,{"$f":"J30","v":"TT"},null,{"$f":"AVERAGE(L28:L30)","v":198.77023666666665},15.930666666666667,19.305666666666664,-3.375,-778.93292166666663,69.735044000000002,453.26205299999998,0,27.100555333333332,21.968111000000004,null,null,null,null,{"$f":"AVERAGE(Z28:Z30)","v":0},27.2,27.143333333333334,26.959999999999997,22.149999999999995,22.016666666666666,21.73]
[]
[]
[null,"Wassermengenvariation"]
[null,"Variation 1"]
[null,"Prototyp Holz, 3,2mm Lamellenabstand",50,1507,32.5,10,null,"2016-09-19","13:13:14","TT","LVC-neu, 800, 4L, LDB 12/M/3 1000",310.61299600000001,15.885,18.268000000000001,-2.383,-859.44372799999996,76.410846000000006,459.55729300000002,0,27.132667000000001,21.547332999999998,27.132667000000001,21.547332999999998,"-",0,0,27.22,27.18,27,21.73,21.6,21.31,27.73]
[null,{"$f":"CONCATENATE(\"mit \",ROUND(L39,0),\" kg/h wasserseitig, \",ROUND(D39,0),\" 1/min Drehzahl ; \", ROUND(F39,0), \" V Spannung\")","v":"mit 310 kg/h wasserseitig, 1507 1/min Drehzahl ; 10 V Spannung"},50,1507,32.5,10,null,"2016-09-19","13:13:43","TT","LVC-neu, 800, 4L, LDB 12/M/3 1000",310.30046299999998,15.882,18.25,-2.3679999999999999,-853.17457200000001,75.878208000000001,456.66840100000002,0,27.126000000000001,21.546333000000001,27.126000000000001,21.546333000000001,"-",0,0,27.21,27.17,27,21.74,21.59,21.31,27.71]
[null,null,50,1507,32.5,10,null,"2016-09-19","13:14:41","TT","LVC-neu, 800, 4L, LDB 12/M/3 1000",309.988541,15.882999999999999,18.245999999999999,-2.363,-850.51728100000003,75.702472999999998,455.19167900000002,0,27.117999999999999,21.537666999999999,27.117999999999999,21.537666999999999,"-",0,0,27.19,27.14,27.03,21.73,21.57,21.31,27.7]
["V5",null,{"$f":"AVERAGE(C36:C38)","v":50},{"$f":"AVERAGE(D36:D38)","v":1507},{"$f":"AVERAGE(E36:E38)","v":32.5},{"$f":"AVERAGE(F36:F38)","v":10},null,{"$f":"H38","v":"2016-09-19"},null,{"$f":"J38","v":"TT"},null,{"$f":"AVERAGE(L36:L38)","v":310.3006666666667},15.883333333333333,18.254666666666665,-2.3713333333333328,-854.37852699999996,75.997175666666678,457.13912433333331,0,27.125555666666667,21.543777666666667,null,null,null,null,{"$f":"AVERAGE(Z36:Z38)","v":0},27.206666666666667,27.163333333333338,27.01,21.733333333333334,21.586666666666662,21.31]
[]
[null,"Prototyp Holz, 3,2mm Lamellenabstand",22.4,1507,32.5,10,null,"2016-09-19","12:59:46","TT","LVC-neu, 800, 4L, LDB 12/M/3 1000",198.59314800000001,15.923999999999999,19.300999999999998,-3.3769999999999998,-778.69807800000001,69.742484000000005,453.95840399999997,0,27.089333,21.966332999999999,27.089333,21.966332999999999,"-",0,0,27.18,27.14,26.95,22.15,22.01,21.73,27.77]
[null,{"$f":"CONCATENATE(\"mit \",ROUND(L44,0),\" kg/h wasserseitig, \",ROUND(D44,0),\" 1/min Drehzahl ; \", ROUND(F44,0), \" V Spannung\")","v":"mit 199 kg/h wasserseitig, 1507 1/min Drehzahl ; 10 V Spannung"},22.4,1507,32.5,10,null,"2016-09-19","13:00:15","TT","LVC-neu, 800, 4L, LDB 12/M/3 1000",199.12438,15.929,19.314,-3.3849999999999998,-782.630719,70.044515000000004,455.45089100000001,0,27.102333000000002,21.970333,27.102333000000002,21.970333,"-",0,0,27.21,27.14,26.96,22.15,22.02,21.73,27.81]
[null,null,22.4,1507,32.5,10,null,"2016-09-19","13:00:58","TT","LVC-neu, 800, 4L, LDB 12/M/3 1000",198.59318200000001,15.939,19.302,-3.363,-775.46996799999999,69.418132999999997,450.37686400000001,0,27.11,21.967666999999999,27.11,21.967666999999999,"-",0,0,27.21,27.15,26.97,22.15,22.02,21.73,27.78]
["V6",null,{"$f":"AVERAGE(C41:C43)","v":22.399999999999995},{"$f":"AVERAGE(D41:D43)","v":1507},{"$f":"AVERAGE(E41:E43)","v":32.5},{"$f":"AVERAGE(F41:F43)","v":10},null,{"$f":"H43","v":"2016-09-19"},null,{"$f":"J43","v":"TT"},null,{"$f":"AVERAGE(L41:L43)","v":198.77023666666665},15.930666666666667,19.305666666666664,-3.375,-778.93292166666663,69.735044000000002,453.26205299999998,0,27.100555333333332,21.968111000000004,null,null,null,null,{"$f":"AVERAGE(Z41:Z43)","v":0},27.2,27.143333333333334,26.959999999999997,22.149999999999995,22.016666666666666,21.73]
[]
[null,"Prototyp Holz, 3,2mm Lamellenabstand",16.600000000000001,1507,32.5,10,null,"2016-09-19","13:29:25","TT","LVC-neu, 800, 4L, LDB 12/M/3 1000",167.62458599999999,15.964,19.797999999999998,-3.8340000000000001,-746.21436800000004,66.624300000000005,450.37676099999999,0,27.164332999999999,22.216000000000001,27.164332999999999,22.216000000000001,"-",0,0,27.22,27.21,27.07,22.39,22.26,22,27.87]
[null,{"$f":"CONCATENATE(\"mit \",ROUND(L49,0),\" kg/h wasserseitig, \",ROUND(D49,0),\" 1/min Drehzahl ; \", ROUND(F49,0), \" V Spannung\")","v":"mit 168 kg/h wasserseitig, 1507 1/min Drehzahl ; 10 V Spannung"},16.600000000000001,1507,32.5,10,null,"2016-09-19","13:30:09","TT","LVC-neu, 800, 4L, LDB 12/M/3 1000",167.62486799999999,15.943,19.800999999999998,-3.8580000000000001,-750.88677199999995,66.814779999999999,452.86121900000001,0,27.181332999999999,22.229333,27.181332999999999,22.229333,"-",0,0,27.23,27.23,27.07,22.4,22.29,22,27.89]
[null,null,16.600000000000001,1507,32.5,10,null,"2016-09-19","13:30:38","TT","LVC-neu, 800, 4L, LDB 12/M/3 1000",167.29347999999999,15.933999999999999,19.792000000000002,-3.8580000000000001,-749.40229699999998,66.751986000000002,454.10563000000002,0,27.160667,22.231999999999999,27.160667,22.231999999999999,"-",0,0,27.23,27.18,27.07,22.4,22.29,22.01,27.88]
["V7",null,{"$f":"AVERAGE(C46:C48)","v":16.600000000000001},{"$f":"AVERAGE(D46:D48)","v":1507},{"$f":"AVERAGE(E46:E48)","v":32.5},{"$f":"AVERAGE(F46:F48)","v":10},null,{"$f":"H48","v":"2016-09-19"},null,{"$f":"J48","v":"TT"},null,{"$f":"AVERAGE(L46:L48)","v":167.51431133333332},15.947000000000001,19.797000000000001,-3.85,-748.83447899999999,66.730355333333321,452.44786999999997,0,27.168777666666667,22.225777666666669,null,null,null,null,{"$f":"AVERAGE(Z46:Z48)","v":0},27.22666666666667,27.206666666666667,27.070000000000004,22.396666666666665,22.28,22.003333333333334]
[]
[null,"Prototyp Holz, 3,2mm Lamellenabstand",6.6,1507,32.4,10,null,"2016-09-19","13:43:28","TT","LVC-neu, 800, 4L, LDB 12/M/3 1000",101.553014,16.044,21.375,-5.3310000000000004,-628.60131000000001,56.763708999999999,451.215149,0,27.117999999999999,22.957332999999998,27.117999999999999,22.957332999999998,"-",0,0,27.17,27.14,27.05,23.12,23,22.75,27.81]
[null,{"$f":"CONCATENATE(\"mit \",ROUND(L54,0),\" kg/h wasserseitig, \",ROUND(D54,0),\" 1/min Drehzahl ; \", ROUND(F54,0), \" V Spannung\")","v":"mit 102 kg/h wasserseitig, 1507 1/min Drehzahl ; 10 V Spannung"},6.6,1507,32.4,10,null,"2016-09-19","13:43:57","TT","LVC-neu, 800, 4L, LDB 12/M/3 1000",102.579308,16.045000000000002,21.370999999999999,-5.3259999999999996,-634.35841800000003,57.257731999999997,454.983136,0,27.123999999999999,22.96,27.123999999999999,22.96,"-",0,0,27.16,27.15,27.06,23.12,23.01,22.75,27.8]
[null,null,6.6,1507,32.4,10,null,"2016-09-19","13:44:26","TT","LVC-neu, 800, 4L, LDB 12/M/3 1000",102.274744,16.045000000000002,21.382000000000001,-5.3369999999999997,-633.78124800000001,57.262490999999997,456.28590400000002,0,27.113,22.964666999999999,27.113,22.964666999999999,"-",0,0,27.16,27.13,27.05,23.12,23.01,22.76,27.78]
["V8",null,{"$f":"AVERAGE(C51:C53)","v":6.5999999999999988},{"$f":"AVERAGE(D51:D53)","v":1507},{"$f":"AVERAGE(E51:E53)","v":32.4},{"$f":"AVERAGE(F51:F53)","v":10},null,{"$f":"H53","v":"2016-09-19"},null,{"$f":"J53","v":"TT"},null,{"$f":"AVERAGE(L51:L53)","v":102.13568866666667},16.044666666666668,21.376000000000001,-5.3313333333333333,-632.24699199999998,57.094643999999995,454.16139633333336,0,27.118333333333329,22.960666666666668,null,null,null,null,{"$f":"AVERAGE(Z51:Z53)","v":0},27.16333333333333,27.14,27.053333333333331,23.12,23.006666666666671,22.753333333333334]
[]
[null,"Prototyp Holz, 3,2mm Lamellenabstand",2.5,1507,32.299999999999997,10,null,"2016-09-19","13:57:02","TT","LVC-neu, 800, 4L, LDB 12/M/3 1000",61.936819999999997,16.193000000000001,22.881,-6.6879999999999997,-480.97106600000001,43.849547000000001,451.14609799999999,0,27.161667000000001,23.977667,27.161667000000001,23.977667,"-",0,0,27.18,27.18,27.12,24.05,24.11,23.78,27.73]
[null,{"$f":"CONCATENATE(\"mit \",ROUND(L59,0),\" kg/h wasserseitig, \",ROUND(D59,0),\" 1/min Drehzahl ; \", ROUND(F59,0), \" V Spannung\")","v":"mit 62 kg/h wasserseitig, 1507 1/min Drehzahl ; 10 V Spannung"},2.5,1507,32.299999999999997,10,null,"2016-09-19","13:58:15","TT","LVC-neu, 800, 4L, LDB 12/M/3 1000",61.998297000000001,16.181999999999999,22.875,-6.6929999999999996,-481.80839900000001,43.949927000000002,454.83613600000001,0,27.144666999999998,23.981000000000002,27.144666999999998,23.981000000000002,"-",0,0,27.17,27.15,27.12,24.05,24.09,23.8,27.73]
[null,null,2.5,1507,32.299999999999997,10,null,"2016-09-19","13:58:44","TT","LVC-neu, 800, 4L, LDB 12/M/3 1000",61.507416999999997,16.190000000000001,22.87,-6.68,-477.06519800000001,43.492131999999998,449.364193,0,27.158999999999999,23.988333000000001,27.158999999999999,23.988333000000001,"-",0,0,27.17,27.19,27.12,24.05,24.11,23.81,27.71]
["V9",null,{"$f":"AVERAGE(C56:C58)","v":2.5},{"$f":"AVERAGE(D56:D58)","v":1507},{"$f":"AVERAGE(E56:E58)","v":32.299999999999997},{"$f":"AVERAGE(F56:F58)","v":10},null,{"$f":"H58","v":"2016-09-19"},null,{"$f":"J58","v":"TT"},null,{"$f":"AVERAGE(L56:L58)","v":61.814177999999998},16.188333333333333,22.875333333333334,-6.6870000000000003,-479.94822100000005,43.763868666666667,451.7821423333333,0,27.155111333333334,23.982333333333333,null,null,null,null,{"$f":"AVERAGE(Z56:Z58)","v":0},27.173333333333336,27.173333333333332,27.12,24.05,24.103333333333335,23.796666666666667]
[]
[]
[]
[null,"Variation 2"]
[null,"Prototyp Holz, 3,2mm Lamellenabstand",2.5,922,11.5,6,null,"2016-09-19","14:19:02","TT","LVC-neu, 800, 4L, LDB 12/M/3 1000",61.874993000000003,16.184999999999999,21.815999999999999,-5.6310000000000002,-404.55211100000002,36.970157999999998,268.37391100000002,0,27.127666999999999,22.625667,27.127666999999999,22.625667,"-",0,0,27.17,27.13,27.08,22.73,22.67,22.48,27.78]
[null,{"$f":"CONCATENATE(\"mit \",ROUND(L67,0),\" kg/h wasserseitig, \",ROUND(D67,0),\" 1/min Drehzahl ; \", ROUND(F67,0), \" V Spannung\")","v":"mit 62 kg/h wasserseitig, 922 1/min Drehzahl ; 6 V Spannung"},2.5,922,11.5,6,null,"2016-09-19","14:19:16","TT","LVC-neu, 800, 4L, LDB 12/M/3 1000",61.691291,16.183,21.812999999999999,-5.63,-403.27939400000002,36.869573000000003,267.62868700000001,0,27.120999999999999,22.620667000000001,27.120999999999999,22.620667000000001,"-",0,0,27.17,27.11,27.08,22.73,22.66,22.47,27.78]
[null,null,2.5,922,11.5,6,null,"2016-09-19","14:19:31","TT","LVC-neu, 800, 4L, LDB 12/M/3 1000",61.691147999999998,16.178000000000001,21.809000000000001,-5.6310000000000002,-403.35009300000002,36.855820000000001,267.398323,0,27.122,22.617000000000001,27.122,22.617000000000001,"-",0,0,27.18,27.11,27.08,22.72,22.65,22.47,27.76]
["V10",null,{"$f":"AVERAGE(C64:C66)","v":2.5},{"$f":"AVERAGE(D64:D66)","v":922},{"$f":"AVERAGE(E64:E66)","v":11.5},{"$f":"AVERAGE(F64:F66)","v":6},null,{"$f":"H66","v":"2016-09-19"},null,{"$f":"J66","v":"TT"},null,{"$f":"AVERAGE(L64:L66)","v":61.752477333333331},16.181999999999999,21.812666666666669,-5.6306666666666665,-403.72719933333337,36.898516999999998,267.80030700000003,0,27.123555666666665,22.621111333333335,null,null,null,null,{"$f":"AVERAGE(Z64:Z66)","v":0},27.173333333333336,27.116666666666664,27.08,22.72666666666667,22.659999999999997,22.473333333333333]
[]
[null,"Prototyp Holz, 3,2mm Lamellenabstand",10.4,922,11.5,6,null,"2016-09-19","14:47:49","TT","LVC-neu, 800, 4L, LDB 12/M/3 1000",130.62995100000001,16.001000000000001,19.545000000000002,-3.544,-537.53934500000003,48.432786,265.16441600000002,0,27.099667,21.045332999999999,27.099667,21.045332999999999,"-",0,0,27.17,27.1,27.03,21.23,21,20.9,27.81]
[null,{"$f":"CONCATENATE(\"mit \",ROUND(L72,0),\" kg/h wasserseitig, \",ROUND(D72,0),\" 1/min Drehzahl ; \", ROUND(F72,0), \" V Spannung\")","v":"mit 131 kg/h wasserseitig, 922 1/min Drehzahl ; 6 V Spannung"},10.4,922,11.5,6,null,"2016-09-19","14:48:18","TT","LVC-neu, 800, 4L, LDB 12/M/3 1000",130.500068,15.996,19.568999999999999,-3.573,-541.39910699999996,48.776159,267.11252899999999,0,27.095666999999999,21.042332999999999,27.095666999999999,21.042332999999999,"-",0,0,27.18,27.09,27.02,21.23,20.99,20.91,27.82]
[null,null,10.4,922,11.5,6,null,"2016-09-19","14:50:29","TT","LVC-neu, 800, 4L, LDB 12/M/3 1000",130.37029799999999,15.999000000000001,19.588000000000001,-3.589,-543.28272700000002,48.876871999999999,268.18954100000002,0,27.114332999999998,21.064333000000001,27.114332999999998,21.064333000000001,"-",0,0,27.19,27.1,27.05,21.24,21.03,20.92,27.82]
["V11",null,{"$f":"AVERAGE(C69:C71)","v":10.4},{"$f":"AVERAGE(D69:D71)","v":922},{"$f":"AVERAGE(E69:E71)","v":11.5},{"$f":"AVERAGE(F69:F71)","v":6},null,{"$f":"H71","v":"2016-09-19"},null,{"$f":"J71","v":"TT"},null,{"$f":"AVERAGE(L69:L71)","v":130.50010566666666},15.998666666666667,19.567333333333334,-3.5686666666666667,-540.74039299999993,48.695272333333328,266.82216199999999,0,27.103222333333335,21.050666333333336,null,null,null,null,{"$f":"AVERAGE(Z69:Z71)","v":0},27.180000000000003,27.096666666666664,27.033333333333331,21.233333333333334,21.006666666666664,20.91]
[]
[null,"Prototyp Holz, 3,2mm Lamellenabstand",22,922,11.5,6,null,"2016-09-19","15:11:10","TT","LVC-neu, 800, 4L, LDB 12/M/3 1000",196.87457900000001,15.93,18.533000000000001,-2.6030000000000002,-595.02825800000005,52.987169999999999,267.150914,0,27.159666999999999,20.507667000000001,27.159666999999999,20.507667000000001,"-",0,0,27.25,27.16,27.07,20.7,20.45,20.37,27.83]
[null,{"$f":"CONCATENATE(\"mit \",ROUND(L77,0),\" kg/h wasserseitig, \",ROUND(D77,0),\" 1/min Drehzahl ; \", ROUND(F77,0), \" V Spannung\")","v":"mit 197 kg/h wasserseitig, 922 1/min Drehzahl ; 6 V Spannung"},22,922,11.5,6,null,"2016-09-19","15:11:24","TT","LVC-neu, 800, 4L, LDB 12/M/3 1000",195.40497999999999,15.933,18.526,-2.593,-588.31771300000003,52.411377999999999,264.01899800000001,0,27.158000000000001,20.503,27.158000000000001,20.503,"-",0,0,27.26,27.15,27.07,20.7,20.45,20.36,27.83]
[null,null,22,922,11.5,6,null,"2016-09-19","15:11:39","TT","LVC-neu, 800, 4L, LDB 12/M/3 1000",197.26861299999999,15.938000000000001,18.527999999999999,-2.59,-593.24151800000004,52.894004000000002,266.17532199999999,0,27.153666999999999,20.497333000000001,27.153666999999999,20.497333000000001,"-",0,0,27.26,27.14,27.06,20.69,20.45,20.350000000000001,27.85]
["V12",null,{"$f":"AVERAGE(C74:C76)","v":22},{"$f":"AVERAGE(D74:D76)","v":922},{"$f":"AVERAGE(E74:E76)","v":11.5},{"$f":"AVERAGE(F74:F76)","v":6},null,{"$f":"H76","v":"2016-09-19"},null,{"$f":"J76","v":"TT"},null,{"$f":"AVERAGE(L74:L76)","v":196.51605733333335},15.933666666666667,18.529,-2.595333333333333,-592.19582966666678,52.764184,265.78174466666673,0,27.157111333333333,20.502666666666666,null,null,null,null,{"$f":"AVERAGE(Z74:Z76)","v":0},27.256666666666671,27.150000000000002,27.066666666666666,20.696666666666669,20.45,20.360000000000003]
[]
[null,"Prototyp Holz, 3,2mm Lamellenabstand",51.3,922,11.5,6,null,"2016-09-19","15:22:33","TT","LVC-neu, 800, 4L, LDB 12/M/3 1000",314.18833799999999,15.904,17.655000000000001,-1.7509999999999999,-638.77805599999999,56.682861000000003,268.06781699999999,0,27.173333,20.056667000000001,27.173333,20.056667000000001,"-",0,0,27.25,27.19,27.08,20.239999999999998,20.010000000000002,19.93,27.84]
[null,{"$f":"CONCATENATE(\"mit \",ROUND(L82,0),\" kg/h wasserseitig, \",ROUND(D82,0),\" 1/min Drehzahl ; \", ROUND(F82,0), \" V Spannung\")","v":"mit 314 kg/h wasserseitig, 922 1/min Drehzahl ; 6 V Spannung"},51.3,922,11.5,6,null,"2016-09-19","15:22:48","TT","LVC-neu, 800, 4L, LDB 12/M/3 1000",313.99758300000002,15.901,17.655000000000001,-1.754,-639.48398999999995,56.732078999999999,268.43950699999999,0,27.172999999999998,20.058333000000001,27.172999999999998,20.058333000000001,"-",0,0,27.25,27.19,27.08,20.239999999999998,20.010000000000002,19.93,27.82]
[null,null,51.3,922,11.5,6,null,"2016-09-19","15:23:17","TT","LVC-neu, 800, 4L, LDB 12/M/3 1000",314.18916400000001,15.885999999999999,17.643000000000001,-1.7569999999999999,-640.96858499999996,56.766421000000001,268.89892500000002,0,27.177333000000001,20.058333000000001,27.177333000000001,20.058333000000001,"-",0,0,27.27,27.19,27.07,20.239999999999998,20.010000000000002,19.93,27.85]
["V13",null,{"$f":"AVERAGE(C79:C81)","v":51.29999999999999},{"$f":"AVERAGE(D79:D81)","v":922},{"$f":"AVERAGE(E79:E81)","v":11.5},{"$f":"AVERAGE(F79:F81)","v":6},null,{"$f":"H81","v":"2016-09-19"},null,{"$f":"J81","v":"TT"},null,{"$f":"AVERAGE(L79:L81)","v":314.12502833333332},15.897,17.651,-1.7539999999999998,-639.7435436666666,56.727120333333339,268.46874966666661,0,27.174555333333334,20.057777666666667,null,null,null,null,{"$f":"AVERAGE(Z79:Z81)","v":0},27.256666666666664,27.19,27.076666666666664,20.239999999999998,20.010000000000002,19.93]
[]
[]
[]
[null,"Variation 3"]
[null,"Prototyp Holz, 3,2mm Lamellenabstand",51.3,547,3.6,3.5,null,"2016-09-19","15:36:20","TT","LVC-neu, 800, 4L, LDB 12/M/3 1000",314.200129,15.891,17.085000000000001,-1.194,-435.596585,38.838225000000001,155.83798999999999,0,27.106667000000002,18.758666999999999,27.106667000000002,18.758666999999999,"-",0,0,27.21,27.09,27.02,18.79,18.59,18.899999999999999,27.79]
[null,{"$f":"CONCATENATE(\"mit \",ROUND(L90,0),\" kg/h wasserseitig, \",ROUND(D90,0),\" 1/min Drehzahl ; \", ROUND(F90,0), \" V Spannung\")","v":"mit 314 kg/h wasserseitig, 547 1/min Drehzahl ; 4 V Spannung"},51.3,547,3.6,3.5,null,"2016-09-19","15:36:34","TT","LVC-neu, 800, 4L, LDB 12/M/3 1000",313.06267500000001,15.89,17.084,-1.194,-434.019657,38.665447999999998,155.11898600000001,0,27.114999999999998,18.758666999999999,27.114999999999998,18.758666999999999,"-",0,0,27.22,27.11,27.02,18.79,18.59,18.89,27.78]
[null,null,51.3,547,3.6,3.5,null,"2016-09-19","15:37:03","TT","LVC-neu, 800, 4L, LDB 12/M/3 1000",314.50442099999998,15.884,17.077999999999999,-1.194,-436.01844599999998,38.805486000000002,155.64709199999999,0,27.12,18.753667,27.12,18.753667,"-",0,0,27.22,27.12,27.02,18.79,18.59,18.88,27.78]
["V14",null,{"$f":"AVERAGE(C87:C89)","v":51.29999999999999},{"$f":"AVERAGE(D87:D89)","v":547},{"$f":"AVERAGE(E87:E89)","v":3.6},{"$f":"AVERAGE(F87:F89)","v":3.5},null,{"$f":"H89","v":"2016-09-19"},null,{"$f":"J89","v":"TT"},null,{"$f":"AVERAGE(L87:L89)","v":313.92240833333329},15.888333333333334,17.082333333333334,-1.194,-435.21156266666668,38.769719666666667,155.53468933333332,0,27.113889,18.757000333333334,null,null,null,null,{"$f":"AVERAGE(Z87:Z89)","v":0},27.216666666666669,27.106666666666669,27.02,18.79,18.59,18.89]
[]
[null,"Prototyp Holz, 3,2mm Lamellenabstand",22.6,547,3.6,3.5,null,"2016-09-19","15:44:43","TT","LVC-neu, 800, 4L, LDB 12/M/3 1000",200.250643,15.926,17.681999999999999,-1.756,-408.29325999999998,36.489507000000003,150.75321600000001,0,27.115333,19.026667,27.115333,19.026667,"-",0,0,27.18,27.09,27.08,19.07,18.86,19.14,27.73]
[null,{"$f":"CONCATENATE(\"mit \",ROUND(L95,0),\" kg/h wasserseitig, \",ROUND(D95,0),\" 1/min Drehzahl ; \", ROUND(F95,0), \" V Spannung\")","v":"mit 201 kg/h wasserseitig, 547 1/min Drehzahl ; 4 V Spannung"},22.6,547,3.6,3.5,null,"2016-09-19","15:45:12","TT","LVC-neu, 800, 4L, LDB 12/M/3 1000",201.05189300000001,15.932,17.690999999999999,-1.7589999999999999,-410.62726900000001,36.721071999999999,151.59625500000001,0,27.114332999999998,19.024667000000001,27.114332999999998,19.024667000000001,"-",0,0,27.19,27.08,27.08,19.07,18.86,19.14,27.73]
[null,null,22.6,547,3.6,3.5,null,"2016-09-19","15:45:26","TT","LVC-neu, 800, 4L, LDB 12/M/3 1000",200.24924100000001,15.930999999999999,17.696000000000002,-1.7649999999999999,-410.38300700000002,36.692666000000003,151.543544,0,27.115333,19.027667000000001,27.115333,19.027667000000001,"-",0,0,27.19,27.08,27.08,19.07,18.86,19.149999999999999,27.73]
["V15",null,{"$f":"AVERAGE(C92:C94)","v":22.600000000000005},{"$f":"AVERAGE(D92:D94)","v":547},{"$f":"AVERAGE(E92:E94)","v":3.6},{"$f":"AVERAGE(F92:F94)","v":3.5},null,{"$f":"H94","v":"2016-09-19"},null,{"$f":"J94","v":"TT"},null,{"$f":"AVERAGE(L92:L94)","v":200.517259},15.929666666666668,17.689666666666668,-1.7599999999999998,-409.7678453333333,36.634414999999997,151.29767166666667,0,27.114999666666666,19.026333666666666,null,null,null,null,{"$f":"AVERAGE(Z92:Z94)","v":0},27.186666666666667,27.083333333333332,27.08,19.07,18.86,19.143333333333334]
[]
[null,"Prototyp Holz, 3,2mm Lamellenabstand",9.1999999999999993,547,3.6,3.5,null,"2016-09-19","15:53:43","TT","LVC-neu, 800, 4L, LDB 12/M/3 1000",120.73584200000001,15.996,18.712,-2.7160000000000002,-380.74986899999999,34.141846000000001,150.39446000000001,0,27.148,19.587,27.148,19.587,"-",0,0,27.23,27.15,27.06,19.64,19.45,19.670000000000002,27.81]
[null,{"$f":"CONCATENATE(\"mit \",ROUND(L100,0),\" kg/h wasserseitig, \",ROUND(D100,0),\" 1/min Drehzahl ; \", ROUND(F100,0), \" V Spannung\")","v":"mit 121 kg/h wasserseitig, 547 1/min Drehzahl ; 4 V Spannung"},9.1999999999999993,547,3.6,3.5,null,"2016-09-19","15:54:12","TT","LVC-neu, 800, 4L, LDB 12/M/3 1000",121.138898,15.997,18.719000000000001,-2.722,-382.86487,34.351007000000003,151.43015399999999,0,27.142666999999999,19.591667000000001,27.142666999999999,19.591667000000001,"-",0,0,27.22,27.14,27.06,19.64,19.46,19.670000000000002,27.78]
[null,null,9.1999999999999993,547,3.6,3.5,null,"2016-09-19","15:54:56","TT","LVC-neu, 800, 4L, LDB 12/M/3 1000",120.89878899999999,16.006,18.716999999999999,-2.7109999999999999,-380.56185099999999,34.145398999999998,150.37322800000001,0,27.151333000000001,19.593,27.151333000000001,19.593,"-",0,0,27.24,27.15,27.06,19.64,19.45,19.68,27.76]
["V16",null,{"$f":"AVERAGE(C97:C99)","v":9.1999999999999993},{"$f":"AVERAGE(D97:D99)","v":547},{"$f":"AVERAGE(E97:E99)","v":3.6},{"$f":"AVERAGE(F97:F99)","v":3.5},null,{"$f":"H99","v":"2016-09-19"},null,{"$f":"J99","v":"TT"},null,{"$f":"AVERAGE(L97:L99)","v":120.92450966666667},15.999666666666668,18.715999999999998,-2.7163333333333335,-381.39219666666668,34.212750666666665,150.73261400000001,0,27.147333333333336,19.59055566666667,null,null,null,null,{"$f":"AVERAGE(Z97:Z99)","v":0},27.23,27.146666666666665,27.06,19.64,19.453333333333333,19.673333333333336]
[]
[null,"Prototyp Holz, 3,2mm Lamellenabstand",2.5,547,3.6,3.5,null,"2016-09-19","16:11:24","TT","LVC-neu, 800, 4L, LDB 12/M/3 1000",62.060277999999997,16.181000000000001,20.51,-4.3289999999999997,-311.94288499999999,28.423041999999999,148.72865400000001,0,27.155999999999999,20.891999999999999,27.155999999999999,20.891999999999999,"-",0,0,27.23,27.16,27.09,20.92,20.84,20.92,27.69]
[null,{"$f":"CONCATENATE(\"mit \",ROUND(L105,0),\" kg/h wasserseitig, \",ROUND(D105,0),\" 1/min Drehzahl ; \", ROUND(F105,0), \" V Spannung\")","v":"mit 62 kg/h wasserseitig, 547 1/min Drehzahl ; 4 V Spannung"},2.5,547,3.6,3.5,null,"2016-09-19","16:12:07","TT","LVC-neu, 800, 4L, LDB 12/M/3 1000",62.564261000000002,16.175999999999998,20.495999999999999,-4.32,-313.82233400000001,28.582136999999999,149.784154,0,27.155667000000001,20.898333000000001,27.155667000000001,20.898333000000001,"-",0,0,27.23,27.15,27.09,20.93,20.85,20.92,27.68]
[null,null,2.5,547,3.6,3.5,null,"2016-09-19","16:12:22","TT","LVC-neu, 800, 4L, LDB 12/M/3 1000",62.565157999999997,16.173999999999999,20.507999999999999,-4.3339999999999996,-314.843862,28.683883000000002,150.39189099999999,0,27.150333,20.898,27.150333,20.898,"-",0,0,27.23,27.13,27.09,20.93,20.85,20.92,27.68]
["V17",null,{"$f":"AVERAGE(C102:C104)","v":2.5},{"$f":"AVERAGE(D102:D104)","v":547},{"$f":"AVERAGE(E102:E104)","v":3.6},{"$f":"AVERAGE(F102:F104)","v":3.5},null,{"$f":"H104","v":"2016-09-19"},null,{"$f":"J104","v":"TT"},null,{"$f":"AVERAGE(L102:L104)","v":62.396565666666667},16.177,20.504666666666665,-4.3276666666666666,-313.53636033333333,28.56302066666667,149.63489966666666,0,27.154,20.896111000000001,null,null,null,null,{"$f":"AVERAGE(Z102:Z104)","v":0},27.23,27.146666666666665,27.09,20.926666666666666,20.846666666666668,20.92]
[]
[]
[]
[]
[null,"VKL 800, ISH-Prototyp"]
[null,null,null,null,null,null,null,null,null,null,null,null,null,null,null,null,null,null,null,null,null,null,null,null,null,null,null,null,null,null,"Nur 1 Zulufttemperaturfühler innerhalb des Kastens (Ausblas 1 und 2 nicht korrekt --> außerhalb des Schlitzes nicht messbar)"]
[]
[null,"VKL800; ISH Prototyp; 3,2mm Lamellenabstand, ohne Filter, ohne Isolierung Kondensatwanne",25,723,8.1999999999999993,5.6,45,"2017-02-17","10:51:21","TT","VKL 800, Prototyp, kühlen",200.85119,13.661,15.663,-2.0019999999999998,-466.887518,55.266041000000001,{"$f":"P113*3/(AF113-T113)","v":249.27256700480498},0,22.109000000000002,18.150333,22.109000000000002,18.150333,"-",0,0,22.11,22.2,22.02,18.2,19.760000000000002,16.489999999999998,22.3]
[null,{"$f":"CONCATENATE(\"mit \",ROUND(L116,0),\" kg/h wasserseitig, \",ROUND(D116,0),\" 1/min Drehzahl\")","v":"mit 201 kg/h wasserseitig, 723 1/min Drehzahl"},25,723,8.1999999999999993,5.6,45,"2017-02-17","10:52:03","TT","VKL 800, Prototyp, kühlen",200.64809099999999,13.661,15.662000000000001,-2.0009999999999999,-466.18243100000001,55.276364000000001,{"$f":"P114*3/(AF114-T114)","v":249.08819935358588},0,22.094667000000001,18.147333,22.094667000000001,18.147333,"-",0,0,22.11,22.15,22.02,18.190000000000001,19.77,16.48,22.32]
[null,null,25,723,8.1999999999999993,5.6,45,"2017-02-17","10:52:45","TT","VKL 800, Prototyp, kühlen",201.05206200000001,13.676,15.664999999999999,-1.9890000000000001,-464.31968499999999,55.322254999999998,{"$f":"P115*3/(AF115-T115)","v":248.78711466333274},0,22.068999999999999,18.134667,22.068999999999999,18.134667,"-",0,0,22.13,22.07,22.02,18.18,19.75,16.47,22.32]
["V18",{"$f":"B113","v":"VKL800; ISH Prototyp; 3,2mm Lamellenabstand, ohne Filter, ohne Isolierung Kondensatwanne"},{"$f":"AVERAGE(C113:C115)","v":25},{"$f":"AVERAGE(D113:D115)","v":723},{"$f":"AVERAGE(E113:E115)","v":8.1999999999999993},{"$f":"AVERAGE(F113:F115)","v":5.5999999999999988},null,{"$f":"H115","v":"2017-02-17"},null,{"$f":"J115","v":"TT"},null,{"$f":"AVERAGE(L113:L115)","v":200.85044766666667},13.665999999999999,15.663333333333334,-1.9973333333333334,-465.79654466666665,55.288220000000003,249.04929367390787,0,22.090889000000001,18.144110999999999,null,null,null,null,{"$f":"AVERAGE(Z113:Z115)","v":0},22.116666666666664,22.139999999999997,22.02,18.190000000000001,19.760000000000002,16.48]
[]
[null,null,null,null,null,null,null,null,null,null,null,null,null,null,null,null,null,{"$f":"P116*3/(T116-AF116)","v":-249.04959517110387}]
[]
[null,"VKL800; ISH Prototyp; 3,2mm Lamellenabstand, ohne Filter, mit Isolierung der Kondensatwanne",25,728,10,5.6,"ca. 45","2017-02-17","14:12:34","TT","VKL 800, Prototyp, kühlen",201.37563900000001,13.717000000000001,15.903,-2.1859999999999999,-511.12941000000001,54.543742000000002,{"$f":"P120*3/(AF120-T120)","v":243.08627615726064},0,23.088000000000001,18.496666999999999,23.088000000000001,18.496666999999999,"-",0,0,23.11,23.09,23.06,18.13,20.58,16.78,23.4]
[null,{"$f":"CONCATENATE(\"mit \",ROUND(L123,0),\" kg/h wasserseitig, \",ROUND(D123,0),\" 1/min Drehzahl\")","v":"mit 201 kg/h wasserseitig, 728 1/min Drehzahl"},25,728,10,5.6,"ca. 45","2017-02-17","14:13:44","TT","VKL 800, Prototyp, kühlen",201.04904400000001,13.699,15.891999999999999,-2.1930000000000001,-511.93453199999999,54.443745,{"$f":"P121*3/(AF121-T121)","v":242.93002151217971},0,23.102,18.501999999999999,23.102,18.501999999999999,"-",0,0,23.13,23.11,23.07,18.14,20.58,16.78,23.4]
[null,null,25,728,10,5.6,"ca. 45","2017-02-17","14:15:50","TT","VKL 800, Prototyp, kühlen",201.57599099999999,13.709,15.891999999999999,-2.1829999999999998,-510.93578500000001,54.318272999999998,{"$f":"P122*3/(AF122-T122)","v":241.18442810156452},0,23.115333,18.550332999999998,23.115333,18.550332999999998,"-",0,0,23.16,23.12,23.07,18.16,20.73,16.760000000000002,23.41]
["V19",{"$f":"B120","v":"VKL800; ISH Prototyp; 3,2mm Lamellenabstand, ohne Filter, mit Isolierung der Kondensatwanne"},{"$f":"AVERAGE(C120:C122)","v":25},{"$f":"AVERAGE(D120:D122)","v":728},{"$f":"AVERAGE(E120:E122)","v":10},{"$f":"AVERAGE(F120:F122)","v":5.5999999999999988},null,{"$f":"H122","v":"2017-02-17"},null,{"$f":"J122","v":"TT"},null,{"$f":"AVERAGE(L120:L122)","v":201.33355800000001},13.708333333333334,15.895666666666665,-2.1873333333333331,-511.33324233333332,54.435253333333328,242.40024192366829,0,23.101777666666663,18.516333333333332,null,null,null,null,{"$f":"AVERAGE(Z120:Z122)","v":0},23.133333333333329,23.106666666666669,23.066666666666663,18.143333333333331,20.63,16.773333333333337]
[]
[]
[null,"VKL800; ISH Prototyp; 3,2mm Lamellenabstand, mit Filter, mit Isolierung der Kondensatwanne",25,728,8,5.5,"ca. 45","2017-02-17","14:49:26","TT","VKL 800, Prototyp, kühlen",202.17917299999999,13.706,15.683,-1.9770000000000001,-464.105661,48.825816000000003,{"$f":"P126*3/(AF126-T126)","v":206.84119816981274},0,23.211333,18.529,23.211333,18.529,"-",0,0,23.18,23.14,23.32,17.61,21.5,16.48,23.55]
[null,{"$f":"CONCATENATE(\"mit \",ROUND(L129,0),\" kg/h wasserseitig, \",ROUND(D129,0),\" 1/min Drehzahl\")","v":"mit 202 kg/h wasserseitig, 728 1/min Drehzahl"},25,728,8,5.5,"ca. 45","2017-02-17","14:49:40","TT","VKL 800, Prototyp, kühlen",201.17585199999999,13.709,15.678000000000001,-1.9690000000000001,-459.93382200000002,48.381832000000003,{"$f":"P127*3/(AF127-T127)","v":204.86017038801199},0,23.215333000000001,18.521999999999998,23.215333000000001,18.521999999999998,"-",0,0,23.18,23.14,23.32,17.61,21.48,16.48,23.55]
[null,null,25,728,8,5.5,"ca. 45","2017-02-17","14:49:54","TT","VKL 800, Prototyp, kühlen",201.57622900000001,13.714,15.679,-1.9650000000000001,-459.91296399999999,48.430582999999999,{"$f":"P128*3/(AF128-T128)","v":204.69892095835621},0,23.210332999999999,18.516999999999999,23.210332999999999,18.516999999999999,"-",0,0,23.17,23.14,23.32,17.62,21.46,16.47,23.56]
["V20",{"$f":"B126","v":"VKL800; ISH Prototyp; 3,2mm Lamellenabstand, mit Filter, mit Isolierung der Kondensatwanne"},{"$f":"AVERAGE(C126:C128)","v":25},{"$f":"AVERAGE(D126:D128)","v":728},{"$f":"AVERAGE(E126:E128)","v":8},{"$f":"AVERAGE(F126:F128)","v":5.5},null,{"$f":"H128","v":"2017-02-17"},null,{"$f":"J128","v":"TT"},null,{"$f":"AVERAGE(L126:L128)","v":201.64375133333331},13.709666666666665,15.68,-1.9703333333333335,-461.31748233333337,48.546077000000004,205.4667631720603,0,23.212333000000001,18.522666666666666,null,null,null,null,{"$f":"AVERAGE(Z126:Z128)","v":0},23.176666666666666,23.14,23.320000000000004,17.613333333333333,21.48,16.476666666666667]
[]
[null,null,null,null,null,null,null,null,null,null,null,null,null,null,null,null,null,null,{"$f":"1/Q123*Q129","v":0.89181319140243442},{"$f":"1/R123*R129","v":0.84763431563224956}]
[]
[null,"VKL800; ISH Prototyp; 3,2mm Lamellenabstand, mit Filter, mit Isolierung der Kondensatwanne",25,751,8,5.5,"ca. 45","2017-02-17","15:13:00","TT","VKL 800, Prototyp, kühlen",201.17605599999999,13.711,15.747999999999999,-2.0369999999999999,-475.81825400000002,49.829118999999999,{"$f":"P133*3/(AF133-T133)","v":213.05294955223872},0,23.26,18.585332999999999,23.26,18.585332999999999,"-",0,0,23.21,23.17,23.4,17.68,21.51,16.559999999999999,23.64]
[null,{"$f":"CONCATENATE(\"mit \",ROUND(L136,0),\" kg/h wasserseitig, \",ROUND(D136,0),\" 1/min Drehzahl\")","v":"mit 201 kg/h wasserseitig, 751 1/min Drehzahl"},25,751,8,5.5,"ca. 45","2017-02-17","15:13:14","TT","VKL 800, Prototyp, kühlen",201.57616100000001,13.707000000000001,15.746,-2.0390000000000001,-477.23268100000001,49.980730999999999,{"$f":"P134*3/(AF134-T134)","v":213.51632245557383},0,23.255333,18.590667,23.255333,18.590667,"-",0,0,23.2,23.16,23.4,17.690000000000001,21.54,16.55,23.64]
[null,null,25,751,8,5.5,"ca. 45","2017-02-17","15:13:28","TT","VKL 800, Prototyp, kühlen",200.84975499999999,13.706,15.754,-2.048,-477.61178999999998,50.034408999999997,{"$f":"P135*3/(AF135-T135)","v":213.80282995260731},0,23.251667000000001,18.590667,23.251667000000001,18.590667,"-",0,0,23.19,23.16,23.4,17.68,21.54,16.55,23.64]
["V21",{"$f":"B133","v":"VKL800; ISH Prototyp; 3,2mm Lamellenabstand, mit Filter, mit Isolierung der Kondensatwanne"},{"$f":"AVERAGE(C133:C135)","v":25},{"$f":"AVERAGE(D133:D135)","v":751},{"$f":"AVERAGE(E133:E135)","v":8},{"$f":"AVERAGE(F133:F135)","v":5.5},null,{"$f":"H135","v":"2017-02-17"},null,{"$f":"J135","v":"TT"},null,{"$f":"AVERAGE(L133:L135)","v":201.20065733333331},13.707999999999998,15.749333333333333,-2.0413333333333337,-476.88757499999997,49.948086333333329,213.45736732013995,0,23.255666666666666,18.588888999999998,null,null,null,null,{"$f":"AVERAGE(Z133:Z135)","v":0},23.2,23.16333333333333,23.399999999999995,17.683333333333334,21.53,16.553333333333331]
[]
[]
[]
[null,"Drehzahlvariation"]
[]
[null,"2017-02-20"]
[null,"Druck = 990,3 mbar"]
[null,"Feuchtigkeit = 24,6%"]
[null,"Taupunkt = 2,9 °C"]
[]
[null,"VKL800; ISH Prototyp; 3,2mm Lamellenabstand, mit Filter, mit Isolierung der Kondensatwanne",24.9,488,3,3.5,null,"2017-02-20","08:15:37","TT","VKL800, 4L, ISH-Prototyp",199.92245399999999,13.606999999999999,14.795,-1.1879999999999999,-275.773032,34.256101000000001,136.22441900000001,0,21.657333000000001,15.611333,21.657333000000001,15.611333,"-",0,0,21.65,21.62,21.7,15.74,15.57,15.53,21.21]
[null,{"$f":"CONCATENATE(\"mit \",ROUND(L150,0),\" kg/h wasserseitig, \",ROUND(D150,0),\" 1/min Drehzahl\")","v":"mit 200 kg/h wasserseitig, 488 1/min Drehzahl"},24.9,488,3,3.5,null,"2017-02-20","08:16:33","TT","VKL800, 4L, ISH-Prototyp",200.252892,13.616,14.808,-1.1919999999999999,-277.15890300000001,34.423976000000003,136.465103,0,21.667332999999999,15.601667000000001,21.667332999999999,15.601667000000001,"-",0,0,21.66,21.64,21.71,15.72,15.56,15.52,21.23]
[null,null,24.9,488,3,3.5,null,"2017-02-20","08:17:15","TT","VKL800, 4L, ISH-Prototyp",199.723243,13.614000000000001,14.81,-1.196,-277.35344900000001,34.389764,136.20161899999999,0,21.678999999999998,15.597333000000001,21.678999999999998,15.597333000000001,"-",0,0,21.68,21.65,21.71,15.72,15.56,15.52,21.24]
["V22",{"$f":"B147","v":"VKL800; ISH Prototyp; 3,2mm Lamellenabstand, mit Filter, mit Isolierung der Kondensatwanne"},{"$f":"AVERAGE(C147:C149)","v":24.899999999999995},{"$f":"AVERAGE(D147:D149)","v":488},{"$f":"AVERAGE(E147:E149)","v":3},{"$f":"AVERAGE(F147:F149)","v":3.5},null,{"$f":"H149","v":"2017-02-20"},null,{"$f":"J149","v":"TT"},null,{"$f":"AVERAGE(L147:L149)","v":199.96619633333333},13.612333333333334,14.804333333333334,-1.1919999999999999,-276.76179466666667,34.356613666666668,136.29704699999999,0,21.667888666666666,15.603444333333334,null,null,null,null,{"$f":"AVERAGE(Z147:Z149)","v":0},21.663333333333338,21.636666666666667,21.706666666666667,15.726666666666667,15.563333333333334,15.523333333333332,21.226666666666663]
[]
[]
[null,"VKL800; ISH Prototyp; 3,2mm Lamellenabstand, mit Filter, mit Isolierung der Kondensatwanne",24.9,800,9,6,null,"2017-02-20","08:28:13","TT","VKL800, 4L, ISH-Prototyp",199.32464200000001,13.634,15.454000000000001,-1.82,-421.21726200000001,51.207675000000002,223.93475799999999,0,21.859667000000002,16.242000000000001,21.859667000000002,16.242000000000001,"-",0,0,21.84,21.86,21.88,16.32,16.25,16.170000000000002,21.41]
[null,{"$f":"CONCATENATE(\"mit \",ROUND(L156,0),\" kg/h wasserseitig, \",ROUND(D156,0),\" 1/min Drehzahl\")","v":"mit 199 kg/h wasserseitig, 800 1/min Drehzahl"},24.9,800,9,6,null,"2017-02-20","08:28:55","TT","VKL800, 4L, ISH-Prototyp",199.12853999999999,13.644,15.452,-1.8080000000000001,-418.02833099999998,50.797350999999999,221.81822199999999,0,21.873332999999999,16.245000000000001,21.873332999999999,16.245000000000001,"-",0,0,21.86,21.88,21.88,16.32,16.25,16.170000000000002,21.43]
[null,null,24.9,800,9,6,null,"2017-02-20","08:29:09","TT","VKL800, 4L, ISH-Prototyp",199.72209000000001,13.635999999999999,15.457000000000001,-1.821,-422.28905900000001,51.263188,224.07909000000001,0,21.873667000000001,16.245332999999999,21.873667000000001,16.245332999999999,"-",0,0,21.86,21.88,21.88,16.32,16.25,16.170000000000002,21.43]
["V23",{"$f":"B153","v":"VKL800; ISH Prototyp; 3,2mm Lamellenabstand, mit Filter, mit Isolierung der Kondensatwanne"},{"$f":"AVERAGE(C153:C155)","v":24.899999999999995},{"$f":"AVERAGE(D153:D155)","v":800},{"$f":"AVERAGE(E153:E155)","v":9},{"$f":"AVERAGE(F153:F155)","v":6},null,{"$f":"H155","v":"2017-02-20"},null,{"$f":"J155","v":"TT"},null,{"$f":"AVERAGE(L153:L155)","v":199.39175733333332},13.638,15.454333333333333,-1.8163333333333334,-420.51155066666666,51.089404666666667,223.27735666666663,0,21.868888999999999,16.244111,null,null,null,null,{"$f":"AVERAGE(Z153:Z155)","v":0},21.853333333333335,21.873333333333331,21.88,16.32,16.25,16.170000000000002,21.423333333333336]
[]
[]
[null,"VKL800; ISH Prototyp; 3,2mm Lamellenabstand, mit Filter, mit Isolierung der Kondensatwanne",24.5,1050,16,8,null,"2017-02-20","08:40:07","TT","VKL800, 4L, ISH-Prototyp",198.79377199999999,13.629,15.827999999999999,-2.1989999999999998,-507.57682399999999,62.545406999999997,307.25806699999998,0,21.744333000000001,16.810666999999999,21.744333000000001,16.810666999999999,"-",0,0,21.7,21.73,21.8,16.87,16.82,16.75,21.51]
[null,{"$f":"CONCATENATE(\"mit \",ROUND(L162,0),\" kg/h wasserseitig, \",ROUND(D162,0),\" 1/min Drehzahl\")","v":"mit 199 kg/h wasserseitig, 1050 1/min Drehzahl"},24.5,1050,16,8,null,"2017-02-20","08:39:39","TT","VKL800, 4L, ISH-Prototyp",199.723187,13.638999999999999,15.851000000000001,-2.2120000000000002,-512.96459400000003,63.318539000000001,310.54049700000002,0,21.740333,16.806999999999999,21.740333,16.806999999999999,"-",0,0,21.7,21.72,21.8,16.87,16.809999999999999,16.739999999999998,21.52]
[null,null,24.5,1050,16,8,null,"2017-02-20","08:40:35","TT","VKL800, 4L, ISH-Prototyp",199.521388,13.63,15.832000000000001,-2.202,-510.12963300000001,62.744,308.36587500000002,0,21.760332999999999,16.819666999999999,21.760332999999999,16.819666999999999,"-",0,0,21.68,21.79,21.81,16.88,16.82,16.75,21.52]
["V24",{"$f":"B159","v":"VKL800; ISH Prototyp; 3,2mm Lamellenabstand, mit Filter, mit Isolierung der Kondensatwanne"},{"$f":"AVERAGE(C159:C161)","v":24.5},{"$f":"AVERAGE(D159:D161)","v":1050},{"$f":"AVERAGE(E159:E161)","v":16},{"$f":"AVERAGE(F159:F161)","v":8},null,{"$f":"H161","v":"2017-02-20"},null,{"$f":"J161","v":"TT"},null,{"$f":"AVERAGE(L159:L161)","v":199.34611566666663},13.632666666666667,15.837000000000002,-2.204333333333333,-510.22368366666666,62.869315333333333,308.72147966666665,0,21.748333000000002,16.812444666666664,null,null,null,null,{"$f":"AVERAGE(Z159:Z161)","v":0},21.693333333333332,21.74666666666667,21.803333333333331,16.873333333333335,16.816666666666666,16.746666666666666,21.516666666666666]
[]
[]
[null,"VKL800; ISH Prototyp; 3,2mm Lamellenabstand, mit Filter, mit Isolierung der Kondensatwanne",24.5,1146,19,10,null,"2017-02-20","08:48:46","TT","VKL800, 4L, ISH-Prototyp",199.725278,13.631,15.96,-2.3290000000000002,-540.10264400000005,66.706789999999998,340.66509200000002,0,21.727667,16.992667000000001,21.727667,16.992667000000001,"-",0,0,21.7,21.76,21.73,17.059999999999999,17,16.920000000000002,21.57]
[null,{"$f":"CONCATENATE(\"mit \",ROUND(L168,0),\" kg/h wasserseitig, \",ROUND(D168,0),\" 1/min Drehzahl\")","v":"mit 199 kg/h wasserseitig, 1146 1/min Drehzahl"},24.5,1146,19,10,null,"2017-02-20","08:49:14","TT","VKL800, 4L, ISH-Prototyp",198.79132999999999,13.645,15.961,-2.3159999999999998,-534.57639200000006,65.915707999999995,335.24421999999998,0,21.754999999999999,16.992667000000001,21.754999999999999,16.992667000000001,"-",0,0,21.73,21.8,21.73,17.05,17,16.93,21.56]
[null,null,24.5,1146,19,10,null,"2017-02-20","08:49:56","TT","VKL800, 4L, ISH-Prototyp",198.79337599999999,13.648,15.978999999999999,-2.331,-538.04421200000002,66.231695000000002,336.52389099999999,0,21.771667000000001,16.996666999999999,21.771667000000001,16.996666999999999,"-",0,0,21.76,21.8,21.76,17.05,17,16.93,21.56]
["V25",{"$f":"B165","v":"VKL800; ISH Prototyp; 3,2mm Lamellenabstand, mit Filter, mit Isolierung der Kondensatwanne"},{"$f":"AVERAGE(C165:C167)","v":24.5},{"$f":"AVERAGE(D165:D167)","v":1146},{"$f":"AVERAGE(E165:E167)","v":19},{"$f":"AVERAGE(F165:F167)","v":10},null,{"$f":"H167","v":"2017-02-20"},null,{"$f":"J167","v":"TT"},null,{"$f":"AVERAGE(L165:L167)","v":199.103328},13.641333333333334,15.966666666666667,-2.325333333333333,-537.57441600000004,66.284731000000008,337.47773433333333,0,21.751444666666668,16.994000333333332,null,null,null,null,{"$f":"AVERAGE(Z165:Z167)","v":0},21.73,21.786666666666665,21.74,17.053333333333331,17,16.926666666666666,21.563333333333333]
[]
[]
[]
[null,"Wassermengenvariation"]
[]
[]
[null,"VKL800; ISH Prototyp; 3,2mm Lamellenabstand, mit Filter, mit Isolierung der Kondensatwanne",2.8,748,8,5.6,null,"2017-02-20","09:51:41","TT","VKL800, 4L, ISH-Prototyp",62.135165000000001,13.814,17.716000000000001,-3.9020000000000001,-281.51303000000001,34.970562999999999,212.50881000000001,0,21.864000000000001,17.907667,21.864000000000001,17.907667,"-",0,0,21.75,21.84,22,17.95,17.93,17.84,22.11]
[null,{"$f":"CONCATENATE(\"mit \",ROUND(L178,0),\" kg/h wasserseitig, \",ROUND(D178,0),\" 1/min Drehzahl\")","v":"mit 62 kg/h wasserseitig, 748 1/min Drehzahl"},2.8,748,8,5.6,null,"2017-02-20","09:52:09","TT","VKL800, 4L, ISH-Prototyp",61.999256000000003,13.811999999999999,17.734999999999999,-3.923,-282.409021,34.967480000000002,212.46912900000001,0,21.888332999999999,17.918666999999999,21.888332999999999,17.918666999999999,"-",0,0,21.78,21.88,22.01,17.96,17.940000000000001,17.850000000000001,22.11]
[null,null,2.8,748,8,5.6,null,"2017-02-20","09:52:23","TT","VKL800, 4L, ISH-Prototyp",61.999110999999999,13.816000000000001,17.742000000000001,-3.9260000000000002,-282.624325,34.943660000000001,212.00803099999999,0,21.904,17.922667000000001,21.904,17.922667000000001,"-",0,0,21.8,21.9,22.01,17.97,17.940000000000001,17.850000000000001,22.12]
["V26",{"$f":"B175","v":"VKL800; ISH Prototyp; 3,2mm Lamellenabstand, mit Filter, mit Isolierung der Kondensatwanne"},{"$f":"AVERAGE(C175:C177)","v":2.7999999999999994},{"$f":"AVERAGE(D175:D177)","v":748},{"$f":"AVERAGE(E175:E177)","v":8},{"$f":"AVERAGE(F175:F177)","v":5.5999999999999988},null,{"$f":"H177","v":"2017-02-20"},null,{"$f":"J177","v":"TT"},null,{"$f":"AVERAGE(L175:L177)","v":62.044510666666667},13.814,17.730999999999998,-3.9170000000000003,-282.18212533333332,34.960567666666662,212.32865666666666,0,21.885444333333336,17.91633366666667,null,null,null,null,{"$f":"AVERAGE(Z175:Z177)","v":0},21.776666666666667,21.873333333333335,22.006666666666671,17.959999999999997,17.936666666666667,17.846666666666668,22.113333333333333]
[]
[]
[null,"VKL800; ISH Prototyp; 3,2mm Lamellenabstand, mit Filter, mit Isolierung der Kondensatwanne",8.6999999999999993,748,8,5.6,null,"2017-02-20","09:24:55","TT","VKL800, 4L, ISH-Prototyp",111.944007,13.696,16.396999999999998,-2.7010000000000001,-351.07444199999998,43.702213,212.62100599999999,0,21.729333,16.797999999999998,21.729333,16.797999999999998,"-",0,0,21.71,21.71,21.77,16.87,16.8,16.73,21.85]
[null,{"$f":"CONCATENATE(\"mit \",ROUND(L184,0),\" kg/h wasserseitig, \",ROUND(D184,0),\" 1/min Drehzahl\")","v":"mit 112 kg/h wasserseitig, 748 1/min Drehzahl"},8.6999999999999993,748,8,5.6,null,"2017-02-20","09:25:51","TT","VKL800, 4L, ISH-Prototyp",111.81206,13.705,16.388000000000002,-2.6829999999999998,-348.32376199999999,43.430086000000003,211.06925100000001,0,21.725332999999999,16.796666999999999,21.725332999999999,16.796666999999999,"-",0,0,21.73,21.7,21.74,16.87,16.79,16.73,21.87]
[null,null,8.6999999999999993,748,8,5.6,null,"2017-02-20","09:26:33","TT","VKL800, 4L, ISH-Prototyp",112.05444,13.705,16.456,-2.7509999999999999,-357.92616099999998,44.464717999999998,215.98224500000001,0,21.754667000000001,16.805333000000001,21.754667000000001,16.805333000000001,"-",0,0,21.76,21.74,21.77,16.88,16.8,16.739999999999998,21.87]
["V27",{"$f":"B181","v":"VKL800; ISH Prototyp; 3,2mm Lamellenabstand, mit Filter, mit Isolierung der Kondensatwanne"},{"$f":"AVERAGE(C181:C183)","v":8.6999999999999993},{"$f":"AVERAGE(D181:D183)","v":748},{"$f":"AVERAGE(E181:E183)","v":8},{"$f":"AVERAGE(F181:F183)","v":5.5999999999999988},null,{"$f":"H183","v":"2017-02-20"},null,{"$f":"J183","v":"TT"},null,{"$f":"AVERAGE(L181:L183)","v":111.93683566666668},13.702,16.413666666666668,-2.7116666666666664,-352.44145499999996,43.865672333333329,213.22416733333333,0,21.736444333333335,16.8,null,null,null,null,{"$f":"AVERAGE(Z181:Z183)","v":0},21.733333333333334,21.716666666666665,21.76,16.873333333333335,16.796666666666667,16.733333333333334,21.863333333333333]
[]
[]
[null,"VKL800; ISH Prototyp; 3,2mm Lamellenabstand, mit Filter, mit Isolierung der Kondensatwanne",39.200000000000003,748,8,5.6,null,"2017-02-20","10:09:42","TT","VKL800, 4L, ISH-Prototyp",257.52534300000002,13.63,15.069000000000001,-1.4390000000000001,-430.28335800000002,50.941203000000002,213.11231699999999,0,22.076667,16.046666999999999,22.076667,16.046666999999999,"-",0,0,22.07,22.04,22.12,16.13,16.04,15.97,22.26]
[null,{"$f":"CONCATENATE(\"mit \",ROUND(L190,0),\" kg/h wasserseitig, \",ROUND(D190,0),\" 1/min Drehzahl\")","v":"mit 258 kg/h wasserseitig, 748 1/min Drehzahl"},39.200000000000003,748,8,5.6,null,"2017-02-20","10:10:24","TT","VKL800, 4L, ISH-Prototyp",257.52663200000001,13.631,15.045999999999999,-1.415,-423.10910200000001,50.306249999999999,210.419781,0,22.041667,16.036332999999999,22.041667,16.036332999999999,"-",0,0,22.01,22.01,22.11,16.13,16.02,15.96,22.26]
[null,null,39.200000000000003,748,8,5.6,null,"2017-02-20","10:12:16","TT","VKL800, 4L, ISH-Prototyp",260.39492000000001,13.637,15.048999999999999,-1.4119999999999999,-426.91457800000001,51.009388999999999,212.99803,0,22.006333000000001,16.020333000000001,22.006333000000001,16.020333000000001,"-",0,0,21.87,22.07,22.08,16.11,16.010000000000002,15.94,22.25]
["V28",{"$f":"B187","v":"VKL800; ISH Prototyp; 3,2mm Lamellenabstand, mit Filter, mit Isolierung der Kondensatwanne"},{"$f":"AVERAGE(C187:C189)","v":39.200000000000003},{"$f":"AVERAGE(D187:D189)","v":748},{"$f":"AVERAGE(E187:E189)","v":8},{"$f":"AVERAGE(F187:F189)","v":5.5999999999999988},null,{"$f":"H189","v":"2017-02-20"},null,{"$f":"J189","v":"TT"},null,{"$f":"AVERAGE(L187:L189)","v":258.48229833333335},13.632666666666667,15.054666666666668,-1.4219999999999999,-426.76901266666664,50.752280666666671,212.17670933333332,0,22.041555666666667,16.034444333333333,null,null,null,null,{"$f":"AVERAGE(Z187:Z189)","v":0},21.983333333333334,22.040000000000003,22.103333333333335,16.123333333333331,16.023333333333337,15.956666666666665,22.256666666666671]
[]
[]
[null,"VKL800; ISH Prototyp; 3,2mm Lamellenabstand, mit Filter, mit Isolierung der Kondensatwanne",55.8,748,8,5.6,null,"2017-02-20","10:29:17","TT","VKL800, 4L, ISH-Prototyp",314.81464799999998,13.638999999999999,14.858000000000001,-1.2190000000000001,-445.586904,53.769385999999997,220.08361099999999,0,21.925999999999998,15.879333000000001,21.925999999999998,15.879333000000001,"-",0,0,21.89,21.88,22,15.97,15.87,15.8,22.27]
[null,{"$f":"CONCATENATE(\"mit \",ROUND(L196,0),\" kg/h wasserseitig, \",ROUND(D196,0),\" 1/min Drehzahl\")","v":"mit 314 kg/h wasserseitig, 748 1/min Drehzahl"},55.8,748,8,5.6,null,"2017-02-20","10:29:31","TT","VKL800, 4L, ISH-Prototyp",313.99821600000001,13.64,14.865,-1.2250000000000001,-446.618852,53.815984,220.144283,0,21.939,15.88,21.939,15.88,"-",0,0,21.91,21.9,22.01,15.97,15.87,15.8,22.27]
[null,null,55.8,748,8,5.6,null,"2017-02-20","10:29:59","TT","VKL800, 4L, ISH-Prototyp",313.37320699999998,13.65,14.862,-1.212,-440.99966799999999,53.013263999999999,216.57621900000001,0,21.968667,15.887333,21.968667,15.887333,"-",0,0,21.94,21.93,22.03,15.97,15.88,15.81,22.29]
["V29",{"$f":"B193","v":"VKL800; ISH Prototyp; 3,2mm Lamellenabstand, mit Filter, mit Isolierung der Kondensatwanne"},{"$f":"AVERAGE(C193:C195)","v":55.79999999999999},{"$f":"AVERAGE(D193:D195)","v":748},{"$f":"AVERAGE(E193:E195)","v":8},{"$f":"AVERAGE(F193:F195)","v":5.5999999999999988},null,{"$f":"H195","v":"2017-02-20"},null,{"$f":"J195","v":"TT"},null,{"$f":"AVERAGE(L193:L195)","v":314.06202366666668},13.643000000000001,14.861666666666666,-1.2186666666666666,-444.40180800000002,53.532878000000004,218.93470433333334,0,21.944555666666663,15.882222000000001,null,null,null,null,{"$f":"AVERAGE(Z193:Z195)","v":0},21.91333333333333,21.903333333333336,22.013333333333335,15.97,15.873333333333333,15.803333333333335,22.276666666666667]
[]
[]
[]
[null,"Messungen mit Schalldämmung"]
[]
[null,"VKL800; ISH Prototyp; 3,2mm Lamellenabstand, mit Filter, mit Isolierung der Kondensatwanne",25.5,755,9,5.6,null,"2017-02-20","13:10:31","TT","VKL800, 4L, ISH-Prototyp",203.10781900000001,13.683,15.622999999999999,-1.94,-457.51164599999998,50.425620000000002,217.56587200000001,0,22.756,16.475667000000001,22.756,16.475667000000001,"-",0,0,22.71,22.73,22.82,16.559999999999999,16.48,16.39,22.97]
[null,{"$f":"CONCATENATE(\"mit \",ROUND(L205,0),\" kg/h wasserseitig, \",ROUND(D205,0),\" 1/min Drehzahl\")","v":"mit 204 kg/h wasserseitig, 755 1/min Drehzahl"},25.5,755,9,5.6,null,"2017-02-20","13:10:45","TT","VKL800, 4L, ISH-Prototyp",204.44143099999999,13.683999999999999,15.614000000000001,-1.93,-458.14188899999999,50.433937999999998,217.53075699999999,0,22.768000000000001,16.478000000000002,22.768000000000001,16.478000000000002,"-",0,0,22.73,22.74,22.83,16.57,16.47,16.399999999999999,22.97]
[null,null,25.5,755,9,5.6,null,"2017-02-20","13:14:29","TT","VKL800, 4L, ISH-Prototyp",203.828709,13.680999999999999,15.574999999999999,-1.8939999999999999,-448.24877300000003,49.339435999999999,212.450604,0,22.765999999999998,16.464666999999999,22.765999999999998,16.464666999999999,"-",0,0,22.73,22.76,22.81,16.55,16.46,16.38,22.99]
["V30",{"$f":"B202","v":"VKL800; ISH Prototyp; 3,2mm Lamellenabstand, mit Filter, mit Isolierung der Kondensatwanne"},{"$f":"AVERAGE(C202:C204)","v":25.5},{"$f":"AVERAGE(D202:D204)","v":755},{"$f":"AVERAGE(E202:E204)","v":9},{"$f":"AVERAGE(F202:F204)","v":5.5999999999999988},null,{"$f":"H204","v":"2017-02-20"},null,{"$f":"J204","v":"TT"},null,{"$f":"AVERAGE(L202:L204)","v":203.792653},13.682666666666664,15.603999999999999,-1.9213333333333333,-454.63410266666665,50.066331333333331,215.84907766666666,0,22.763333333333332,16.472778000000002,null,null,null,null,{"$f":"AVERAGE(Z202:Z204)","v":0},22.723333333333333,22.743333333333336,22.819999999999997,16.559999999999999,16.470000000000002,16.39,22.976666666666663]
[]
[]
[null,"VKL800; ISH Prototyp; 3,2mm Lamellenabstand, mit Filter, \nmit Isolierung der Kondensatwanne, mit 1cm Schalldämmung",26.1,755,9,5.6,null,"2017-02-20","14:09:20","TT","VKL800, 4L, ISH-Prototyp",206.49105,13.678000000000001,15.58,-1.9019999999999999,-456.02171700000002,49.953085000000002,215.496272,0,22.806999999999999,16.486999999999998,22.806999999999999,16.486999999999998,"-",0,0,22.77,22.75,22.9,16.45,16.59,16.420000000000002,23.19]
[null,{"$f":"CONCATENATE(\"mit \",ROUND(L211,0),\" kg/h wasserseitig, \",ROUND(D211,0),\" 1/min Drehzahl\")","v":"mit 206 kg/h wasserseitig, 755 1/min Drehzahl"},26.1,755,9,5.6,null,"2017-02-20","14:10:02","TT","VKL800, 4L, ISH-Prototyp",205.57076799999999,13.685,15.6,-1.915,-457.09231399999999,50.359050000000003,217.48189300000001,0,22.761666999999999,16.484667000000002,22.761666999999999,16.484667000000002,"-",0,0,22.74,22.65,22.89,16.45,16.579999999999998,16.420000000000002,23.17]
[null,null,26.1,755,9,5.6,null,"2017-02-20","14:16:48","TT","VKL800, 4L, ISH-Prototyp",206.79487900000001,13.686,15.602,-1.9159999999999999,-460.05426899999998,50.468527000000002,217.65443500000001,0,22.801666999999998,16.489000000000001,22.801666999999998,16.489000000000001,"-",0,0,22.75,22.78,22.88,16.46,16.57,16.43,23.19]
["V31",{"$f":"B208","v":"VKL800; ISH Prototyp; 3,2mm Lamellenabstand, mit Filter, \nmit Isolierung der Kondensatwanne, mit 1cm Schalldämmung"},{"$f":"AVERAGE(C208:C210)","v":26.100000000000005},{"$f":"AVERAGE(D208:D210)","v":755},{"$f":"AVERAGE(E208:E210)","v":9},{"$f":"AVERAGE(F208:F210)","v":5.5999999999999988},null,{"$f":"H210","v":"2017-02-20"},null,{"$f":"J210","v":"TT"},null,{"$f":"AVERAGE(L208:L210)","v":206.28556566666668},13.683,15.593999999999999,-1.9110000000000003,-457.7227666666667,50.260220666666669,216.87753333333333,0,22.790111333333332,16.486889000000001,null,null,null,null,{"$f":"AVERAGE(Z208:Z210)","v":0},22.75333333333333,22.72666666666667,22.89,16.453333333333333,16.580000000000002,16.423333333333336,23.183333333333334]
[]
[]
[null,"Drehzahlvariation - mit 2-2,5cm Schalldämmung, 3,2mm Lamellenabstand, mit Isolierung der Kondensatwanne, mit Filter"]
[null,"immer mit 3,2mm Lamellenabstand und Isolierung der Kondensatwanne"]
[]
[null,"VKL800; ISH Prototyp; mit Filter, mit 2-2,5cm Schalldämmung",26.1,748,9,5.6,null,"2017-02-20","14:42:14","TT","VKL800, 4L, ISH-Prototyp",206.700479,13.678000000000001,15.545,-1.867,-448.08415000000002,48.738351000000002,213.479275,0,22.871666999999999,16.603000000000002,22.871666999999999,16.603000000000002,"-",0,0,22.85,22.86,22.9,16.68,16.62,16.5,23.27]
[null,{"$f":"CONCATENATE(\"mit \",ROUND(L220,0),\" kg/h wasserseitig, \",ROUND(D220,0),\" 1/min Drehzahl\")","v":"mit 206 kg/h wasserseitig, 748 1/min Drehzahl"},26.1,748,9,5.6,null,"2017-02-20","14:42:42","TT","VKL800, 4L, ISH-Prototyp",205.57350400000001,13.682,15.531000000000001,-1.849,-441.34461399999998,48.047097000000001,210.357865,0,22.867667000000001,16.601666999999999,22.867667000000001,16.601666999999999,"-",0,0,22.86,22.85,22.89,16.68,16.63,16.5,23.29]
[null,null,26.1,748,9,5.6,null,"2017-02-20","14:46:26","TT","VKL800, 4L, ISH-Prototyp",206.49047300000001,13.680999999999999,15.538,-1.857,-445.23131699999999,48.872812000000003,213.45948000000001,0,22.791,16.561667,22.791,16.561667,"-",0,0,22.77,22.77,22.84,16.64,16.579999999999998,16.46,23.28]
["V32",{"$f":"B217","v":"VKL800; ISH Prototyp; mit Filter, mit 2-2,5cm Schalldämmung"},{"$f":"AVERAGE(C217:C219)","v":26.100000000000005},{"$f":"AVERAGE(D217:D219)","v":748},{"$f":"AVERAGE(E217:E219)","v":9},{"$f":"AVERAGE(F217:F219)","v":5.5999999999999988},null,{"$f":"H219","v":"2017-02-20"},null,{"$f":"J219","v":"TT"},null,{"$f":"AVERAGE(L217:L219)","v":206.25481866666669},13.680333333333332,15.538000000000002,-1.8576666666666668,-444.88669366666664,48.552753333333335,212.43220666666664,0,22.843444666666667,16.588778000000001,null,null,null,null,{"$f":"AVERAGE(Z217:Z219)","v":0},22.826666666666668,22.826666666666668,22.876666666666665,16.666666666666668,16.61,16.486666666666668,23.28]
[]
[]
[null,"VKL800; ISH Prototyp; mit Filter, mit 2-2,5cm Schalldämmung",26.1,488,3.5,3.5,null,"2017-02-20","15:03:28","TT","VKL800, 4L, ISH-Prototyp",207.208842,13.691000000000001,14.926,-1.2350000000000001,-297.13172400000002,33.014636000000003,133.21018699999999,0,22.690999999999999,16.029333000000001,22.690999999999999,16.029333000000001,"-",0,0,22.68,22.66,22.73,16.14,16.04,15.91,23.32]
[null,{"$f":"CONCATENATE(\"mit \",ROUND(L226,0),\" kg/h wasserseitig, \",ROUND(D226,0),\" 1/min Drehzahl\")","v":"mit 206 kg/h wasserseitig, 488 1/min Drehzahl"},26.1,488,3.5,3.5,null,"2017-02-20","15:03:56","TT","VKL800, 4L, ISH-Prototyp",205.360435,13.678000000000001,14.932,-1.254,-299.011639,33.152298999999999,133.8922,0,22.697333,16.027667000000001,22.697333,16.027667000000001,"-",0,0,22.69,22.67,22.73,16.14,16.04,15.91,23.33]
[null,null,26.1,488,3.5,3.5,null,"2017-02-20","15:06:02","TT","VKL800, 4L, ISH-Prototyp",206.083631,13.683999999999999,14.903,-1.2190000000000001,-291.68962599999998,32.547381000000001,130.78347199999999,0,22.646000000000001,15.984999999999999,22.646000000000001,15.984999999999999,"-",0,0,22.61,22.62,22.71,16.09,15.99,15.87,23.33]
["V33",{"$f":"B223","v":"VKL800; ISH Prototyp; mit Filter, mit 2-2,5cm Schalldämmung"},{"$f":"AVERAGE(C223:C225)","v":26.100000000000005},{"$f":"AVERAGE(D223:D225)","v":488},{"$f":"AVERAGE(E223:E225)","v":3.5},{"$f":"AVERAGE(F223:F225)","v":3.5},null,{"$f":"H225","v":"2017-02-20"},null,{"$f":"J225","v":"TT"},null,{"$f":"AVERAGE(L223:L225)","v":206.217636},13.684333333333333,14.920333333333334,-1.236,-295.94432966666665,32.904772000000001,132.62861966666665,0,22.678111000000001,16.013999999999999,null,null,null,null,{"$f":"AVERAGE(Z223:Z225)","v":0},22.66,22.650000000000002,22.723333333333333,16.123333333333335,16.023333333333333,15.896666666666667,23.326666666666664]
[]
[]
[null,"VKL800; ISH Prototyp; mit Filter, mit 2-2,5cm Schalldämmung",25.2,1037,16,8,null,"2017-02-20","16:19:19","TT","VKL800, 4L, ISH-Prototyp",201.77754200000001,13.688000000000001,16.026,-2.3380000000000001,-547.76100899999994,62.644213999999998,309.20893000000001,0,22.431999999999999,17.141332999999999,22.431999999999999,17.141332999999999,"-",0,0,22.37,22.39,22.54,17.149999999999999,17.190000000000001,17.079999999999998,22.99]
[null,{"$f":"CONCATENATE(\"mit \",ROUND(L232,0),\" kg/h wasserseitig, \",ROUND(D232,0),\" 1/min Drehzahl\")","v":"mit 202 kg/h wasserseitig, 1037 1/min Drehzahl"},25.2,1037,16,8,null,"2017-02-20","16:19:47","TT","VKL800, 4L, ISH-Prototyp",202.502128,13.69,16.032,-2.3420000000000001,-550.66853700000001,62.849747000000001,310.01034700000002,0,22.451667,17.146667000000001,22.451667,17.146667000000001,"-",0,0,22.38,22.4,22.58,17.149999999999999,17.190000000000001,17.09,23]
[null," -> Ventilator läuft instabil (pumpt)",25.2,1037,16,8,null,"2017-02-20","16:20:15","TT","VKL800, 4L, ISH-Prototyp",201.97862900000001,13.69,16.018999999999998,-2.3290000000000002,-546.19621800000004,62.209136000000001,306.66399999999999,0,22.47,17.150666999999999,22.47,17.150666999999999,"-",0,0,22.35,22.46,22.6,17.16,17.2,17.100000000000001,22.97]
["V34",{"$f":"B229","v":"VKL800; ISH Prototyp; mit Filter, mit 2-2,5cm Schalldämmung"},{"$f":"AVERAGE(C229:C231)","v":25.2},{"$f":"AVERAGE(D229:D231)","v":1037},{"$f":"AVERAGE(E229:E231)","v":16},{"$f":"AVERAGE(F229:F231)","v":8},null,{"$f":"H231","v":"2017-02-20"},null,{"$f":"J231","v":"TT"},null,{"$f":"AVERAGE(L229:L231)","v":202.08609966666668},13.689333333333332,16.025666666666666,-2.3363333333333336,-548.20858799999996,62.567699000000005,308.62775900000003,0,22.451222333333334,17.146222333333331,null,null,null,null,{"$f":"AVERAGE(Z229:Z231)","v":0},22.366666666666664,22.416666666666668,22.573333333333334,17.153333333333332,17.193333333333332,17.09,22.986666666666665]
[]
[]
[null,"VKL800; ISH Prototyp; mit Filter, mit 2-2,5cm Schalldämmung",26.1,1146,23,10,null,"2017-02-20","16:34:00","TT","VKL800, 4L, ISH-Prototyp",201.57559599999999,13.679,16.209,-2.5299999999999998,-592.15071,67.119512,347.285574,0,22.501332999999999,17.408999999999999,22.501332999999999,17.408999999999999,"-",0,0,22.42,22.46,22.63,17.420000000000002,17.45,17.36,22.89]
[null,{"$f":"CONCATENATE(\"mit \",ROUND(L238,0),\" kg/h wasserseitig, \",ROUND(D238,0),\" 1/min Drehzahl\")","v":"mit 202 kg/h wasserseitig, 1146 1/min Drehzahl"},26.1,1146,23,10,null,"2017-02-20","16:34:14","TT","VKL800, 4L, ISH-Prototyp",201.775869,13.68,16.209,-2.5289999999999999,-592.50474999999994,66.992585000000005,346.24666100000002,0,22.524332999999999,17.413667,22.524332999999999,17.413667,"-",0,0,22.46,22.48,22.64,17.420000000000002,17.46,17.36,22.89]
[null," -> Ventilator läuft instabil (pumpt)",26.1,1146,23,10,null,"2017-02-20","16:34:28","TT","VKL800, 4L, ISH-Prototyp",202.29920999999999,13.680999999999999,16.221,-2.54,-596.62532599999997,67.258229,347.00245699999999,0,22.551666999999998,17.416667,22.551666999999998,17.416667,"-",0,0,22.51,22.5,22.65,17.43,17.46,17.36,22.89]
["V35",{"$f":"B235","v":"VKL800; ISH Prototyp; mit Filter, mit 2-2,5cm Schalldämmung"},{"$f":"AVERAGE(C235:C237)","v":26.100000000000005},{"$f":"AVERAGE(D235:D237)","v":1146},{"$f":"AVERAGE(E235:E237)","v":23},{"$f":"AVERAGE(F235:F237)","v":10},null,{"$f":"H237","v":"2017-02-20"},null,{"$f":"J237","v":"TT"},null,{"$f":"AVERAGE(L235:L237)","v":201.88355833333333},13.68,16.212999999999997,-2.5329999999999999,-593.7602619999999,67.123441999999997,346.84489733333334,0,22.525777666666666,17.413111333333333,null,null,null,null,{"$f":"AVERAGE(Z235:Z237)","v":0},22.463333333333335,22.48,22.639999999999997,17.423333333333336,17.456666666666667,17.36,22.89]
[]
[]
[]
[null,"VKL800; ISH Prototyp; mit Filter, mit 2-2,5cm Schalldämmung",25.9,737,6,5.6,null,"2017-02-21","09:08:47","TT","VKL800, 4L, ISH-Prototyp",204.95644100000001,13.617000000000001,15.209,-1.5920000000000001,-378.85970400000002,48.484732999999999,210.84926100000001,0,21.431000000000001,16.064667,21.431000000000001,16.064667,"-",0,0,21.41,21.42,21.46,16.079999999999998,16.12,16,21.07]
[null,{"$f":"CONCATENATE(\"mit \",ROUND(L245,0),\" kg/h wasserseitig, \",ROUND(D245,0),\" 1/min Drehzahl\")","v":"mit 205 kg/h wasserseitig, 737 1/min Drehzahl"},25.9,737,6,5.6,null,"2017-02-21","09:09:01","TT","VKL800, 4L, ISH-Prototyp",204.954497,13.609,15.222,-1.613,-383.85358400000001,49.029707999999999,213.31054,0,21.437999999999999,16.063666999999999,21.437999999999999,16.063666999999999,"-",0,0,21.43,21.43,21.46,16.079999999999998,16.11,16,21.07]
[null,null,25.9,737,6,5.6,null,"2017-02-21","09:09:15","TT","VKL800, 4L, ISH-Prototyp",204.54768899999999,13.603999999999999,15.209,-1.605,-381.19166300000001,48.642066999999997,211.68686400000001,0,21.440667000000001,16.062667000000001,21.440667000000001,16.062667000000001,"-",0,0,21.42,21.43,21.47,16.079999999999998,16.11,15.99,21.07]
["V36",{"$f":"B242","v":"VKL800; ISH Prototyp; mit Filter, mit 2-2,5cm Schalldämmung"},{"$f":"AVERAGE(C242:C244)","v":25.899999999999995},{"$f":"AVERAGE(D242:D244)","v":737},{"$f":"AVERAGE(E242:E244)","v":6},{"$f":"AVERAGE(F242:F244)","v":5.5999999999999988},null,{"$f":"H244","v":"2017-02-21"},null,{"$f":"J244","v":"TT"},null,{"$f":"AVERAGE(L242:L244)","v":204.81954233333332},13.61,15.213333333333333,-1.6033333333333335,-381.30165033333333,48.718836000000003,211.94888833333334,0,21.436555666666667,16.063666999999999,null,null,null,null,{"$f":"AVERAGE(Z242:Z244)","v":0},21.42,21.426666666666666,21.463333333333335,16.079999999999998,16.113333333333333,15.996666666666668,21.07]
[]
[]
[null,"VKL800; ISH Prototyp; mit Filter, mit 2-2,5cm Schalldämmung",25.9,1036,14,8,null,"2017-02-21","09:15:33","TT","VKL800, 4L, ISH-Prototyp",205.36422200000001,13.622999999999999,15.695,-2.0720000000000001,-494.06980800000002,61.561216999999999,296.47766999999999,0,21.648667,16.671666999999999,21.648667,16.671666999999999,"-",0,0,21.64,21.62,21.69,16.68,16.71,16.63,21.17]
[null,{"$f":"CONCATENATE(\"mit \",ROUND(L251,0),\" kg/h wasserseitig, \",ROUND(D251,0),\" 1/min Drehzahl\")","v":"mit 206 kg/h wasserseitig, 1036 1/min Drehzahl"},25.9,1036,14,8,null,"2017-02-21","09:16:01","TT","VKL800, 4L, ISH-Prototyp",205.362617,13.628,15.692,-2.0640000000000001,-492.15835600000003,61.338335000000001,295.84582899999998,0,21.651667,16.683333000000001,21.651667,16.683333000000001,"-",0,0,21.64,21.61,21.7,16.690000000000001,16.72,16.64,21.17]
[null,null,25.9,1036,14,8,null,"2017-02-21","09:16:15","TT","VKL800, 4L, ISH-Prototyp",205.874021,13.638,15.686999999999999,-2.0489999999999999,-489.798314,61.145809,294.66439700000001,0,21.648333000000001,16.684000000000001,21.648333000000001,16.684000000000001,"-",0,0,21.63,21.61,21.71,16.690000000000001,16.72,16.64,21.17]
["V37",{"$f":"B248","v":"VKL800; ISH Prototyp; mit Filter, mit 2-2,5cm Schalldämmung"},{"$f":"AVERAGE(C248:C250)","v":25.899999999999995},{"$f":"AVERAGE(D248:D250)","v":1036},{"$f":"AVERAGE(E248:E250)","v":14},{"$f":"AVERAGE(F248:F250)","v":8},null,{"$f":"H250","v":"2017-02-21"},null,{"$f":"J250","v":"TT"},null,{"$f":"AVERAGE(L248:L250)","v":205.53362000000001},13.629666666666665,15.691333333333333,-2.061666666666667,-492.00882600000006,61.348453666666671,295.66263199999997,0,21.649555666666668,16.679666666666666,null,null,null,null,{"$f":"AVERAGE(Z248:Z250)","v":0},21.636666666666667,21.613333333333333,21.7,16.686666666666667,16.716666666666665,16.636666666666667,21.17]
[]
[]
[null,"4-4,5cm Schalldämmung, 3,2mm Lamellenabstand, mit Isolierung der Kondensatwanne, mit Filter"]
[]
[null,"VKL800; ISH Prototyp; mit Filter, mit 4-4,5cm Schalldämmung",25.8,737,4.5,5.6,null,"2017-02-21","09:48:13","TT","VKL800, 4L, ISH-Prototyp",204.438198,13.659000000000001,15.183,-1.524,-361.76020599999998,43.547091999999999,183.640578,0,21.966332999999999,16.082999999999998,21.966332999999999,16.082999999999998,"-",0,0,21.97,21.96,21.97,16.07,16.14,16.04,21.63]
[null,{"$f":"CONCATENATE(\"mit \",ROUND(L259,0),\" kg/h wasserseitig, \",ROUND(D259,0),\" 1/min Drehzahl\")","v":"mit 205 kg/h wasserseitig, 737 1/min Drehzahl"},25.8,737,4.5,5.6,null,"2017-02-21","09:48:41","TT","VKL800, 4L, ISH-Prototyp",205.164141,13.65,15.173999999999999,-1.524,-363.04478599999999,43.565373999999998,184.00077099999999,0,21.983332999999998,16.090667,21.983332999999998,16.090667,"-",0,0,21.98,21.98,21.98,16.079999999999998,16.14,16.05,21.64]
[null,null,25.8,737,4.5,5.6,null,"2017-02-21","09:48:55","TT","VKL800, 4L, ISH-Prototyp",204.54755299999999,13.641,15.167999999999999,-1.5269999999999999,-362.66622100000001,43.420946999999998,183.621937,0,21.993333,16.094667000000001,21.993333,16.094667000000001,"-",0,0,22,21.99,21.99,16.079999999999998,16.149999999999999,16.05,21.64]
["V38",{"$f":"B256","v":"VKL800; ISH Prototyp; mit Filter, mit 4-4,5cm Schalldämmung"},{"$f":"AVERAGE(C256:C258)","v":25.8},{"$f":"AVERAGE(D256:D258)","v":737},{"$f":"AVERAGE(E256:E258)","v":4.5},{"$f":"AVERAGE(F256:F258)","v":5.5999999999999988},null,{"$f":"H258","v":"2017-02-21"},null,{"$f":"J258","v":"TT"},null,{"$f":"AVERAGE(L256:L258)","v":204.71663066666667},13.65,15.174999999999999,-1.5250000000000001,-362.49040433333334,43.511137666666663,183.75442866666666,0,21.980999666666662,16.089444666666665,null,null,null,null,{"$f":"AVERAGE(Z256:Z258)","v":0},21.983333333333334,21.976666666666663,21.98,16.076666666666664,16.143333333333334,16.046666666666667,21.636666666666667]
[]
[]
[null,"3-3,5cm Schalldämmung, 3,2mm Lamellenabstand, mit Isolierung der Kondensatwanne, mit Filter"]
[]
[null,"VKL800; ISH Prototyp; mit Filter, mit 3-3,5cm Schalldämmung",25.8,725,5,5.6,null,"2017-02-21","10:06:11","TT","VKL800, 4L, ISH-Prototyp",204.95551399999999,13.657999999999999,15.368,-1.71,-406.93917399999998,47.647238000000002,206.131013,0,22.198667,16.302667,22.198667,16.302667,"-",0,0,22.22,22.18,22.2,16.29,16.350000000000001,16.27,21.92]
[null,{"$f":"CONCATENATE(\"mit \",ROUND(L267,0),\" kg/h wasserseitig, \",ROUND(D267,0),\" 1/min Drehzahl\")","v":"mit 205 kg/h wasserseitig, 725 1/min Drehzahl"},25.8,725,5,5.6,null,"2017-02-21","10:06:25","TT","VKL800, 4L, ISH-Prototyp",204.033164,13.657999999999999,15.367000000000001,-1.7090000000000001,-404.87094300000001,47.360711999999999,205.01382799999999,0,22.206666999999999,16.308667,22.206666999999999,16.308667,"-",0,0,22.24,22.18,22.2,16.3,16.36,16.27,21.93]
[null,null,25.8,725,5,5.6,null,"2017-02-21","10:06:39","TT","VKL800, 4L, ISH-Prototyp",204.74966900000001,13.651,15.381,-1.73,-411.28520900000001,48.039855000000003,208.09715700000001,0,22.212333000000001,16.309667000000001,22.212333000000001,16.309667000000001,"-",0,0,22.25,22.18,22.2,16.29,16.36,16.28,21.93]
["V39",{"$f":"B264","v":"VKL800; ISH Prototyp; mit Filter, mit 3-3,5cm Schalldämmung"},{"$f":"AVERAGE(C264:C266)","v":25.8},{"$f":"AVERAGE(D264:D266)","v":725},{"$f":"AVERAGE(E264:E266)","v":5},{"$f":"AVERAGE(F264:F266)","v":5.5999999999999988},null,{"$f":"H266","v":"2017-02-21"},null,{"$f":"J266","v":"TT"},null,{"$f":"AVERAGE(L264:L266)","v":204.57944899999998},13.655666666666667,15.372,-1.7163333333333333,-407.69844200000006,47.682601666666663,206.41399933333332,0,22.205888999999999,16.307000333333335,null,null,null,null,{"$f":"AVERAGE(Z264:Z266)","v":0},22.236666666666665,22.179999999999996,22.2,16.293333333333333,16.356666666666666,16.273333333333333,21.926666666666666]
[]
[]
[null,"Drehzahlvariation - mit 3-3,5cm Schalldämmung, 3,2mm Lamellenabstand, mit Isolierung der Kondensatwanne, mit Filter, mit 3D-Strömung"]
[null,"immer mit 3,2mm Lamellenabstand und Isolierung der Kondensatwanne"]
[]
[]
[null,"VKL800; ISH Prototyp; mit Filter, mit 3-3,5cm Schalldämmung, mit 3D-Strömung",25.8,725,6,5.6,null,"2017-02-21","13:12:47","TT","VKL800, 4L, ISH-Prototyp",204.03187600000001,13.698,15.521000000000001,-1.823,-431.875405,47.058920999999998,201.377364,0,22.875333000000001,16.470333,22.875333000000001,16.470333,"-",0,0,22.8,22.9,22.92,16.52,16.559999999999999,16.329999999999998,23.21]
[null,{"$f":"CONCATENATE(\"mit \",ROUND(L277,0),\" kg/h wasserseitig, \",ROUND(D277,0),\" 1/min Drehzahl\")","v":"mit 204 kg/h wasserseitig, 725 1/min Drehzahl"},25.8,725,6,5.6,null,"2017-02-21","13:13:01","TT","VKL800, 4L, ISH-Prototyp",204.44099,13.698,15.516,-1.8180000000000001,-431.554486,47.070112999999999,201.626465,0,22.866333000000001,16.474,22.866333000000001,16.474,"-",0,0,22.81,22.87,22.92,16.52,16.559999999999999,16.34,23.2]
[null,null,25.8,725,6,5.6,null,"2017-02-21","13:13:15","TT","VKL800, 4L, ISH-Prototyp",204.03140099999999,13.696999999999999,15.534000000000001,-1.837,-435.19104399999998,47.478839999999998,203.50590399999999,0,22.863,16.476333,22.863,16.476333,"-",0,0,22.8,22.85,22.93,16.52,16.559999999999999,16.34,23.22]
["V40",{"$f":"B274","v":"VKL800; ISH Prototyp; mit Filter, mit 3-3,5cm Schalldämmung, mit 3D-Strömung"},{"$f":"AVERAGE(C274:C276)","v":25.8},{"$f":"AVERAGE(D274:D276)","v":725},{"$f":"AVERAGE(E274:E276)","v":6},{"$f":"AVERAGE(F274:F276)","v":5.5999999999999988},null,{"$f":"H276","v":"2017-02-21"},null,{"$f":"J276","v":"TT"},null,{"$f":"AVERAGE(L274:L276)","v":204.16808900000001},13.697666666666668,15.523666666666665,-1.8259999999999998,-432.87364499999995,47.202624666666658,202.16991099999998,0,22.868222000000003,16.473555333333334,null,null,null,null,{"$f":"AVERAGE(Z274:Z276)","v":0},22.803333333333331,22.873333333333335,22.923333333333336,16.52,16.559999999999999,16.33666666666667,23.209999999999997]
[]
[]
[null,"VKL800; ISH Prototyp; mit Filter, mit 3-3,5cm Schalldämmung, mit 3D-Strömung",25.8,477,2.5,3.5,null,"2017-02-21","13:31:27","TT","VKL800, 4L, ISH-Prototyp",204.032961,13.688000000000001,14.927,-1.2390000000000001,-293.525218,32.137797999999997,128.55080899999999,0,22.821332999999999,16.001999999999999,22.821332999999999,16.001999999999999,"-",0,0,22.82,22.82,22.83,16.079999999999998,16.13,15.79,23.28]
[null,{"$f":"CONCATENATE(\"mit \",ROUND(L283,0),\" kg/h wasserseitig, \",ROUND(D283,0),\" 1/min Drehzahl\")","v":"mit 204 kg/h wasserseitig, 477 1/min Drehzahl"},25.8,477,2.5,3.5,null,"2017-02-21","13:31:41","TT","VKL800, 4L, ISH-Prototyp",204.23255599999999,13.694000000000001,14.922000000000001,-1.228,-291.20385499999998,31.895274000000001,127.546626,0,22.824000000000002,16.005333,22.824000000000002,16.005333,"-",0,0,22.82,22.82,22.84,16.079999999999998,16.14,15.8,23.28]
[null,null,25.8,477,2.5,3.5,null,"2017-02-21","13:31:55","TT","VKL800, 4L, ISH-Prototyp",204.74915999999999,13.696999999999999,14.933999999999999,-1.2370000000000001,-294.08008100000001,32.216186,128.743469,0,22.825333000000001,16.003333000000001,22.825333000000001,16.003333000000001,"-",0,0,22.81,22.83,22.84,16.079999999999998,16.13,15.79,23.28]
["V41",{"$f":"B280","v":"VKL800; ISH Prototyp; mit Filter, mit 3-3,5cm Schalldämmung, mit 3D-Strömung"},{"$f":"AVERAGE(C280:C282)","v":25.8},{"$f":"AVERAGE(D280:D282)","v":477},{"$f":"AVERAGE(E280:E282)","v":2.5},{"$f":"AVERAGE(F280:F282)","v":3.5},null,{"$f":"H282","v":"2017-02-21"},null,{"$f":"J282","v":"TT"},null,{"$f":"AVERAGE(L280:L282)","v":204.33822566666666},13.693,14.927666666666667,-1.2346666666666668,-292.9363846666667,32.083086000000002,128.28030133333334,0,22.823555333333331,16.003555333333335,null,null,null,null,{"$f":"AVERAGE(Z280:Z282)","v":0},22.816666666666666,22.823333333333334,22.83666666666667,16.079999999999998,16.133333333333329,15.793333333333331,23.28]
[]
[]
[null,"VKL800; ISH Prototyp; mit Filter, mit 3-3,5cm Schalldämmung, mit 3D-Strömung",25.2,1037,15,8,null,"2017-02-21","14:15:48","TT","VKL800, 4L, ISH-Prototyp",201.37691699999999,13.714,16.193999999999999,-2.48,-579.87601900000004,62.171760999999996,302.68012800000002,0,23.041,17.319333,23.041,17.319333,"-",0,0,22.99,23.09,23.04,17.36,17.37,17.23,23.27]
[null,{"$f":"CONCATENATE(\"mit \",ROUND(L289,0),\" kg/h wasserseitig, \",ROUND(D289,0),\" 1/min Drehzahl\")","v":"mit 202 kg/h wasserseitig, 1037 1/min Drehzahl"},25.2,1037,15,8,null,"2017-02-21","14:16:02","TT","VKL800, 4L, ISH-Prototyp",201.77653599999999,13.715,16.201000000000001,-2.4860000000000002,-582.43245400000001,62.365611999999999,303.48410799999999,0,23.053999999999998,17.322333,23.053999999999998,17.322333,"-",0,0,23.01,23.1,23.05,17.36,17.38,17.23,23.27]
[null,null,25.2,1037,15,8,null,"2017-02-21","14:16:16","TT","VKL800, 4L, ISH-Prototyp",202.702989,13.718999999999999,16.193999999999999,-2.4750000000000001,-582.51771399999996,62.330247,303.15829200000002,0,23.064667,17.326000000000001,23.064667,17.326000000000001,"-",0,0,23.03,23.11,23.06,17.36,17.38,17.23,23.28]
["V42",{"$f":"B286","v":"VKL800; ISH Prototyp; mit Filter, mit 3-3,5cm Schalldämmung, mit 3D-Strömung"},{"$f":"AVERAGE(C286:C288)","v":25.2},{"$f":"AVERAGE(D286:D288)","v":1037},{"$f":"AVERAGE(E286:E288)","v":15},{"$f":"AVERAGE(F286:F288)","v":8},null,{"$f":"H288","v":"2017-02-21"},null,{"$f":"J288","v":"TT"},null,{"$f":"AVERAGE(L286:L288)","v":201.95214733333333},13.716000000000001,16.196333333333332,-2.4803333333333337,-581.60872900000004,62.289206666666665,303.10750933333338,0,23.053222333333334,17.322555333333334,null,null,null,null,{"$f":"AVERAGE(Z286:Z288)","v":0},23.01,23.099999999999998,23.05,17.36,17.376666666666665,17.23,23.27333333333333]
[]
[]
[null,"VKL800; ISH Prototyp; mit Filter, mit 3-3,5cm Schalldämmung, mit 3D-Strömung",25.2,1145,19,10,null,"2017-02-21","14:26:32","TT","VKL800, 4L, ISH-Prototyp",204.438266,13.721,16.347000000000001,-2.6259999999999999,-623.34817399999997,66.507024999999999,337.97283299999998,0,23.093667,17.585332999999999,23.093667,17.585332999999999,"-",0,0,22.91,23.18,23.2,17.62,17.64,17.489999999999998,23.3]
[null,{"$f":"CONCATENATE(\"mit \",ROUND(L295,0),\" kg/h wasserseitig, \",ROUND(D295,0),\" 1/min Drehzahl\")","v":"mit 204 kg/h wasserseitig, 1145 1/min Drehzahl"},25.2,1145,19,10,null,"2017-02-21","14:26:46","TT","VKL800, 4L, ISH-Prototyp",204.030078,13.726000000000001,16.364999999999998,-2.6389999999999998,-625.18329900000003,66.707565000000002,338.70136600000001,0,23.097999999999999,17.585332999999999,23.097999999999999,17.585332999999999,"-",0,0,22.92,23.18,23.2,17.62,17.64,17.489999999999998,23.3]
[null,null,25.2,1145,19,10,null,"2017-02-21","14:27:00","TT","VKL800, 4L, ISH-Prototyp",203.42318900000001,13.726000000000001,16.369,-2.6429999999999998,-624.26847399999997,66.550776999999997,338.08309100000002,0,23.106332999999999,17.591667000000001,23.106332999999999,17.591667000000001,"-",0,0,22.94,23.18,23.2,17.63,17.649999999999999,17.5,23.3]
["V43",{"$f":"B292","v":"VKL800; ISH Prototyp; mit Filter, mit 3-3,5cm Schalldämmung, mit 3D-Strömung"},{"$f":"AVERAGE(C292:C294)","v":25.2},{"$f":"AVERAGE(D292:D294)","v":1145},{"$f":"AVERAGE(E292:E294)","v":19},{"$f":"AVERAGE(F292:F294)","v":10},null,{"$f":"H294","v":"2017-02-21"},null,{"$f":"J294","v":"TT"},null,{"$f":"AVERAGE(L292:L294)","v":203.96384433333333},13.724333333333334,16.360333333333333,-2.6359999999999997,-624.26664900000003,66.588455666666661,338.25243,0,23.099333333333334,17.587444333333334,null,null,null,null,{"$f":"AVERAGE(Z292:Z294)","v":0},22.923333333333332,23.179999999999996,23.2,17.623333333333335,17.643333333333334,17.493333333333332,23.3]
[]
[]
[null,"Wassermengenvariation"]
[]
[null,"VKL800; ISH Prototyp; mit Filter, mit 3-3,5cm Schalldämmung, mit 3D-Strömung",2.2999999999999998,740,7,5.6,null,"2017-02-21","14:58:47","TT","VKL800, 4L, ISH-Prototyp",56.474930999999998,13.92,18.603999999999999,-4.6840000000000002,-307.14706899999999,32.871048000000002,203.38037800000001,0,23.263999999999999,18.753667,23.263999999999999,18.753667,"-",0,0,23.27,23.27,23.26,18.79,18.82,18.649999999999999,23.53]
[null,{"$f":"CONCATENATE(\"mit \",ROUND(L303,0),\" kg/h wasserseitig, \",ROUND(D303,0),\" 1/min Drehzahl\")","v":"mit 56 kg/h wasserseitig, 740 1/min Drehzahl"},2.2999999999999998,740,7,5.6,null,"2017-02-21","14:59:15","TT","VKL800, 4L, ISH-Prototyp",55.369272000000002,13.932,18.588000000000001,-4.6559999999999997,-299.33366699999999,32.05086,197.95794900000001,0,23.271332999999998,18.755333,23.271332999999998,18.755333,"-",0,0,23.27,23.28,23.26,18.8,18.82,18.649999999999999,23.53]
[null,null,2.2999999999999998,740,7,5.6,null,"2017-02-21","15:03:41","TT","VKL800, 4L, ISH-Prototyp",55.696106999999998,13.928000000000001,18.64,-4.7119999999999997,-304.72206399999999,32.408047000000003,201.29857899999999,0,23.330666999999998,18.809667000000001,23.330666999999998,18.809667000000001,"-",0,0,23.25,23.35,23.4,18.850000000000001,18.87,18.71,23.58]
["V44",{"$f":"B300","v":"VKL800; ISH Prototyp; mit Filter, mit 3-3,5cm Schalldämmung, mit 3D-Strömung"},{"$f":"AVERAGE(C300:C302)","v":2.2999999999999998},{"$f":"AVERAGE(D300:D302)","v":740},{"$f":"AVERAGE(E300:E302)","v":7},{"$f":"AVERAGE(F300:F302)","v":5.5999999999999988},null,{"$f":"H302","v":"2017-02-21"},null,{"$f":"J302","v":"TT"},null,{"$f":"AVERAGE(L300:L302)","v":55.846769999999992},13.926666666666668,18.610666666666667,-4.6840000000000002,-303.73426666666666,32.443318333333337,200.87896866666668,0,23.288666666666661,18.772889000000003,null,null,null,null,{"$f":"AVERAGE(Z300:Z302)","v":0},23.263333333333332,23.3,23.306666666666668,18.813333333333336,18.83666666666667,18.669999999999998,23.546666666666667]
[]
[]
[null,"VKL800; ISH Prototyp; mit Filter, mit 3-3,5cm Schalldämmung, mit 3D-Strömung",8.6,740,7,5.6,null,"2017-02-21","15:18:55","TT","VKL800, 4L, ISH-Prototyp",115.531436,13.784000000000001,16.893999999999998,-3.11,-417.19043199999999,43.284498999999997,207.56849,0,23.422332999999998,17.419667,23.422332999999998,17.419667,"-",0,0,23.38,23.46,23.43,17.47,17.510000000000002,17.28,23.7]
[null,{"$f":"CONCATENATE(\"mit \",ROUND(L309,0),\" kg/h wasserseitig, \",ROUND(D309,0),\" 1/min Drehzahl\")","v":"mit 115 kg/h wasserseitig, 740 1/min Drehzahl"},8.6,740,7,5.6,null,"2017-02-21","15:19:23","TT","VKL800, 4L, ISH-Prototyp",115.41513999999999,13.773,16.896000000000001,-3.1230000000000002,-418.51261,43.381169999999997,208.16852600000001,0,23.420332999999999,17.416,23.420332999999999,17.416,"-",0,0,23.39,23.43,23.45,17.46,17.510000000000002,17.28,23.71]
[null,null,8.6,740,7,5.6,null,"2017-02-21","15:19:37","TT","VKL800, 4L, ISH-Prototyp",115.53071199999999,13.769,16.885000000000002,-3.1160000000000001,-417.992684,43.249571000000003,207.64478199999999,0,23.433667,17.421666999999999,23.433667,17.421666999999999,"-",0,0,23.41,23.43,23.45,17.46,17.52,17.28,23.71]
["V45",{"$f":"B306","v":"VKL800; ISH Prototyp; mit Filter, mit 3-3,5cm Schalldämmung, mit 3D-Strömung"},{"$f":"AVERAGE(C306:C308)","v":8.6},{"$f":"AVERAGE(D306:D308)","v":740},{"$f":"AVERAGE(E306:E308)","v":7},{"$f":"AVERAGE(F306:F308)","v":5.5999999999999988},null,{"$f":"H308","v":"2017-02-21"},null,{"$f":"J308","v":"TT"},null,{"$f":"AVERAGE(L306:L308)","v":115.49242933333333},13.775333333333334,16.891666666666666,-3.1163333333333334,-417.89857533333333,43.305079999999997,207.79393266666668,0,23.425444333333331,17.419111333333333,null,null,null,null,{"$f":"AVERAGE(Z306:Z308)","v":0},23.393333333333331,23.439999999999998,23.443333333333332,17.463333333333335,17.513333333333335,17.28,23.706666666666667]
[]
[]
[null,"VKL800; ISH Prototyp; mit Filter, mit 3-3,5cm Schalldämmung, mit 3D-Strömung",38.5,740,7,5.6,null,"2017-02-21","15:34:04","TT","VKL800, 4L, ISH-Prototyp",255.62988799999999,13.702,15.339,-1.637,-485.88567,50.224201999999998,210.491288,0,23.376332999999999,16.482333000000001,23.376332999999999,16.482333000000001,"-",0,0,23.39,23.4,23.34,16.53,16.579999999999998,16.34,23.79]
[null,{"$f":"CONCATENATE(\"mit \",ROUND(L315,0),\" kg/h wasserseitig, \",ROUND(D315,0),\" 1/min Drehzahl\")","v":"mit 257 kg/h wasserseitig, 740 1/min Drehzahl"},38.5,740,7,5.6,null,"2017-02-21","15:34:32","TT","VKL800, 4L, ISH-Prototyp",257.27443899999997,13.691000000000001,15.333,-1.6419999999999999,-490.50515300000001,50.591881000000001,212.41033899999999,0,23.386333,16.489667000000001,23.386333,16.489667000000001,"-",0,0,23.4,23.42,23.34,16.53,16.59,16.350000000000001,23.79]
[null,null,38.5,740,7,5.6,null,"2017-02-21","15:36:24","TT","VKL800, 4L, ISH-Prototyp",256.75567599999999,13.704000000000001,15.331,-1.627,-485.04428000000001,50.082011000000001,210.13694799999999,0,23.388999999999999,16.495332999999999,23.388999999999999,16.495332999999999,"-",0,0,23.33,23.43,23.41,16.54,16.600000000000001,16.350000000000001,23.8]
["V46",{"$f":"B312","v":"VKL800; ISH Prototyp; mit Filter, mit 3-3,5cm Schalldämmung, mit 3D-Strömung"},{"$f":"AVERAGE(C312:C314)","v":38.5},{"$f":"AVERAGE(D312:D314)","v":740},{"$f":"AVERAGE(E312:E314)","v":7},{"$f":"AVERAGE(F312:F314)","v":5.5999999999999988},null,{"$f":"H314","v":"2017-02-21"},null,{"$f":"J314","v":"TT"},null,{"$f":"AVERAGE(L312:L314)","v":256.55333433333334},13.699,15.334333333333333,-1.6353333333333333,-487.14503433333334,50.299364666666662,211.0128583333333,0,23.383888666666664,16.489110999999998,null,null,null,null,{"$f":"AVERAGE(Z312:Z314)","v":0},23.373333333333335,23.416666666666668,23.363333333333333,16.533333333333335,16.59,16.346666666666668,23.793333333333333]
[]
[]
[null,"VKL800; ISH Prototyp; mit Filter, mit 3-3,5cm Schalldämmung, mit 3D-Strömung",52.7,740,7,5.6,null,"2017-02-21","15:48:51","TT","VKL800, 4L, ISH-Prototyp",305.78826800000002,13.702,15.131,-1.429,-507.372389,51.802647,213.37221199999999,0,23.496333,16.394666999999998,23.496333,16.394666999999998,"-",0,0,23.49,23.52,23.48,16.440000000000001,16.5,16.239999999999998,23.89]
[null,{"$f":"CONCATENATE(\"mit \",ROUND(L321,0),\" kg/h wasserseitig, \",ROUND(D321,0),\" 1/min Drehzahl\")","v":"mit 305 kg/h wasserseitig, 740 1/min Drehzahl"},52.7,740,7,5.6,null,"2017-02-21","15:49:19","TT","VKL800, 4L, ISH-Prototyp",303.83249499999999,13.689,15.093,-1.4039999999999999,-495.30773399999998,50.484938999999997,208.259398,0,23.5,16.396999999999998,23.5,16.396999999999998,"-",0,0,23.5,23.5,23.49,16.440000000000001,16.5,16.25,23.89]
[null,null,52.7,740,7,5.6,null,"2017-02-21","15:49:33","TT","VKL800, 4L, ISH-Prototyp",305.17894899999999,13.686,15.099,-1.413,-500.69184200000001,51.012923000000001,210.73089999999999,0,23.501000000000001,16.405000000000001,23.501000000000001,16.405000000000001,"-",0,0,23.49,23.51,23.5,16.45,16.510000000000002,16.260000000000002,23.88]
["V47",{"$f":"B318","v":"VKL800; ISH Prototyp; mit Filter, mit 3-3,5cm Schalldämmung, mit 3D-Strömung"},{"$f":"AVERAGE(C318:C320)","v":52.70000000000001},{"$f":"AVERAGE(D318:D320)","v":740},{"$f":"AVERAGE(E318:E320)","v":7},{"$f":"AVERAGE(F318:F320)","v":5.5999999999999988},null,{"$f":"H320","v":"2017-02-21"},null,{"$f":"J320","v":"TT"},null,{"$f":"AVERAGE(L318:L320)","v":304.93323733333335},13.692333333333332,15.107666666666667,-1.4153333333333336,-501.12398833333333,51.100169666666666,210.78750333333335,0,23.499110999999999,16.398889,null,null,null,null,{"$f":"AVERAGE(Z318:Z320)","v":0},23.493333333333329,23.51,23.49,16.443333333333332,16.503333333333334,16.25,23.886666666666667]
[]
[]
[]
[]
[null,"VKL800; ISH Prototyp; mit Filter, mit 3-3,5cm Schalldämmung, mit 3D-Strömung",2.8,487,3,3.5,null,"2017-02-21","16:31:31","TT","VKL800, 4L, ISH-Prototyp",56.475346000000002,13.946,17.55,-3.6040000000000001,-236.32924199999999,24.889862000000001,128.594359,0,23.440999999999999,17.952332999999999,23.440999999999999,17.952332999999999,"-",0,0,23.43,23.41,23.48,18,18.05,17.8,24.05]
[null,{"$f":"CONCATENATE(\"mit \",ROUND(L329,0),\" kg/h wasserseitig, \",ROUND(D329,0),\" 1/min Drehzahl\")","v":"mit 56 kg/h wasserseitig, 487 1/min Drehzahl"},2.8,487,3,3.5,null,"2017-02-21","16:31:59","TT","VKL800, 4L, ISH-Prototyp",56.194290000000002,13.952999999999999,17.545000000000002,-3.5920000000000001,-234.370149,24.726067,127.83890599999999,0,23.431667000000001,17.956333000000001,23.431667000000001,17.956333000000001,"-",0,0,23.42,23.4,23.47,18,18.059999999999999,17.809999999999999,24.06]
[null,null,2.8,487,3,3.5,null,"2017-02-21","16:32:27","TT","VKL800, 4L, ISH-Prototyp",55.971670000000003,13.946999999999999,17.547999999999998,-3.601,-234.02656999999999,24.713284999999999,128.033432,0,23.416667,17.957667000000001,23.416667,17.957667000000001,"-",0,0,23.38,23.4,23.47,18,18.059999999999999,17.809999999999999,24.05]
["V48",{"$f":"B326","v":"VKL800; ISH Prototyp; mit Filter, mit 3-3,5cm Schalldämmung, mit 3D-Strömung"},{"$f":"AVERAGE(C326:C328)","v":2.7999999999999994},{"$f":"AVERAGE(D326:D328)","v":487},{"$f":"AVERAGE(E326:E328)","v":3},{"$f":"AVERAGE(F326:F328)","v":3.5},null,{"$f":"H328","v":"2017-02-21"},null,{"$f":"J328","v":"TT"},null,{"$f":"AVERAGE(L326:L328)","v":56.21376866666666},13.948666666666668,17.547666666666668,-3.5990000000000002,-234.90865366666665,24.776404666666668,128.15556566666666,0,23.429777999999999,17.955444333333332,null,null,null,null,{"$f":"AVERAGE(Z326:Z328)","v":0},23.41,23.403333333333336,23.473333333333333,18,18.056666666666668,17.806666666666668,24.053333333333331]
[]
[]
[null,"VKL800; ISH Prototyp; mit Filter, mit 3-3,5cm Schalldämmung, mit 3D-Strömung",10.8,487,3,3.5,null,"2017-02-21","16:50:16","TT","VKL800, 4L, ISH-Prototyp",127.378186,13.778,15.851000000000001,-2.073,-306.59717000000001,31.452314999999999,134.71032600000001,0,23.526,16.728667000000002,23.526,16.728667000000002,"-",0,0,23.52,23.5,23.56,16.809999999999999,16.87,16.5,24.28]
[null,{"$f":"CONCATENATE(\"mit \",ROUND(L335,0),\" kg/h wasserseitig, \",ROUND(D335,0),\" 1/min Drehzahl\")","v":"mit 127 kg/h wasserseitig, 487 1/min Drehzahl"},10.8,487,3,3.5,null,"2017-02-21","16:50:44","TT","VKL800, 4L, ISH-Prototyp",126.378822,13.78,15.84,-2.06,-302.28410000000002,31.032142,133.01749599999999,0,23.521000000000001,16.734000000000002,23.521000000000001,16.734000000000002,"-",0,0,23.53,23.47,23.56,16.809999999999999,16.88,16.52,24.28]
[null,null,10.8,487,3,3.5,null,"2017-02-21","16:52:08","TT","VKL800, 4L, ISH-Prototyp",126.500114,13.787000000000001,15.885999999999999,-2.0990000000000002,-308.30256300000002,31.477647000000001,134.30050299999999,0,23.581333000000001,16.725332999999999,23.581333000000001,16.725332999999999,"-",0,0,23.59,23.55,23.6,16.809999999999999,16.86,16.5,24.29]
["V49",{"$f":"B332","v":"VKL800; ISH Prototyp; mit Filter, mit 3-3,5cm Schalldämmung, mit 3D-Strömung"},{"$f":"AVERAGE(C332:C334)","v":10.800000000000002},{"$f":"AVERAGE(D332:D334)","v":487},{"$f":"AVERAGE(E332:E334)","v":3},{"$f":"AVERAGE(F332:F334)","v":3.5},null,{"$f":"H334","v":"2017-02-21"},null,{"$f":"J334","v":"TT"},null,{"$f":"AVERAGE(L332:L334)","v":126.75237399999999},13.781666666666666,15.859,-2.0773333333333333,-305.72794433333337,31.320701333333332,134.00944166666667,0,23.542777666666666,16.729333333333333,null,null,null,null,{"$f":"AVERAGE(Z332:Z334)","v":0},23.546666666666667,23.506666666666664,23.573333333333334,16.809999999999999,16.87,16.506666666666664,24.283333333333331]
[]
[]
[null,"VKL800; ISH Prototyp; mit Filter, mit 3-3,5cm Schalldämmung, mit 3D-Strömung",33.4,487,3,3.5,null,"2017-02-21","17:06:35","TT","VKL800, 4L, ISH-Prototyp",238.323498,13.7,14.875,-1.175,-325.146072,33.436335999999997,133.74983800000001,0,23.424333000000001,16.164000000000001,23.424333000000001,16.164000000000001,"-",0,0,23.4,23.41,23.46,16.260000000000002,16.32,15.92,24.3]
[null,{"$f":"CONCATENATE(\"mit \",ROUND(L341,0),\" kg/h wasserseitig, \",ROUND(D341,0),\" 1/min Drehzahl\")","v":"mit 239 kg/h wasserseitig, 487 1/min Drehzahl"},33.4,487,3,3.5,null,"2017-02-21","17:06:49","TT","VKL800, 4L, ISH-Prototyp",239.45286899999999,13.704000000000001,14.875999999999999,-1.1719999999999999,-325.85278599999998,33.5366,134.009784,0,23.420332999999999,16.158332999999999,23.420332999999999,16.158332999999999,"-",0,0,23.39,23.41,23.46,16.25,16.309999999999999,15.92,24.29]
[null,null,33.4,487,3,3.5,null,"2017-02-21","17:07:03","TT","VKL800, 4L, ISH-Prototyp",237.85243800000001,13.704000000000001,14.88,-1.1759999999999999,-324.77957500000002,33.386057999999998,133.37251499999999,0,23.431999999999999,16.159333,23.431999999999999,16.159333,"-",0,0,23.4,23.42,23.47,16.25,16.32,15.91,24.27]
["V50",{"$f":"B338","v":"VKL800; ISH Prototyp; mit Filter, mit 3-3,5cm Schalldämmung, mit 3D-Strömung"},{"$f":"AVERAGE(C338:C340)","v":33.4},{"$f":"AVERAGE(D338:D340)","v":487},{"$f":"AVERAGE(E338:E340)","v":3},{"$f":"AVERAGE(F338:F340)","v":3.5},null,{"$f":"H340","v":"2017-02-21"},null,{"$f":"J340","v":"TT"},null,{"$f":"AVERAGE(L338:L340)","v":238.54293500000003},13.702666666666667,14.877000000000001,-1.1743333333333332,-325.25947766666667,33.452998000000001,133.71071233333336,0,23.425555333333335,16.160555333333335,null,null,null,null,{"$f":"AVERAGE(Z338:Z340)","v":0},23.396666666666665,23.413333333333338,23.463333333333335,16.253333333333334,16.316666666666666,15.916666666666666,24.286666666666665]
[]
[]
[null,"VKL800; ISH Prototyp; mit Filter, mit 3-3,5cm Schalldämmung, mit 3D-Strömung",54.8,487,3,3.5,null,"2017-02-21","17:15:54","TT","VKL800, 4L, ISH-Prototyp",312.86664100000002,13.694000000000001,14.622,-0.92800000000000005,-337.11728199999999,34.712608000000003,135.604896,0,23.405667000000001,15.981,23.405667000000001,15.981,"-",0,0,23.39,23.39,23.43,16.07,16.13,15.74,24.33]
[null,{"$f":"CONCATENATE(\"mit \",ROUND(L347,0),\" kg/h wasserseitig, \",ROUND(D347,0),\" 1/min Drehzahl\")","v":"mit 311 kg/h wasserseitig, 487 1/min Drehzahl"},54.8,487,3,3.5,null,"2017-02-21","17:16:08","TT","VKL800, 4L, ISH-Prototyp",310.81033000000002,13.686,14.621,-0.93500000000000005,-337.42778199999998,34.708841,135.63236599999999,0,23.407667,15.977667,23.407667,15.977667,"-",0,0,23.39,23.4,23.43,16.059999999999999,16.13,15.74,24.32]
[null,null,54.8,487,3,3.5,null,"2017-02-21","17:16:22","TT","VKL800, 4L, ISH-Prototyp",310.30201199999999,13.679,14.622999999999999,-0.94399999999999995,-340.11858799999999,34.958056999999997,136.51797300000001,0,23.408332999999999,15.967667,23.408332999999999,15.967667,"-",0,0,23.39,23.4,23.43,16.059999999999999,16.11,15.73,24.32]
["V51",{"$f":"B344","v":"VKL800; ISH Prototyp; mit Filter, mit 3-3,5cm Schalldämmung, mit 3D-Strömung"},{"$f":"AVERAGE(C344:C346)","v":54.79999999999999},{"$f":"AVERAGE(D344:D346)","v":487},{"$f":"AVERAGE(E344:E346)","v":3},{"$f":"AVERAGE(F344:F346)","v":3.5},null,{"$f":"H346","v":"2017-02-21"},null,{"$f":"J346","v":"TT"},null,{"$f":"AVERAGE(L344:L346)","v":311.32632766666671},13.686333333333335,14.622,-0.93566666666666665,-338.2212173333333,34.793168666666666,135.91841166666666,0,23.407222333333333,15.975444666666666,null,null,null,null,{"$f":"AVERAGE(Z344:Z346)","v":0},23.39,23.396666666666665,23.429999999999996,16.063333333333333,16.123333333333331,15.736666666666666,24.323333333333334]
[]
[]
[null,"Drehzahlvariation - mit 3-3,5cm Schalldämmung, 3,2mm Lamellenabstand, mit Isolierung der Kondensatwanne, mit Filter"]
[null,"immer mit 3,2mm Lamellenabstand und Isolierung der Kondensatwanne"]
[]
[null,"VKL800; ISH Prototyp; mit Filter, Schlitzelemente umgebaut (Steg & Versperrung untereinander), mit 3-3,5cm Schalldämm.",25.3,744,6,5.6,null,"2017-02-22","08:51:58","TT","VKL800, 4L, ISH-Prototyp",203.32539800000001,13.627000000000001,15.247,-1.62,-382.45507400000002,49.566495000000003,216.19404599999999,0,21.343,16.059667000000001,21.343,16.059667000000001,"-",0,0,21.27,21.33,21.43,16.100000000000001,16,16.079999999999998,21.45]
[null,{"$f":"CONCATENATE(\"mit \",ROUND(L356,0),\" kg/h wasserseitig, \",ROUND(D356,0),\" 1/min Drehzahl\")","v":"mit 203 kg/h wasserseitig, 744 1/min Drehzahl"},25.3,744,6,5.6,null,"2017-02-22","08:52:12","TT","VKL800, 4L, ISH-Prototyp",201.77711199999999,13.632999999999999,15.247999999999999,-1.615,-378.37132000000003,49.041474000000001,213.62949699999999,0,21.348333,16.058667,21.348333,16.058667,"-",0,0,21.27,21.34,21.43,16.100000000000001,16,16.079999999999998,21.42]
[null,null,25.3,744,6,5.6,null,"2017-02-22","08:56:52","TT","VKL800, 4L, ISH-Prototyp",202.50091900000001,13.63,15.263,-1.633,-383.96086700000001,49.291052000000001,213.46283500000001,0,21.419667,16.047667000000001,21.419667,16.047667000000001,"-",0,0,21.35,21.41,21.5,16.09,15.99,16.059999999999999,21.47]
["V52",{"$f":"B353","v":"VKL800; ISH Prototyp; mit Filter, Schlitzelemente umgebaut (Steg & Versperrung untereinander), mit 3-3,5cm Schalldämm."},{"$f":"AVERAGE(C353:C355)","v":25.3},{"$f":"AVERAGE(D353:D355)","v":744},{"$f":"AVERAGE(E353:E355)","v":6},{"$f":"AVERAGE(F353:F355)","v":5.5999999999999988},null,{"$f":"H355","v":"2017-02-22"},null,{"$f":"J355","v":"TT"},null,{"$f":"AVERAGE(L353:L355)","v":202.53447633333334},13.63,15.252666666666665,-1.6226666666666667,-381.59575366666667,49.299673666666671,214.42879266666668,0,21.370333333333335,16.05533366666667,null,null,null,null,{"$f":"AVERAGE(Z353:Z355)","v":0},21.296666666666667,21.36,21.453333333333333,16.096666666666668,15.996666666666668,16.073333333333334,21.446666666666669]
[]
[]
[null,"VKL800; ISH Prototyp; mit Filter, Schlitzelemente umgebaut (Steg & Versperrung untereinander), mit 3-3,5cm Schalldämm.",25.3,493,2,3.5,null,"2017-02-22","09:31:33","TT","VKL800, 4L, ISH-Prototyp",202.17995300000001,13.618,14.754,-1.1359999999999999,-266.67985099999999,33.794016999999997,132.83113800000001,0,21.509333000000002,15.513332999999999,21.509333000000002,15.513332999999999,"-",0,0,21.47,21.48,21.58,15.56,15.43,15.54,21.82]
[null,{"$f":"CONCATENATE(\"mit \",ROUND(L362,0),\" kg/h wasserseitig, \",ROUND(D362,0),\" 1/min Drehzahl\")","v":"mit 202 kg/h wasserseitig, 493 1/min Drehzahl"},25.3,493,2,3.5,null,"2017-02-22","09:31:47","TT","VKL800, 4L, ISH-Prototyp",202.90320500000001,13.619,14.75,-1.131,-266.455871,33.759929999999997,132.675321,0,21.511666999999999,15.513667,21.511666999999999,15.513667,"-",0,0,21.46,21.49,21.58,15.56,15.44,15.54,21.82]
[null,null,25.3,493,2,3.5,null,"2017-02-22","09:32:01","TT","VKL800, 4L, ISH-Prototyp",201.77700999999999,13.625999999999999,14.742000000000001,-1.1160000000000001,-261.46265,33.167912000000001,130.239732,0,21.509,15.513332999999999,21.509,15.513332999999999,"-",0,0,21.45,21.48,21.59,15.56,15.44,15.54,21.82]
["V53",{"$f":"B359","v":"VKL800; ISH Prototyp; mit Filter, Schlitzelemente umgebaut (Steg & Versperrung untereinander), mit 3-3,5cm Schalldämm."},{"$f":"AVERAGE(C359:C361)","v":25.3},{"$f":"AVERAGE(D359:D361)","v":493},{"$f":"AVERAGE(E359:E361)","v":2},{"$f":"AVERAGE(F359:F361)","v":3.5},null,{"$f":"H361","v":"2017-02-22"},null,{"$f":"J361","v":"TT"},null,{"$f":"AVERAGE(L359:L361)","v":202.28672266666669},13.621,14.748666666666665,-1.1276666666666666,-264.86612399999996,33.573952999999996,131.91539700000001,0,21.51,15.513444333333334,null,null,null,null,{"$f":"AVERAGE(Z359:Z361)","v":0},21.459999999999997,21.483333333333334,21.583333333333332,15.56,15.436666666666666,15.54,21.820000000000004]
[]
[]
[null,"VKL800; ISH Prototyp; mit Filter, Schlitzelemente umgebaut (Steg & Versperrung untereinander), mit 3-3,5cm Schalldämm.",25.3,1038,12,8,null,"2017-02-22","09:44:37","TT","VKL800, 4L, ISH-Prototyp",202.50027399999999,13.635999999999999,15.755000000000001,-2.1190000000000002,-498.23054999999999,63.723211999999997,316.684663,0,21.454667000000001,16.756,21.454667000000001,16.756,"-",0,0,21.35,21.46,21.56,16.79,16.71,16.760000000000002,21.82]
[null,{"$f":"CONCATENATE(\"mit \",ROUND(L368,0),\" kg/h wasserseitig, \",ROUND(D368,0),\" 1/min Drehzahl\")","v":"mit 203 kg/h wasserseitig, 1038 1/min Drehzahl"},25.3,1038,12,8,null,"2017-02-22","09:44:51","TT","VKL800, 4L, ISH-Prototyp",202.70242400000001,13.637,15.760999999999999,-2.1240000000000001,-499.90471700000001,63.904643,317.83898799999997,0,21.459667,16.762333000000002,21.459667,16.762333000000002,"-",0,0,21.35,21.46,21.57,16.79,16.72,16.77,21.83]
[null,null,25.3,1038,12,8,null,"2017-02-22","09:45:05","TT","VKL800, 4L, ISH-Prototyp",202.30018200000001,13.641,15.750999999999999,-2.11,-495.62420700000001,63.319676000000001,314.69314800000001,0,21.468333000000001,16.764666999999999,21.468333000000001,16.764666999999999,"-",0,0,21.35,21.47,21.58,16.8,16.72,16.77,21.83]
["V54",{"$f":"B365","v":"VKL800; ISH Prototyp; mit Filter, Schlitzelemente umgebaut (Steg & Versperrung untereinander), mit 3-3,5cm Schalldämm."},{"$f":"AVERAGE(C365:C367)","v":25.3},{"$f":"AVERAGE(D365:D367)","v":1038},{"$f":"AVERAGE(E365:E367)","v":12},{"$f":"AVERAGE(F365:F367)","v":8},null,{"$f":"H367","v":"2017-02-22"},null,{"$f":"J367","v":"TT"},null,{"$f":"AVERAGE(L365:L367)","v":202.50095999999999},13.638,15.755666666666665,-2.1176666666666666,-497.91982466666667,63.649177000000002,316.40559966666666,0,21.460888999999998,16.760999999999999,null,null,null,null,{"$f":"AVERAGE(Z365:Z367)","v":0},21.350000000000005,21.463333333333335,21.569999999999997,16.793333333333333,16.716666666666665,16.766666666666666,21.826666666666664]
[]
[]
[null,"VKL800; ISH Prototyp; mit Filter, Schlitzelemente umgebaut (Steg & Versperrung untereinander), mit 3-3,5cm Schalldämm.",25.2,1146,18,10,null,"2017-02-22","09:58:23","TT","VKL800, 4L, ISH-Prototyp",202.18176099999999,13.635,15.927,-2.2919999999999998,-538.05958199999998,68.172089999999997,356.59756299999998,0,21.527667000000001,17.021332999999998,21.527667000000001,17.021332999999998,"-",0,0,21.49,21.48,21.61,17.05,16.989999999999998,17.02,21.85]
[null,{"$f":"CONCATENATE(\"mit \",ROUND(L374,0),\" kg/h wasserseitig, \",ROUND(D374,0),\" 1/min Drehzahl\")","v":"mit 202 kg/h wasserseitig, 1146 1/min Drehzahl"},25.2,1146,18,10,null,"2017-02-22","09:58:37","TT","VKL800, 4L, ISH-Prototyp",201.778514,13.635999999999999,15.938000000000001,-2.302,-539.32930599999997,68.309883999999997,357.28050000000002,0,21.531333,17.023,21.531333,17.023,"-",0,0,21.5,21.48,21.61,17.05,16.98,17.03,21.85]
[null,null,25.2,1146,18,10,null,"2017-02-22","09:58:51","TT","VKL800, 4L, ISH-Prototyp",202.703294,13.635,15.935,-2.2999999999999998,-541.33040800000003,68.511273000000003,357.997343,0,21.536332999999999,17.020333000000001,21.536332999999999,17.020333000000001,"-",0,0,21.51,21.48,21.61,17.05,16.989999999999998,17.02,21.86]
["V55",{"$f":"B371","v":"VKL800; ISH Prototyp; mit Filter, Schlitzelemente umgebaut (Steg & Versperrung untereinander), mit 3-3,5cm Schalldämm."},{"$f":"AVERAGE(C371:C373)","v":25.2},{"$f":"AVERAGE(D371:D373)","v":1146},{"$f":"AVERAGE(E371:E373)","v":18},{"$f":"AVERAGE(F371:F373)","v":10},null,{"$f":"H373","v":"2017-02-22"},null,{"$f":"J373","v":"TT"},null,{"$f":"AVERAGE(L371:L373)","v":202.22118966666667},13.635333333333334,15.933333333333335,-2.2979999999999996,-539.57309866666662,68.331082333333327,357.29180200000002,0,21.531777666666667,17.021555333333332,null,null,null,null,{"$f":"AVERAGE(Z371:Z373)","v":0},21.5,21.48,21.61,17.05,16.986666666666665,17.02333333333333,21.853333333333335]
[]
[]
[]
[null,"Wassermengenvariation"]
[]
[]
[null,"VKL800; ISH Prototyp; mit Filter, Schlitzelemente umgebaut (Steg & Versperrung untereinander), mit 3-3,5cm Schalldämm.",2.8,757,7,5.7,null,"2017-02-22","10:35:07","TT","VKL800, 4L, ISH-Prototyp",62.256467999999998,13.824999999999999,17.73,-3.9049999999999998,-282.279473,34.931255,215.53895900000001,0,21.905999999999999,17.994667,21.905999999999999,17.994667,"-",0,0,21.87,21.92,21.92,18.04,17.940000000000001,18,22.21]
[null,{"$f":"CONCATENATE(\"mit \",ROUND(L384,0),\" kg/h wasserseitig, \",ROUND(D384,0),\" 1/min Drehzahl\")","v":"mit 62 kg/h wasserseitig, 757 1/min Drehzahl"},2.8,757,7,5.7,null,"2017-02-22","10:35:35","TT","VKL800, 4L, ISH-Prototyp",62.122537999999999,13.834,17.759,-3.9249999999999998,-283.11484000000002,34.916527000000002,215.515614,0,21.942333000000001,18.018999999999998,21.942333000000001,18.018999999999998,"-",0,0,21.91,21.96,21.95,18.059999999999999,17.96,18.03,22.22]
[null,null,2.8,757,7,5.7,null,"2017-02-22","10:36:03","TT","VKL800, 4L, ISH-Prototyp",62.123097000000001,13.835000000000001,17.792999999999999,-3.9580000000000002,-285.49773499999998,35.076304999999998,215.643968,0,21.974333000000001,18.020333000000001,21.974333000000001,18.020333000000001,"-",0,0,21.95,21.98,21.98,18.059999999999999,17.97,18.03,22.23]
["V56",{"$f":"B381","v":"VKL800; ISH Prototyp; mit Filter, Schlitzelemente umgebaut (Steg & Versperrung untereinander), mit 3-3,5cm Schalldämm."},{"$f":"AVERAGE(C381:C383)","v":2.7999999999999994},{"$f":"AVERAGE(D381:D383)","v":757},{"$f":"AVERAGE(E381:E383)","v":7},{"$f":"AVERAGE(F381:F383)","v":5.7},null,{"$f":"H383","v":"2017-02-22"},null,{"$f":"J383","v":"TT"},null,{"$f":"AVERAGE(L381:L383)","v":62.167367666666671},13.831333333333333,17.760666666666669,-3.9293333333333336,-283.63068266666664,34.974695666666662,215.56618033333334,0,21.940888666666666,18.011333333333333,null,null,null,null,{"$f":"AVERAGE(Z381:Z383)","v":0},21.91,21.953333333333333,21.950000000000003,18.053333333333331,17.956666666666667,18.02,22.22]
[]
[]
[null,"VKL800; ISH Prototyp; mit Filter, Schlitzelemente umgebaut (Steg & Versperrung untereinander), mit 3-3,5cm Schalldämm.",11,757,7,5.7,null,"2017-02-22","10:45:00","TT","VKL800, 4L, ISH-Prototyp",127.869424,13.706,16.324000000000002,-2.6179999999999999,-388.69605300000001,46.28436,222.729139,0,22.103999999999999,16.891999999999999,22.103999999999999,16.891999999999999,"-",0,0,22.09,22.11,22.11,16.940000000000001,16.829999999999998,16.91,22.32]
[null,{"$f":"CONCATENATE(\"mit \",ROUND(L390,0),\" kg/h wasserseitig, \",ROUND(D390,0),\" 1/min Drehzahl\")","v":"mit 128 kg/h wasserseitig, 757 1/min Drehzahl"},11,757,7,5.7,null,"2017-02-22","10:45:14","TT","VKL800, 4L, ISH-Prototyp",127.506418,13.698,16.285,-2.5870000000000002,-383.00307099999998,45.606462000000001,219.63552899999999,0,22.096,16.888000000000002,22.096,16.888000000000002,"-",0,0,22.08,22.1,22.11,16.940000000000001,16.829999999999998,16.899999999999999,22.32]
[null,null,11,757,7,5.7,null,"2017-02-22","10:45:28","TT","VKL800, 4L, ISH-Prototyp",127.379859,13.694000000000001,16.266999999999999,-2.573,-380.55228199999999,45.31823,218.21614199999999,0,22.091332999999999,16.882999999999999,22.091332999999999,16.882999999999999,"-",0,0,22.08,22.1,22.1,16.940000000000001,16.82,16.89,22.33]
["V57",{"$f":"B387","v":"VKL800; ISH Prototyp; mit Filter, Schlitzelemente umgebaut (Steg & Versperrung untereinander), mit 3-3,5cm Schalldämm."},{"$f":"AVERAGE(C387:C389)","v":11},{"$f":"AVERAGE(D387:D389)","v":757},{"$f":"AVERAGE(E387:E389)","v":7},{"$f":"AVERAGE(F387:F389)","v":5.7},null,{"$f":"H389","v":"2017-02-22"},null,{"$f":"J389","v":"TT"},null,{"$f":"AVERAGE(L387:L389)","v":127.58523366666667},13.699333333333334,16.292000000000002,-2.5926666666666667,-384.08380199999993,45.736350666666659,220.1936033333333,0,22.097111000000002,16.887666666666664,null,null,null,null,{"$f":"AVERAGE(Z387:Z389)","v":0},22.083333333333332,22.103333333333335,22.106666666666666,16.940000000000001,16.826666666666664,16.900000000000002,22.323333333333334]
[]
[]
[null,"VKL800; ISH Prototyp; mit Filter, Schlitzelemente umgebaut (Steg & Versperrung untereinander), mit 3-3,5cm Schalldämm.",32.9,757,7,5.7,null,"2017-02-22","10:56:38","TT","VKL800, 4L, ISH-Prototyp",236.95770400000001,13.64,15.225,-1.585,-436.08774299999999,51.441617999999998,219.382777,0,22.117332999999999,16.180667,22.117332999999999,16.180667,"-",0,0,22.11,22.08,22.16,16.23,16.12,16.190000000000001,22.4]
[null,{"$f":"CONCATENATE(\"mit \",ROUND(L396,0),\" kg/h wasserseitig, \",ROUND(D396,0),\" 1/min Drehzahl\")","v":"mit 237 kg/h wasserseitig, 757 1/min Drehzahl"},32.9,757,7,5.7,null,"2017-02-22","10:56:52","TT","VKL800, 4L, ISH-Prototyp",236.95509200000001,13.638999999999999,15.231,-1.5920000000000001,-438.00885499999998,51.647927000000003,220.349231,0,22.119667,16.183,22.119667,16.183,"-",0,0,22.09,22.09,22.18,16.23,16.12,16.2,22.41]
[null,null,32.9,757,7,5.7,null,"2017-02-22","10:57:06","TT","VKL800, 4L, ISH-Prototyp",237.84769,13.635,15.228,-1.593,-439.93498,51.761116000000001,220.87175099999999,0,22.134333000000002,16.185666999999999,22.134333000000002,16.185666999999999,"-",0,0,22.11,22.11,22.18,16.239999999999998,16.12,16.2,22.41]
["V58",{"$f":"B393","v":"VKL800; ISH Prototyp; mit Filter, Schlitzelemente umgebaut (Steg & Versperrung untereinander), mit 3-3,5cm Schalldämm."},{"$f":"AVERAGE(C393:C395)","v":32.9},{"$f":"AVERAGE(D393:D395)","v":757},{"$f":"AVERAGE(E393:E395)","v":7},{"$f":"AVERAGE(F393:F395)","v":5.7},null,{"$f":"H395","v":"2017-02-22"},null,{"$f":"J395","v":"TT"},null,{"$f":"AVERAGE(L393:L395)","v":237.25349533333335},13.638,15.228,-1.5899999999999999,-438.01052600000003,51.616886999999998,220.20125299999998,0,22.123777666666665,16.183111333333333,null,null,null,null,{"$f":"AVERAGE(Z393:Z395)","v":0},22.103333333333335,22.093333333333334,22.173333333333336,16.233333333333334,16.12,16.196666666666669,22.406666666666666]
[]
[]
[null,"VKL800; ISH Prototyp; mit Filter, Schlitzelemente umgebaut (Steg & Versperrung untereinander), mit 3-3,5cm Schalldämm.",52.3,757,7,5.7,null,"2017-02-22","11:08:41","TT","VKL800, 4L, ISH-Prototyp",308.04357399999998,13.637,14.922000000000001,-1.2849999999999999,-459.60957000000002,53.148390999999997,220.60081099999999,0,22.284666999999999,16.062332999999999,22.284666999999999,16.062332999999999,"-",0,0,22.23,22.28,22.35,16.11,16,16.079999999999998,22.52]
[null,{"$f":"CONCATENATE(\"mit \",ROUND(L402,0),\" kg/h wasserseitig, \",ROUND(D402,0),\" 1/min Drehzahl\")","v":"mit 307 kg/h wasserseitig, 757 1/min Drehzahl"},52.3,757,7,5.7,null,"2017-02-22","11:08:55","TT","VKL800, 4L, ISH-Prototyp",306.30506500000001,13.638,14.914,-1.276,-453.81477699999999,52.482337999999999,217.86614299999999,0,22.285,16.064,22.285,16.064,"-",0,0,22.23,22.27,22.35,16.11,16,16.079999999999998,22.52]
[null,null,52.3,757,7,5.7,null,"2017-02-22","11:09:09","TT","VKL800, 4L, ISH-Prototyp",307.22346900000002,13.641,14.917999999999999,-1.2769999999999999,-455.53218500000003,52.713464000000002,218.796144,0,22.282667,16.064667,22.282667,16.064667,"-",0,0,22.23,22.27,22.35,16.11,16,16.079999999999998,22.53]
["V59",{"$f":"B399","v":"VKL800; ISH Prototyp; mit Filter, Schlitzelemente umgebaut (Steg & Versperrung untereinander), mit 3-3,5cm Schalldämm."},{"$f":"AVERAGE(C399:C401)","v":52.29999999999999},{"$f":"AVERAGE(D399:D401)","v":757},{"$f":"AVERAGE(E399:E401)","v":7},{"$f":"AVERAGE(F399:F401)","v":5.7},null,{"$f":"H401","v":"2017-02-22"},null,{"$f":"J401","v":"TT"},null,{"$f":"AVERAGE(L399:L401)","v":307.19070266666671},13.638666666666666,14.917999999999999,-1.2793333333333334,-456.31884400000007,52.78139766666667,219.08769933333335,0,22.284111333333332,16.063666666666666,null,null,null,null,{"$f":"AVERAGE(Z399:Z401)","v":0},22.23,22.27333333333333,22.350000000000005,16.11,16,16.079999999999998,22.52333333333333]
[]
[]
[]
[]
[null,"VKL800; ISH Prototyp; mit Filter, Schlitzelemente umgebaut (Steg & Versperrung untereinander), mit 3-3,5cm Schalldämm.",2.1,484,2.4,3.5,null,"2017-02-22","11:30:20","TT","VKL800, 4L, ISH-Prototyp",52.046393000000002,13.897,17.283000000000001,-3.3860000000000001,-204.62155200000001,24.124210000000001,125.066097,0,22.379000000000001,17.492667000000001,22.379000000000001,17.492667000000001,"-",0,0,22.3,22.37,22.47,17.55,17.41,17.52,22.79]
[null,{"$f":"CONCATENATE(\"mit \",ROUND(L410,0),\" kg/h wasserseitig, \",ROUND(D410,0),\" 1/min Drehzahl\")","v":"mit 52 kg/h wasserseitig, 484 1/min Drehzahl"},2.1,484,2.4,3.5,null,"2017-02-22","11:31:16","TT","VKL800, 4L, ISH-Prototyp",51.750045,13.896000000000001,17.260000000000002,-3.3639999999999999,-202.13452799999999,23.894853000000001,124.343356,0,22.355333000000002,17.500333000000001,22.355333000000002,17.500333000000001,"-",0,0,22.28,22.34,22.45,17.559999999999999,17.41,17.53,22.82]
[null,null,2.1,484,2.4,3.5,null,"2017-02-22","11:31:30","TT","VKL800, 4L, ISH-Prototyp",51.801394999999999,13.895,17.265999999999998,-3.371,-202.75612799999999,23.978728,124.92300299999999,0,22.350667000000001,17.503333000000001,22.350667000000001,17.503333000000001,"-",0,0,22.27,22.33,22.45,17.559999999999999,17.420000000000002,17.53,22.82]
["V60",{"$f":"B407","v":"VKL800; ISH Prototyp; mit Filter, Schlitzelemente umgebaut (Steg & Versperrung untereinander), mit 3-3,5cm Schalldämm."},{"$f":"AVERAGE(C407:C409)","v":2.1},{"$f":"AVERAGE(D407:D409)","v":484},{"$f":"AVERAGE(E407:E409)","v":2.4},{"$f":"AVERAGE(F407:F409)","v":3.5},null,{"$f":"H409","v":"2017-02-22"},null,{"$f":"J409","v":"TT"},null,{"$f":"AVERAGE(L407:L409)","v":51.865944333333324},13.896000000000001,17.269666666666669,-3.3736666666666668,-203.17073600000001,23.999263666666668,124.77748533333333,0,22.361666666666668,17.498777666666669,null,null,null,null,{"$f":"AVERAGE(Z407:Z409)","v":0},22.283333333333331,22.346666666666664,22.456666666666667,17.556666666666668,17.413333333333334,17.526666666666667,22.810000000000002]
[]
[]
[null,"VKL800; ISH Prototyp; mit Filter, Schlitzelemente umgebaut (Steg & Versperrung untereinander), mit 3-3,5cm Schalldämm.",10.7,484,2.4,3.5,null,"2017-02-22","11:49:47","TT","VKL800, 4L, ISH-Prototyp",127.252813,13.724,15.513999999999999,-1.79,-264.48083300000002,30.758354000000001,127.524702,0,22.322666999999999,16.128667,22.322666999999999,16.128667,"-",0,0,22.26,22.24,22.48,16.18,16.04,16.16,22.96]
[null,{"$f":"CONCATENATE(\"mit \",ROUND(L416,0),\" kg/h wasserseitig, \",ROUND(D416,0),\" 1/min Drehzahl\")","v":"mit 127 kg/h wasserseitig, 484 1/min Drehzahl"},10.7,484,2.4,3.5,null,"2017-02-22","11:50:43","TT","VKL800, 4L, ISH-Prototyp",127.634108,13.718999999999999,15.523999999999999,-1.8049999999999999,-267.49627299999997,31.103012,128.88155499999999,0,22.319333,16.120667000000001,22.319333,16.120667000000001,"-",0,0,22.25,22.26,22.45,16.18,16.03,16.149999999999999,22.95]
[null,null,10.7,484,2.4,3.5,null,"2017-02-22","11:50:57","TT","VKL800, 4L, ISH-Prototyp",126.87300999999999,13.723000000000001,15.522,-1.7989999999999999,-265.01727699999998,30.821936000000001,127.680291,0,22.321332999999999,16.122333000000001,22.321332999999999,16.122333000000001,"-",0,0,22.26,22.27,22.44,16.18,16.03,16.149999999999999,22.97]
["V61",{"$f":"B413","v":"VKL800; ISH Prototyp; mit Filter, Schlitzelemente umgebaut (Steg & Versperrung untereinander), mit 3-3,5cm Schalldämm."},{"$f":"AVERAGE(C413:C415)","v":10.699999999999998},{"$f":"AVERAGE(D413:D415)","v":484},{"$f":"AVERAGE(E413:E415)","v":2.4},{"$f":"AVERAGE(F413:F415)","v":3.5},null,{"$f":"H415","v":"2017-02-22"},null,{"$f":"J415","v":"TT"},null,{"$f":"AVERAGE(L413:L415)","v":127.25331033333333},13.722,15.519999999999998,-1.798,-265.6647943333333,30.894434,128.02884933333334,0,22.321110999999998,16.123889000000002,null,null,null,null,{"$f":"AVERAGE(Z413:Z415)","v":0},22.256666666666671,22.256666666666664,22.456666666666667,16.18,16.033333333333335,16.153333333333332,22.959999999999997]
[]
[]
[null,"VKL800; ISH Prototyp; mit Filter, Schlitzelemente umgebaut (Steg & Versperrung untereinander), mit 3-3,5cm Schalldämm.",33.6,484,2.4,3.5,null,"2017-02-22","11:59:19","TT","VKL800, 4L, ISH-Prototyp",236.95951199999999,13.654,14.706,-1.052,-289.44341100000003,33.375494000000003,130.02360300000001,0,22.326333000000002,15.678000000000001,22.326333000000002,15.678000000000001,"-",0,0,22.27,22.29,22.42,15.73,15.59,15.72,23]
[null,{"$f":"CONCATENATE(\"mit \",ROUND(L422,0),\" kg/h wasserseitig, \",ROUND(D422,0),\" 1/min Drehzahl\")","v":"mit 237 kg/h wasserseitig, 484 1/min Drehzahl"},33.6,484,2.4,3.5,null,"2017-02-22","11:59:33","TT","VKL800, 4L, ISH-Prototyp",237.850109,13.657999999999999,14.71,-1.052,-290.53126600000002,33.464917999999997,130.17290499999999,0,22.339666999999999,15.673999999999999,22.339666999999999,15.673999999999999,"-",0,0,22.29,22.3,22.43,15.73,15.58,15.71,22.99]
[null,null,33.6,484,2.4,3.5,null,"2017-02-22","11:59:47","TT","VKL800, 4L, ISH-Prototyp",237.61303000000001,13.667999999999999,14.712999999999999,-1.0449999999999999,-288.31041099999999,33.239738000000003,129.07457299999999,0,22.341667000000001,15.670667,22.341667000000001,15.670667,"-",0,0,22.29,22.3,22.43,15.72,15.58,15.71,23.01]
["V62",{"$f":"B419","v":"VKL800; ISH Prototyp; mit Filter, Schlitzelemente umgebaut (Steg & Versperrung untereinander), mit 3-3,5cm Schalldämm."},{"$f":"AVERAGE(C419:C421)","v":33.6},{"$f":"AVERAGE(D419:D421)","v":484},{"$f":"AVERAGE(E419:E421)","v":2.4},{"$f":"AVERAGE(F419:F421)","v":3.5},null,{"$f":"H421","v":"2017-02-22"},null,{"$f":"J421","v":"TT"},null,{"$f":"AVERAGE(L419:L421)","v":237.47421699999998},13.659999999999998,14.709666666666665,-1.0496666666666667,-289.42836266666671,33.360050000000001,129.75702699999999,0,22.335888999999998,15.674222333333333,null,null,null,null,{"$f":"AVERAGE(Z419:Z421)","v":0},22.283333333333331,22.296666666666667,22.426666666666666,15.726666666666667,15.583333333333334,15.713333333333333,23]
[]
[]
[null,"VKL800; ISH Prototyp; mit Filter, Schlitzelemente umgebaut (Steg & Versperrung untereinander), mit 3-3,5cm Schalldämm.",53.6,484,2.4,3.5,null,"2017-02-22","13:04:51","TT","VKL800, 4L, ISH-Prototyp",308.35148400000003,13.653,14.494,-0.84099999999999997,-301.10351100000003,34.488031999999997,131.15175199999999,0,22.383666999999999,15.526999999999999,22.383666999999999,15.526999999999999,"-",0,0,22.37,22.35,22.43,15.58,15.44,15.56,23.03]
[null,{"$f":"CONCATENATE(\"mit \",ROUND(L428,0),\" kg/h wasserseitig, \",ROUND(D428,0),\" 1/min Drehzahl\")","v":"mit 307 kg/h wasserseitig, 484 1/min Drehzahl"},53.6,484,2.4,3.5,null,"2017-02-22","13:05:05","TT","VKL800, 4L, ISH-Prototyp",307.73746199999999,13.657999999999999,14.497999999999999,-0.84,-300.14660500000002,34.360062999999997,130.54456099999999,0,22.393332999999998,15.526667,22.393332999999998,15.526667,"-",0,0,22.39,22.36,22.43,15.58,15.44,15.56,23.02]
[null,null,53.6,484,2.4,3.5,null,"2017-02-22","13:05:19","TT","VKL800, 4L, ISH-Prototyp",304.96706699999999,13.664,14.489000000000001,-0.82499999999999996,-292.133036,33.489972999999999,127.120881,0,22.387,15.523667,22.387,15.523667,"-",0,0,22.37,22.36,22.43,15.58,15.44,15.55,23.04]
["V63",{"$f":"B425","v":"VKL800; ISH Prototyp; mit Filter, Schlitzelemente umgebaut (Steg & Versperrung untereinander), mit 3-3,5cm Schalldämm."},{"$f":"AVERAGE(C425:C427)","v":53.6},{"$f":"AVERAGE(D425:D427)","v":484},{"$f":"AVERAGE(E425:E427)","v":2.4},{"$f":"AVERAGE(F425:F427)","v":3.5},null,{"$f":"H427","v":"2017-02-22"},null,{"$f":"J427","v":"TT"},null,{"$f":"AVERAGE(L425:L427)","v":307.01867100000004},13.658333333333333,14.493666666666664,-0.83533333333333337,-297.79438400000004,34.112689333333329,129.60573133333332,0,22.388000000000002,15.525777999999997,null,null,null,null,{"$f":"AVERAGE(Z425:Z427)","v":0},22.376666666666669,22.356666666666666,22.429999999999996,15.58,15.44,15.556666666666667,23.03]
[]
[]
[]
[null,"VKL800; ISH Prototyp; mit Filter, Schlitzelemente umgebaut (Steg & Versperrung untereinander), mit 3-3,5cm Schalldämm.",2.6,1145,19,10,null,"2017-02-22","13:29:04","TT","VKL800, 4L, ISH-Prototyp",59.974863999999997,13.88,19.100000000000001,-5.22,-363.50765100000001,42.061286000000003,357.00019200000003,0,22.522333,19.481332999999999,22.522333,19.481332999999999,"-",0,0,22.49,22.49,22.58,19.52,19.440000000000001,19.48,22.97]
[null,{"$f":"CONCATENATE(\"mit \",ROUND(L435,0),\" kg/h wasserseitig, \",ROUND(D435,0),\" 1/min Drehzahl\")","v":"mit 60 kg/h wasserseitig, 1145 1/min Drehzahl"},2.6,1145,19,10,null,"2017-02-22","13:29:18","TT","VKL800, 4L, ISH-Prototyp",60.152773000000003,13.884,19.113,-5.2290000000000001,-365.21455500000002,42.263680999999998,358.08777300000003,0,22.525333,19.479333,22.525333,19.479333,"-",0,0,22.5,22.49,22.58,19.52,19.440000000000001,19.48,22.96]
[null,null,2.6,1145,19,10,null,"2017-02-22","13:29:32","TT","VKL800, 4L, ISH-Prototyp",60.152130999999997,13.885999999999999,19.103000000000002,-5.2169999999999996,-364.37253700000002,42.140231999999997,357.14493599999997,0,22.532667,19.485666999999999,22.532667,19.485666999999999,"-",0,0,22.52,22.49,22.58,19.52,19.45,19.48,22.96]
["V64",{"$f":"B432","v":"VKL800; ISH Prototyp; mit Filter, Schlitzelemente umgebaut (Steg & Versperrung untereinander), mit 3-3,5cm Schalldämm."},{"$f":"AVERAGE(C432:C434)","v":2.6},{"$f":"AVERAGE(D432:D434)","v":1145},{"$f":"AVERAGE(E432:E434)","v":19},{"$f":"AVERAGE(F432:F434)","v":10},null,{"$f":"H434","v":"2017-02-22"},null,{"$f":"J434","v":"TT"},null,{"$f":"AVERAGE(L432:L434)","v":60.093255999999997},13.883333333333335,19.105333333333334,-5.2220000000000004,-364.36491433333339,42.15506633333333,357.41096700000003,0,22.526777666666664,19.482111,null,null,null,null,{"$f":"AVERAGE(Z432:Z434)","v":0},22.50333333333333,22.49,22.58,19.52,19.443333333333332,19.48,22.963333333333335]
[]
[]
[null,"VKL800; ISH Prototyp; mit Filter, Schlitzelemente umgebaut (Steg & Versperrung untereinander), mit 3-3,5cm Schalldämm.",11,1145,19,10,null,"2017-02-22","13:38:28","TT","VKL800, 4L, ISH-Prototyp",127.251943,13.744999999999999,17.32,-3.5750000000000002,-528.21927900000003,60.182212999999997,355.19937499999997,0,22.521999999999998,18.080666999999998,22.521999999999998,18.080666999999998,"-",0,0,22.48,22.5,22.59,18.12,18.05,18.079999999999998,22.92]
[null,{"$f":"CONCATENATE(\"mit \",ROUND(L441,0),\" kg/h wasserseitig, \",ROUND(D441,0),\" 1/min Drehzahl\")","v":"mit 128 kg/h wasserseitig, 1145 1/min Drehzahl"},11,1145,19,10,null,"2017-02-22","13:38:42","TT","VKL800, 4L, ISH-Prototyp",127.868836,13.738,17.3,-3.5619999999999998,-528.84987699999999,60.251770999999998,355.62341800000002,0,22.515332999999998,18.074000000000002,22.515332999999998,18.074000000000002,"-",0,0,22.48,22.48,22.58,18.11,18.04,18.07,22.91]
[null,null,11,1145,19,10,null,"2017-02-22","13:39:10","TT","VKL800, 4L, ISH-Prototyp",127.74169999999999,13.734,17.280999999999999,-3.5470000000000002,-526.09922300000005,60.052419,354.41213800000003,0,22.494667,18.061333000000001,22.494667,18.061333000000001,"-",0,0,22.46,22.46,22.56,18.100000000000001,18.02,18.07,22.91]
["V65",{"$f":"B438","v":"VKL800; ISH Prototyp; mit Filter, Schlitzelemente umgebaut (Steg & Versperrung untereinander), mit 3-3,5cm Schalldämm."},{"$f":"AVERAGE(C438:C440)","v":11},{"$f":"AVERAGE(D438:D440)","v":1145},{"$f":"AVERAGE(E438:E440)","v":19},{"$f":"AVERAGE(F438:F440)","v":10},null,{"$f":"H440","v":"2017-02-22"},null,{"$f":"J440","v":"TT"},null,{"$f":"AVERAGE(L438:L440)","v":127.62082633333334},13.738999999999999,17.300333333333334,-3.5613333333333337,-527.72279300000002,60.162134333333334,355.07831033333332,0,22.510666666666665,18.072000000000003,null,null,null,null,{"$f":"AVERAGE(Z438:Z440)","v":0},22.473333333333333,22.48,22.576666666666668,18.110000000000003,18.036666666666665,18.073333333333334,22.91333333333333]
[]
[]
[null,"VKL800; ISH Prototyp; mit Filter, Schlitzelemente umgebaut (Steg & Versperrung untereinander), mit 3-3,5cm Schalldämm.",34.1,1145,19,10,null,"2017-02-22","13:58:45","TT","VKL800, 4L, ISH-Prototyp",239.45430500000001,13.673,15.929,-2.2559999999999998,-627.24257,71.081014999999994,355.41953000000001,0,22.497333000000001,17.226666999999999,22.497333000000001,17.226666999999999,"-",0,0,22.4,22.52,22.58,17.260000000000002,17.190000000000001,17.23,22.96]
[null,{"$f":"CONCATENATE(\"mit \",ROUND(L447,0),\" kg/h wasserseitig, \",ROUND(D447,0),\" 1/min Drehzahl\")","v":"mit 239 kg/h wasserseitig, 1145 1/min Drehzahl"},34.1,1145,19,10,null,"2017-02-22","13:58:59","TT","VKL800, 4L, ISH-Prototyp",238.08738,13.673999999999999,15.923999999999999,-2.25,-622.00328100000002,70.391559000000001,351.93882200000002,0,22.510332999999999,17.231999999999999,22.510332999999999,17.231999999999999,"-",0,0,22.42,22.52,22.58,17.27,17.2,17.23,22.96]
[null,null,34.1,1145,19,10,null,"2017-02-22","13:59:13","TT","VKL800, 4L, ISH-Prototyp",238.50095999999999,13.675000000000001,15.901999999999999,-2.2269999999999999,-616.71445600000004,69.774602999999999,348.50615299999998,0,22.513667000000002,17.228667000000002,22.513667000000002,17.228667000000002,"-",0,0,22.42,22.54,22.58,17.27,17.190000000000001,17.23,22.97]
["V66",{"$f":"B444","v":"VKL800; ISH Prototyp; mit Filter, Schlitzelemente umgebaut (Steg & Versperrung untereinander), mit 3-3,5cm Schalldämm."},{"$f":"AVERAGE(C444:C446)","v":34.1},{"$f":"AVERAGE(D444:D446)","v":1145},{"$f":"AVERAGE(E444:E446)","v":19},{"$f":"AVERAGE(F444:F446)","v":10},null,{"$f":"H446","v":"2017-02-22"},null,{"$f":"J446","v":"TT"},null,{"$f":"AVERAGE(L444:L446)","v":238.68088166666666},13.674000000000001,15.918333333333335,-2.2443333333333335,-621.98676900000009,70.415725666666674,351.954835,0,22.507110999999998,17.229111333333332,null,null,null,null,{"$f":"AVERAGE(Z444:Z446)","v":0},22.413333333333338,22.526666666666667,22.58,17.266666666666666,17.193333333333332,17.23,22.963333333333335]
[]
[]
[null,"VKL800; ISH Prototyp; mit Filter, Schlitzelemente umgebaut (Steg & Versperrung untereinander), mit 3-3,5cm Schalldämm.",53.5,1145,19,10,null,"2017-02-22","14:09:34","TT","VKL800, 4L, ISH-Prototyp",308.55453799999998,13.676,15.459,-1.7829999999999999,-638.78845999999999,73.121390000000005,351.81590299999999,0,22.411999999999999,16.989332999999998,22.411999999999999,16.989332999999998,"-",0,0,22.33,22.39,22.51,17.03,16.95,16.989999999999998,22.95]
[null,{"$f":"CONCATENATE(\"mit \",ROUND(L453,0),\" kg/h wasserseitig, \",ROUND(D453,0),\" 1/min Drehzahl\")","v":"mit 308 kg/h wasserseitig, 1145 1/min Drehzahl"},53.5,1145,19,10,null,"2017-02-22","14:09:48","TT","VKL800, 4L, ISH-Prototyp",308.86721799999998,13.679,15.472,-1.7929999999999999,-643.02208099999996,73.715703000000005,354.62716999999998,0,22.402000000000001,16.986667000000001,22.402000000000001,16.986667000000001,"-",0,0,22.32,22.39,22.51,17.02,16.940000000000001,16.989999999999998,22.97]
[null,null,53.5,1145,19,10,null,"2017-02-22","14:10:16","TT","VKL800, 4L, ISH-Prototyp",307.22183000000001,13.676,15.481,-1.8049999999999999,-643.87721899999997,73.658924999999996,354.22662200000002,0,22.417332999999999,16.988667,22.417332999999999,16.988667,"-",0,0,22.33,22.41,22.51,17.02,16.95,16.989999999999998,22.97]
["V67",{"$f":"B450","v":"VKL800; ISH Prototyp; mit Filter, Schlitzelemente umgebaut (Steg & Versperrung untereinander), mit 3-3,5cm Schalldämm."},{"$f":"AVERAGE(C450:C452)","v":53.5},{"$f":"AVERAGE(D450:D452)","v":1145},{"$f":"AVERAGE(E450:E452)","v":19},{"$f":"AVERAGE(F450:F452)","v":10},null,{"$f":"H452","v":"2017-02-22"},null,{"$f":"J452","v":"TT"},null,{"$f":"AVERAGE(L450:L452)","v":308.21452866666664},13.677,15.470666666666666,-1.7936666666666665,-641.89591999999993,73.498672666666664,353.55656500000003,0,22.410444333333334,16.988222333333333,null,null,null,null,{"$f":"AVERAGE(Z450:Z452)","v":0},22.326666666666664,22.396666666666665,22.51,17.02333333333333,16.946666666666669,16.989999999999998,22.963333333333335]
[]
[]
[null,"Kontrollmessung: Stichprobe für Auslegung"]
[]
[null,"VKL800; ISH Prototyp; mit Filter, Schlitzelemente umgebaut (Steg & Versperrung untereinander), mit 3-3,5cm Schalldämm.",18.100000000000001,665,5.3,5,null,"2017-02-22","15:41:56","TT","VKL800, 4L, ISH-Prototyp",167.62620200000001,13.7,15.66,-1.96,-381.479986,43.382863999999998,186.50764699999999,0,22.493333,16.384667,22.493333,16.384667,"-",0,0,22.38,22.48,22.63,16.440000000000001,16.309999999999999,16.399999999999999,23.23]
[null,{"$f":"CONCATENATE(\"mit \",ROUND(L461,0),\" kg/h wasserseitig, \",ROUND(D461,0),\" 1/min Drehzahl\")","v":"mit 168 kg/h wasserseitig, 665 1/min Drehzahl"},18.100000000000001,665,5.3,5,null,"2017-02-22","15:42:10","TT","VKL800, 4L, ISH-Prototyp",167.62477799999999,13.7,15.662000000000001,-1.962,-381.86600600000003,43.448174999999999,186.798306,0,22.489000000000001,16.383666999999999,22.489000000000001,16.383666999999999,"-",0,0,22.36,22.48,22.62,16.440000000000001,16.309999999999999,16.399999999999999,23.23]
[null,null,18.100000000000001,665,5.3,5,null,"2017-02-22","15:42:24","TT","VKL800, 4L, ISH-Prototyp",167.291954,13.7,15.664,-1.964,-381.49628999999999,43.392943000000002,186.464744,0,22.491667,16.381333000000001,22.491667,16.381333000000001,"-",0,0,22.37,22.49,22.62,16.43,16.32,16.39,23.23]
["V68",{"$f":"B458","v":"VKL800; ISH Prototyp; mit Filter, Schlitzelemente umgebaut (Steg & Versperrung untereinander), mit 3-3,5cm Schalldämm."},{"$f":"AVERAGE(C458:C460)","v":18.100000000000001},{"$f":"AVERAGE(D458:D460)","v":665},{"$f":"AVERAGE(E458:E460)","v":5.3},{"$f":"AVERAGE(F458:F460)","v":5},null,{"$f":"H460","v":"2017-02-22"},null,{"$f":"J460","v":"TT"},null,{"$f":"AVERAGE(L458:L460)","v":167.51431133333335},13.699999999999998,15.662000000000001,-1.9619999999999997,-381.61409400000002,43.407994000000002,186.59023233333332,0,22.49133333333333,16.383222333333332,null,null,null,null,{"$f":"AVERAGE(Z458:Z460)","v":0},22.37,22.483333333333334,22.623333333333335,16.436666666666667,16.313333333333333,16.396666666666665,23.23]
[]
[null,"Kontrollmessung: Stichprobe für Auslegung"]
[]
[null,"VKL800; ISH Prototyp; mit Filter, Schlitzelemente umgebaut (Steg & Versperrung untereinander), mit 3-3,5cm Schalldämm.",8.6999999999999993,602,5.3,4.5,null,"2017-02-22","16:04:11","TT","VKL800, 4L, ISH-Prototyp",108.80100299999999,13.759,16.34,-2.581,-326.05786899999998,36.376854000000002,164.427007,0,22.722332999999999,16.8,22.722332999999999,16.8,"-",0,0,22.67,22.68,22.82,16.86,16.73,16.82,23.39]
[null,{"$f":"CONCATENATE(\"mit \",ROUND(L468,0),\" kg/h wasserseitig, \",ROUND(D468,0),\" 1/min Drehzahl\")","v":"mit 109 kg/h wasserseitig, 602 1/min Drehzahl"},8.6999999999999993,602,5.3,4.5,null,"2017-02-22","16:04:25","TT","VKL800, 4L, ISH-Prototyp",109.34563199999999,13.762,16.353000000000002,-2.5910000000000002,-328.959653,36.684223000000003,165.731764,0,22.729333,16.801333,22.729333,16.801333,"-",0,0,22.68,22.68,22.83,16.86,16.73,16.82,23.38]
[null,null,8.6999999999999993,602,5.3,4.5,null,"2017-02-22","16:04:39","TT","VKL800, 4L, ISH-Prototyp",109.017104,13.763,16.367999999999999,-2.605,-329.74342899999999,36.752499999999998,166.061272,0,22.734999999999999,16.804666999999998,22.734999999999999,16.804666999999998,"-",0,0,22.69,22.69,22.82,16.86,16.73,16.82,23.38]
["V69",{"$f":"B465","v":"VKL800; ISH Prototyp; mit Filter, Schlitzelemente umgebaut (Steg & Versperrung untereinander), mit 3-3,5cm Schalldämm."},{"$f":"AVERAGE(C465:C467)","v":8.6999999999999993},{"$f":"AVERAGE(D465:D467)","v":602},{"$f":"AVERAGE(E465:E467)","v":5.3},{"$f":"AVERAGE(F465:F467)","v":4.5},null,{"$f":"H467","v":"2017-02-22"},null,{"$f":"J467","v":"TT"},null,{"$f":"AVERAGE(L465:L467)","v":109.05457966666667},13.761333333333333,16.353666666666665,-2.5923333333333338,-328.25365033333333,36.604525666666667,165.40668100000002,0,22.728888666666666,16.801999999999996,null,null,null,null,{"$f":"AVERAGE(Z465:Z467)","v":0},22.680000000000003,22.683333333333334,22.823333333333334,16.86,16.73,16.82,23.383333333333329]
[]
[]
[]
[null,"Drehzahlvariation - mit 3-3,5cm Schalldämmung, 3,2mm Lamellenabstand, mit Isolierung der Kondensatwanne, mit Filter, mit 3D-Strömung"]
[null,"immer mit 3,2mm Lamellenabstand und Isolierung der Kondensatwanne (Elemente LDB 12/M/3 umgebaut -> Steg & Versperrung untereinander)"]
[]
[null,"VKL800; ISH Prototyp; mit Filter, 2MR,  mit 3-3,5cm Schalldämm., mit 3D-Strömung",25.9,734,5,5.6,null,"2017-02-23","10:20:51","TT","VKL800, 4L, ISH-Prototyp",204.95412400000001,13.673999999999999,15.451000000000001,-1.7769999999999999,-422.88070499999998,47.233407999999997,199.33061900000001,0,22.626999999999999,16.291,22.626999999999999,16.291,"-",0,0,22.65,22.61,22.61,16.2,16.399999999999999,16.27,22.02]
[null,{"$f":"CONCATENATE(\"mit \",ROUND(L478,0),\" kg/h wasserseitig, \",ROUND(D478,0),\" 1/min Drehzahl\")","v":"mit 205 kg/h wasserseitig, 734 1/min Drehzahl"},25.9,734,5,5.6,null,"2017-02-23","10:21:05","TT","VKL800, 4L, ISH-Prototyp",205.56528599999999,13.673,15.452999999999999,-1.78,-424.85776499999997,47.394240000000003,199.96796699999999,0,22.637333000000002,16.292000000000002,22.637333000000002,16.292000000000002,"-",0,0,22.67,22.62,22.62,16.2,16.399999999999999,16.27,22.02]
[null,null,25.9,734,5,5.6,null,"2017-02-23","10:21:19","TT","VKL800, 4L, ISH-Prototyp",205.16321400000001,13.673999999999999,15.445,-1.7709999999999999,-421.88281599999999,47.065874999999998,198.59904599999999,0,22.637667,16.293333000000001,22.637667,16.293333000000001,"-",0,0,22.66,22.62,22.63,16.2,16.399999999999999,16.28,22.04]
["V70",{"$f":"B475","v":"VKL800; ISH Prototyp; mit Filter, 2MR,  mit 3-3,5cm Schalldämm., mit 3D-Strömung"},{"$f":"AVERAGE(C475:C477)","v":25.899999999999995},{"$f":"AVERAGE(D475:D477)","v":734},{"$f":"AVERAGE(E475:E477)","v":5},{"$f":"AVERAGE(F475:F477)","v":5.5999999999999988},null,{"$f":"H477","v":"2017-02-23"},null,{"$f":"J477","v":"TT"},null,{"$f":"AVERAGE(L475:L477)","v":205.22754133333333},13.673666666666668,15.449666666666667,-1.7759999999999998,-423.20709533333337,47.231174333333335,199.29921066666665,0,22.634,16.292111000000002,null,null,null,null,{"$f":"AVERAGE(Z475:Z477)","v":0},22.66,22.616666666666671,22.62,16.2,16.399999999999999,16.273333333333333,22.026666666666667]
[]
[]
[null,"VKL800; ISH Prototyp; mit Filter, 2MR,  mit 3-3,5cm Schalldämm., mit 3D-Strömung",25.9,489,1.9,3.5,null,"2017-02-23","10:39:45","TT","VKL800, 4L, ISH-Prototyp",200.45070100000001,13.669,14.917,-1.248,-290.46642900000001,31.800571999999999,123.299695,0,22.803000000000001,15.767333000000001,22.803000000000001,15.767333000000001,"-",0,0,22.85,22.76,22.8,15.65,15.93,15.73,22.42]
[null,{"$f":"CONCATENATE(\"mit \",ROUND(L484,0),\" kg/h wasserseitig, \",ROUND(D484,0),\" 1/min Drehzahl\")","v":"mit 201 kg/h wasserseitig, 489 1/min Drehzahl"},25.9,489,1.9,3.5,null,"2017-02-23","10:39:59","TT","VKL800, 4L, ISH-Prototyp",201.052424,13.666,14.92,-1.254,-292.73903100000001,32.036518999999998,124.29383300000001,0,22.803667000000001,15.769667,22.803667000000001,15.769667,"-",0,0,22.85,22.75,22.8,15.65,15.93,15.73,22.39]
[null,null,25.9,489,1.9,3.5,null,"2017-02-23","10:40:13","TT","VKL800, 4L, ISH-Prototyp",201.57652300000001,13.666,14.923,-1.2569999999999999,-294.204294,32.201571999999999,124.90412999999999,0,22.802333000000001,15.767666999999999,22.802333000000001,15.767666999999999,"-",0,0,22.85,22.75,22.81,15.64,15.93,15.73,22.4]
["V71",{"$f":"B481","v":"VKL800; ISH Prototyp; mit Filter, 2MR,  mit 3-3,5cm Schalldämm., mit 3D-Strömung"},{"$f":"AVERAGE(C481:C483)","v":25.899999999999995},{"$f":"AVERAGE(D481:D483)","v":489},{"$f":"AVERAGE(E481:E483)","v":1.8999999999999997},{"$f":"AVERAGE(F481:F483)","v":3.5},null,{"$f":"H483","v":"2017-02-23"},null,{"$f":"J483","v":"TT"},null,{"$f":"AVERAGE(L481:L483)","v":201.02654933333335},13.667000000000002,14.92,-1.2529999999999999,-292.46991800000001,32.012887666666664,124.165886,0,22.803000000000001,15.768222333333332,null,null,null,null,{"$f":"AVERAGE(Z481:Z483)","v":0},22.850000000000005,22.753333333333334,22.803333333333331,15.646666666666667,15.93,15.729999999999999,22.403333333333336]
[]
[]
[null,"VKL800; ISH Prototyp; mit Filter, 2MR,  mit 3-3,5cm Schalldämm., mit 3D-Strömung",25.9,1039,12,8,null,"2017-02-23","10:54:13","TT","VKL800, 4L, ISH-Prototyp",201.37744799999999,13.714,16.053000000000001,-2.339,-546.90870399999994,60.283135999999999,286.32276300000001,0,22.786332999999999,17.081666999999999,22.786332999999999,17.081666999999999,"-",0,0,22.74,22.81,22.81,17.03,17.14,17.07,22.65]
[null,{"$f":"CONCATENATE(\"mit \",ROUND(L490,0),\" kg/h wasserseitig, \",ROUND(D490,0),\" 1/min Drehzahl\")","v":"mit 201 kg/h wasserseitig, 1039 1/min Drehzahl"},25.9,1039,12,8,null,"2017-02-23","10:54:27","TT","VKL800, 4L, ISH-Prototyp",200.85180099999999,13.717000000000001,16.062999999999999,-2.3460000000000001,-547.11360999999999,60.376708999999998,286.76515999999998,0,22.778666999999999,17.080666999999998,22.778666999999999,17.080666999999998,"-",0,0,22.73,22.79,22.82,17.03,17.14,17.07,22.65]
[null,null,25.9,1039,12,8,null,"2017-02-23","10:54:41","TT","VKL800, 4L, ISH-Prototyp",201.17159100000001,13.718,16.074999999999999,-2.3570000000000002,-550.55411600000002,60.731811999999998,288.09657099999998,0,22.783332999999999,17.076000000000001,22.783332999999999,17.076000000000001,"-",0,0,22.74,22.79,22.82,17.03,17.14,17.07,22.65]
["V72",{"$f":"B487","v":"VKL800; ISH Prototyp; mit Filter, 2MR,  mit 3-3,5cm Schalldämm., mit 3D-Strömung"},{"$f":"AVERAGE(C487:C489)","v":25.899999999999995},{"$f":"AVERAGE(D487:D489)","v":1039},{"$f":"AVERAGE(E487:E489)","v":12},{"$f":"AVERAGE(F487:F489)","v":8},null,{"$f":"H489","v":"2017-02-23"},null,{"$f":"J489","v":"TT"},null,{"$f":"AVERAGE(L487:L489)","v":201.13361333333333},13.716333333333333,16.063666666666666,-2.3473333333333337,-548.19214333333332,60.463885666666663,287.06149800000003,0,22.782777666666664,17.079444666666667,null,null,null,null,{"$f":"AVERAGE(Z487:Z489)","v":0},22.736666666666665,22.796666666666663,22.816666666666663,17.03,17.14,17.07,22.649999999999995]
[]
[]
[null,"VKL800; ISH Prototyp; mit Filter, 2MR,  mit 3-3,5cm Schalldämm., mit 3D-Strömung",25.9,1146,18,10,null,"2017-02-23","11:03:19","TT","VKL800, 4L, ISH-Prototyp",201.174519,13.702999999999999,16.337,-2.6339999999999999,-615.26544200000001,65.752219999999994,326.96217999999999,0,23.060333,17.440332999999999,23.060333,17.440332999999999,"-",0,0,23.01,23.04,23.13,17.399999999999999,17.489999999999998,17.440000000000001,22.78]
[null,{"$f":"CONCATENATE(\"mit \",ROUND(L496,0),\" kg/h wasserseitig, \",ROUND(D496,0),\" 1/min Drehzahl\")","v":"mit 201 kg/h wasserseitig, 1146 1/min Drehzahl"},25.9,1146,18,10,null,"2017-02-23","11:03:33","TT","VKL800, 4L, ISH-Prototyp",201.37504000000001,13.705,16.332000000000001,-2.6269999999999998,-614.24197900000001,65.563435999999996,325.87709899999999,0,23.073667,17.444333,23.073667,17.444333,"-",0,0,23.05,23.05,23.13,17.399999999999999,17.5,17.440000000000001,22.77]
[null,null,25.9,1146,18,10,null,"2017-02-23","11:03:47","TT","VKL800, 4L, ISH-Prototyp",201.050254,13.705,16.312999999999999,-2.6080000000000001,-608.81591000000003,64.968082999999993,323.18975,0,23.076000000000001,17.45,23.076000000000001,17.45,"-",0,0,23.05,23.07,23.11,17.41,17.5,17.440000000000001,22.77]
["V73",{"$f":"B493","v":"VKL800; ISH Prototyp; mit Filter, 2MR,  mit 3-3,5cm Schalldämm., mit 3D-Strömung"},{"$f":"AVERAGE(C493:C495)","v":25.899999999999995},{"$f":"AVERAGE(D493:D495)","v":1146},{"$f":"AVERAGE(E493:E495)","v":18},{"$f":"AVERAGE(F493:F495)","v":10},null,{"$f":"H495","v":"2017-02-23"},null,{"$f":"J495","v":"TT"},null,{"$f":"AVERAGE(L493:L495)","v":201.19993766666667},13.704333333333333,16.327333333333332,-2.6229999999999998,-612.77444366666668,65.42791299999999,325.34300966666666,0,23.070000000000004,17.444888666666667,null,null,null,null,{"$f":"AVERAGE(Z493:Z495)","v":0},23.036666666666665,23.053333333333331,23.123333333333335,17.403333333333332,17.496666666666666,17.440000000000001,22.77333333333333]
[]
[]
[null,"Wassermengenvariation"]
[]
[null,"VKL800; ISH Prototyp; mit Filter, 2MR,  mit 3-3,5cm Schalldämm., mit 3D-Strömung",2.6,750,6,5.6,null,"2017-02-23","11:20:52","TT","VKL800, 4L, ISH-Prototyp",59.506909999999998,13.91,18.364000000000001,-4.4539999999999997,-307.74527499999999,32.821494999999999,191.014869,0,23.286332999999999,18.474667,23.286332999999999,18.474667,"-",0,0,23.27,23.26,23.34,18.420000000000002,18.53,18.47,23.02]
[null,{"$f":"CONCATENATE(\"mit \",ROUND(L504,0),\" kg/h wasserseitig, \",ROUND(D504,0),\" 1/min Drehzahl\")","v":"mit 60 kg/h wasserseitig, 750 1/min Drehzahl"},2.6,750,6,5.6,null,"2017-02-23","11:21:06","TT","VKL800, 4L, ISH-Prototyp",59.625815000000003,13.911,18.361999999999998,-4.4509999999999996,-308.15250400000002,32.854413999999998,191.28088299999999,0,23.290333,18.478999999999999,23.290333,18.478999999999999,"-",0,0,23.28,23.27,23.33,18.420000000000002,18.54,18.47,23.03]
[null,null,2.6,750,6,5.6,null,"2017-02-23","11:21:20","TT","VKL800, 4L, ISH-Prototyp",60.092765,13.911,18.361000000000001,-4.45,-310.49597699999998,33.101917,192.82907399999999,0,23.291,18.481999999999999,23.291,18.481999999999999,"-",0,0,23.29,23.26,23.32,18.420000000000002,18.55,18.48,23.04]
["V74",{"$f":"B501","v":"VKL800; ISH Prototyp; mit Filter, 2MR,  mit 3-3,5cm Schalldämm., mit 3D-Strömung"},{"$f":"AVERAGE(C501:C503)","v":2.6},{"$f":"AVERAGE(D501:D503)","v":750},{"$f":"AVERAGE(E501:E503)","v":6},{"$f":"AVERAGE(F501:F503)","v":5.5999999999999988},null,{"$f":"H503","v":"2017-02-23"},null,{"$f":"J503","v":"TT"},null,{"$f":"AVERAGE(L501:L503)","v":59.741829999999993},13.910666666666666,18.362333333333336,-4.4516666666666671,-308.79791866666665,32.925941999999999,191.70827533333332,0,23.289221999999999,18.478555666666665,null,null,null,null,{"$f":"AVERAGE(Z501:Z503)","v":0},23.28,23.263333333333335,23.330000000000002,18.420000000000002,18.540000000000003,18.473333333333333,23.03]
[]
[]
[null,"VKL800; ISH Prototyp; mit Filter, 2MR,  mit 3-3,5cm Schalldämm., mit 3D-Strömung",10.9,750,6,5.6,null,"2017-02-23","11:29:07","TT","VKL800, 4L, ISH-Prototyp",126.621179,13.763999999999999,16.594999999999999,-2.831,-416.21718299999998,43.100050000000003,199.27184800000001,0,23.420999999999999,17.183,23.420999999999999,17.183,"-",0,0,23.44,23.38,23.43,17.079999999999998,17.3,17.16,23.14]
[null,{"$f":"CONCATENATE(\"mit \",ROUND(L510,0),\" kg/h wasserseitig, \",ROUND(D510,0),\" 1/min Drehzahl\")","v":"mit 127 kg/h wasserseitig, 750 1/min Drehzahl"},10.9,750,6,5.6,null,"2017-02-23","11:29:21","TT","VKL800, 4L, ISH-Prototyp",127.869232,13.763999999999999,16.597999999999999,-2.8340000000000001,-420.76507199999998,43.548445000000001,201.16974400000001,0,23.425999999999998,17.179333,23.425999999999998,17.179333,"-",0,0,23.45,23.39,23.44,17.07,17.3,17.170000000000002,23.14]
[null,null,10.9,750,6,5.6,null,"2017-02-23","11:29:35","TT","VKL800, 4L, ISH-Prototyp",126.62157500000001,13.765000000000001,16.591000000000001,-2.8260000000000001,-415.48337400000003,43.031489000000001,198.401038,0,23.420332999999999,17.166,23.420332999999999,17.166,"-",0,0,23.44,23.38,23.44,17.07,17.28,17.149999999999999,23.15]
["V75",{"$f":"B507","v":"VKL800; ISH Prototyp; mit Filter, 2MR,  mit 3-3,5cm Schalldämm., mit 3D-Strömung"},{"$f":"AVERAGE(C507:C509)","v":10.9},{"$f":"AVERAGE(D507:D509)","v":750},{"$f":"AVERAGE(E507:E509)","v":6},{"$f":"AVERAGE(F507:F509)","v":5.5999999999999988},null,{"$f":"H509","v":"2017-02-23"},null,{"$f":"J509","v":"TT"},null,{"$f":"AVERAGE(L507:L509)","v":127.03732866666667},13.764333333333333,16.594666666666665,-2.8303333333333334,-417.48854299999994,43.226661333333332,199.61420999999999,0,23.422444333333331,17.176111000000002,null,null,null,null,{"$f":"AVERAGE(Z507:Z509)","v":0},23.443333333333332,23.383333333333329,23.436666666666667,17.073333333333334,17.293333333333333,17.16,23.143333333333334]
[]
[]
[null,"VKL800; ISH Prototyp; mit Filter, 2MR,  mit 3-3,5cm Schalldämm., mit 3D-Strömung",33.799999999999997,750,6,5.6,null,"2017-02-23","11:35:51","TT","VKL800, 4L, ISH-Prototyp",238.323815,13.709,15.416,-1.7070000000000001,-472.36177300000003,48.463929999999998,201.75482700000001,0,23.455666999999998,16.463332999999999,23.455666999999998,16.463332999999999,"-",0,0,23.47,23.43,23.47,16.36,16.600000000000001,16.440000000000001,23.26]
[null,{"$f":"CONCATENATE(\"mit \",ROUND(L516,0),\" kg/h wasserseitig, \",ROUND(D516,0),\" 1/min Drehzahl\")","v":"mit 238 kg/h wasserseitig, 750 1/min Drehzahl"},33.799999999999997,750,6,5.6,null,"2017-02-23","11:36:19","TT","VKL800, 4L, ISH-Prototyp",238.086826,13.717000000000001,15.425000000000001,-1.708,-472.16850299999999,48.444101000000003,201.16402099999999,0,23.463667000000001,16.453666999999999,23.463667000000001,16.453666999999999,"-",0,0,23.47,23.44,23.48,16.350000000000001,16.579999999999998,16.43,23.27]
[null,null,33.799999999999997,750,6,5.6,null,"2017-02-23","11:36:33","TT","VKL800, 4L, ISH-Prototyp",238.500801,13.717000000000001,15.426,-1.7090000000000001,-473.26641499999999,48.520238999999997,201.287207,0,23.471,16.449000000000002,23.471,16.449000000000002,"-",0,0,23.48,23.45,23.48,16.350000000000001,16.579999999999998,16.420000000000002,23.26]
["V76",{"$f":"B513","v":"VKL800; ISH Prototyp; mit Filter, 2MR,  mit 3-3,5cm Schalldämm., mit 3D-Strömung"},{"$f":"AVERAGE(C513:C515)","v":33.799999999999997},{"$f":"AVERAGE(D513:D515)","v":750},{"$f":"AVERAGE(E513:E515)","v":6},{"$f":"AVERAGE(F513:F515)","v":5.5999999999999988},null,{"$f":"H515","v":"2017-02-23"},null,{"$f":"J515","v":"TT"},null,{"$f":"AVERAGE(L513:L515)","v":238.30381399999999},13.714333333333334,15.422333333333334,-1.7080000000000002,-472.59889700000002,48.476089999999999,201.40201833333333,0,23.463444666666664,16.455333333333332,null,null,null,null,{"$f":"AVERAGE(Z513:Z515)","v":0},23.473333333333333,23.44,23.47666666666667,16.353333333333335,16.586666666666666,16.430000000000003,23.263333333333335]
[]
[]
[null,"VKL800; ISH Prototyp; mit Filter, 2MR,  mit 3-3,5cm Schalldämm., mit 3D-Strömung",53.6,750,6,5.6,null,"2017-02-23","11:45:34","TT","VKL800, 4L, ISH-Prototyp",308.35318000000001,13.702999999999999,15.079000000000001,-1.3759999999999999,-492.65244899999999,50.566488999999997,203.05497299999999,0,23.445667,16.199667000000002,23.445667,16.199667000000002,"-",0,0,23.45,23.42,23.46,16.100000000000001,16.32,16.18,23.41]
[null,{"$f":"CONCATENATE(\"mit \",ROUND(L522,0),\" kg/h wasserseitig, \",ROUND(D522,0),\" 1/min Drehzahl\")","v":"mit 308 kg/h wasserseitig, 750 1/min Drehzahl"},53.6,750,6,5.6,null,"2017-02-23","11:45:48","TT","VKL800, 4L, ISH-Prototyp",306.61225100000001,13.704000000000001,15.073,-1.369,-487.37891000000002,50.002966000000001,200.91836599999999,0,23.451000000000001,16.206333000000001,23.451000000000001,16.206333000000001,"-",0,0,23.45,23.44,23.47,16.11,16.329999999999998,16.18,23.41]
[null,null,53.6,750,6,5.6,null,"2017-02-23","11:46:02","TT","VKL800, 4L, ISH-Prototyp",308.55853999999999,13.7,15.084,-1.3839999999999999,-495.84671600000001,50.817850999999997,204.24000599999999,0,23.457332999999998,16.206666999999999,23.457332999999998,16.206666999999999,"-",0,0,23.46,23.45,23.46,16.11,16.32,16.18,23.42]
["V77",{"$f":"B519","v":"VKL800; ISH Prototyp; mit Filter, 2MR,  mit 3-3,5cm Schalldämm., mit 3D-Strömung"},{"$f":"AVERAGE(C519:C521)","v":53.6},{"$f":"AVERAGE(D519:D521)","v":750},{"$f":"AVERAGE(E519:E521)","v":6},{"$f":"AVERAGE(F519:F521)","v":5.5999999999999988},null,{"$f":"H521","v":"2017-02-23"},null,{"$f":"J521","v":"TT"},null,{"$f":"AVERAGE(L519:L521)","v":307.84132366666671},13.702333333333334,15.078666666666669,-1.3763333333333332,-491.95935833333334,50.462435333333332,202.73778166666668,0,23.451333333333334,16.204222333333334,null,null,null,null,{"$f":"AVERAGE(Z519:Z521)","v":0},23.453333333333333,23.436666666666667,23.463333333333335,16.106666666666666,16.323333333333334,16.18,23.413333333333338]
[]
[]
[]
[]
[]
[null,"HEIZEN"]
[]
[null,"Drehzahlvariation - mit 3-3,5cm Schalldämmung, 3,2mm Lamellenabstand, mit Isolierung der Kondensatwanne, mit Filter, mit 3D-Strömung"]
[null,"immer mit 3,2mm Lamellenabstand und Isolierung der Kondensatwanne (Elemente LDB 12/M/3 umgebaut -> Steg & Versperrung untereinander)"]
[]
[null,"VKL800; ISH Prototyp; mit Filter, mit 3-3,5cm Schalldämm., mit 3D-Strömung",5.4,514,3.5,3.5,null,"2017-02-23","15:30:33","TT","VKL800, 4L, ISH-Prototyp, heizen",125.001644,55.298999999999999,49.911000000000001,5.3879999999999999,782.01861899999994,27.530051,119.732697,0,26.893000000000001,46.399332999999999,26.893000000000001,46.399332999999999,"-",0,0,26.54,26.36,27.79,46.89,45.77,46.55,26.09]
[null,{"$f":"CONCATENATE(\"mit \",ROUND(L536,0),\" kg/h wasserseitig, \",ROUND(D536,0),\" 1/min Drehzahl\")","v":"mit 125 kg/h wasserseitig, 514 1/min Drehzahl"},5.4,514,3.5,3.5,null,"2017-02-23","15:31:01","TT","VKL800, 4L, ISH-Prototyp, heizen",125.124971,55.301000000000002,49.896999999999998,5.4039999999999999,785.11470299999996,27.630289999999999,120.100009,0,26.885999999999999,46.409666999999999,26.885999999999999,46.409666999999999,"-",0,0,26.5,26.34,27.81,46.9,45.77,46.55,26.09]
[null,null,5.4,514,3.5,3.5,null,"2017-02-23","15:31:15","TT","VKL800, 4L, ISH-Prototyp, heizen",125.127684,55.302999999999997,49.890999999999998,5.4119999999999999,786.29402300000004,27.676988999999999,120.311223,0,26.893332999999998,46.411999999999999,26.893332999999998,46.411999999999999,"-",0,0,26.49,26.36,27.82,46.91,45.77,46.56,26.09]
["V78",{"$f":"B533","v":"VKL800; ISH Prototyp; mit Filter, mit 3-3,5cm Schalldämm., mit 3D-Strömung"},{"$f":"AVERAGE(C533:C535)","v":5.4000000000000012},{"$f":"AVERAGE(D533:D535)","v":514},{"$f":"AVERAGE(E533:E535)","v":3.5},{"$f":"AVERAGE(F533:F535)","v":3.5},null,{"$f":"H535","v":"2017-02-23"},null,{"$f":"J535","v":"TT"},null,{"$f":"AVERAGE(L533:L535)","v":125.08476633333333},55.300999999999995,49.899666666666661,5.4013333333333335,784.47578166666665,27.612443333333335,120.04797633333334,0,26.890777666666665,46.407000000000004,null,null,null,null,{"$f":"AVERAGE(Z533:Z535)","v":0},26.51,26.353333333333335,27.806666666666661,46.9,45.77,46.553333333333335,26.09]
[]
[]
[null,"VKL800; ISH Prototyp; mit Filter, mit 3-3,5cm Schalldämm., mit 3D-Strömung",5.4,760,6.3,5.6,null,"2017-02-23","15:38:01","TT","VKL800, 4L, ISH-Prototyp, heizen",126.50335800000001,55.35,48.192999999999998,7.157,1051.252041,37.342886,185.751147,0,27.198667,44.100999999999999,27.198667,44.100999999999999,"-",0,0,26.96,27.12,27.52,44.47,43.66,44.17,26.24]
[null,{"$f":"CONCATENATE(\"mit \",ROUND(L542,0),\" kg/h wasserseitig, \",ROUND(D542,0),\" 1/min Drehzahl\")","v":"mit 127 kg/h wasserseitig, 760 1/min Drehzahl"},5.4,760,6.3,5.6,null,"2017-02-23","15:38:29","TT","VKL800, 4L, ISH-Prototyp, heizen",126.747637,55.351999999999997,48.222000000000001,7.13,1049.3084819999999,37.306092999999997,185.847544,0,27.225000000000001,44.087333000000001,27.225000000000001,44.087333000000001,"-",0,0,27,27.13,27.55,44.47,43.63,44.16,26.24]
[null,null,5.4,760,6.3,5.6,null,"2017-02-23","15:38:43","TT","VKL800, 4L, ISH-Prototyp, heizen",126.37808699999999,55.348999999999997,48.209000000000003,7.14,1047.716467,37.243754000000003,185.68670700000001,0,27.217666999999999,44.069000000000003,27.217666999999999,44.069000000000003,"-",0,0,27,27.1,27.56,44.45,43.6,44.15,26.26]
["V79",{"$f":"B539","v":"VKL800; ISH Prototyp; mit Filter, mit 3-3,5cm Schalldämm., mit 3D-Strömung"},{"$f":"AVERAGE(C539:C541)","v":5.4000000000000012},{"$f":"AVERAGE(D539:D541)","v":760},{"$f":"AVERAGE(E539:E541)","v":6.3},{"$f":"AVERAGE(F539:F541)","v":5.5999999999999988},null,{"$f":"H541","v":"2017-02-23"},null,{"$f":"J541","v":"TT"},null,{"$f":"AVERAGE(L539:L541)","v":126.54302733333333},55.350333333333332,48.207999999999998,7.1423333333333332,1049.4256633333334,37.297577666666662,185.76179933333333,0,27.213778000000001,44.085777666666672,null,null,null,null,{"$f":"AVERAGE(Z539:Z541)","v":0},26.986666666666668,27.116666666666664,27.543333333333333,44.463333333333331,43.629999999999995,44.16,26.246666666666666]
[]
[]
[]
[null,"VKL800; ISH Prototyp; mit Filter, mit 3-3,5cm Schalldämm., mit 3D-Strömung",5.4,1064,13.4,8,null,"2017-02-23","15:45:15","TT","VKL800, 4L, ISH-Prototyp, heizen",125.745741,55.377000000000002,46.691000000000003,8.6859999999999999,1268.197496,45.432851999999997,266.57233000000002,0,27.463332999999999,41.671666999999999,27.463332999999999,41.671666999999999,"-",0,0,27.32,27.52,27.55,41.88,41.45,41.69,26.4]
[null,{"$f":"CONCATENATE(\"mit \",ROUND(L549,0),\" kg/h wasserseitig, \",ROUND(D549,0),\" 1/min Drehzahl\")","v":"mit 125 kg/h wasserseitig, 1064 1/min Drehzahl"},5.4,1064,13.4,8,null,"2017-02-23","15:45:29","TT","VKL800, 4L, ISH-Prototyp, heizen",126.24973,55.378999999999998,46.695,8.6839999999999993,1272.9872499999999,45.607711999999999,267.79901899999999,0,27.467333,41.664000000000001,27.467333,41.664000000000001,"-",0,0,27.33,27.53,27.54,41.88,41.44,41.68,26.4]
[null,null,5.4,1064,13.4,8,null,"2017-02-23","15:45:43","TT","VKL800, 4L, ISH-Prototyp, heizen",124.38074899999999,55.377000000000002,46.7,8.6769999999999996,1253.131212,44.909731999999998,264.15528999999998,0,27.473666999999999,41.641666999999998,27.473666999999999,41.641666999999998,"-",0,0,27.34,27.53,27.55,41.86,41.4,41.66,26.4]
["V80",{"$f":"B546","v":"VKL800; ISH Prototyp; mit Filter, mit 3-3,5cm Schalldämm., mit 3D-Strömung"},{"$f":"AVERAGE(C546:C548)","v":5.4000000000000012},{"$f":"AVERAGE(D546:D548)","v":1064},{"$f":"AVERAGE(E546:E548)","v":13.4},{"$f":"AVERAGE(F546:F548)","v":8},null,{"$f":"H548","v":"2017-02-23"},null,{"$f":"J548","v":"TT"},null,{"$f":"AVERAGE(L546:L548)","v":125.45873999999999},55.37766666666667,46.695333333333338,8.6823333333333323,1264.771986,45.316765333333329,266.17554633333333,0,27.468111000000004,41.659111333333335,null,null,null,null,{"$f":"AVERAGE(Z546:Z548)","v":0},27.33,27.526666666666667,27.546666666666667,41.873333333333335,41.43,41.676666666666669,26.399999999999995]
[]
[]
[null,"VKL800; ISH Prototyp; mit Filter, mit 3-3,5cm Schalldämm., mit 3D-Strömung",5.4,1145,16,10,null,"2017-02-23","15:50:37","TT","VKL800, 4L, ISH-Prototyp, heizen",126.50167399999999,55.363999999999997,46.311,9.0530000000000008,1329.7272620000001,47.658766999999997,292.54592200000002,0,27.463000000000001,41.037999999999997,27.463000000000001,41.037999999999997,"-",0,0,27.38,27.47,27.54,41.23,40.83,41.05,26.48]
[null,{"$f":"CONCATENATE(\"mit \",ROUND(L555,0),\" kg/h wasserseitig, \",ROUND(D555,0),\" 1/min Drehzahl\")","v":"mit 126 kg/h wasserseitig, 1145 1/min Drehzahl"},5.4,1145,16,10,null,"2017-02-23","15:50:51","TT","VKL800, 4L, ISH-Prototyp, heizen",126.377137,55.37,46.305999999999997,9.0640000000000001,1330.032312,47.678814000000003,293.109647,0,27.474333000000001,41.026333000000001,27.474333000000001,41.026333000000001,"-",0,0,27.41,27.47,27.55,41.22,40.81,41.05,26.49]
[null,null,5.4,1145,16,10,null,"2017-02-23","15:51:19","TT","VKL800, 4L, ISH-Prototyp, heizen",126.128212,55.372999999999998,46.334000000000003,9.0389999999999997,1323.7513220000001,47.423054,291.72545600000001,0,27.459333000000001,41.011333,27.459333000000001,41.011333,"-",0,0,27.39,27.46,27.54,41.21,40.799999999999997,41.02,26.5]
["V81",{"$f":"B552","v":"VKL800; ISH Prototyp; mit Filter, mit 3-3,5cm Schalldämm., mit 3D-Strömung"},{"$f":"AVERAGE(C552:C554)","v":5.4000000000000012},{"$f":"AVERAGE(D552:D554)","v":1145},{"$f":"AVERAGE(E552:E554)","v":16},{"$f":"AVERAGE(F552:F554)","v":10},null,{"$f":"H554","v":"2017-02-23"},null,{"$f":"J554","v":"TT"},null,{"$f":"AVERAGE(L552:L554)","v":126.33567433333333},55.369,46.317,9.0519999999999996,1327.8369653333334,47.586878333333338,292.46034166666669,0,27.465555333333338,41.025222000000007,null,null,null,null,{"$f":"AVERAGE(Z552:Z554)","v":0},27.393333333333334,27.466666666666669,27.543333333333333,41.22,40.813333333333333,41.04,26.49]
[]
[]
[null,"Wassermengenvariation"]
[]
[]
[null,"VKL800; ISH Prototyp; mit Filter, mit 3-3,5cm Schalldämm., mit 3D-Strömung",1.6,760,7,5.6,null,"2017-02-23","16:13:25","TT","VKL800, 4L, ISH-Prototyp, heizen",62.379649999999998,54.929000000000002,43.209000000000003,11.72,848.87613899999997,30.560763000000001,185.58084500000001,0,27.152332999999999,40.813333,27.152332999999999,40.813333,"-",0,0,26.99,27.21,27.26,41.16,40.4,40.869999999999997,26.77]
[null,{"$f":"CONCATENATE(\"mit \",ROUND(L564,0),\" kg/h wasserseitig, \",ROUND(D564,0),\" 1/min Drehzahl\")","v":"mit 62 kg/h wasserseitig, 760 1/min Drehzahl"},1.6,760,7,5.6,null,"2017-02-23","16:13:39","TT","VKL800, 4L, ISH-Prototyp, heizen",62.564343999999998,54.924999999999997,43.183999999999997,11.741,852.91502000000003,30.716121000000001,186.65055100000001,0,27.157333000000001,40.804667000000002,27.157333000000001,40.804667000000002,"-",0,0,26.99,27.23,27.26,41.15,40.4,40.869999999999997,26.78]
[null,null,1.6,760,7,5.6,null,"2017-02-23","16:13:53","TT","VKL800, 4L, ISH-Prototyp, heizen",59.744607999999999,54.921999999999997,43.164000000000001,11.757999999999999,815.65397299999995,29.371766999999998,178.61856,0,27.152000000000001,40.79,27.152000000000001,40.79,"-",0,0,26.96,27.22,27.27,41.13,40.39,40.85,26.78]
["V82",{"$f":"B561","v":"VKL800; ISH Prototyp; mit Filter, mit 3-3,5cm Schalldämm., mit 3D-Strömung"},{"$f":"AVERAGE(C561:C563)","v":1.6000000000000003},{"$f":"AVERAGE(D561:D563)","v":760},{"$f":"AVERAGE(E561:E563)","v":7},{"$f":"AVERAGE(F561:F563)","v":5.5999999999999988},null,{"$f":"H563","v":"2017-02-23"},null,{"$f":"J563","v":"TT"},null,{"$f":"AVERAGE(L561:L563)","v":61.562867333333337},54.925333333333334,43.18566666666667,11.739666666666665,839.14837733333331,30.216217,183.61665200000002,0,27.153888666666671,40.80266666666666,null,null,null,null,{"$f":"AVERAGE(Z561:Z563)","v":0},26.98,27.22,27.263333333333335,41.146666666666668,40.396666666666668,40.863333333333337,26.776666666666667]
[]
[]
[null,"VKL800; ISH Prototyp; mit Filter, mit 3-3,5cm Schalldämm., mit 3D-Strömung",4.5999999999999996,760,7,5.6,null,"2017-02-23","16:33:10","TT","VKL800, 4L, ISH-Prototyp, heizen",117.116697,55.307000000000002,47.689,7.6180000000000003,1035.937527,37.112641000000004,189.89464000000001,0,27.393667000000001,43.686332999999998,27.393667000000001,43.686332999999998,"-",0,0,27.24,27.39,27.55,44.09,43.2,43.77,26.97]
[null,{"$f":"CONCATENATE(\"mit \",ROUND(L570,0),\" kg/h wasserseitig, \",ROUND(D570,0),\" 1/min Drehzahl\")","v":"mit 117 kg/h wasserseitig, 760 1/min Drehzahl"},4.5999999999999996,760,7,5.6,null,"2017-02-23","16:33:52","TT","VKL800, 4L, ISH-Prototyp, heizen",116.22263,55.308999999999997,47.718000000000004,7.5910000000000002,1024.385614,36.705367000000003,187.48174399999999,0,27.400666999999999,43.719000000000001,27.400666999999999,43.719000000000001,"-",0,0,27.23,27.34,27.63,44.12,43.25,43.79,26.98]
[null,null,4.5999999999999996,760,7,5.6,null,"2017-02-23","16:34:06","TT","VKL800, 4L, ISH-Prototyp, heizen",116.651888,55.31,47.716000000000001,7.5940000000000003,1028.5754300000001,36.862538999999998,188.33319399999999,0,27.407,43.718000000000004,27.407,43.718000000000004,"-",0,0,27.24,27.34,27.64,44.12,43.24,43.79,26.98]
["V83",{"$f":"B567","v":"VKL800; ISH Prototyp; mit Filter, mit 3-3,5cm Schalldämm., mit 3D-Strömung"},{"$f":"AVERAGE(C567:C569)","v":4.5999999999999996},{"$f":"AVERAGE(D567:D569)","v":760},{"$f":"AVERAGE(E567:E569)","v":7},{"$f":"AVERAGE(F567:F569)","v":5.5999999999999988},null,{"$f":"H569","v":"2017-02-23"},null,{"$f":"J569","v":"TT"},null,{"$f":"AVERAGE(L567:L569)","v":116.66373833333334},55.30866666666666,47.707666666666675,7.601,1029.6328569999998,36.893515666666666,188.56985933333331,0,27.400444666666669,43.707777666666665,null,null,null,null,{"$f":"AVERAGE(Z567:Z569)","v":0},27.236666666666665,27.356666666666669,27.606666666666666,44.110000000000007,43.23,43.783333333333331,26.97666666666667]
[]
[]
[null,"VKL800; ISH Prototyp; mit Filter, mit 3-3,5cm Schalldämm., mit 3D-Strömung",11.8,760,7,5.6,null,"2017-02-23","16:45:04","TT","VKL800, 4L, ISH-Prototyp, heizen",192.01584800000001,55.515999999999998,50.491999999999997,5.024,1120.109516,40.027261000000003,188.15524400000001,0,27.532333000000001,45.311667,27.532333000000001,45.311667,"-",0,0,27.36,27.65,27.59,45.74,44.8,45.4,27.1]
[null,{"$f":"CONCATENATE(\"mit \",ROUND(L576,0),\" kg/h wasserseitig, \",ROUND(D576,0),\" 1/min Drehzahl\")","v":"mit 192 kg/h wasserseitig, 760 1/min Drehzahl"},11.8,760,7,5.6,null,"2017-02-23","16:45:18","TT","VKL800, 4L, ISH-Prototyp, heizen",192.18405200000001,55.515000000000001,50.494999999999997,5.0199999999999996,1120.19813,40.029949999999999,188.07492500000001,0,27.530999999999999,45.319333,27.530999999999999,45.319333,"-",0,0,27.37,27.64,27.59,45.74,44.81,45.41,27.11]
[null,null,11.8,760,7,5.6,null,"2017-02-23","16:45:32","TT","VKL800, 4L, ISH-Prototyp, heizen",192.18434600000001,55.515000000000001,50.494999999999997,5.0199999999999996,1120.1998430000001,40.032395999999999,188.12809200000001,0,27.532667,45.316000000000003,27.532667,45.316000000000003,"-",0,0,27.36,27.64,27.6,45.75,44.8,45.4,27.11]
["V84",{"$f":"B573","v":"VKL800; ISH Prototyp; mit Filter, mit 3-3,5cm Schalldämm., mit 3D-Strömung"},{"$f":"AVERAGE(C573:C575)","v":11.800000000000002},{"$f":"AVERAGE(D573:D575)","v":760},{"$f":"AVERAGE(E573:E575)","v":7},{"$f":"AVERAGE(F573:F575)","v":5.5999999999999988},null,{"$f":"H575","v":"2017-02-23"},null,{"$f":"J575","v":"TT"},null,{"$f":"AVERAGE(L573:L575)","v":192.12808200000003},55.515333333333331,50.494,5.0213333333333336,1120.1691630000003,40.029868999999998,188.11942033333335,0,27.532,45.315666666666665,null,null,null,null,{"$f":"AVERAGE(Z573:Z575)","v":0},27.363333333333333,27.643333333333334,27.593333333333334,45.743333333333339,44.803333333333335,45.403333333333336,27.106666666666666]
[]
[]
[null,"VKL800; ISH Prototyp; mit Filter, mit 3-3,5cm Schalldämm., mit 3D-Strömung",17,760,7,5.6,null,"2017-02-23","16:52:23","TT","VKL800, 4L, ISH-Prototyp, heizen",231.316228,55.567999999999998,51.33,4.2380000000000004,1138.2583219999999,40.648212000000001,186.37144699999999,0,27.565332999999999,45.805667,27.565332999999999,45.805667,"-",0,0,27.48,27.62,27.59,46.25,45.27,45.9,27.17]
[null,{"$f":"CONCATENATE(\"mit \",ROUND(L582,0),\" kg/h wasserseitig, \",ROUND(D582,0),\" 1/min Drehzahl\")","v":"mit 231 kg/h wasserseitig, 760 1/min Drehzahl"},17,760,7,5.6,null,"2017-02-23","16:52:37","TT","VKL800, 4L, ISH-Prototyp, heizen",231.08398700000001,55.569000000000003,51.317,4.2519999999999998,1140.8719140000001,40.746881000000002,186.75501299999999,0,27.57,45.814667,27.57,45.814667,"-",0,0,27.47,27.64,27.6,46.26,45.28,45.91,27.18]
[null,null,17,760,7,5.6,null,"2017-02-23","16:52:51","TT","VKL800, 4L, ISH-Prototyp, heizen",230.62459200000001,55.569000000000003,51.311999999999998,4.2569999999999997,1139.9427659999999,40.714179999999999,186.61996500000001,0,27.570333000000002,45.813333,27.570333000000002,45.813333,"-",0,0,27.48,27.63,27.6,46.26,45.28,45.91,27.17]
["V85",{"$f":"B579","v":"VKL800; ISH Prototyp; mit Filter, mit 3-3,5cm Schalldämm., mit 3D-Strömung"},{"$f":"AVERAGE(C579:C581)","v":17},{"$f":"AVERAGE(D579:D581)","v":760},{"$f":"AVERAGE(E579:E581)","v":7},{"$f":"AVERAGE(F579:F581)","v":5.5999999999999988},null,{"$f":"H581","v":"2017-02-23"},null,{"$f":"J581","v":"TT"},null,{"$f":"AVERAGE(L579:L581)","v":231.00826900000001},55.568666666666672,51.31966666666667,4.2489999999999997,1139.6910006666667,40.703091000000001,186.58214166666664,0,27.568555333333336,45.81122233333334,null,null,null,null,{"$f":"AVERAGE(Z579:Z581)","v":0},27.47666666666667,27.63,27.596666666666664,46.256666666666661,45.276666666666671,45.906666666666666,27.173333333333336]
[]
[]
[null,"Vergleichsmessung"]
[]
[null,"VKL800; ISH Prototyp; mit Filter, mit 3-3,5cm Schalldämm., mit 3D-Strömung",4.5999999999999996,749,5,5.6,null,"2017-02-24","10:12:59","TT","VKL800, 4L, ISH-Prototyp, heizen",115.417265,55.110999999999997,46.581000000000003,8.5299999999999994,1143.124654,37.262438000000003,194.18752699999999,0,24.433333000000001,42.014333000000001,24.433333000000001,42.014333000000001,"-",0,0,24.13,24.6,24.57,42.46,41.47,42.11,22.8]
[null,{"$f":"CONCATENATE(\"mit \",ROUND(L590,0),\" kg/h wasserseitig, \",ROUND(D590,0),\" 1/min Drehzahl\")","v":"mit 115 kg/h wasserseitig, 749 1/min Drehzahl"},4.5999999999999996,749,5,5.6,null,"2017-02-24","10:15:47","TT","VKL800, 4L, ISH-Prototyp, heizen",114.865257,55.16,46.701999999999998,8.4580000000000002,1128.054676,36.677151000000002,189.25922800000001,0,24.403666999999999,42.204667000000001,24.403666999999999,42.204667000000001,"-",0,0,24.15,24.53,24.53,42.66,41.65,42.3,22.93]
[null,null,4.5999999999999996,749,5,5.6,null,"2017-02-24","10:21:51","TT","VKL800, 4L, ISH-Prototyp, heizen",115.298912,55.151000000000003,46.661000000000001,8.49,1136.59746,37.031564000000003,191.218852,0,24.458333,42.210332999999999,24.458333,42.210332999999999,"-",0,0,24.24,24.5,24.63,42.63,41.71,42.3,23.02]
["V86",{"$f":"B587","v":"VKL800; ISH Prototyp; mit Filter, mit 3-3,5cm Schalldämm., mit 3D-Strömung"},{"$f":"AVERAGE(C587:C589)","v":4.5999999999999996},{"$f":"AVERAGE(D587:D589)","v":749},{"$f":"AVERAGE(E587:E589)","v":5},{"$f":"AVERAGE(F587:F589)","v":5.5999999999999988},null,{"$f":"H589","v":"2017-02-24"},null,{"$f":"J589","v":"TT"},null,{"$f":"AVERAGE(L587:L589)","v":115.19381133333333},55.140666666666668,46.648000000000003,8.4926666666666666,1135.9255966666667,36.990384333333338,191.55520233333334,0,24.431777666666665,42.143110999999998,null,null,null,null,{"$f":"AVERAGE(Z587:Z589)","v":0},24.173333333333332,24.543333333333333,24.576666666666668,42.583333333333336,41.610000000000007,42.236666666666665,22.916666666666668]
[]
[]
[null,"VKL800; ISH Prototyp; mit Filter, mit 3-3,5cm Schalldämm., mit 3D-Strömung",4.9000000000000004,749,5,5.6,null,"2017-02-24","10:38:16","TT","VKL800, 4L, ISH-Prototyp, heizen",119.13260699999999,55.19,47.058999999999997,8.1310000000000002,1124.730284,37.031815000000002,190.74454499999999,0,24.818000000000001,42.428333000000002,24.818000000000001,42.428333000000002,"-",0,0,24.51,24.94,25,42.92,41.84,42.52,23.47]
[null,{"$f":"CONCATENATE(\"mit \",ROUND(L596,0),\" kg/h wasserseitig, \",ROUND(D596,0),\" 1/min Drehzahl\")","v":"mit 119 kg/h wasserseitig, 749 1/min Drehzahl"},4.9000000000000004,749,5,5.6,null,"2017-02-24","10:38:30","TT","VKL800, 4L, ISH-Prototyp, heizen",119.48746199999999,55.198,47.057000000000002,8.141,1129.467852,37.191473000000002,191.47188600000001,0,24.829000000000001,42.446333000000003,24.829000000000001,42.446333000000003,"-",0,0,24.54,24.94,25.01,42.93,41.86,42.55,23.48]
[null,null,4.9000000000000004,749,5,5.6,null,"2017-02-24","10:38:44","TT","VKL800, 4L, ISH-Prototyp, heizen",118.895269,55.201999999999998,47.072000000000003,8.1300000000000008,1122.3515190000001,36.942951999999998,190.12879699999999,0,24.821332999999999,42.451332999999998,24.821332999999999,42.451332999999998,"-",0,0,24.52,24.93,25.02,42.94,41.86,42.55,23.48]
["V87",{"$f":"B593","v":"VKL800; ISH Prototyp; mit Filter, mit 3-3,5cm Schalldämm., mit 3D-Strömung"},{"$f":"AVERAGE(C593:C595)","v":4.9000000000000004},{"$f":"AVERAGE(D593:D595)","v":749},{"$f":"AVERAGE(E593:E595)","v":5},{"$f":"AVERAGE(F593:F595)","v":5.5999999999999988},null,{"$f":"H595","v":"2017-02-24"},null,{"$f":"J595","v":"TT"},null,{"$f":"AVERAGE(L593:L595)","v":119.17177933333333},55.196666666666665,47.062666666666665,8.1340000000000003,1125.5165516666666,37.055413333333327,190.78174266666667,0,24.822777666666667,42.441999666666668,null,null,null,null,{"$f":"AVERAGE(Z593:Z595)","v":0},24.52333333333333,24.936666666666667,25.01,42.93,41.853333333333332,42.54,23.47666666666667]
[]
[]
[null,"VKL800; ISH Prototyp; mit Filter, mit 3-3,5cm Schalldämm., mit 3D-Strömung",4.9000000000000004,749,5,5.6,null,"2017-02-24","10:42:49","TT","VKL800, 4L, ISH-Prototyp, heizen",124.120836,55.2,47.341999999999999,7.8579999999999997,1132.479891,37.274290000000001,189.52964499999999,0,24.817667,42.662999999999997,24.817667,42.662999999999997,"-",0,0,24.54,24.84,25.08,43.14,42.08,42.77,23.58]
[null,{"$f":"CONCATENATE(\"mit \",ROUND(L602,0),\" kg/h wasserseitig, \",ROUND(D602,0),\" 1/min Drehzahl\")","v":"mit 125 kg/h wasserseitig, 749 1/min Drehzahl"},4.9000000000000004,749,5,5.6,null,"2017-02-24","10:43:03","TT","VKL800, 4L, ISH-Prototyp, heizen",124.87421399999999,55.201000000000001,47.341000000000001,7.86,1139.643703,37.489924000000002,190.465296,0,24.802333000000001,42.672333000000002,24.802333000000001,42.672333000000002,"-",0,0,24.53,24.8,25.08,43.15,42.1,42.77,23.59]
[null,null,4.9000000000000004,749,5,5.6,null,"2017-02-24","10:43:03","TT","VKL800, 4L, ISH-Prototyp, heizen",124.87421399999999,55.201000000000001,47.341000000000001,7.86,1139.643703,37.489924000000002,190.465296,0,24.802333000000001,42.672333000000002,24.802333000000001,42.672333000000002,"-",0,0,24.53,24.8,25.08,43.15,42.1,42.77,23.59]
["V88",{"$f":"B599","v":"VKL800; ISH Prototyp; mit Filter, mit 3-3,5cm Schalldämm., mit 3D-Strömung"},{"$f":"AVERAGE(C599:C601)","v":4.9000000000000004},{"$f":"AVERAGE(D599:D601)","v":749},{"$f":"AVERAGE(E599:E601)","v":5},{"$f":"AVERAGE(F599:F601)","v":5.5999999999999988},null,{"$f":"H601","v":"2017-02-24"},null,{"$f":"J601","v":"TT"},null,{"$f":"AVERAGE(L599:L601)","v":124.623088},55.20066666666667,47.341333333333331,7.8593333333333328,1137.2557656666665,37.418046000000004,190.15341233333334,0,24.807444333333336,42.669221999999998,null,null,null,null,{"$f":"AVERAGE(Z599:Z601)","v":0},24.533333333333331,24.813333333333333,25.08,43.146666666666668,42.093333333333334,42.77,23.58666666666667]
[]
[]
[null,"Drehzahlvariation - mit 3-3,5cm Schalldämmung, 3,2mm Lamellenabstand, mit Isolierung der Kondensatwanne, mit Filter"]
[null,"immer mit 3,2mm Lamellenabstand und Isolierung der Kondensatwanne (Elemente LDB 12/M/3 umgebaut -> Steg & Versperrung untereinander)"]
[]
[null,"VKL800; ISH Prototyp; mit Filter, mit 3-3,5cm Schalldämm.",4.8,749,5,5.6,null,"2017-02-24","10:56:22","TT","VKL800, 4L, ISH-Prototyp, heizen",121.138333,55.213000000000001,46.942,8.2710000000000008,1163.3580340000001,38.084198999999998,203.07273599999999,0,24.666,41.775333000000003,24.666,41.775333000000003,"-",0,0,24.57,24.51,24.92,41.81,41.9,41.61,23.82]
[null,{"$f":"CONCATENATE(\"mit \",ROUND(L611,0),\" kg/h wasserseitig, \",ROUND(D611,0),\" 1/min Drehzahl\")","v":"mit 120 kg/h wasserseitig, 749 1/min Drehzahl"},4.8,749,5,5.6,null,"2017-02-24","10:56:50","TT","VKL800, 4L, ISH-Prototyp, heizen",119.487802,55.204999999999998,46.863999999999997,8.3409999999999993,1157.2187799999999,37.854306999999999,201.59262000000001,0,24.634667,41.778666999999999,24.634667,41.778666999999999,"-",0,0,24.52,24.48,24.91,41.81,41.91,41.61,23.82]
[null,null,4.8,749,5,5.6,null,"2017-02-24","10:59:10","TT","VKL800, 4L, ISH-Prototyp, heizen",119.368205,55.186,46.811,8.375,1160.7729019999999,38.016995000000001,203.06854300000001,0,24.652999999999999,41.724666999999997,24.652999999999999,41.724666999999997,"-",0,0,24.56,24.44,24.96,41.76,41.85,41.56,23.86]
["V89",{"$f":"B608","v":"VKL800; ISH Prototyp; mit Filter, mit 3-3,5cm Schalldämm."},{"$f":"AVERAGE(C608:C610)","v":4.8},{"$f":"AVERAGE(D608:D610)","v":749},{"$f":"AVERAGE(E608:E610)","v":5},{"$f":"AVERAGE(F608:F610)","v":5.5999999999999988},null,{"$f":"H610","v":"2017-02-24"},null,{"$f":"J610","v":"TT"},null,{"$f":"AVERAGE(L608:L610)","v":119.99811333333334},55.201333333333338,46.87233333333333,8.3290000000000006,1160.4499053333332,37.985166999999997,202.57796633333331,0,24.651222333333333,41.759555666666664,null,null,null,null,{"$f":"AVERAGE(Z608:Z610)","v":0},24.55,24.47666666666667,24.929999999999996,41.793333333333329,41.886666666666663,41.593333333333334,23.833333333333332]
[]
[]
[]
[null,"VKL800; ISH Prototyp; mit Filter, mit 3-3,5cm Schalldämm.",4.8,504,1.8,3.5,null,"2017-02-24","11:12:14","TT","VKL800, 4L, ISH-Prototyp, heizen",119.897459,55.155000000000001,48.970999999999997,6.1840000000000002,860.90105400000004,28.147206000000001,127.00089199999999,0,24.569333,44.814332999999998,24.569333,44.814332999999998,"-",0,0,23.85,23.94,25.92,44.82,45,44.62,24.02]
[null,{"$f":"CONCATENATE(\"mit \",ROUND(L618,0),\" kg/h wasserseitig, \",ROUND(D618,0),\" 1/min Drehzahl\")","v":"mit 120 kg/h wasserseitig, 504 1/min Drehzahl"},4.8,504,1.8,3.5,null,"2017-02-24","11:12:42","TT","VKL800, 4L, ISH-Prototyp, heizen",120.01777800000001,55.152999999999999,48.963999999999999,6.1890000000000001,862.46175700000003,28.204073000000001,127.162036,0,24.573667,44.829667000000001,24.573667,44.829667000000001,"-",0,0,23.82,23.98,25.92,44.83,45.02,44.64,24.02]
[null,null,4.8,504,1.8,3.5,null,"2017-02-24","11:12:56","TT","VKL800, 4L, ISH-Prototyp, heizen",119.727571,55.152999999999999,48.951000000000001,6.202,862.18351299999995,28.187906999999999,127.041568,0,24.565999999999999,44.834667000000003,24.565999999999999,44.834667000000003,"-",0,0,23.81,23.97,25.91,44.84,45.02,44.64,24.02]
["V90",{"$f":"B615","v":"VKL800; ISH Prototyp; mit Filter, mit 3-3,5cm Schalldämm."},{"$f":"AVERAGE(C615:C617)","v":4.8},{"$f":"AVERAGE(D615:D617)","v":504},{"$f":"AVERAGE(E615:E617)","v":1.8},{"$f":"AVERAGE(F615:F617)","v":3.5},null,{"$f":"H617","v":"2017-02-24"},null,{"$f":"J617","v":"TT"},null,{"$f":"AVERAGE(L615:L617)","v":119.88093600000001},55.153666666666659,48.961999999999996,6.1916666666666673,861.8487746666666,28.179728666666666,127.06816533333334,0,24.569666666666667,44.826222333333334,null,null,null,null,{"$f":"AVERAGE(Z615:Z617)","v":0},23.826666666666668,23.963333333333335,25.916666666666668,44.830000000000005,45.013333333333343,44.633333333333326,24.02]
[]
[]
[null,"VKL800; ISH Prototyp; mit Filter, mit 3-3,5cm Schalldämm.",4.8,1050,12.5,8,null,"2017-02-24","11:27:38","TT","VKL800, 4L, ISH-Prototyp, heizen",119.132065,55.225000000000001,45.161999999999999,10.063000000000001,1391.970151,46.560934000000003,302.73100299999999,0,25.329332999999998,39.061667,25.329332999999998,39.061667,"-",0,0,25.12,25.6,25.27,39.07,39.18,38.94,24.27]
[null,{"$f":"CONCATENATE(\"mit \",ROUND(L624,0),\" kg/h wasserseitig, \",ROUND(D624,0),\" 1/min Drehzahl\")","v":"mit 119 kg/h wasserseitig, 1050 1/min Drehzahl"},4.8,1050,12.5,8,null,"2017-02-24","11:27:52","TT","VKL800, 4L, ISH-Prototyp, heizen",119.013192,55.222999999999999,45.179000000000002,10.044,1387.9556459999999,46.440631000000003,301.92387200000002,0,25.336333,39.065666999999998,25.336333,39.065666999999998,"-",0,0,25.11,25.61,25.3,39.08,39.18,38.94,24.27]
[null,null,4.8,1050,12.5,8,null,"2017-02-24","11:28:06","TT","VKL800, 4L, ISH-Prototyp, heizen",118.778645,55.216000000000001,45.180999999999997,10.035,1383.979079,46.346344000000002,301.31488999999999,0,25.354333,39.072000000000003,25.354333,39.072000000000003,"-",0,0,25.12,25.63,25.31,39.090000000000003,39.18,38.950000000000003,24.27]
["V91",{"$f":"B621","v":"VKL800; ISH Prototyp; mit Filter, mit 3-3,5cm Schalldämm."},{"$f":"AVERAGE(C621:C623)","v":4.8},{"$f":"AVERAGE(D621:D623)","v":1050},{"$f":"AVERAGE(E621:E623)","v":12.5},{"$f":"AVERAGE(F621:F623)","v":8},null,{"$f":"H623","v":"2017-02-24"},null,{"$f":"J623","v":"TT"},null,{"$f":"AVERAGE(L621:L623)","v":118.97463399999999},55.221333333333341,45.173999999999999,10.047333333333333,1387.9682919999998,46.449303000000008,301.98992166666665,0,25.339999666666667,39.066444666666662,null,null,null,null,{"$f":"AVERAGE(Z621:Z623)","v":0},25.116666666666671,25.613333333333333,25.293333333333333,39.080000000000005,39.18,38.943333333333335,24.27]
[]
[]
[null,"VKL800; ISH Prototyp; mit Filter, mit 3-3,5cm Schalldämm.",4.8,1144,16,10,null,"2017-02-24","11:40:00","TT","VKL800, 4L, ISH-Prototyp, heizen",118.007317,55.235999999999997,44.712000000000003,10.523999999999999,1441.99434,48.599451999999999,333.74173200000001,0,25.565000000000001,38.469000000000001,25.565000000000001,38.469000000000001,"-",0,0,25.37,25.76,25.57,38.479999999999997,38.57,38.35,24.5]
[null,{"$f":"CONCATENATE(\"mit \",ROUND(L630,0),\" kg/h wasserseitig, \",ROUND(D630,0),\" 1/min Drehzahl\")","v":"mit 118 kg/h wasserseitig, 1144 1/min Drehzahl"},4.8,1144,16,10,null,"2017-02-24","11:40:14","TT","VKL800, 4L, ISH-Prototyp, heizen",117.468738,55.235999999999997,44.743000000000002,10.493,1431.184933,48.258456000000002,331.56542100000001,0,25.579332999999998,38.470666999999999,25.579332999999998,38.470666999999999,"-",0,0,25.4,25.77,25.57,38.479999999999997,38.57,38.35,24.51]
[null,null,4.8,1144,16,10,null,"2017-02-24","11:40:28","TT","VKL800, 4L, ISH-Prototyp, heizen",118.59574600000001,55.243000000000002,44.755000000000003,10.488,1444.2273749999999,48.704258000000003,334.86406499999998,0,25.59,38.470666999999999,25.59,38.470666999999999,"-",0,0,25.42,25.79,25.55,38.479999999999997,38.57,38.35,24.52]
["V92",{"$f":"B627","v":"VKL800; ISH Prototyp; mit Filter, mit 3-3,5cm Schalldämm."},{"$f":"AVERAGE(C627:C629)","v":4.8},{"$f":"AVERAGE(D627:D629)","v":1144},{"$f":"AVERAGE(E627:E629)","v":16},{"$f":"AVERAGE(F627:F629)","v":10},null,{"$f":"H629","v":"2017-02-24"},null,{"$f":"J629","v":"TT"},null,{"$f":"AVERAGE(L627:L629)","v":118.02393366666666},55.238333333333337,44.736666666666672,10.501666666666667,1439.1355493333333,48.520722000000006,333.39040599999998,0,25.578111000000003,38.470111333333335,null,null,null,null,{"$f":"AVERAGE(Z627:Z629)","v":0},25.396666666666665,25.77333333333333,25.563333333333333,38.479999999999997,38.57,38.35,24.51]

{"sheet":"Plau_kuehlen","index":2,"n_rows":129,"n_cols":16382,"rows_kept":129,"cut":false,"hidden":true,"merged":[[6,65,17,65],[33,0,33,1]]}
["Kühlen",null,null,null,null,null,null,null,null,"von Zeile",7,null,null,null,null,null,null,null,null,null,null,null,4,"Drehzahl [1/min]",null,null,null,null,null,null,null,null,null,null,null,null,null,null,null,null,null,null,null,null,null,null,null,null,null,null,null,null,null,null,null,null,null,null,null,null,null,null,null,null,null,null,null,null,null,null,null,null,null,null,null,null,null,null,null,null,null,null,null,null,null,null,null,null,null,null,null,null,null,null,null,null,null,null,null,null,null,null,null,null,null,null,null,null,null,null,null,null,null,null,null,null,null,null,null,null,null,null,null,null,null,null,null,null,null,null,null,null,null,null,null,null,null,null,null,null,null,null,null,null,null,null,null,null,null,null,null,null,null,null,null,null,null,null,null,null,null,null,null,null,null,null,null,null,null,null,null,null,null,null,null,null,null,null,null,null,null,null,null,null,null,null,null,null,null,null,null,null,null,null,null,null,null,null,null,null,null,null,null,null,null,null,null,null,null,null,null,null,null,null,null,null,null,null,null,null,null,null,null,null,null,null,null,null,null,null,null,null,null,null,null,null,null,null,null,null,null,null,null,null,null,null,null,null,null,null,null,null,null,null,null,null,null,null,null,null,null,null,null,null,null,null,null,null,null,null,null,null,null,null,null,null,null,null,null,null,null,null,null,null,null,null,null,null,null,null,null,null,null,null,null,null,null,null,null,null,null,null,null,null,null,null,null,null,null,null,null,null,null,null,null,null,null,null,null,null,null,null,null,null,null,null,null,null,null,null,null,null,null,null,null,null,null,null,null,null,null,null,null,null,null,null,null,null,null,null,null,null,null,null,null,null,null,null,null,null,null,null,null,null,null,null,null,null,null,null,null,null,null,null,null,null,null,null,null,null,null,null,null,null,null,null,null,null,null,null,null,null,null,null,null,null,null,null,null,null,null,null,null,null,null,null,null,null,null,null,null,null,null,null,null,null,null,null,null,null,null,null,null,null,null,null,null,null,null,null,null,null,null,null,null,null,null,null,null,null,null,null,null,null,null,null,null,null,null,null,null,null,null,null,null,null,null,null,null,null,null,null,null,null,null,null,null,null,null,null,null,null,null,null,null,null,null,null,null,null,null,null,null,null,null,null,null,null,null,null,null,null,null,null,null,null,null,null,null,null,null,null,null,null,null,null,null,null,null,null,null,null,null,null,null,null,null,null,null,null,null,null,null,null,null,null,null,null,null,null,null,null,null,null,null,null,null,null,null,null,null,null,null,null,null,null,null,null,null,null,null,null,null,null,null,null,null,null,null,null,null,null,null,null,null,null,null,null,null,null,null,null,null,null,null,null,null,null,null,null,null,null,null,null,null,null,null,null,null,null,null,null,null,null,null,null,null,null,null,null,null,null,null,null,null,null,null,null,null,null,null,null,null,null,null,null,null,null,null,null,null,null,null,null,null,null,null,null,null,null,null,null,null,null,null,null,null,null,null,null,null,null,null,null,null,null,null,null,null,null,null,null,null,null,null,null,null,null,null,null,null,null,null,null,null,null,null,null,null,null,null,null,null,null,null,null,null,null,null,null,null,null,null,null,null,null,null,null,null,null,null,null,null,null,null,null,null,null,null,null,null,null,null,null,null,null,null,null,null,null,null,null,null,null,null,null,null,null,null,null,null,null,null,null,null,null,null,null,null,null,null,null,null,null,null,null,null,null,null,null,null,null,null,null,null,null,null,null,null,null,null,null,null,null,null,null,null,null,null,null,null,null,null,null,null,null,null,null,null,null,null,null,null,null,null,null,null,null,null,null,null,null,null,null,null,null,null,null,null,null,null,null,null,null,null,null,null,null,null,null,null,null,null,null,null,null,null,null,null,null,null,null,null,null,null,null,null,null,null,null,null,null,null,null,null,null,null,null,null,null,null,null,null,null,null,null,null,null,null,null,null,null,null,null,null,null,null,null,null,null,null,null,null,null,null,null,null,null,null,null,null,null,null,null,null,null,null,null,null,null,null,null,null,null,null,null,null,null,null,null,null,null,null,null,null,null,null,null,null,null,null,null,null,null,null,null,null,null,null,null,null,null,null,null,null,null,null,null,null,null,null,null,null,null,null,null,null,null,null,null,null,null,null,null,null,null,null,null,null,null,null,null,null,null,null,null,null,null,null,null,null,null,null,null,null,null,null,null,null,null,null,null,null,null,null,null,null,null,null,null,null,null,null,null,null,null,null,null,null,null,null,null,null,null,null,null,null,null,null,null,null,null,null,null,null,null,null,null,null,null,null,null,null,null,null,null,null,null,null,null,null,null,null,null,null,null,null,null,null,null,null,null,null,null,null,null,null,null,null,null,null,null,null,null,null,null,null,null,null,null,null,null,null,null,null,null,null,null,null,null,null,null,null,null,null,null,null,null,null,null,null,null,null,null,null,null,null,null,null,null,null,null,null,null,null,null,null,null,null,null,null,null,null,null,null,null,null,null,null,null,null,null,null,null,null,null,null,null,null,null,null,null,null,null,null,null,null,null,null,null,null,null,null,null,null,null,null,null,null,null,null,null,null,null,null,null,null,null,null,null,null,null,null,null,null,null,null,null,null,null,null,null,null,null,null,null,null,null,null,null,null,null,null,null,null,null,null,null,null,null,null,null,null,null,null,null,null,null,null,null,null,null,null,null,null,null,null,null,null,null,null,null,null,null,null,null,null,null,null,null,null,null,null,null,null,null,null,null,null,null,null,null,null,null,null,null,null,null,null,null,null,null,null,null,null,null,null,null,null,null,null,null,null,null,null,null,null,null,null,null,null,null,null,null,null,null,null,null,null,null,null,null,null,null,null,null,null,null,null,null,null,null,null,null,null,null,null,null,null,null,null,null,null,null,null,null,null,null,null,null,null,null,null,null,null,null,null,null,null,null,null,null,null,null,null,null,null,null,null,null,null,null,null,null,null,null,null,null,null,null,null,null,null,null,null,null,null,null,null,null,null,null,null,null,null,null,null,null,null,null,null,null,null,null,null,null,null,null,null,null,null,null,null,null,null,null,null,null,null,null,null,null,null,null,null,null,null,null,null,null,null,null,null,null,null,null,null,null,null,null,null,null,null,null,null,null,null,null,null,null,null,null,null,null,null,null,null,null,null,null,null,null,null,null,null,null,null,null,null,null,null,null,null,null,null,null,null,null,null,null,null,null,null,null,null,null,null,null,null,null,null,null,null,null,null,null,null,null,null,null,null,null,null,null,null,null,null,null,null,null,null,null,null,null,null,null,null,null,null,null,null,null,null,null,null,null,null,null,null,null,null,null,null,null,null,null,null,null,null,null,null,null,null,null,null,null,null,null,null,null,null,null,null,null,null,null,null,null,null,null,null,null,null,null,null,null,null,null,null,null,null,null,null,null,null,null,null,null,null,null,null,null,null,null,null,null,null,null,null,null,null,null,null,null,null,null,null,null,null,null,null,null,null,null,null,null,null,null,null,null,null,null,null,null,null,null,null,null,null,null,null,null,null,null,null,null,null,null,null,null,null,null,null,null,null,null,null,null,null,null,null,null,null,null,null,null,null,null,null,null,null,null,null,null,null,null,null,null,null,null,null,null,null,null,null,null,null,null,null,null,null,null,null,null,null,null,null,null,null,null,null,null,null,null,null,null,null,null,null,null,null,null,null,null,null,null,null,null,null,null,null,null,null,null,null,null,null,null,null,null,null,null,null,null,null,null,null,null,null,null,null,null,null,null,null,null,null,null,null,null,null,null,null,null,null,null,null,null,null,null,null,null,null,null,null,null,null,null,null,null,null,null,null,null,null,null,null,null,null,null,null,null,null,null,null,null,null,null,null,null,null,null,null,null,null,null,null,null,null,null,null,null,null,null,null,null,null,null,null,null,null,null,null,null,null,null,null,null,null,null,null,null,null,null,null,null,null,null,null,null,null,null,null,null,null,null,null,null,null,null,null,null,null,null,null,null,null,null,null,null,null,null,null,null,null,null,null,null,null,null,null,null,null,null,null,null,null,null,null,null,null,null,null,null,null,null,null,null,null,null,null,null,null,null,null,null,null,null,null,null,null,null,null,null,null,null,null,null,null,null,null,null,null,null,null,null,null,null,null,null,null,null,null,null,null,null,null,null,null,null,null,null,null,null,null,null,null,null,null,null,null,null,null,null,null,null,null,null,null,null,null,null,null,null,null,null,null,null,null,null,null,null,null,null,null,null,null,null,null,null,null,null,null,null,null,null,null,null,null,null,null,null,null,null,null,null,null,null,null,null,null,null,null,null,null,null,null,null,null,null,null,null,null,null,null,null,null,null,null,null,null,null,null,null,null,null,null,null,null,null,null,null,null,null,null,null,null,null,null,null,null,null,null,null,null,null,null,null,null,null,null,null,null,null,null,null,null,null,null,null,null,null,null,null,null,null,null,null,null,null,null,null,null,null,null,null,null,null,null,null,null,null,null,null,null,null,null,null,null,null,null,null,null,null,null,null,null,null,null,null,null,null,null,null,null,null,null,null,null,null,null,null,null,null,null,null,null,null,null,null,null,null,null,null,null,null,null,null,null,null,null,null,null,null,null,null,null,null,null,null,null,null,null,null,null,null,null,null,null,null,null,null,null,null,null,null,null,null,null,null,null,null,null,null,null,null,null,null,null,null,null,null,null,null,null,null,null,null,null,null,null,null,null,null,null,null,null,null,null,null,null,null,null,null,null,null,null,null,null,null,null,null,null,null,null,null,null,null,null,null,null,null,null,null,null,null,null,null,null,null,null,null,null,null,null,null,null,null,null,null,null,null,null,null,null,null,null,null,null,null,null,null,null,null,null,null,null,null,null,null,null,null,null,null,null,null,null,null,null,null,null,null,null,null,null,null,null,null,null,null,null,null,null,null,null,null,null,null,null,null,null,null,null,null,null,null,null,null,null,null,null,null,null,null,null,null,null,null,null,null,null,null,null,null,null,null,null,null,null,null,null,null,null,null,null,null,null,null,null,null,null,null,null,null,null,null,null,null,null,null,null,null,null,null,null,null,null,null,null,null,null,null,null,null,null,null,null,null,null,null,null,null,null,null,null,null,null,null,null,null,null,null,null,null,null,null,null,null,null,null,null,null,null,null,null,null,null,null,null,null,null,null,null,null,null,null,null,null,null,null,null,null,null,null,null,null,null,null,null,null,null,null,null,null,null,null,null,null,null,null,null,null,null,null,null,null,null,null,null,null,null,null,null,null,null,null,null,null,null,null,null,null,null,null,null,null,null,null,null,null,null,null,null,null,null,null,null,null,null,null,null,null,null,null,null,null,null,null,null,null,null,null,null,null,null,null,null,null,null,null,null,null,null,null,null,null,null,null,null,null,null,null,null,null,null,null,null,null,null,null,null,null,null,null,null,null,null,null,null,null,null,null,null,null,null,null,null,null,null,null,null,null,null,null,null,null,null,null,null,null,null,null,null,null,null,null,null,null,null,null,null,null,null,null,null,null,null,null,null,null,null,null,null,null,null,null,null,null,null,null,null,null,null,null,null,null,null,null,null,null,null,null,null,null,null,null,null,null,null,null,null,null,null,null,null,null,null,null,null,null,null,null,null,null,null,null,null,null,null,null,null,null,null,null,null,null,null,null,null,null,null,null,null,null,null,null,null,null,null,null,null,null,null,null,null,null,null,null,null,null,null,null,null,null,null,null,null,null,null,null,null,null,null,null,null,null,null,null,null,null,null,null,null,null,null,null,null,null,null,null,null,null,null,null,null,null,null,null,null,null,null,null,null,null,null,null,null,null,null,null,null,null,null,null,null,null,null,null,null,null,null,null,null,null,null,null,null,null,null,null,null,null,null,null,null,null,null,null,null,null,null,null,null,null,null,null,null,null,null,null,null,null,null,null,null,null,null,null,null,null,null,null,null,null,null,null,null,null,null,null,null,null,null,null,null,null,null,null,null,null,null,null,null,null,null,null,null,null,null,null,null,null,null,null,null,null,null,null,null,null,null,null,null,null,null,null,null,null,null,null,null,null,null,null,null,null,null,null,null,null,null,null,null,null,null,null,null,null,null,null,null,null,null,null,null,null,null,null,null,null,null,null,null,null,null,null,null,null,null,null,null,null,null,null,null,null,null,null,null,null,null,null,null,null,null,null,null,null,null,null,null,null,null,null,null,null,null,null,null,null,null,null,null,null,null,null,null,null,null,null,null,null,null,null,null,null,null,null,null,null,null,null,null,null,null,null,null,null,null,null,null,null,null,null,null,null,null,null,null,null,null,null,null,null,null,null,null,null,null,null,null,null,null,null,null,null,null,null,null,null,null,null,null,null,null,null,null,null,null,null,null,null,null,null,null,null,null,null,null,null,null,null,null,null,null,null,null,null,null,null,null,null,null,null,null,null,null,null,null,null,null,null,null,null,null,null,null,null,null,null,null,null,null,null,null,null,null,null,null,null,null,null,null,null,null,null,null,null,null,null,null,null,null,null,null,null,null,null,null,null,null,null,null,null,null,null,null,null,null,null,null,null,null,null,null,null,null,null,null,null,null,null,null,null,null,null,null,null,null,null,null,null,null,null,null,null,null,null,null,null,null,null,null,null,null,null,null,null,null,null,null,null,null,null,null,null,null,null,null,null,null,null,null,null,null,null,null,null,null,null,null,null,null,null,null,null,null,null,null,null,null,null,null,null,null,null,null,null,null,null,null,null,null,null,null,null,null,null,null,null,null,null,null,null,null,null,null,null,null,null,null,null,null,null,null,null,null,null,null,null,null,null,null,null,null,null,null,null,null,null,null,null,null,null,null,null,null,null,null,null,null,null,null,null,null,null,null,null,null,null,null,null,null,null,null,null,null,null,null,null,null,null,null,null,null,null,null,null,null,null,null,null,null,null,null,null,null,null,null,null,null,null,null,null,null,null,null,null,null,null,null,null,null,null,null,null,null,null,null,null,null,null,null,null,null,null,null,null,null,null,null,null,null,null,null,null,null,null,null,null,null,null,null,null,null,null,null,null,null,null,null,null,null,null,null,null,null,null,null,null,null,null,null,null,null,null,null,null,null,null,null,null,null,null,null,null,null,null,null,null,null,null,null,null,null,null,null,null,null,null,null,null,null,null,null,null,null,null,null,null,null,null,null,null,null,null,null,null,null,null,null,null,null,null,null,null,null,null,null,null,null,null,null,null,null,null,null,null,null,null,null,null,null,null,null,null,null,null,null,null,null,null,null,null,null,null,null,null,null,null,null,null,null,null,null,null,null,null,null,null,null,null,null,null,null,null,null,null,null,null,null,null,null,null,null,null,null,null,null,null,null,null,null,null,null,null,null,null,null,null,null,null,null,null,null,null,null,null,null,null,null,null,null,null,null,null,null,null,null,null,null,null,null,null,null,null,null,null,null,null,null,null,null,null,null,null,null,null,null,null,null,null,null,null,null,null,null,null,null,null,null,null,null,null,null,null,null,null,null,null,null,null,null,null,null,null,null,null,null,null,null,null,null,null,null,null,null,null,null,null,null,null,null,null,null,null,null,null,null,null,null,null,null,null,null,null,null,null,null,null,null,null,null,null,null,null,null,null,null,null,null,null,null,null,null,null,null,null,null,null,null,null,null,null,null,null,null,null,null,null,null,null,null,null,null,null,null,null,null,null,null,null,null,null,null,null,null,null,null,null,null,null,null,null,null,null,null,null,null,null,null,null,null,null,null,null,null,null,null,null,null,null,null,null,null,null,null,null,null,null,null,null,null,null,null,null,null,null,null,null,null,null,null,null,null,null,null,null,null,null,null,null,null,null,null,null,null,null,null,null,null,null,null,null,null,null,null,null,null,null,null,null,null,null,null,null,null,null,null,null,null,null,null,null,null,null,null,null,null,null,null,null,null,null,null,null,null,null,null,null,null,null,null,null,null,null,null,null,null,null,null,null,null,null,null,null,null,null,null,null,null,null,null,null,null,null,null,null,null,null,null,null,null,null,null,null,null,null,null,null,null,null,null,null,null,null,null,null,null,null,null,null,null,null,null,null,null,null,null,null,null,null,null,null,null,null,null,null,null,null,null,null,null,null,null,null,null,null,null,null,null,null,null,null,null,null,null,null,null,null,null,null,null,null,null,null,null,null,null,null,null,null,null,null,null,null,null,null,null,null,null,null,null,null,null,null,null,null,null,null,null,null,null,null,null,null,null,null,null,null,null,null,null,null,null,null,null,null,null,null,null,null,null,null,null,null,null,null,null,null,null,null,null,null,null,null,null,null,null,null,null,null,null,null,null,null,null,null,null,null,null,null,null,null,null,null,null,null,null,null,null,null,null,null,null,null,null,null,null,null,null,null,null,null,null,null,null,null,null,null,null,null,null,null,null,null,null,null,null,null,null,null,null,null,null,null,null,null,null,null,null,null,null,null,null,null,null,null,null,null,null,null,null,null,null,null,null,null,null,null,null,null,null,null,null,null,null,null,null,null,null,null,null,null,null,null,null,null,null,null,null,null,null,null,null,null,null,null,null,null,null,null,null,null,null,null,null,null,null,null,null,null,null,null,null,null,null,null,null,null,null,null,null,null,null,null,null,null,null,null,null,null,null,null,null,null,null,null,null,null,null,null,null,null,null,null,null,null,null,null,null,null,null,null,null,null,null,null,null,null,null,null,null,null,null,null,null,null,null,null,null,null,null,null,null,null,null,null,null,null,null,null,null,null,null,null,null,null,null,null,null,null,null,null,null,null,null,null,null,null,null,null,null,null,null,null,null,null,null,null,null,null,null,null,null,null,null,null,null,null,null,null,null,null,null,null,null,null,null,null,null,null,null,null,null,null,null,null,null,null,null,null,null,null,null,null,null,null,null,null,null,null,null,null,null,null,null,null,null,null,null,null,null,null,null,null,null,null,null,null,null,null,null,null,null,null,null,null,null,null,null,null,null,null,null,null,null,null,null,null,null,null,null,null,null,null,null,null,null,null,null,null,null,null,null,null,null,null,null,null,null,null,null,null,null,null,null,null,null,null,null,null,null,null,null,null,null,null,null,null,null,null,null,null,null,null,null,null,null,null,null,null,null,null,null,null,null,null,null,null,null,null,null,null,null,null,null,null,null,null,null,null,null,null,null,null,null,null,null,null,null,null,null,null,null,null,null,null,null,null,null,null,null,null,null,null,null,null,null,null,null,null,null,null,null,null,null,null,null,null,null,null,null,null,null,null,null,null,null,null,null,null,null,null,null,null,null,null,null,null,null,null,null,null,null,null,null,null,null,null,null,null,null,null,null,null,null,null,null,null,null,null,null,null,null,null,null,null,null,null,null,null,null,null,null,null,null,null,null,null,null,null,null,null,null,null,null,null,null,null,null,null,null,null,null,null,null,null,null,null,null,null,null,null,null,null,null,null,null,null,null,null,null,null,null,null,null,null,null,null,null,null,null,null,null,null,null,null,null,null,null,null,null,null,null,null,null,null,null,null,null,null,null,null,null,null,null,null,null,null,null,null,null,null,null,null,null,null,null,null,null,null,null,null,null,null,null,null,null,null,null,null,null,null,null,null,null,null,null,null,null,null,null,null,null,null,null,null,null,null,null,null,null,null,null,null,null,null,null,null,null,null,null,null,null,null,null,null,null,null,null,null,null,null,null,null,null,null,null,null,null,null,null,null,null,null,null,null,null,null,null,null,null,null,null,null,null,null,null,null,null,null,null,null,null,null,null,null,null,null,null,null,null,null,null,null,null,null,null,null,null,null,null,null,null,null,null,null,null,null,null,null,null,null,null,null,null,null,null,null,null,null,null,null,null,null,null,null,null,null,null,null,null,null,null,null,null,null,null,null,null,null,null,null,null,null,null,null,null,null,null,null,null,null,null,null,null,null,null,null,null,null,null,null,null,null,null,null,null,null,null,null,null,null,null,null,null,null,null,null,null,null,null,null,null,null,null,null,null,null,null,null,null,null,null,null,null,null,null,null,null,null,null,null,null,null,null,null,null,null,null,null,null,null,null,null,null,null,null,null,null,null,null,null,null,null,null,null,null,null,null,null,null,null,null,null,null,null,null,null,null,null,null,null,null,null,null,null,null,null,null,null,null,null,null,null,null,null,null,null,null,null,null,null,null,null,null,null,null,null,null,null,null,null,null,null,null,null,null,null,null,null,null,null,null,null,null,null,null,null,null,null,null,null,null,null,null,null,null,null,null,null,null,null,null,null,null,null,null,null,null,null,null,null,null,null,null,null,null,null,null,null,null,null,null,null,null,null,null,null,null,null,null,null,null,null,null,null,null,null,null,null,null,null,null,null,null,null,null,null,null,null,null,null,null,null,null,null,null,null,null,null,null,null,null,null,null,null,null,null,null,null,null,null,null,null,null,null,null,null,null,null,null,null,null,null,null,null,null,null,null,null,null,null,null,null,null,null,null,null,null,null,null,null,null,null,null,null,null,null,null,null,null,null,null,null,null,null,null,null,null,null,null,null,null,null,null,null,null,null,null,null,null,null,null,null,null,null,null,null,null,null,null,null,null,null,null,null,null,null,null,null,null,null,null,null,null,null,null,null,null,null,null,null,null,null,null,null,null,null,null,null,null,null,null,null,null,null,null,null,null,null,null,null,null,null,null,null,null,null,null,null,null,null,null,null,null,null,null,null,null,null,null,null,null,null,null,null,null,null,null,null,null,null,null,null,null,null,null,null,null,null,null,null,null,null,null,null,null,null,null,null,null,null,null,null,null,null,null,null,null,null,null,null,null,null,null,null,null,null,null,null,null,null,null,null,null,null,null,null,null,null,null,null,null,null,null,null,null,null,null,null,null,null,null,null,null,null,null,null,null,null,null,null,null,null,null,null,null,null,null,null,null,null,null,null,null,null,null,null,null,null,null,null,null,null,null,null,null,null,null,null,null,null,null,null,null,null,null,null,null,null,null,null,null,null,null,null,null,null,null,null,null,null,null,null,null,null,null,null,null,null,null,null,null,null,null,null,null,null,null,null,null,null,null,null,null,null,null,null,null,null,null,null,null,null,null,null,null,null,null,null,null,null,null,null,null,null,null,null,null,null,null,null,null,null,null,null,null,null,null,null,null,null,null,null,null,null,null,null,null,null,null,null,null,null,null,null,null,null,null,null,null,null,null,null,null,null,null,null,null,null,null,null,null,null,null,null,null,null,null,null,null,null,null,null,null,null,null,null,null,null,null,null,null,null,null,null,null,null,null,null,null,null,null,null,null,null,null,null,null,null,null,null,null,null,null,null,null,null,null,null,null,null,null,null,null,null,null,null,null,null,null,null,null,null,null,null,null,null,null,null,null,null,null,null,null,null,null,null,null,null,null,null,null,null,null,null,null,null,null,null,null,null,null,null,null,null,null,null,null,null,null,null,null,null,null,null,null,null,null,null,null,null,null,null,null,null,null,null,null,null,null,null,null,null,null,null,null,null,null,null,null,null,null,null,null,null,null,null,null,null,null,null,null,null,null,null,null,null,null,null,null,null,null,null,null,null,null,null,null,null,null,null,null,null,null,null,null,null,null,null,null,null,null,null,null,null,null,null,null,null,null,null,null,null,null,null,null,null,null,null,null,null,null,null,null,null,null,null,null,null,null,null,null,null,null,null,null,null,null,null,null,null,null,null,null,null,null,null,null,null,null,null,null,null,null,null,null,null,null,null,null,null,null,null,null,null,null,null,null,null,null,null,null,null,null,null,null,null,null,null,null,null,null,null,null,null,null,null,null,null,null,null,null,null,null,null,null,null,null,null,null,null,null,null,null,null,null,null,null,null,null,null,null,null,null,null,null,null,null,null,null,null,null,null,null,null,null,null,null,null,null,null,null,null,null,null,null,null,null,null,null,null,null,null,null,null,null,null,null,null,null,null,null,null,null,null,null,null,null,null,null,null,null,null,null,null,null,null,null,null,null,null,null,null,null,null,null,null,null,null,null,null,null,null,null,null,null,null,null,null,null,null,null,null,null,null,null,null,null,null,null,null,null,null,null,null,null,null,null,null,null,null,null,null,null,null,null,null,null,null,null,null,null,null,null,null,null,null,null,null,null,null,null,null,null,null,null,null,null,null,null,null,null,null,null,null,null,null,null,null,null,null,null,null,null,null,null,null,null,null,null,null,null,null,null,null,null,null,null,null,null,null,null,null,null,null,null,null,null,null,null,null,null,null,null,null,null,null,null,null,null,null,null,null,null,null,null,null,null,null,null,null,null,null,null,null,null,null,null,null,null,null,null,null,null,null,null,null,null,null,null,null,null,null,null,null,null,null,null,null,null,null,null,null,null,null,null,null,null,null,null,null,null,null,null,null,null,null,null,null,null,null,null,null,null,null,null,null,null,null,null,null,null,null,null,null,null,null,null,null,null,null,null,null,null,null,null,null,null,null,null,null,null,null,null,null,null,null,null,null,null,null,null,null,null,null,null,null,null,null,null,null,null,null,null,null,null,null,null,null,null,null,null,null,null,null,null,null,null,null,null,null,null,null,null,null,null,null,null,null,null,null,null,null,null,null,null,null,null,null,null,null,null,null,null,null,null,null,null,null,null,null,null,null,null,null,null,null,null,null,null,null,null,null,null,null,null,null,null,null,null,null,null,null,null,null,null,null,null,null,null,null,null,null,null,null,null,null,null,null,null,null,null,null,null,null,null,null,null,null,null,null,null,null,null,null,null,null,null,null,null,null,null,null,null,null,null,null,null,null,null,null,null,null,null,null,null,null,null,null,null,null,null,null,null,null,null,null,null,null,null,null,null,null,null,null,null,null,null,null,null,null,null,null,null,null,null,null,null,null,null,null,null,null,null,null,null,null,null,null,null,null,null,null,null,null,null,null,null,null,null,null,null,null,null,null,null,null,null,null,null,null,null,null,null,null,null,null,null,null,null,null,null,null,null,null,null,null,null,null,null,null,null,null,null,null,null,null,null,null,null,null,null,null,null,null,null,null,null,null,null,null,null,null,null,null,null,null,null,null,null,null,null,null,null,null,null,null,null,null,null,null,null,null,null,null,null,null,null,null,null,null,null,null,null,null,null,null,null,null,null,null,null,null,null,null,null,null,null,null,null,null,null,null,null,null,null,null,null,null,null,null,null,null,null,null,null,null,null,null,null,null,null,null,null,null,null,null,null,null,null,null,null,null,null,null,null,null,null,null,null,null,null,null,null,null,null,null,null,null,null,null,null,null,null,null,null,null,null,null,null,null,null,null,null,null,null,null,null,null,null,null,null,null,null,null,null,null,null,null,null,null,null,null,null,null,null,null,null,null,null,null,null,null,null,null,null,null,null,null,null,null,null,null,null,null,null,null,null,null,null,null,null,null,null,null,null,null,null,null,null,null,null,null,null,null,null,null,null,null,null,null,null,null,null,null,null,null,null,null,null,null,null,null,null,null,null,null,null,null,null,null,null,null,null,null,null,null,null,null,null,null,null,null,null,null,null,null,null,null,null,null,null,null,null,null,null,null,null,null,null,null,null,null,null,null,null,null,null,null,null,null,null,null,null,null,null,null,null,null,null,null,null,null,null,null,null,null,null,null,null,null,null,null,null,null,null,null,null,null,null,null,null,null,null,null,null,null,null,null,null,null,null,null,null,null,null,null,null,null,null,null,null,null,null,null,null,null,null,null,null,null,null,null,null,null,null,null,null,null,null,null,null,null,null,null,null,null,null,null,null,null,null,null,null,null,null,null,null,null,null,null,null,null,null,null,null,null,null,null,null,null,null,null,null,null,null,null,null,null,null,null,null,null,null,null,null,null,null,null,null,null,null,null,null,null,null,null,null,null,null,null,null,null,null,null,null,null,null,null,null,null,null,null,null,null,null,null,null,null,null,null,null,null,null,null,null,null,null,null,null,null,null,null,null,null,null,null,null,null,null,null,null,null,null,null,null,null,null,null,null,null,null,null,null,null,null,null,null,null,null,null,null,null,null,null,null,null,null,null,null,null,null,null,null,null,null,null,null,null,null,null,null,null,null,null,null,null,null,null,null,null,null,null,null,null,null,null,null,null,null,null,null,null,null,null,null,null,null,null,null,null,null,null,null,null,null,null,null,null,null,null,null,null,null,null,null,null,null,null,null,null,null,null,null,null,null,null,null,null,null,null,null,null,null,null,null,null,null,null,null,null,null,null,null,null,null,null,null,null,null,null,null,null,null,null,null,null,null,null,null,null,null,null,null,null,null,null,null,null,null,null,null,null,null,null,null,null,null,null,null,null,null,null,null,null,null,null,null,null,null,null,null,null,null,null,null,null,null,null,null,null,null,null,null,null,null,null,null,null,null,null,null,null,null,null,null,null,null,null,null,null,null,null,null,null,null,null,null,null,null,null,null,null,null,null,null,null,null,null,null,null,null,null,null,null,null,null,null,null,null,null,null,null,null,null,null,null,null,null,null,null,null,null,null,null,null,null,null,null,null,null,null,null,null,null,null,null,null,null,null,null,null,null,null,null,null,null,null,null,null,null,null,null,null,null,null,null,null,null,null,null,null,null,null,null,null,null,null,null,null,null,null,null,null,null,null,null,null,null,null,null,null,null,null,null,null,null,null,null,null,null,null,null,null,null,null,null,null,null,null,null,null,null,null,null,null,null,null,null,null,null,null,null,null,null,null,null,null,null,null,null,null,null,null,null,null,null,null,null,null,null,null,null,null,null,null,null,null,null,null,null,null,null,null,null,null,null,null,null,null,null,null,null,null,null,null,null,null,null,null,null,null,null,null,null,null,null,null,null,null,null,null,null,null,null,null,null,null,null,null,null,null,null,null,null,null,null,null,null,null,null,null,null,null,null,null,null,null,null,null,null,null,null,null,null,null,null,null,null,null,null,null,null,null,null,null,null,null,null,null,null,null,null,null,null,null,null,null,null,null,null,null,null,null,null,null,null,null,null,null,null,null,null,null,null,null,null,null,null,null,null,null,null,null,null,null,null,null,null,null,null,null,null,null,null,null,null,null,null,null,null,null,null,null,null,null,null,null,null,null,null,null,null,null,null,null,null,null,null,null,null,null,null,null,null,null,null,null,null,null,null,null,null,null,null,null,null,null,null,null,null,null,null,null,null,null,null,null,null,null,null,null,null,null,null,null,null,null,null,null,null,null,null,null,null,null,null,null,null,null,null,null,null,null,null,null,null,null,null,null,null,null,null,null,null,null,null,null,null,null,null,null,null,null,null,null,null,null,null,null,null,null,null,null,null,null,null,null,null,null,null,null,null,null,null,null,null,null,null,null,null,null,null,null,null,null,null,null,null,null,null,null,null,null,null,null,null,null,null,null,null,null,null,null,null,null,null,null,null,null,null,null,null,null,null,null,null,null,null,null,null,null,null,null,null,null,null,null,null,null,null,null,null,null,null,null,null,null,null,null,null,null,null,null,null,null,null,null,null,null,null,null,null,null,null,null,null,null,null,null,null,null,null,null,null,null,null,null,null,null,null,null,null,null,null,null,null,null,null,null,null,null,null,null,null,null,null,null,null,null,null,null,null,null,null,null,null,null,null,null,null,null,null,null,null,null,null,null,null,null,null,null,null,null,null,null,null,null,null,null,null,null,null,null,null,null,null,null,null,null,null,null,null,null,null,null,null,null,null,null,null,null,null,null,null,null,null,null,null,null,null,null,null,null,null,null,null,null,null,null,null,null,null,null,null,null,null,null,null,null,null,null,null,null,null,null,null,null,null,null,null,null,null,null,null,null,null,null,null,null,null,null,null,null,null,null,null,null,null,null,null,null,null,null,null,null,null,null,null,null,null,null,null,null,null,null,null,null,null,null,null,null,null,null,null,null,null,null,null,null,null,null,null,null,null,null,null,null,null,null,null,null,null,null,null,null,null,null,null,null,null,null,null,null,null,null,null,null,null,null,null,null,null,null,null,null,null,null,null,null,null,null,null,null,null,null,null,null,null,null,null,null,null,null,null,null,null,null,null,null,null,null,null,null,null,null,null,null,null,null,null,null,null,null,null,null,null,null,null,null,null,null,null,null,null,null,null,null,null,null,null,null,null,null,null,null,null,null,null,null,null,null,null,null,null,null,null,null,null,null,null,null,null,null,null,null,null,null,null,null,null,null,null,null,null,null,null,null,null,null,null,null,null,null,null,null,null,null,null,null,null,null,null,null,null,null,null,null,null,null,null,null,null,null,null,null,null,null,null,null,null,null,null,null,null,null,null,null,null,null,null,null,null,null,null,null,null,null,null,null,null,null,null,null,null,null,null,null,null,null,null,null,null,null,null,null,null,null,null,null,null,null,null,null,null,null,null,null,null,null,null,null,null,null,null,null,null,null,null,null,null,null,null,null,null,null,null,null,null,null,null,null,null,null,null,null,null,null,null,null,null,null,null,null,null,null,null,null,null,null,null,null,null,null,null,null,null,null,null,null,null,null,null,null,null,null,null,null,null,null,null,null,null,null,null,null,null,null,null,null,null,null,null,null,null,null,null,null,null,null,null,null,null,null,null,null,null,null,null,null,null,null,null,null,null,null,null,null,null,null,null,null,null,null,null,null,null,null,null,null,null,null,null,null,null,null,null,null,null,null,null,null,null,null,null,null,null,null,null,null,null,null,null,null,null,null,null,null,null,null,null,null,null,null,null,null,null,null,null,null,null,null,null,null,null,null,null,null,null,null,null,null,null,null,null,null,null,null,null,null,null,null,null,null,null,null,null,null,null,null,null,null,null,null,null,null,null,null,null,null,null,null,null,null,null,null,null,null,null,null,null,null,null,null,null,null,null,null,null,null,null,null,null,null,null,null,null,null,null,null,null,null,null,null,null,null,null,null,null,null,null,null,null,null,null,null,null,null,null,null,null,null,null,null,null,null,null,null,null,null,null,null,null,null,null,null,null,null,null,null,null,null,null,null,null,null,null,null,null,null,null,null,null,null,null,null,null,null,null,null,null,null,null,null,null,null,null,null,null,null,null,null,null,null,null,null,null,null,null,null,null,null,null,null,null,null,null,null,null,null,null,null,null,null,null,null,null,null,null,null,null,null,null,null,null,null,null,null,null,null,null,null,null,null,null,null,null,null,null,null,null,null,null,null,null,null,null,null,null,null,null,null,null,null,null,null,null,null,null,null,null,null,null,null,null,null,null,null,null,null,null,null,null,null,null,null,null,null,null,null,null,null,null,null,null,null,null,null,null,null,null,null,null,null,null,null,null,null,null,null,null,null,null,null,null,null,null,null,null,null,null,null,null,null,null,null,null,null,null,null,null,null,null,null,null,null,null,null,null,null,null,null,null,null,null,null,null,null,null,null,null,null,null,null,null,null,null,null,null,null,null,null,null,null,null,null,null,null,null,null,null,null,null,null,null,null,null,null,null,null,null,null,null,null,null,null,null,null,null,null,null,null,null,null,null,null,null,null,null,null,null,null,null,null,null,null,null,null,null,null,null,null,null,null,null,null,null,null,null,null,null,null,null,null,null,null,null,null,null,null,null,null,null,null,null,null,null,null,null,null,null,null,null,null,null,null,null,null,null,null,null,null,null,null,null,null,null,null,null,null,null,null,null,null,null,null,null,null,null,null,null,null,null,null,null,null,null,null,null,null,null,null,null,null,null,null,null,null,null,null,null,null,null,null,null,null,null,null,null,null,null,null,null,null,null,null,null,null,null,null,null,null,null,null,null,null,null,null,null,null,null,null,null,null,null,null,null,null,null,null,null,null,null,null,null,null,null,null,null,null,null,null,null,null,null,null,null,null,null,null,null,null,null,null,null,null,null,null,null,null,null,null,null,null,null,null,null,null,null,null,null,null,null,null,null,null,null,null,null,null,null,null,null,null,null,null,null,null,null,null,null,null,null,null,null,null,null,null,null,null,null,null,null,null,null,null,null,null,null,null,null,null,null,null,null,null,null,null,null,null,null,null,null,null,null,null,null,null,null,null,null,null,null,null,null,null,null,null,null,null,null,null,null,null,null,null,null,null,null,null,null,null,null,null,null,null,null,null,null,null,null,null,null,null,null,null,null,null,null,null,null,null,null,null,null,null,null,null,null,null,null,null,null,null,null,null,null,null,null,null,null,null,null,null,null,null,null,null,null,null,null,null,null,null,null,null,null,null,null,null,null,null,null,null,null,null,null,null,null,null,null,null,null,null,null,null,null,null,null,null,null,null,null,null,null,null,null,null,null,null,null,null,null,null,null,null,null,null,null,null,null,null,null,null,null,null,null,null,null,null,null,null,null,null,null,null,null,null,null,null,null,null,null,null,null,null,null,null,null,null,null,null,null,null,null,null,null,null,null,null,null,null,null,null,null,null,null,null,null,null,null,null,null,null,null,null,null,null,null,null,null,null,null,null,null,null,null,null,null,null,null,null,null,null,null,null,null,null,null,null,null,null,null,null,null,null,null,null,null,null,null,null,null,null,null,null,null,null,null,null,null,null,null,null,null,null,null,null,null,null,null,null,null,null,null,null,null,null,null,null,null,null,null,null,null,null,null,null,null,null,null,null,null,null,null,null,null,null,null,null,null,null,null,null,null,null,null,null,null,null,null,null,null,null,null,null,null,null,null,null,null,null,null,null,null,null,null,null,null,null,null,null,null,null,null,null,null,null,null,null,null,null,null,null,null,null,null,null,null,null,null,null,null,null,null,null,null,null,null,null,null,null,null,null,null,null,null,null,null,null,null,null,null,null,null,null,null,null,null,null,null,null,null,null,null,null,null,null,null,null,null,null,null,null,null,null,null,null,null,null,null,null,null,null,null,null,null,null,null,null,null,null,null,null,null,null,null,null,null,null,null,null,null,null,null,null,null,null,null,null,null,null,null,null,null,null,null,null,null,null,null,null,null,null,null,null,null,null,null,null,null,null,null,null,null,null,null,null,null,null,null,null,null,null,null,null,null,null,null,null,null,null,null,null,null,null,null,null,null,null,null,null,null,null,null,null,null,null,null,null,null,null,null,null,null,null,null,null,null,null,null,null,null,null,null,null,null,null,null,null,null,null,null,null,null,null,null,null,null,null,null,null,null,null,null,null,null,null,null,null,null,null,null,null,null,null,null,null,null,null,null,null,null,null,null,null,null,null,null,null,null,null,null,null,null,null,null,null,null,null,null,null,null,null,null,null,null,null,null,null,null,null,null,null,null,null,null,null,null,null,null,null,null,null,null,null,null,null,null,null,null,null,null,null,null,null,null,null,null,null,null,null,null,null,null,null,null,null,null,null,null,null,null,null,null,null,null,null,null,null,null,null,null,null,null,null,null,null,null,null,null,null,null,null,null,null,null,null,null,null,null,null,null,null,null,null,null,null,null,null,null,null,null,null,null,null,null,null,null,null,null,null,null,null,null,null,null,null,null,null,null,null,null,null,null,null,null,null,null,null,null,null,null,null,null,null,null,null,null,null,null,null,null,null,null,null,null,null,null,null,null,null,null,null,null,null,null,null,null,null,null,null,null,null,null,null,null,null,null,null,null,null,null,null,null,null,null,null,null,null,null,null,null,null,null,null,null,null,null,null,null,null,null,null,null,null,null,null,null,null,null,null,null,null,null,null,null,null,null,null,null,null,null,null,null,null,null,null,null,null,null,null,null,null,null,null,null,null,null,null,null,null,null,null,null,null,null,null,null,null,null,null,null,null,null,null,null,null,null,null,null,null,null,null,null,null,null,null,null,null,null,null,null,null,null,null,null,null,null,null,null,null,null,null,null,null,null,null,null,null,null,null,null,null,null,null,null,null,null,null,null,null,null,null,null,null,null,null,null,null,null,null,null,null,null,null,null,null,null,null,null,null,null,null,null,null,null,null,null,null,null,null,null,null,null,null,null,null,null,null,null,null,null,null,null,null,null,null,null,null,null,null,null,null,null,null,null,null,null,null,null,null,null,null,null,null,null,null,null,null,null,null,null,null,null,null,null,null,null,null,null,null,null,null,null,null,null,null,null,null,null,null,null,null,null,null,null,null,null,null,null,null,null,null,null,null,null,null,null,null,null,null,null,null,null,null,null,null,null,null,null,null,null,null,null,null,null,null,null,null,null,null,null,null,null,null,null,null,null,null,null,null,null,null,null,null,null,null,null,null,null,null,null,null,null,null,null,null,null,null,null,null,null,null,null,null,null,null,null,null,null,null,null,null,null,null,null,null,null,null,null,null,null,null,null,null,null,null,null,null,null,null,null,null,null,null,null,null,null,null,null,null,null,null,null,null,null,null,null,null,null,null,null,null,null,null,null,null,null,null,null,null,null,null,null,null,null,null,null,null,null,null,null,null,null,null,null,null,null,null,null,null,null,null,null,null,null,null,null,null,null,null,null,null,null,null,null,null,null,null,null,null,null,null,null,null,null,null,null,null,null,null,null,null,null,null,null,null,null,null,null,null,null,null,null,null,null,null,null,null,null,null,null,null,null,null,null,null,null,null,null,null,null,null,null,null,null,null,null,null,null,null,null,null,null,null,null,null,null,null,null,null,null,null,null,null,null,null,null,null,null,null,null,null,null,null,null,null,null,null,null,null,null,null,null,null,null,null,null,null,null,null,null,null,null,null,null,null,null,null,null,null,null,null,null,null,null,null,null,null,null,null,null,null,null,null,null,null,null,null,null,null,null,null,null,null,null,null,null,null,null,null,null,null,null,null,null,null,null,null,null,null,null,null,null,null,null,null,null,null,null,null,null,null,null,null,null,null,null,null,null,null,null,null,null,null,null,null,null,null,null,null,null,null,null,null,null,null,null,null,null,null,null,null,null,null,null,null,null,null,null,null,null,null,null,null,null,null,null,null,null,null,null,null,null,null,null,null,null,null,null,null,null,null,null,null,null,null,null,null,null,null,null,null,null,null,null,null,null,null,null,null,null,null,null,null,null,null,null,null,null,null,null,null,null,null,null,null,null,null,null,null,null,null,null,null,null,null,null,null,null,null,null,null,null,null,null,null,null,null,null,null,null,null,null,null,null,null,null,null,null,null,null,null,null,null,null,null,null,null,null,null,null,null,null,null,null,null,null,null,null,null,null,null,null,null,null,null,null,null,null,null,null,null,null,null,null,null,null,null,null,null,null,null,null,null,null,null,null,null,null,null,null,null,null,null,null,null,null,null,null,null,null,null,null,null,null,null,null,null,null,null,null,null,null,null,null,null,null,null,null,null,null,null,null,null,null,null,null,null,null,null,null,null,null,null,null,null,null,null,null,null,null,null,null,null,null,null,null,null,null,null,null,null,null,null,null,null,null,null,null,null,null,null,null,null,null,null,null,null,null,null,null,null,null,null,null,null,null,null,null,null,null,null,null,null,null,null,null,null,null,null,null,null,null,null,null,null,null,null,null,null,null,null,null,null,null,null,null,null,null,null,null,null,null,null,null,null,null,null,null,null,null,null,null,null,null,null,null,null,null,null,null,null,null,null,null,null,null,null,null,null,null,null,null,null,null,null,null,null,null,null,null,null,null,null,null,null,null,null,null,null,null,null,null,null,null,null,null,null,null,null,null,null,null,null,null,null,null,null,null,null,null,null,null,null,null,null,null,null,null,null,null,null,null,null,null,null,null,null,null,null,null,null,null,null,null,null,null,null,null,null,null,null,null,null,null,null,null,null,null,null,null,null,null,null,null,null,null,null,null,null,null,null,null,null,null,null,null,null,null,null,null,null,null,null,null,null,null,null,null,null,null,null,null,null,null,null,null,null,null,null,null,null,null,null,null,null,null,null,null,null,null,null,null,null,null,null,null,null,null,null,null,null,null,null,null,null,null,null,null,null,null,null,null,null,null,null,null,null,null,null,null,null,null,null,null,null,null,null,null,null,null,null,null,null,null,null,null,null,null,null,null,null,null,null,null,null,null,null,null,null,null,null,null,null,null,null,null,null,null,null,null,null,null,null,null,null,null,null,null,null,null,null,null,null,null,null,null,null,null,null,null,null,null,null,null,null,null,null,null,null,null,null,null,null,null,null,null,null,null,null,null,null,null,null,null,null,null,null,null,null,null,null,null,null,null,null,null,null,null,null,null,null,null,null,null,null,null,null,null,null,null,null,null,null,null,null,null,null,null,null,null,null,null,null,null,null,null,null,null,null,null,null,null,null,null,null,null,null,null,null,null,null,null,null,null,null,null,null,null,null,null,null,null,null,null,null,null,null,null,null,null,null,null,null,null,null,null,null,null,null,null,null,null,null,null,null,null,null,null,null,null,null,null,null,null,null,null,null,null,null,null,null,null,null,null,null,null,null,null,null,null,null,null,null,null,null,null,null,null,null,null,null,null,null,null,null,null,null,null,null,null,null,null,null,null,null,null,null,null,null,null,null,null,null,null,null,null,null,null,null,null,null,null,null,null,null,null,null,null,null,null,null,null,null,null,null,null,null,null,null,null,null,null,null,null,null,null,null,null,null,null,null,null,null,null,null,null,null,null,null,null,null,null,null,null,null,null,null,null,null,null,null,null,null,null,null,null,null,null,null,null,null,null,null,null,null,null,null,null,null,null,null,null,null,null,null,null,null,null,null,null,null,null,null,null,null,null,null,null,null,null,null,null,null,null,null,null,null,null,null,null,null,null,null,null,null,null,null,null,null,null,null,null,null,null,null,null,null,null,null,null,null,null,null,null,null,null,null,null,null,null,null,null,null,null,null,null,null,null,null,null,null,null,null,null,null,null,null,null,null,null,null,null,null,null,null,null,null,null,null,null,null,null,null,null,null,null,null,null,null,null,null,null,null,null,null,null,null,null,null,null,null,null,null,null,null,null,null,null,null,null,null,null,null,null,null,null,null,null,null,null,null,null,null,null,null,null,null,null,null,null,null,null,null,null,null,null,null,null,null,null,null,null,null,null,null,null,null,null,null,null,null,null,null,null,null,null,null,null,null,null,null,null,null,null,null,null,null,null,null,null,null,null,null,null,null,null,null,null,null,null,null,null,null,null,null,null,null,null,null,null,null,null,null,null,null,null,null,null,null,null,null,null,null,null,null,null,null,null,null,null,null,null,null,null,null,null,null,null,null,null,null,null,null,null,null,null,null,null,null,null,null,null,null,null,null,null,null,null,null,null,null,null,null,null,null,null,null,null,null,null,null,null,null,null,null,null,null,null,null,null,null,null,null,null,null,null,null,null,null,null,null,null,null,null,null,null,null,null,null,null,null,null,null,null,null,null,null,null,null,null,null,null,null,null,null,null,null,null,null,null,null,null,null,null,null,null,null,null,null,null,null,null,null,null,null,null,null,null,null,null,null,null,null,null,null,null,null,null,null,null,null,null,null,null,null,null,null,null,null,null,null,null,null,null,null,null,null,null,null,null,null,null,null,null,null,null,null,null,null,null,null,null,null,null,null,null,null,null,null,null,null,null,null,null,null,null,null,null,null,null,null,null,null,null,null,null,null,null,null,null,null,null,null,null,null,null,null,null,null,null,null,null,null,null,null,null,null,null,null,null,null,null,null,null,null,null,null,null,null,null,null,null,null,null,null,null,null,null,null,null,null,null,null,null,null,null,null,null,null,null,null,null,null,null,null,null,null,null,null,null,null,null,null,null,null,null,null,null,null,null,null,null,null,null,null,null,null,null,null,null,null,null,null,null,null,null,null,null,null,null,null,null,null,null,null,null,null,null,null,null,null,null,null,null,null,null,null,null,null,null,null,null,null,null,null,null,null,null,null,null,null,null,null,null,null,null,null,null,null,null,null,null,null,null,null,null,null,null,null,null,null,null,null,null,null,null,null,null,null,null,null,null,null,null,null,null,null,null,null,null,null,null,null,null,null,null,null,null,null,null,null,null,null,null,null,null,null,null,null,null,null,null,null,null,null,null,null,null,null,null,null,null,null,null,null,null,null,null,null,null,null,null,null,null,null,null,null,null,null,null,null,null,null,null,null,null,null,null,null,null,null,null,null,null,null,null,null,null,null,null,null,null,null,null,null,null,null,null,null,null,null,null,null,null,null,null,null,null,null,null,null,null,null,null,null,null,null,null,null,null,null,null,null,null,null,null,null,null,null,null,null,null,null,null,null,null,null,null,null,null,null,null,null,null,null,null,null,null,null,null,null,null,null,null,null,null,null,null,null,null,null,null,null,null,null,null,null,null,null,null,null,null,null,null,null,null,null,null,null,null,null,null,null,null,null,null,null,null,null,null,null,null,null,null,null,null,null,null,null,null,null,null,null,null,null,null,null,null,null,null,null,null,null,null,null,null,null,null,null,null,null,null,null,null,null,null,null,null,null,null,null,null,null,null,null,null,null,null,null,null,null,null,null,null,null,null,null,null,null,null,null,null,null,null,null,null,null,null,null,null,null,null,null,null,null,null,null,null,null,null,null,null,null,null,null,null,null,null,null,null,null,null,null,null,null,null,null,null,null,null,null,null,null,null,null,null,null,null,null,null,null,null,null,null,null,null,null,null,null,null,null,null,null,null,null,null,null,null,null,null,null,null,null,null,null,null,null,null,null,null,null,null,null,null,null,null,null,null,null,null,null,null,null,null,null,null,null,null,null,null,null,null,null,null,null,null,null,null,null,null,null,null,null,null,null,null,null,null,null,null,null,null,null,null,null,null,null,null,null,null,null,null,null,null,null,null,null,null,null,null,null,null,null,null,null,null,null,null,null,null,null,null,null,null,null,null,null,null,null,null,null,null,null,null,null,null,null,null,null,null,null,null,null,null,null,null,null,null,null,null,null,null,null,null,null,null,null,null,null,null,null,null,null,null,null,null,null,null,null,null,null,null,null,null,null,null,null,null,null,null,null,null,null,null,null,null,null,null,null,null,null,null,null,null,null,null,null,null,null,null,null,null,null,null,null,null,null,null,null,null,null,null,null,null,null,null,null,null,null,null,null,null,null,null,null,null,null,null,null,null,null,null,null,null,null,null,null,null,null,null,null,null,null,null,null,null,null,null,null,null,null,null,null,null,null,null,null,null,null,null,null,null,null,null,null,null,null,null,null,null,null,null,null,null,null,null,null,null,null,null,null,null,null,null,null,null,null,null,null,null,null,null,null,null,null,null,null,null,null,null,null,null,null,null,null,null,null,null,null,null,null,null,null,null,null,null,null,null,null,null,null,null,null,null,null,null,null,null,null,null,null,null,null,null,null,null,null,null,null,null,null,null,null,null,null,null,null,null,null,null,null,null,null,null,null,null,null,null,null,null,null,null,null,null,null,null,null,null,null,null,null,null,null,null,null,null,null,null,null,null,null,null,null,null,null,null,null,null,null,null,null,null,null,null,null,null,null,null,null,null,null,null,null,null,null,null,null,null,null,null,null,null,null,null,null,null,null,null,null,null,null,null,null,null,null,null,null,null,null,null,null,null,null,null,null,null,null,null,null,null,null,null,null,null,null,null,null,null,null,null,null,null,null,null,null,null,null,null,null,null,null,null,null,null,null,null,null,null,null,null,null,null,null,null,null,null,null,null,null,null,null,null,null,null,null,null,null,null,null,null,null,null,null,null,null,null,null,null,null,null,null,null,null,null,null,null,null,null,null,null,null,null,null,null,null,null,null,null,null,null,null,null,null,null,null,null,null,null,null,null,null,null,null,null,null,null,null,null,null,null,null,null,null,null,null,null,null,null,null,null,null,null,null,null,null,null,null,null,null,null,null,null,null,null,null,null,null,null,null,null,null,null,null,null,null,null,null,null,null,null,null,null,null,null,null,null,null,null,null,null,null,null,null,null,null,null,null,null,null,null,null,null,null,null,null,null,null,null,null,null,null,null,null,null,null,null,null,null,null,null,null,null,null,null,null,null,null,null,null,null,null,null,null,null,null,null,null,null,null,null,null,null,null,null,null,null,null,null,null,null,null,null,null,null,null,null,null,null,null,null,null,null,null,null,null,null,null,null,null,null,null,null,null,null,null,null,null,null,null,null,null,null,null,null,null,null,null,null,null,null,null,null,null,null,null,null,null,null,null,null,null,null,null,null,null,null,null,null,null,null,null,null,null,null,null,null,null,null,null,null,null,null,null,null,null,null,null,null,null,null,null,null,null,null,null,null,null,null,null,null,null,null,null,null,null,null,null,null,null,null,null,null,null,null,null,null,null,null,null,null,null,null,null,null,null,null,null,null,null,null,null,null,null,null,null,null,null,null,null,null,null,null,null,null,null,null,null,null,null,null,null,null,null,null,null,null,null,null,null,null,null,null,null,null,null,null,null,null,null,null,null,null,null,null,null,null,null,null,null,null,null,null,null,null,null,null,null,null,null,null,null,null,null,null,null,null,null,null,null,null,null,null,null,null,null,null,null,null,null,null,null,null,null,null,null,null,null,null,null,null,null,null,null,null,null,null,null,null,null,null,null,null,null,null,null,null,null,null,null,null,null,null,null,null,null,null,null,null,null,null,null,null,null,null,null,null,null,null,null,null,null,null,null,null,null,null,null,null,null,null,null,null,null,null,null,null,null,null,null,null,null,null,null,null,null,null,null,null,null,null,null,null,null,null,null,null,null,null,null,null,null,null,null,null,null,null,null,null,null,null,null,null,null,null,null,null,null,null,null,null,null,null,null,null,null,null,null,null,null,null,null,null,null,null,null,null,null,null,null,null,null,null,null,null,null,null,null,null,null,null,null,null,null,null,null,null,null,null,null,null,null,null,null,null,null,null,null,null,null,null,null,null,null,null,null,null,null,null,null,null,null,null,null,null,null,null,null,null,null,null,null,null,null,null,null,null,null,null,null,null,null,null,null,null,null,null,null,null,null,null,null,null,null,null,null,null,null,null,null,null,null,null,null,null,null,null,null,null,null,null,null,null,null,null,null,null,null,null,null,null,null,null,null,null,null,null,null,null,null,null,null,null,null,null,null,null,null,null,null,null,null,null,null,null,null,null,null,null,null,null,null,null,null,null,null,null,null,null,null,null,null,null,null,null,null,null,null,null,null,null,null,null,null,null,null,null,null,null,null,null,null,null,null,null,null,null,null,null,null,null,null,null,null,null,null,null,null,null,null,null,null,null,null,null,null,null,null,null,null,null,null,null,null,null,null,null,null,null,null,null,null,null,null,null,null,null,null,null,null,null,null,null,null,null,null,null,null,null,null,null,null,null,null,null,null,null,null,null,null,null,null,null,null,null,null,null,null,null,null,null,null,null,null,null,null,null,null,null,null,null,null,null,null,null,null,null,null,null,null,null,null,null,null,null,null,null,null,null,null,null,null,null,null,null,null,null,null,null,null,null,null,null,null,null,null,null,null,null,null,null,null,null,null,null,null,null,null,null,null,null,null,null,null,null,null,null,null,null,null,null,null,null,null,null,null,null,null,null,null,null,null,null,null,null,null,null,null,null,null,null,null,null,null,null,null,null,null,null,null,null,null,null,null,null,null,null,null,null,null,null,null,null,null,null,null,null,null,null,null,null,null,null,null,null,null,null,null,null,null,null,null,null,null,null,null,null,null,null,null,null,null,null,null,null,null,null,null,null,null,null,null,null,null,null,null,null,null,null,null,null,null,null,null,null,null,null,null,null,null,null,null,null,null,null,null,null,null,null,null,null,null,null,null,null,null,null,null,null,null,null,null,null,null,null,null,null,null,null,null,null,null,null,null,null,null,null,null,null,null,null,null,null,null,null,null,null,null,null,null,null,null,null,null,null,null,null,null,null,null,null,null,null,null,null,null,null,null,null,null,null,null,null,null,null,null,null,null,null,null,null,null,null,null,null,null,null,null,null,null,null,null,null,null,null,null,null,null,null,null,null,null,null,null,null,null,null,null,null,null,null,null,null,null,null,null,null,null,null,null,null,null,null,null,null,null,null,null,null,null,null,null,null,null,null,null,null,null,null,null,null,null,null,null,null,null,null,null,null,null,null,null,null,null,null,null,null,null,null,null,null,null,null,null,null,null,null,null,null,null,null,null,null,null,null,null,null,null,null,null,null,null,null,null,null,null,null,null,null,null,null,null,null,null,null,null,null,null,null,null,null,null,null,null,null,null,null,null,null,null,null,null,null,null,null,null,null,null,null,null,null,null,null,null,null,null,null,null,null,null,null,null,null,null,null,null,null,null,null,null,null,null,null,null,null,null,null,null,null,null,null,null,null,null,null,null,null,null,null,null,null,null,null,null,null,null,null,null,null,null,null,null,null,null,null,null,null,null,null,null,null,null,null,null,null,null,null,null,null,null,null,null,null,null,null,null,null,null,null,null,null,null,null,null,null,null,null,null,null,null,null,null,null,null,null,null,null,null,null,null,null,null,null,null,null,null,null,null,null,null,null,null,null,null,null,null,null,null,null,null,null,null,null,null,null,null,null,null,null,null,null,null,null,null,null,null,null,null,null,null,null,null,null,null,null,null,null,null,null,null,null,null,null,null,null,null,null,null,null,null,null,null,null,null,null,null,null,null,null,null,null,null,null,null,null,null,null,null,null,null,null,null,null,null,null,null,null,null,null,null,null,null,null,null,null,null,null,null,null,null,null,null,null,null,null,null,null,null,null,null,null,null,null,null,null,null,null,null,null,null,null,null,null,null,null,null,null,null,null,null,null,null,null,null,null,null,null,null,null,null,null,null,null,null,null,null,null,null,null,null,null,null,null,null,null,null,null,null,null,null,null,null,null,null,null,null,null,null,null,null,null,null,null,null,null,null,null,null,null,null,null,null,null,null,null,null,null,null,null,null,null,null,null,null,null,null,null,null,null,null,null,null,null,null,null,null,null,null,null,null,null,null,null,null,null,null,null,null,null,null,null,null,null,null,null,null,null,null,null,null,null,null,null,null,null,null,null,null,null,null,null,null,null,null,null,null,null,null,null,null,null,null,null,null,null,null,null,null,null,null,null,null,null,null,null,null,null,null,null,null,null,null,null,null,null,null,null,null,null,null,null,null,null,null,null,null,null,null,null,null,null,null,null,null,null,null,null,null,null,null,null,null,null,null,null,null,null,null,null,null,null,null,null,null,null,null,null,null,null,null,null,null,null,null,null,null,null,null,null,null,null,null,null,null,null,null,null,null,null,null,null,null,null,null,null,null,null,null,null,null,null,null,null,null,null,null,null,null,null,null,null,null,null,null,null,null,null,null,null,null,null,null,null,null,null,null,null,null,null,null,null,null,null,null,null,null,null,null,null,null,null,null,null,null,null,null,null,null,null,null,null,null,null,null,null,null,null,null,null,null,null,null,null,null,null,null,null,null,null,null,null,null,null,null,null,null,null,null,null,null,null,null,null,null,null,null,null,null,null,null,null,null,null,null,null,null,null,null,null,null,null,null,null,null,null,null,null,null,null,null,null,null,null,null,null,null,null,null,null,null,null,null,null,null,null,null,null,null,null,null,null,null,null,null,null,null,null,null,null,null,null,null,null,null,null,null,null,null,null,null,null,null,null,null,null,null,null,null,null,null,null,null,null,null,null,null,null,null,null,null,null,null,null,null,null,null,null,null,null,null,null,null,null,null,null,null,null,null,null,null,null,null,null,null,null,null,null,null,null,null,null,null,null,null,null,null,null,null,null,null,null,null,null,null,null,null,null,null,null,null,null,null,null,null,null,null,null,null,null,null,null,null,null,null,null,null,null,null,null,null,null,null,null,null,null,null,null,null,null,null,null,null,null,null,null,null,null,null,null,null,null,null,null,null,null,null,null,null,null,null,null,null,null,null,null,null,null,null,null,null,null,null,null,null,null,null,null,null,null,null,null,null,null,null,null,null,null,null,null,null,null,null,null,null,null,null,null,null,null,null,null,null,null,null,null,null,null,null,null,null,null,null,null,null,null,null,null,null,null,null,null,null,null,null,null,null,null,null,null,null,null,null,null,null,null,null,null,null,null,null,null,null,null,null,null,null,null,null,null,null,null,null,null,null,null,null,null,null,null,null,null,null,null,null,null,null,null,null,null,null,null,null,null,null,null,null,null,null,null,null,null,null,null,null,null,null,null,null,null,null,null,null,null,null,null,null,null,null,null,null,null,null,null,null,null,null,null,null,null,null,null,null,null,null,null,null,null,null,null,null,null,null,null,null,null,null,null,null,null,null,null,null,null,null,null,null,null,null,null,null,null,null,null,null,null,null,null,null,null,null,null,null,null,null,null,null,null,null,null,null,null,null,null,null,null,null,null,null,null,null,null,null,null,null,null,null,null,null,null,null,null,null,null,null,null,null,null,null,null,null,null,null,null,null,null,null,null,null,null,null,null,null,null,null,null,null,null,null,null,null,null,null,null,null,null,null,null,null,null,null,null,null,null,null,null,null,null,null,null,null,null,null,null,null,null,null,null,null,null,null,null,null,null,null,null,null,null,null,null,null,null,null,null,null,null,null,null,null,null,null,null,null,null,null,null,null,null,null,null,null,null,null,null,null,null,null,null,null,null,null,null,null,null,null,null,null,null,null,null,null,null,null,null,null,null,null,null,null,null,null,null,null,null,null,null,null,null,null,null,null,null,null,null,null,null,null,null,null,null,null,null,null,null,null,null,null,null,null,null,null,null,null,null,null,null,null,null,null,null,null,null,null,null,null,null,null,null,null,null,null,null,null,null,null,null,null,null,null,null,null,null,null,null,null,null,null,null,null,null,null,null,null,null,null,null,null,null,null,null,null,null,null,null,null,null,null,null,null,null,null,null,null,null,null,null,null,null,null,null,null,null,null,null,null,null,null,null,null,null,null,null,null,null,null,null,null,null,null,null,null,null,null,null,null,null,null,null,null,null,null,null,null,null,null,null,null,null,null,null,null,null,null,null,null,null,null,null,null,null,null,null,null,null,null,null,null,null,null,null,null,null,null,null,null,null,null,null,null,null,null,null,null,null,null,null,null,null,null,null,null,null,null,null,null,null,null,null,null,null,null,null,null,null,null,null,null,null,null,null,null,null,null,null,null,null,null,null,null,null,null,null,null,null,null,null,null,null,null,null,null,null,null,null,null,null,null,null,null,null,null,null,null,null,null,null,null,null,null,null,null,null,null,null,null,null,null,null,null,null,null,null,null,null,null,null,null,null,null,null,null,null,null,null,null,null,null,null,null,null,null,null,null,null,null,null,null,null,null,null,null,null,null,null,null,null,null,null,null,null,null,null,null,null,null,null,null,null,null,null,null,null,null,null,null,null,null,null,null,null,null,null,null,null,null,null,null,null,null,null,null,null,null,null,null,null,null,null,null,null,null,null,null,null,null,null,null,null,null,null,null,null,null,null,null,null,null,null,null,null,null,null,null,null,null,null,null,null,null,null,null,null,null,null,null,null,null,null,null,null,null,null,null,null,null,null,null,null,null,null,null,null,null,null,null,null,null,null,null,null,null,null,null,null,null,null,null,null,null,null,null,null,null,null,null,null,null,null,null,null,null,null,null,null,null,null,null,null,null,null,null,null,null,null,null,null,null,null,null,null,null,null,null,null,null,null,null,null,null,null,null,null,null,null,null,null,null,null,null,null,null,null,null,null,null,null,null,null,null,null,null,null,null,null,null,null,null,null,null,null,null,null,null,null,null,null,null,null,null,null,null,null,null,null,null,null,null,null,null,null,null,null,null,null,null,null,null,null,null,null,null,null,null,null,null,null,null,null,null,null,null,null,null,null,null,null,null,null,null,null,null,null,null,null,null,null,null,null,null,null,null,null,null,null,null,null,null,null,null,null,null,null,null,null,null,null,null,null,null,null,null,null,null,null,null,null,null,null,null,null,null,null,null,null,null,null,null,null,null,null,null,null,null,null,null,null,null,null,null,null,null,null,null,null,null,null,null,null,null,null,null,null,null,null,null,null,null,null,null,null,null,null,null,null,null,null,null,null,null,null,null,null,null,null,null,null,null,null,null,null,null,null,null,null,null,null,null,null,null,null,null,null,null,null,null,null,null,null,null,null,null,null,null,null,null,null,null,null,null,null,null,null,null,null,null,null,null,null,null,null,null,null,null,null,null,null,null,null,null,null,null,null,null,null,null,null,null,null,null,null,null,null,null,null,null,null,null,null,null,null,null,null,null,null,null,null,null,null,null,null,null,null,null,null,null,null,null,null,null,null,null,null,null,null,null,null,null,null,null,null,null,null,null,null,null,null,null,null,null,null,null,null,null,null,null,null,null,null,null,null,null,null,null,null,null,null,null,null,null,null,null,null,null,null,null,null,null,null,null,null,null,null,null,null,null,null,null,null,null,null,null,null,null,null,null,null,null,null,null,null,null,null,null,null,null,null,null,null,null,null,null,null,null,null,null,null,null,null,null,null,null,null,null,null,null,null,null,null,null,null,null,null,null,null,null,null,null,null,null,null,null,null,null,null,null,null,null,null,null,null,null,null,null,null,null,null,null,null,null,null,null,null,null,null,null,null,null,null,null,null,null,null,null,null,null,null,null,null,null,null,null,null,null,null,null,null,null,null,null,null,null,null,null,null,null,null,null,null,null,null,null,null,null,null,null,null,null,null,null,null,null,null,null,null,null,null,null,null,null,null,null,null,null,null,null,null,null,null,null,null,null,null,null,null,null,null,null,null,null,null,null,null,null,null,null,null,null,null,null,null,null,null,null,null,null,null,null,null,null,null,null,null,null,null,null,null,null,null,null,null,null,null,null,null,null,null,null,null,null,null,null,null,null,null,null,null,null,null,null,null,null,null,null,null,null,null,null,null,null,null,null,null,null,null,null,null,null,null,null,null,null,null,null,null,null,null,null,null,null,null,null,null,null,null,null,null,null,null,null,null,null,null,null,null,null,null,null,null,null,null,null,null,null,null,null,null,null,null,null,null,null,null,null,null,null,null,null,null,null,null,null,null,null,null,null,null,null,null,null,null,null,null,null,null,null,null,null,null,null,null,null,null,null,null,null,null,null,null,null,null,null,null,null,null,null,null,null,null,null,null,null,null,null,null,null,null,null,null,null,null,null,null,null,null,null,null,null,null,null,null,null,null,null,null,null,null,null,null,null,null,null,null,null,null,null,null,null,null,null,null,null,null,null,null,null,null,null,null,null,null,null,null,null,null,null,null,null,null,null,null,null,null,null,null,null,null,null,null,null,null,null,null,null,null,null,null,null,null,null,null,null,null,null,null,null,null,null,null,null,null,null,null,null,null,null,null,null,null,null,null,null,null,null,null,null,null,null,null,null,null,null,null,null,null,null,null,null,null,null,null,null,null,null,null,null,null,null,null,null,null,null,null,null,null,null,null,null,null,null,null,null,null,null,null,null,null,null,null,null,null,null,null,null,null,null,null,null,null,null,null,null,null,null,null,null,null,null,null,null,null,null,null,null,null,null,null,null,null,null,null,null,null,null,null,null,null,null,null,null,null,null,null,null,null,null,null,null,null,null,null,null,null,null,null,null,null,null,null,null,null,null,null,null,null,null,null,null,null,null,null,null,null,null,null,null,null,null,null,null,null,null,null,null,null,null,null,null,null,null,null,null,null,null,null,null,null,null,null,null,null,null,null,null,null,null,null,null,null,null,null,null,null,null,null,null,null,null,null,null,null,null,null,null,null,null,null,null,null,null,null,null,null,null,null,null,null,null,null,null,null,null,null,null,null,null,null,null,null,null,null,null,null,null,null,null,null,null,null,null,null,null,null,null,null,null,null,null,null,null,null,null,null,null,null,null,null,null,null,null,null,null,null,null,null,null,null,null,null,null,null,null,null,null,null,null,null,null,null,null,null,null,null,null,null,null,null,null,null,null,null,null,null,null,null,null,null,null,null,null,null,null,null,null,null,null,null,null,null,null,null,null,null,null,null,null,null,null,null,null,null,null,null,null,null,null,null,null,null,null,null,null,null,null,null,null,null,null,null,null,null,null,null,null,null,null,null,null,null,null,null,null,null,null,null,null,null,null,null,null,null,null,null,null,null,null,null,null,null,null,null,null,null,null,null,null,null,null,null,null,null,null,null,null,null,null,null,null,null,null,null,null,null,null,null,null,null,null,null,null,null,null,null,null,null,null,null,null,null,null,null,null,null,null,null,null,null,null,null,null,null,null,null,null,null,null,null,null,null,null,null,null,null,null,null,null,null,null,null,null,null,null,null,null,null,null,null,null,null,null,null,null,null,null,null,null,null,null,null,null,null,null,null,null,null,null,null,null,null,null,null,null,null,null,null,null,null,null,null,null,null,null,null,null,null,null,null,null,null,null,null,null,null,null,null,null,null,null,null,null,null,null,null,null,null,null,null,null,null,null,null,null,null,null,null,null,null,null,null,null,null,null,null,null,null,null,null,null,null,null,null,null,null,null,null,null,null,null,null,null,null,null,null,null,null,null,null,null,null,null,null,null,null,null,null,null,null,null,null,null,null,null,null,null,null,null,null,null,null,null,null,null,null,null,null,null,null,null,null,null,null,null,null,null,null,null,null,null,null,null,null,null,null,null,null,null,null,null,null,null,null,null,null,null,null,null,null,null,null,null,null,null,null,null,null,null,null,null,null,null,null,null,null,null,null,null,null,null,null,null,null,null,null,null,null,null,null,null,null,null,null,null,null,null,null,null,null,null,null,null,null,null,null,null,null,null,null,null,null,null,null,null,null,null,null,null,null,null,null,null,null,null,null,null,null,null,null,null,null,null,null,null,null,null,null,null,null,null,null,null,null,null,null,null,null,null,null,null,null,null,null,null,null,null,null,null,null,null,null,null,null,null,null,null,null,null,null,null,null,null,null,null,null,null,null,null,null,null,null,null,null,null,null,null,null,null,null,null,null,null,null,null,null,null,null,null,null,null,null,null,null,null,null,null,null,null,null,null,null,null,null,null,null,null,null,null,null,null,null,null,null,null,null,null,null,null,null,null,null,null,null,null,null,null,null,null,null,null,null,null,null,null,null,null,null,null,null,null,null,null,null,null,null,null,null,null,null,null,null,null,null,null,null,null,null,null,null,null,null,null,null,null,null,null,null,null,null,null,null,null,null,null,null,null,null,null,null,null,null,null,null,null,null,null,null,null,null,null,null,null,null,null,null,null,null,null,null,null,null,null,null,null,null,null,null,null,null,null,null,null,null,null,null,null,null,null,null,null,null,null,null,null,null,null,null,null,null,null,null,null,null,null,null,null,null,null,null,null,null,null,null,null,null,null,null,null,null,null,null,null,null,null,null,null,null,null,null,null,null,null,null,null,null,null,null,null,null,null,null,null,null,null,null,null,null,null,null,null,null,null,null,null,null,null,null,null,null,null,null,null,null,null,null,null,null,null,null,null,null,null,null,null,null,null,null,null,null,null,null,null,null,null,null,null,null,null,null,null,null,null,null,null,null,null,null,null,null,null,null,null,null,null,null,null,null,null,null,null,null,null,null,null,null,null,null,null,null,null,null,null,null,null,null,null,null,null,null,null,null,null,null,null,null,null,null,null,null,null,null,null,null,null,null,null,null,null,null,null,null,null,null,null,null,null,null,null,null,null,null,null,null,null,null,null,null,null,null,null,null,null,null,null,null,null,null,null,null,null,null,null,null,null,null,null,null,null,null,null,null,null,null,null,null,null,null,null,null,null,null,null,null,null,null,null,null,null,null,null,null,null,null,null,null,null,null,null,null,null,null,null,null,null,null,null,null,null,null,null,null,null,null,null,null,null,null,null,null,null,null,null,null,null,null,null,null,null,null,null,null,null,null,null,null,null,null,null,null,null,null,null,null,null,null,null,null,null,null,null,null,null,null,null,null,null,null,null,null,null,null,null,null,null,null,null,null,null,null,null,null,null,null,null,null,null,null,null,null,null,null,null,null,null,null,null,null,null,null,null,null,null,null,null,null,null,null,null,null,null,null,null,null,null,null,null,null,null,null,null,null,null,null,null,null,null,null,null,null,null,null,null,null,null,null,null,null,null,null,null,null,null,null,null,null,null,null,null,null,null,null,null,null,null,null,null,null,null,null,null,null,null,null,null,null,null,null,null,null,null,null,null,null,null,null,null,null,null,null,null,null,null,null,null,null,null,null,null,null,null,null,null,null,null,null,null,null,null,null,null,null,null,null,null,null,null,null,null,null,null,null,null,null,null,null,null,null,null,null,null,null,null,null,null,null,null,null,null,null,null,null,null,null,null,null,null,null,null,null,null,null,null,null,null,null,null,null,null,null,null,null,null,null,null,null,null,null,null,null,null,null,null,null,null,null,null,null,null,null,null,null,null,null,null,null,null,null,null,null,null,null,null,null,null,null,null,null,null,null,null,null,null,null,null,null,null,null,null,null,null,null,null,null,null,null,null,null,null,null,null,null,null,null,null,null,null,null,null,null,null,null,null,null,null,null,null,null,null,null,null,null,null,null,null,null,null,null,null,null,null,null,null,null,null,null,null,null,null,null,null,null,null,null,null,null,null,null,null,null,null,null,null,null,null,null,null,null,null,null,null,null,null,null,null,null,null,null,null,null,null,null,null,null,null,null,null,null,null,null,null,null,null,null,null,null,null,null,null,null,null,null,null,null,null,null,null,null,null,null,null,null,null,null,null,null,null,null,null,null,null,null,null,null,null,null,null,null,null,null,null,null,null,null,null,null,null,null,null,null,null,null,null,null,null,null,null,null,null,null,null,null,null,null,null,null,null,null,null,null,null,null,null,null,null,null,null,null,null,null,null,null,null,null,null,null,null,null,null,null,null,null,null,null,null,null,null,null,null,null,null,null,null,null,null,null,null,null,null,null,null,null,null,null,null,null,null,null,null,null,null,null,null,null,null,null,null,null,null,null,null,null,null,null,null,null,null,null,null,null,null,null,null,null,null,null,null,null,null,null,null,null,null,null,null,null,null,null,null,null,null,null,null,null,null,null,null,null,null,null,null,null,null,null,null,null,null,null,null,null,null,null,null,null,null,null,null,null,null,null,null,null,null,null,null,null,null,null,null,null,null,null,null,null,null,null,null,null,null,null,null,null,null,null,null,null,null,null,null,null,null,null,null,null,null,null,null,null,null,null,null,null,null,null,null,null,null,null,null,null,null,null,null,null,null,null,null,null,null,null,null,null,null,null,null,null,null,null,null,null,null,null,null,null,null,null,null,null,null,null,null,null,null,null,null,null,null,null,null,null,null,null,null,null,null,null,null,null,null,null,null,null,null,null,null,null,null,null,null,null,null,null,null,null,null,null,null,null,null,null,null,null,null,null,null,null,null,null,null,null,null,null,null,null,null,null,null,null,null,null,null,null,null,null,null,null,null,null,null,null,null,null,null,null,null,null,null,null,null,null,null,1]
[null,null,null,null,null,null,null,null,null,"bis Zeile",28,null,null,null,null,null,null,null,null,null,null,null,18,"V Sek [m³/h]"]
[null,null,null,null,null,null,null,null,null,{"$f":"VKL!A3","v":"Auslegetool: VKL-Deckengerät, 4L (3,2mm), mit Filter "}]
[null,1,null,2,null,null,null,12,null,13,null,null,null,16,17,null,null,20,null,null,null,null,null,{"$f":"IF(VKL!AF7=2,Plau_kuehlen!W1,Plau_kuehlen!W2)","v":18},6]
["Messung","Letzte Zeile Messung","Messung\n(Tabellenblatt)\nNAMEN EINFÜGEN !!!","Messpunkt\n(z.B. Spannung, Wassermenge, Vorlauftemepratur, …)","T Halle [°C]","rF Halle [%]","Hallendruck [Pa]","Wassermenge [kg/h]","dP Wasser [kPa]","T Wasser Vorlauf [°C]","T Wasser Rücklauf [°C]",null,"T Wasser Spreizung [K]","Q Sek [W]","q Sek [W/K]","V Sek [m³/h]","i [-]","T Ansaug mean [°C]","T Ausblas mean [°C]","T WT in [°C]","T WT out [°C]","dP Luft [Pa]","dP V_Prim [Pa]",{"$f":"IF(X4=W1,X1,X2)","v":"V Sek [m³/h]"},"Spannung [V]","Messstrecke","Wirkdruck","V Prim [m³/h]","T Ansaug 1","T Ansaug 2","T Ansaug 3","T Ausblas 1","T Ausblas 2","T Ausblas 3","T Primärluft","T frei","T Ansaug 1 Rot. [°C]","rF Ansaug 1 Rot. [%]","T Ansaug 2 Rot. [°C]","rF Ansaug 2 Rot. [%]","T Ausblas 1 Rot. [°C]","rF Ausblas 1 Rot. [%]","T Ausblas 2 Rot. [°C]","rF Ausblas 2 Rot. [%]","T Primärluft Rot. [°C]","rF Primärluft Rot. [%]","T Frei Rot. [°C]","rF Frei Rot. [%]","Beharrungszustand [min]","Beharrungszustand (1=T)",null,"ΔΘ\n(T_Ansaug_mean -\nT_W_Mittel) [K]","ΔΘ\n(T_Ansaugs_mean -\nT_W_Vorlauf) [K]","T_W_Mittel\n[°C]",null,"q_Sek_Mittel [W/K]","q_Sek_Vorlauf [W/K]",null,"Datum","Start Messwert","Ende Messwert",null,"Erste Zeile","Letzte Zeile",null,"Diagramm-Überschrift"]
[1,2,3,4,5,6,7,8,9,10,11,null,12,13,14,15,16,17,18,19,20,21,22,23,24,25,26,27,28,29,30,31,32,33,34,35,36,37,38,39,40,41,42,43,44,45,46,47,48,49,50,51,52,53,54,55,56,57,58,59,60,61,62,63,64,65,66,67,68,69,70,71,72,73,74,75,76,77,78,79,80,81,82,83,84,85,86,87,88,89,90,91,92,93,94,95,96,97,98,99,100,101,102,103,104,105,106,107,108,109,110,111,112,113,114,115,116,117,118,119,120,121,122,123,124,125,126,127,128,129,130,131,132,133,134,135,136,137,138,139,140,141,142]
["V53",{"$f":"VLOOKUP($A7,Matrix_Rohdaten,B$4,0)","v":"V53"},null,{"$f":"VLOOKUP($A7,Matrix_Rohdaten,D$4,0)","v":"VKL800; ISH Prototyp; mit Filter, Schlitzelemente umgebaut (Steg & Versperrung untereinander), mit 3-3,5cm Schalldämm."},null,null,null,{"$f":"VLOOKUP($A7,Matrix_Rohdaten,H$4,0)","v":202.28672266666669},null,{"$f":"VLOOKUP($A7,Matrix_Rohdaten,J$4,0)","v":13.621},null,null,null,{"$f":"(VLOOKUP($A7,Matrix_Rohdaten,N$4,0))","v":-264.86612399999996},{"$f":"VLOOKUP($A7,Matrix_Rohdaten,O$4,0)","v":33.573952999999996},null,null,{"$f":"VLOOKUP($A7,Matrix_Rohdaten,R$4,0)","v":21.51},null,null,null,null,null,{"$f":"VLOOKUP($A7,Matrix_Rohdaten,X$4,0)","v":131.91539700000001},3.5]
["V52","V52",null,"VKL800; ISH Prototyp; mit Filter, Schlitzelemente umgebaut (Steg & Versperrung untereinander), mit 3-3,5cm Schalldämm.",null,null,null,202.53447633333334,null,13.63,null,null,null,-381.59575366666667,49.299673666666671,null,null,21.370333333333335,null,null,null,null,null,214.42879266666668,5.5999999999999988]
["V54","V54",null,"VKL800; ISH Prototyp; mit Filter, Schlitzelemente umgebaut (Steg & Versperrung untereinander), mit 3-3,5cm Schalldämm.",null,null,null,202.50095999999999,null,13.638,null,null,null,-497.91982466666667,63.649177000000002,null,null,21.460888999999998,null,null,null,null,null,316.40559966666666,8]
["V55","V55",null,"VKL800; ISH Prototyp; mit Filter, Schlitzelemente umgebaut (Steg & Versperrung untereinander), mit 3-3,5cm Schalldämm.",null,null,null,202.22118966666667,null,13.635333333333334,null,null,null,-539.57309866666662,68.331082333333327,null,null,21.531777666666667,null,null,null,null,null,357.29180200000002,10]
["V56","V56",null,"VKL800; ISH Prototyp; mit Filter, Schlitzelemente umgebaut (Steg & Versperrung untereinander), mit 3-3,5cm Schalldämm.",null,null,null,62.167367666666671,null,13.831333333333333,null,null,null,-283.63068266666664,34.974695666666662,null,null,21.940888666666666,null,null,null,null,null,215.56618033333334,5.7]
["V57","V57",null,"VKL800; ISH Prototyp; mit Filter, Schlitzelemente umgebaut (Steg & Versperrung untereinander), mit 3-3,5cm Schalldämm.",null,null,null,127.58523366666667,null,13.699333333333334,null,null,null,-384.08380199999993,45.736350666666659,null,null,22.097111000000002,null,null,null,null,null,220.1936033333333,5.7]
["V58","V58",null,"VKL800; ISH Prototyp; mit Filter, Schlitzelemente umgebaut (Steg & Versperrung untereinander), mit 3-3,5cm Schalldämm.",null,null,null,237.25349533333335,null,13.638,null,null,null,-438.01052600000003,51.616886999999998,null,null,22.123777666666665,null,null,null,null,null,220.20125299999998,5.7]
["V59","V59",null,"VKL800; ISH Prototyp; mit Filter, Schlitzelemente umgebaut (Steg & Versperrung untereinander), mit 3-3,5cm Schalldämm.",null,null,null,307.19070266666671,null,13.638666666666666,null,null,null,-456.31884400000007,52.78139766666667,null,null,22.284111333333332,null,null,null,null,null,219.08769933333335,5.7]
["V60","V60",null,"VKL800; ISH Prototyp; mit Filter, Schlitzelemente umgebaut (Steg & Versperrung untereinander), mit 3-3,5cm Schalldämm.",null,null,null,51.865944333333324,null,13.896000000000001,null,null,null,-203.17073600000001,23.999263666666668,null,null,22.361666666666668,null,null,null,null,null,124.77748533333333,3.5]
["V61","V61",null,"VKL800; ISH Prototyp; mit Filter, Schlitzelemente umgebaut (Steg & Versperrung untereinander), mit 3-3,5cm Schalldämm.",null,null,null,127.25331033333333,null,13.722,null,null,null,-265.6647943333333,30.894434,null,null,22.321110999999998,null,null,null,null,null,128.02884933333334,3.5]
["V62","V62",null,"VKL800; ISH Prototyp; mit Filter, Schlitzelemente umgebaut (Steg & Versperrung untereinander), mit 3-3,5cm Schalldämm.",null,null,null,237.47421699999998,null,13.659999999999998,null,null,null,-289.42836266666671,33.360050000000001,null,null,22.335888999999998,null,null,null,null,null,129.75702699999999,3.5]
["V63","V63",null,"VKL800; ISH Prototyp; mit Filter, Schlitzelemente umgebaut (Steg & Versperrung untereinander), mit 3-3,5cm Schalldämm.",null,null,null,307.01867100000004,null,13.658333333333333,null,null,null,-297.79438400000004,34.112689333333329,null,null,22.388000000000002,null,null,null,null,null,129.60573133333332,3.5]
["V64","V64",null,"VKL800; ISH Prototyp; mit Filter, Schlitzelemente umgebaut (Steg & Versperrung untereinander), mit 3-3,5cm Schalldämm.",null,null,null,60.093255999999997,null,13.883333333333335,null,null,null,-364.36491433333339,42.15506633333333,null,null,22.526777666666664,null,null,null,null,null,357.41096700000003,10]
["V65","V65",null,"VKL800; ISH Prototyp; mit Filter, Schlitzelemente umgebaut (Steg & Versperrung untereinander), mit 3-3,5cm Schalldämm.",null,null,null,127.62082633333334,null,13.738999999999999,null,null,null,-527.72279300000002,60.162134333333334,null,null,22.510666666666665,null,null,null,null,null,355.07831033333332,10]
["V66","V66",null,"VKL800; ISH Prototyp; mit Filter, Schlitzelemente umgebaut (Steg & Versperrung untereinander), mit 3-3,5cm Schalldämm.",null,null,null,238.68088166666666,null,13.674000000000001,null,null,null,-621.98676900000009,70.415725666666674,null,null,22.507110999999998,null,null,null,null,null,351.954835,10]
["V67","V67",null,"VKL800; ISH Prototyp; mit Filter, Schlitzelemente umgebaut (Steg & Versperrung untereinander), mit 3-3,5cm Schalldämm.",null,null,null,308.21452866666664,null,13.677,null,null,null,-641.89591999999993,73.498672666666664,null,null,22.410444333333334,null,null,null,null,null,353.55656500000003,10]
["V71","V71",null,"VKL800; ISH Prototyp; mit Filter, 2MR,  mit 3-3,5cm Schalldämm., mit 3D-Strömung",null,null,null,201.02654933333335,null,13.667000000000002,null,null,null,-292.46991800000001,32.012887666666664,null,null,22.803000000000001,null,null,null,null,null,124.165886,3.5]
["V70","V70",null,"VKL800; ISH Prototyp; mit Filter, 2MR,  mit 3-3,5cm Schalldämm., mit 3D-Strömung",null,null,null,205.22754133333333,null,13.673666666666668,null,null,null,-423.20709533333337,47.231174333333335,null,null,22.634,null,null,null,null,null,{"$f":"VLOOKUP($A24,Matrix_Rohdaten,X$4,0)","v":199.29921066666665},5.5999999999999988]
["V72","V72",null,"VKL800; ISH Prototyp; mit Filter, 2MR,  mit 3-3,5cm Schalldämm., mit 3D-Strömung",null,null,null,201.13361333333333,null,13.716333333333333,null,null,null,-548.19214333333332,60.463885666666663,null,null,22.782777666666664,null,null,null,null,null,287.06149800000003,8]
["V73","V73",null,"VKL800; ISH Prototyp; mit Filter, 2MR,  mit 3-3,5cm Schalldämm., mit 3D-Strömung",null,null,null,201.19993766666667,null,13.704333333333333,null,null,null,-612.77444366666668,65.42791299999999,null,null,23.070000000000004,null,null,null,null,null,325.34300966666666,10]
["V19","V19",null,"VKL800; ISH Prototyp; 3,2mm Lamellenabstand, ohne Filter, mit Isolierung der Kondensatwanne",null,null,null,201.33355800000001,null,13.708333333333334,null,null,null,-511.33324233333332,54.435253333333328,null,null,23.101777666666663,null,null,null,null,null,242.40024192366829,5.5999999999999988]
["V20","V20",null,"VKL800; ISH Prototyp; 3,2mm Lamellenabstand, mit Filter, mit Isolierung der Kondensatwanne",null,null,null,201.64375133333331,null,13.709666666666665,null,null,null,-461.31748233333337,48.546077000000004,null,null,23.212333000000001,null,null,null,null,null,205.4667631720603,5.5]
[]
[null,null,"Gültig für gemessene Baugröße 800"]
[]
[]
[null,null,null,{"$f":"CONCATENATE(X5,\" als Parameter vorgegeben\")","v":"V Sek [m³/h] als Parameter vorgegeben"}]
["MIT DOPPELKILICK die richtige Kombination AUSWÄHLEN",null,null,null,null,null,null,null,null,null,null,"Messwerte",null,"Auslegungstool",null,null,null,null,null,null,null,null,"Messwerte","Auslegetool",null,null,null,null,"Für das Makro \"Starten der Plausibilität\" notwendig"]
["Parametereinsttelung",null,"Zeile",null,null,"Wassermenge [kg/h]","T Wasser Vorlauf [°C]","T Ansaug mean [°C]",{"$f":"X5","v":"V Sek [m³/h]"},"Abweichung \nAuslegetool",null,"Q Sek [W]","q Sek [W/K]","Q Sek [W]","q Sek [W/K]",null,null,null,null,null,null,null,"Spannung [V]","Spannung [V]"]
["Filter","3D-Strömung",null,null,null,null,null,null,null,null,null,null,null,null,null,null,null,null,null,null,null,null,null,null,null,null,null,null,"Filter","3D-Strömung"]
["x",null,{"$f":"ROW(A7)","v":7},{"$f":"D7","v":"VKL800; ISH Prototyp; mit Filter, Schlitzelemente umgebaut (Steg & Versperrung untereinander), mit 3-3,5cm Schalldämm."},"V53",202.28672266666669,13.621,21.51,131.91539700000001,{"$f":"1/M37*O37-1","v":1.2887015160889526E-3},null,-264.86612399999996,33.573952999999996,-265.20624703479888,33.617219804132191,"Auslegetool: VKL, 4L, mit Filter ",null,null,null,null,null,null,{"$f":"Y7","v":3.5},3.4590292463607013,null,null,null,null,{"$f":"IF(A37=\"x\",TRUE,FALSE)","v":true},{"$f":"IF(B37=\"x\",TRUE,FALSE)","v":false}]
["x",null,{"$f":"ROW(A8)","v":8},"VKL800; ISH Prototyp; mit Filter, Schlitzelemente umgebaut (Steg & Versperrung untereinander), mit 3-3,5cm Schalldämm.","V52",202.53447633333334,13.63,21.370333333333335,214.42879266666668,{"$f":"1/M38*O38-1","v":-1.4906485280182791E-3},null,-381.59575366666667,49.299673666666671,-381.02708202688518,49.226185180683672,"Auslegetool: VKL, 4L, mit Filter ",null,null,null,null,null,null,{"$f":"Y8","v":5.5999999999999988},5.6651555838389127,null,null,null,null,{"$f":"IF(A38=\"x\",TRUE,FALSE)","v":true},false]
["x",null,9,"VKL800; ISH Prototyp; mit Filter, Schlitzelemente umgebaut (Steg & Versperrung untereinander), mit 3-3,5cm Schalldämm.","V54",202.50095999999999,13.638,21.460888999999998,316.40559966666666,1.4011222305692073E-3,null,-497.91982466666667,63.649177000000002,-498.61809401915644,63.738357276852142,"Auslegetool: VKL, 4L, mit Filter ",null,null,null,null,null,null,8,8.4099138842039967,null,null,null,null,true,false]
["x",null,10,"VKL800; ISH Prototyp; mit Filter, Schlitzelemente umgebaut (Steg & Versperrung untereinander), mit 3-3,5cm Schalldämm.","V55",202.22118966666667,13.635333333333334,21.531777666666667,357.29180200000002,-7.7739197993043074E-4,null,-539.57309866666662,68.331082333333327,-539.15312847917392,68.277962297947425,"Auslegetool: VKL, 4L, mit Filter ",null,null,null,null,null,null,10,9.5145539729422683,null,null,null,null,true,false]
["x",null,11,"VKL800; ISH Prototyp; mit Filter, Schlitzelemente umgebaut (Steg & Versperrung untereinander), mit 3-3,5cm Schalldämm.","V56",62.167367666666671,13.831333333333333,21.940888666666666,215.56618033333334,-2.2090199663328702E-2,null,-283.63068266666664,34.974695666666662,-277.36380345923374,34.202097656225838,"Auslegetool: VKL, 4L, mit Filter ",null,null,null,null,null,null,5.7,5.695672059185318,null,null,null,null,true,false]
["x",null,12,"VKL800; ISH Prototyp; mit Filter, Schlitzelemente umgebaut (Steg & Versperrung untereinander), mit 3-3,5cm Schalldämm.","V57",127.58523366666667,13.699333333333334,22.097111000000002,220.1936033333333,-1.1492648290067686E-2,null,-384.08380199999993,45.736350666666659,-379.66956525724265,45.21071887438346,"Auslegetool: VKL, 4L, mit Filter ",null,null,null,null,null,null,5.7,5.819852895517907,null,null,null,null,true,false]
["x",null,13,"VKL800; ISH Prototyp; mit Filter, Schlitzelemente umgebaut (Steg & Versperrung untereinander), mit 3-3,5cm Schalldämm.","V58",237.25349533333335,13.638,22.123777666666665,220.20125299999998,-1.1504187571075852E-2,null,-438.01052600000003,51.616886999999998,-432.97048432218406,51.023076650116977,"Auslegetool: VKL, 4L, mit Filter ",null,null,null,null,null,null,5.7,5.8200582145614383,null,null,null,null,true,false]
["x",null,14,"VKL800; ISH Prototyp; mit Filter, Schlitzelemente umgebaut (Steg & Versperrung untereinander), mit 3-3,5cm Schalldämm.","V59",307.19070266666671,13.638666666666666,22.284111333333332,219.08769933333335,-1.4894475972738186E-2,null,-456.31884400000007,52.78139766666667,-449.52202574412297,51.995246407312962,"Auslegetool: VKL, 4L, mit Filter ",null,null,null,null,null,null,5.7,5.7901713095898479,null,null,null,null,true,false]
["x",null,15,"VKL800; ISH Prototyp; mit Filter, Schlitzelemente umgebaut (Steg & Versperrung untereinander), mit 3-3,5cm Schalldämm.","V60",51.865944333333324,13.896000000000001,22.361666666666668,124.77748533333333,-3.2163841677825267E-2,null,-203.17073600000001,23.999263666666668,-196.63504624570814,23.227355149707616,"Auslegetool: VKL, 4L, mit Filter ",null,null,null,null,null,null,3.5,3.2690423087413505,null,null,null,null,true,false]
["x",null,16,"VKL800; ISH Prototyp; mit Filter, Schlitzelemente umgebaut (Steg & Versperrung untereinander), mit 3-3,5cm Schalldämm.","V61",127.25331033333333,13.722,22.321110999999998,128.02884933333334,-1.0888457113348182E-2,null,-265.6647943333333,30.894434,-262.77198891231035,30.558041280349837,"Auslegetool: VKL, 4L, mit Filter ",null,null,null,null,null,null,3.5,3.3555622361388004,null,null,null,null,true,false]
["x",null,17,"VKL800; ISH Prototyp; mit Filter, Schlitzelemente umgebaut (Steg & Versperrung untereinander), mit 3-3,5cm Schalldämm.","V62",237.47421699999998,13.659999999999998,22.335888999999998,129.75702699999999,3.0327993819561083E-3,null,-289.42836266666671,33.360050000000001,-290.30586816945345,33.461224339022024,"Auslegetool: VKL, 4L, mit Filter ",null,null,null,null,null,null,3.5,3.401563563735309,null,null,null,null,true,false]
["x",null,18,"VKL800; ISH Prototyp; mit Filter, Schlitzelemente umgebaut (Steg & Versperrung untereinander), mit 3-3,5cm Schalldämm.","V63",307.01867100000004,13.658333333333333,22.388000000000002,129.60573133333332,1.4409831415225227E-3,null,-297.79438400000004,34.112689333333329,-298.22152082169231,34.161845143574659,"Auslegetool: VKL, 4L, mit Filter ",null,null,null,null,null,null,3.5,3.3975359337677129,null,null,null,null,true,false]
["x",null,19,"VKL800; ISH Prototyp; mit Filter, Schlitzelemente umgebaut (Steg & Versperrung untereinander), mit 3-3,5cm Schalldämm.","V64",60.093255999999997,13.883333333333335,22.526777666666664,357.41096700000003,-3.8649646811387273E-3,null,-364.36491433333339,42.15506633333333,-362.95671148306053,41.992138490823933,"Auslegetool: VKL, 4L, mit Filter ",null,null,null,null,null,null,10,9.5177764847517974,null,null,null,null,true,false]
["x",null,20,"VKL800; ISH Prototyp; mit Filter, Schlitzelemente umgebaut (Steg & Versperrung untereinander), mit 3-3,5cm Schalldämm.","V65",127.62082633333334,13.738999999999999,22.510666666666665,355.07831033333332,-7.7004622145061541E-3,null,-527.72279300000002,60.162134333333334,-523.65848355625189,59.698858091155451,"Auslegetool: VKL, 4L, mit Filter ",null,null,null,null,null,null,10,9.4546988018541551,null,null,null,null,true,false]
["x",null,21,"VKL800; ISH Prototyp; mit Filter, Schlitzelemente umgebaut (Steg & Versperrung untereinander), mit 3-3,5cm Schalldämm.","V66",238.68088166666666,13.674000000000001,22.507110999999998,351.954835,-1.3064889390411505E-2,null,-621.98676900000009,70.415725666666674,-613.86369143993261,69.495751999486117,"Auslegetool: VKL, 4L, mit Filter ",null,null,null,null,null,null,10,9.3702465492496199,null,null,null,null,true,false]
["x",null,22,"VKL800; ISH Prototyp; mit Filter, Schlitzelemente umgebaut (Steg & Versperrung untereinander), mit 3-3,5cm Schalldämm.","V67",308.21452866666664,13.677,22.410444333333334,353.55656500000003,-1.1364484323835633E-2,null,-641.89591999999993,73.498672666666664,-634.60174284288803,72.663398153323612,"Auslegetool: VKL, 4L, mit Filter ",null,null,null,null,null,null,10,9.413552540183856,null,null,null,null,true,false]
["x","x",{"$f":"ROW(A23)","v":23},"VKL800; ISH Prototyp; mit Filter, 2MR,  mit 3-3,5cm Schalldämm., mit 3D-Strömung","V71",201.02654933333335,13.667000000000002,22.803000000000001,124.165886,{"$f":"1/M53*O53-1","v":-2.3544669625917836E-3},null,-292.46991800000001,32.012887666666664,-291.78113137822288,31.937514380278337,"Auslegetool: VKL, 4L, mit Filter mit 3D-Strömung",null,null,null,null,null,null,{"$f":"Y23","v":3.5},3.4070143301437836,null,null,null,null,{"$f":"IF(A53=\"x\",TRUE,FALSE)","v":true},{"$f":"IF(B53=\"x\",TRUE,FALSE)","v":true}]
["x","x",24,"VKL800; ISH Prototyp; mit Filter, 2MR,  mit 3-3,5cm Schalldämm., mit 3D-Strömung","V70",205.22754133333333,13.673666666666668,22.634,199.29921066666665,-1.0895067081357568E-2,null,-423.20709533333337,47.231174333333335,-418.59619638077794,46.716587520640374,"Auslegetool: VKL, 4L, mit Filter mit 3D-Strömung",null,null,null,null,null,null,5.5999999999999988,5.6476940201371377,null,null,null,null,true,true]
["x","x",25,"VKL800; ISH Prototyp; mit Filter, 2MR,  mit 3-3,5cm Schalldämm., mit 3D-Strömung","V72",201.13361333333333,13.716333333333333,22.782777666666664,287.06149800000003,-8.0070468931976446E-3,null,-548.19214333333332,60.463885666666663,-543.8030508916014,59.979748498788723,"Auslegetool: VKL, 4L, mit Filter mit 3D-Strömung",null,null,null,null,null,null,8,8.3393389790665999,null,null,null,null,true,true]
["x","x",26,"VKL800; ISH Prototyp; mit Filter, 2MR,  mit 3-3,5cm Schalldämm., mit 3D-Strömung","V73",201.19993766666667,13.704333333333333,23.070000000000004,325.34300966666666,-1.0879493767677495E-2,null,-612.77444366666668,65.42791299999999,-606.10933092116875,64.716090428284346,"Auslegetool: VKL, 4L, mit Filter mit 3D-Strömung",null,null,null,null,null,null,10,9.5323568827393608,null,null,null,null,true,true]
[null,null,27,"VKL800; ISH Prototyp; 3,2mm Lamellenabstand, ohne Filter, mit Isolierung der Kondensatwanne","V19",201.33355800000001,13.708333333333334,23.101777666666663,242.40024192366829,-1.4472267589475285E-2,null,-511.33324233333332,54.435253333333328,-503.93435192805788,53.647451780792451,"Auslegetool: VKL, 4L, ohne Filter",null,null,null,null,null,null,5.5999999999999988,5.4247902943027633,null,null,null,null,{"$f":"IF(A57=\"x\",TRUE,FALSE)","v":false},{"$f":"IF(B57=\"x\",TRUE,FALSE)","v":false}]
["x",null,28,"VKL800; ISH Prototyp; 3,2mm Lamellenabstand, mit Filter, mit Isolierung der Kondensatwanne","V20",201.64375133333331,13.709666666666665,23.212333000000001,205.4667631720603,-1.7754301395728422E-2,null,-461.31748233333337,48.546077000000004,-453.12680742105806,47.684175317361763,"Auslegetool: VKL, 4L, mit Filter ",null,null,null,null,null,null,5.5,5.4247902943027686,null,null,null,null,true,false]
[]
[]
[]
[]
[]
[]
["Plausibilitätstabelle manuell kopiert"]
[]
[null,null,"Plausibilitätsbetrachtung des Auslegetools, Vergleich zwischen gemessener und ausgelegter Leistung bei gleichen Randbedingungen"]
[null,null,"VKL800; 4L; Wandgerät; 3,2mm; Nullseriengerät; kühlen"]
[null,null,"Bearbeiter: ","TT"]
[null,null,"Datum:","2018-08-09"]
[]
[null,null,null,"Drehzahl [1/min] als Parameter vorgegeben"]
[]
[null,null,null,null,null,"Messwerte bzw. eingestellte Parameter Auslegetool",null,null,null,null,null,"gemessene Leistung",null,"Auslegungstool",null,null,null,null,null,null,null,null,"Messwerte","Auslegetool"]
["Parametereinsttelung",null,"Zeile",null,null,"Wassermenge [kg/h]","T Wasser Vorlauf [°C]","T Ansaug mean [°C]","Drehzahl [1/min]","Abweichung \nAuslegetool",null,"Q Sek [W]","q Sek [W/K]","Q Sek [W]","q Sek [W/K]",null,null,null,null,null,null,null,"Spannung [V]","Spannung [V]"]
["Filter","3D-Strömung"]
["x",null,7,"VKL800; ISH Prototyp; mit Filter, Schlitzelemente umgebaut (Steg & Versperrung untereinander), mit 3-3,5cm Schalldämm.","V53",202.28672266666669,13.621,21.51,493,1.3203493732176774E-3,null,-264.86612399999996,33.573952999999996,-265.2146294417941,33.618282347799983,"Auslegetool: VKL, 4L, mit Filter ",null,null,null,null,null,null,3.5,3.4591195177244614]
["x",null,8,"VKL800; ISH Prototyp; mit Filter, Schlitzelemente umgebaut (Steg & Versperrung untereinander), mit 3-3,5cm Schalldämm.","V52",202.53447633333334,13.63,21.370333333333335,744,-2.0036724303993392E-3,null,-381.59575366666667,49.299673666666671,-380.8313142053359,49.200893269713085,"Auslegetool: VKL, 4L, mit Filter ",null,null,null,null,null,null,5.5999999999999988,5.6610758432057491]
["x",null,9,"VKL800; ISH Prototyp; mit Filter, Schlitzelemente umgebaut (Steg & Versperrung untereinander), mit 3-3,5cm Schalldämm.","V54",202.50095999999999,13.638,21.460888999999998,1038,3.0439940232034335E-3,null,-497.91982466666667,63.649177000000002,-499.43611347587176,63.842924714369829,"Auslegetool: VKL, 4L, mit Filter ",null,null,null,null,null,null,8,8.433601532579635]
["x",null,10,"VKL800; ISH Prototyp; mit Filter, Schlitzelemente umgebaut (Steg & Versperrung untereinander), mit 3-3,5cm Schalldämm.","V55",202.22118966666667,13.635333333333334,21.531777666666667,1146,-1.9118469822154704E-3,null,-539.57309866666662,68.331082333333327,-538.54100765775581,68.200443759782829,"Auslegetool: VKL, 4L, mit Filter ",null,null,null,null,null,null,10,9.4944199995699332]
["x",null,11,"VKL800; ISH Prototyp; mit Filter, Schlitzelemente umgebaut (Steg & Versperrung untereinander), mit 3-3,5cm Schalldämm.","V56",62.167367666666671,13.831333333333333,21.940888666666666,757,-1.4935124549425027E-2,null,-283.63068266666664,34.974695666666662,-279.39319190277484,34.452344230806759,"Auslegetool: VKL, 4L, mit Filter ",null,null,null,null,null,null,5.7,5.7796809925929624]
["x",null,12,"VKL800; ISH Prototyp; mit Filter, Schlitzelemente umgebaut (Steg & Versperrung untereinander), mit 3-3,5cm Schalldämm.","V57",127.58523366666667,13.699333333333334,22.097111000000002,757,-1.5859984542481609E-2,null,-384.08380199999993,45.736350666666659,-377.99214257200117,45.010972852063809,"Auslegetool: VKL, 4L, mit Filter ",null,null,null,null,null,null,5.7,5.7796809925929624]
["x",null,13,"VKL800; ISH Prototyp; mit Filter, Schlitzelemente umgebaut (Steg & Versperrung untereinander), mit 3-3,5cm Schalldämm.","V58",237.25349533333335,13.638,22.123777666666665,757,-1.6484511140140157E-2,null,-438.01052600000003,51.616886999999998,-430.78905564978493,50.766007851229148,"Auslegetool: VKL, 4L, mit Filter ",null,null,null,null,null,null,5.7,5.7796809925929624]
["x",null,14,"VKL800; ISH Prototyp; mit Filter, Schlitzelemente umgebaut (Steg & Versperrung untereinander), mit 3-3,5cm Schalldämm.","V59",307.19070266666671,13.638666666666666,22.284111333333332,757,-1.6211053374858397E-2,null,-456.31884400000007,52.78139766666667,-448.92124691747455,51.925755611892711,"Auslegetool: VKL, 4L, mit Filter ",null,null,null,null,null,null,5.7,5.7796809925929624]
["x",null,15,"VKL800; ISH Prototyp; mit Filter, Schlitzelemente umgebaut (Steg & Versperrung untereinander), mit 3-3,5cm Schalldämm.","V60",51.865944333333324,13.896000000000001,22.361666666666668,484,-9.8364259034471324E-3,null,-203.17073600000001,23.999263666666668,-201.1713020939635,23.76319668787221,"Auslegetool: VKL, 4L, mit Filter ",null,null,null,null,null,null,3.5,3.3836682521247177]
["x",null,16,"VKL800; ISH Prototyp; mit Filter, Schlitzelemente umgebaut (Steg & Versperrung untereinander), mit 3-3,5cm Schalldämm.","V61",127.25331033333333,13.722,22.321110999999998,484,-4.4810918087242468E-3,null,-265.6647943333333,30.894434,-264.47419948390075,30.75599320486743,"Auslegetool: VKL, 4L, mit Filter ",null,null,null,null,null,null,3.5,3.3836682521247177]
["x",null,17,"VKL800; ISH Prototyp; mit Filter, Schlitzelemente umgebaut (Steg & Versperrung untereinander), mit 3-3,5cm Schalldämm.","V62",237.47421699999998,13.659999999999998,22.335888999999998,484,-1.3711907660977074E-3,null,-289.42836266666671,33.360050000000001,-289.03122970884851,33.314307007483443,"Auslegetool: VKL, 4L, mit Filter ",null,null,null,null,null,null,3.5,3.3836682521247177]
["x",null,18,"VKL800; ISH Prototyp; mit Filter, Schlitzelemente umgebaut (Steg & Versperrung untereinander), mit 3-3,5cm Schalldämm.","V63",307.01867100000004,13.658333333333333,22.388000000000002,484,-1.9506133865263564E-3,null,-297.79438400000004,34.112689333333329,-297.21152912808753,34.046148664869314,"Auslegetool: VKL, 4L, mit Filter ",null,null,null,null,null,null,3.5,3.3836682521247177]
["x",null,19,"VKL800; ISH Prototyp; mit Filter, Schlitzelemente umgebaut (Steg & Versperrung untereinander), mit 3-3,5cm Schalldämm.","V64",60.093255999999997,13.883333333333335,22.526777666666664,1145,-5.3360686930824519E-3,null,-364.36491433333339,42.15506633333333,-362.42069271502902,41.930124003617216,"Auslegetool: VKL, 4L, mit Filter ",null,null,null,null,null,null,10,9.4845039813867675]
["x",null,20,"VKL800; ISH Prototyp; mit Filter, Schlitzelemente umgebaut (Steg & Versperrung untereinander), mit 3-3,5cm Schalldämm.","V65",127.62082633333334,13.738999999999999,22.510666666666665,1145,-6.0826037750724149E-3,null,-527.72279300000002,60.162134333333334,-524.51226335231354,59.796191907920985,"Auslegetool: VKL, 4L, mit Filter ",null,null,null,null,null,null,10,9.4845039813867675]
["x",null,21,"VKL800; ISH Prototyp; mit Filter, Schlitzelemente umgebaut (Steg & Versperrung untereinander), mit 3-3,5cm Schalldämm.","V66",238.68088166666666,13.674000000000001,22.507110999999998,1145,-6.4311176135706249E-3,null,-621.98676900000009,70.415725666666674,-617.98983062307138,69.962873853059421,"Auslegetool: VKL, 4L, mit Filter ",null,null,null,null,null,null,10,9.4845039813867675]
["x",null,22,"VKL800; ISH Prototyp; mit Filter, Schlitzelemente umgebaut (Steg & Versperrung untereinander), mit 3-3,5cm Schalldämm.","V67",308.21452866666664,13.677,22.410444333333334,1145,-6.6079137536220189E-3,null,-641.89591999999993,73.498672666666664,-637.65496915931078,73.012999776679635,"Auslegetool: VKL, 4L, mit Filter ",null,null,null,null,null,null,10,9.4845039813867675]
["x","x",23,"VKL800; ISH Prototyp; mit Filter, 2MR,  mit 3-3,5cm Schalldämm., mit 3D-Strömung","V71",201.02654933333335,13.667000000000002,22.803000000000001,489,2.2179708933209863E-3,null,-292.46991800000001,32.012887666666664,-293.11843109698464,32.08389131972249,"Auslegetool: VKL, 4L, mit Filter mit 3D-Strömung",null,null,null,null,null,null,3.5,3.4255518238270501]
["x","x",24,"VKL800; ISH Prototyp; mit Filter, 2MR,  mit 3-3,5cm Schalldämm., mit 3D-Strömung","V70",205.22754133333333,13.673666666666668,22.634,734,-2.0401397880028815E-2,null,-423.20709533333337,47.231174333333335,-414.57305001740968,46.267592353417996,"Auslegetool: VKL, 4L, mit Filter mit 3D-Strömung",null,null,null,null,null,null,5.5999999999999988,5.5701181461860205]
["x","x",25,"VKL800; ISH Prototyp; mit Filter, 2MR,  mit 3-3,5cm Schalldämm., mit 3D-Strömung","V72",201.13361333333333,13.716333333333333,22.782777666666664,1039,-8.5276065634543041E-4,null,-548.19214333333332,60.463885666666663,-547.7249766173511,60.412324443840362,"Auslegetool: VKL, 4L, mit Filter mit 3D-Strömung",null,null,null,null,null,null,8,8.4433278345990725]
["x","x",26,"VKL800; ISH Prototyp; mit Filter, 2MR,  mit 3-3,5cm Schalldämm., mit 3D-Strömung","V73",201.19993766666667,13.704333333333333,23.070000000000004,1146,-1.3165341386491169E-2,null,-612.77444366666668,65.42791299999999,-604.70861830617662,64.566532189149342,"Auslegetool: VKL, 4L, mit Filter mit 3D-Strömung",null,null,null,null,null,null,10,9.4944199995699332]
[null,null,27,"VKL800; ISH Prototyp; 3,2mm Lamellenabstand, ohne Filter, mit Isolierung der Kondensatwanne","V19",201.33355800000001,13.708333333333334,23.101777666666663,728,-3.3402549647130186E-3,null,-511.33324233333332,54.435253333333328,-509.62653428196631,54.253425708131253,"Auslegetool: VKL, 4L, ohne Filter"]
["x",null,28,"VKL800; ISH Prototyp; 3,2mm Lamellenabstand, mit Filter, mit Isolierung der Kondensatwanne","V20",201.64375133333331,13.709666666666665,23.212333000000001,728,-5.8620595054119651E-3,null,-461.31748233333337,48.546077000000004,-458.61290281296988,48.261497007871696,"Auslegetool: VKL, 4L, mit Filter "]
[]
[]
[]
[]
[null,null,null,"V Sek [m³/h] als Parameter vorgegeben"]
[null,null,null,null,null,null,null,null,null,null,null,"Messwerte",null,"Auslegungstool",null,null,null,null,null,null,null,null,"Messwerte","Auslegetool"]
[null,null,null,null,null,null,null,null,null,null,null,"Messwerte",null,"Auslegungstool",null,null,null,null,null,null,null,null,"Messwerte","Auslegetool"]
["Parametereinsttelung",null,"Zeile",null,null,"Wassermenge [kg/h]","T Wasser Vorlauf [°C]","T Ansaug mean [°C]","V Sek [m³/h]","Abweichung \nAuslegetool",null,"Q Sek [W]","q Sek [W/K]","Q Sek [W]","q Sek [W/K]",null,null,null,null,null,null,null,"Spannung [V]","Spannung [V]"]
["Filter","3D-Strömung"]
["x",null,7,"VKL800; ISH Prototyp; mit Filter, Schlitzelemente umgebaut (Steg & Versperrung untereinander), mit 3-3,5cm Schalldämm.","V53",202.28672266666669,13.621,21.51,131.91539700000001,1.2887015160889526E-3,null,-264.86612399999996,33.573952999999996,-265.20624703479888,33.617219804132191,"Auslegetool: VKL, 4L, mit Filter ",null,null,null,null,null,null,3.5,3.4590292463607013]
["x",null,8,"VKL800; ISH Prototyp; mit Filter, Schlitzelemente umgebaut (Steg & Versperrung untereinander), mit 3-3,5cm Schalldämm.","V52",202.53447633333334,13.63,21.370333333333335,214.42879266666668,-1.4906485280182791E-3,null,-381.59575366666667,49.299673666666671,-381.02708202688518,49.226185180683672,"Auslegetool: VKL, 4L, mit Filter ",null,null,null,null,null,null,5.5999999999999988,5.6651555838389127]
["x",null,9,"VKL800; ISH Prototyp; mit Filter, Schlitzelemente umgebaut (Steg & Versperrung untereinander), mit 3-3,5cm Schalldämm.","V54",202.50095999999999,13.638,21.460888999999998,316.40559966666666,1.4011222305692073E-3,null,-497.91982466666667,63.649177000000002,-498.61809401915644,63.738357276852142,"Auslegetool: VKL, 4L, mit Filter ",null,null,null,null,null,null,8,8.4099138842039967]
["x",null,10,"VKL800; ISH Prototyp; mit Filter, Schlitzelemente umgebaut (Steg & Versperrung untereinander), mit 3-3,5cm Schalldämm.","V55",202.22118966666667,13.635333333333334,21.531777666666667,357.29180200000002,-7.7739197993043074E-4,null,-539.57309866666662,68.331082333333327,-539.15312847917392,68.277962297947425,"Auslegetool: VKL, 4L, mit Filter ",null,null,null,null,null,null,10,9.5145539729422683]
["x",null,11,"VKL800; ISH Prototyp; mit Filter, Schlitzelemente umgebaut (Steg & Versperrung untereinander), mit 3-3,5cm Schalldämm.","V56",62.167367666666671,13.831333333333333,21.940888666666666,215.56618033333334,-2.2090199663328702E-2,null,-283.63068266666664,34.974695666666662,-277.36380345923374,34.202097656225838,"Auslegetool: VKL, 4L, mit Filter ",null,null,null,null,null,null,5.7,5.695672059185318]
["x",null,12,"VKL800; ISH Prototyp; mit Filter, Schlitzelemente umgebaut (Steg & Versperrung untereinander), mit 3-3,5cm Schalldämm.","V57",127.58523366666667,13.699333333333334,22.097111000000002,220.1936033333333,-1.1492648290067686E-2,null,-384.08380199999993,45.736350666666659,-379.66956525724265,45.21071887438346,"Auslegetool: VKL, 4L, mit Filter ",null,null,null,null,null,null,5.7,5.819852895517907]
["x",null,13,"VKL800; ISH Prototyp; mit Filter, Schlitzelemente umgebaut (Steg & Versperrung untereinander), mit 3-3,5cm Schalldämm.","V58",237.25349533333335,13.638,22.123777666666665,220.20125299999998,-1.1504187571075852E-2,null,-438.01052600000003,51.616886999999998,-432.97048432218406,51.023076650116977,"Auslegetool: VKL, 4L, mit Filter ",null,null,null,null,null,null,5.7,5.8200582145614383]
["x",null,14,"VKL800; ISH Prototyp; mit Filter, Schlitzelemente umgebaut (Steg & Versperrung untereinander), mit 3-3,5cm Schalldämm.","V59",307.19070266666671,13.638666666666666,22.284111333333332,219.08769933333335,-1.4894475972738186E-2,null,-456.31884400000007,52.78139766666667,-449.52202574412297,51.995246407312962,"Auslegetool: VKL, 4L, mit Filter ",null,null,null,null,null,null,5.7,5.7901713095898479]
["x",null,15,"VKL800; ISH Prototyp; mit Filter, Schlitzelemente umgebaut (Steg & Versperrung untereinander), mit 3-3,5cm Schalldämm.","V60",51.865944333333324,13.896000000000001,22.361666666666668,124.77748533333333,-3.2163841677825267E-2,null,-203.17073600000001,23.999263666666668,-196.63504624570814,23.227355149707616,"Auslegetool: VKL, 4L, mit Filter ",null,null,null,null,null,null,3.5,3.2690423087413505]
["x",null,16,"VKL800; ISH Prototyp; mit Filter, Schlitzelemente umgebaut (Steg & Versperrung untereinander), mit 3-3,5cm Schalldämm.","V61",127.25331033333333,13.722,22.321110999999998,128.02884933333334,-1.0888457113348182E-2,null,-265.6647943333333,30.894434,-262.77198891231035,30.558041280349837,"Auslegetool: VKL, 4L, mit Filter ",null,null,null,null,null,null,3.5,3.3555622361388004]
["x",null,17,"VKL800; ISH Prototyp; mit Filter, Schlitzelemente umgebaut (Steg & Versperrung untereinander), mit 3-3,5cm Schalldämm.","V62",237.47421699999998,13.659999999999998,22.335888999999998,129.75702699999999,3.0327993819561083E-3,null,-289.42836266666671,33.360050000000001,-290.30586816945345,33.461224339022024,"Auslegetool: VKL, 4L, mit Filter ",null,null,null,null,null,null,3.5,3.401563563735309]
["x",null,18,"VKL800; ISH Prototyp; mit Filter, Schlitzelemente umgebaut (Steg & Versperrung untereinander), mit 3-3,5cm Schalldämm.","V63",307.01867100000004,13.658333333333333,22.388000000000002,129.60573133333332,1.4409831415225227E-3,null,-297.79438400000004,34.112689333333329,-298.22152082169231,34.161845143574659,"Auslegetool: VKL, 4L, mit Filter ",null,null,null,null,null,null,3.5,3.3975359337677129]
["x",null,19,"VKL800; ISH Prototyp; mit Filter, Schlitzelemente umgebaut (Steg & Versperrung untereinander), mit 3-3,5cm Schalldämm.","V64",60.093255999999997,13.883333333333335,22.526777666666664,357.41096700000003,-3.8649646811387273E-3,null,-364.36491433333339,42.15506633333333,-362.95671148306053,41.992138490823933,"Auslegetool: VKL, 4L, mit Filter ",null,null,null,null,null,null,10,9.5177764847517974]
["x",null,20,"VKL800; ISH Prototyp; mit Filter, Schlitzelemente umgebaut (Steg & Versperrung untereinander), mit 3-3,5cm Schalldämm.","V65",127.62082633333334,13.738999999999999,22.510666666666665,355.07831033333332,-7.7004622145061541E-3,null,-527.72279300000002,60.162134333333334,-523.65848355625189,59.698858091155451,"Auslegetool: VKL, 4L, mit Filter ",null,null,null,null,null,null,10,9.4546988018541551]
["x",null,21,"VKL800; ISH Prototyp; mit Filter, Schlitzelemente umgebaut (Steg & Versperrung untereinander), mit 3-3,5cm Schalldämm.","V66",238.68088166666666,13.674000000000001,22.507110999999998,351.954835,-1.3064889390411505E-2,null,-621.98676900000009,70.415725666666674,-613.86369143993261,69.495751999486117,"Auslegetool: VKL, 4L, mit Filter ",null,null,null,null,null,null,10,9.3702465492496199]
["x",null,22,"VKL800; ISH Prototyp; mit Filter, Schlitzelemente umgebaut (Steg & Versperrung untereinander), mit 3-3,5cm Schalldämm.","V67",308.21452866666664,13.677,22.410444333333334,353.55656500000003,-1.1364484323835633E-2,null,-641.89591999999993,73.498672666666664,-634.60174284288803,72.663398153323612,"Auslegetool: VKL, 4L, mit Filter ",null,null,null,null,null,null,10,9.413552540183856]
["x","x",23,"VKL800; ISH Prototyp; mit Filter, 2MR,  mit 3-3,5cm Schalldämm., mit 3D-Strömung","V71",201.02654933333335,13.667000000000002,22.803000000000001,124.165886,-2.3544669625917836E-3,null,-292.46991800000001,32.012887666666664,-291.78113137822288,31.937514380278337,"Auslegetool: VKL, 4L, mit Filter mit 3D-Strömung",null,null,null,null,null,null,3.5,3.4070143301437836]
["x","x",24,"VKL800; ISH Prototyp; mit Filter, 2MR,  mit 3-3,5cm Schalldämm., mit 3D-Strömung","V70",205.22754133333333,13.673666666666668,22.634,199.29921066666665,-1.0895067081357568E-2,null,-423.20709533333337,47.231174333333335,-418.59619638077794,46.716587520640374,"Auslegetool: VKL, 4L, mit Filter mit 3D-Strömung",null,null,null,null,null,null,5.5999999999999988,5.6476940201371377]
["x","x",25,"VKL800; ISH Prototyp; mit Filter, 2MR,  mit 3-3,5cm Schalldämm., mit 3D-Strömung","V72",201.13361333333333,13.716333333333333,22.782777666666664,287.06149800000003,-8.0070468931976446E-3,null,-548.19214333333332,60.463885666666663,-543.8030508916014,59.979748498788723,"Auslegetool: VKL, 4L, mit Filter mit 3D-Strömung",null,null,null,null,null,null,8,8.3393389790665999]
["x","x",26,"VKL800; ISH Prototyp; mit Filter, 2MR,  mit 3-3,5cm Schalldämm., mit 3D-Strömung","V73",201.19993766666667,13.704333333333333,23.070000000000004,325.34300966666666,-1.0879493767677495E-2,null,-612.77444366666668,65.42791299999999,-606.10933092116875,64.716090428284346,"Auslegetool: VKL, 4L, mit Filter mit 3D-Strömung",null,null,null,null,null,null,10,9.5323568827393608]
[null,null,27,"VKL800; ISH Prototyp; 3,2mm Lamellenabstand, ohne Filter, mit Isolierung der Kondensatwanne","V19",201.33355800000001,13.708333333333334,23.101777666666663,242.40024192366829,-1.4472267589475285E-2,null,-511.33324233333332,54.435253333333328,-503.93435192805788,53.647451780792451,"Auslegetool: VKL, 4L, ohne Filter"]
["x",null,28,"VKL800; ISH Prototyp; 3,2mm Lamellenabstand, mit Filter, mit Isolierung der Kondensatwanne","V20",201.64375133333331,13.709666666666665,23.212333000000001,205.4667631720603,-1.7754301395728422E-2,null,-461.31748233333337,48.546077000000004,-453.12680742105806,47.684175317361763,"Auslegetool: VKL, 4L, mit Filter "]

{"sheet":"Plau_heizen","index":3,"n_rows":106,"n_cols":16382,"rows_kept":106,"cut":false,"hidden":true,"merged":[[6,65,17,65],[33,0,33,1]]}
["Heizen",null,null,null,null,null,null,null,null,"von Zeile",7,null,null,null,null,null,null,null,null,null,null,null,4,"Drehzahl [1/min]",null,null,null,null,null,null,null,null,null,null,null,null,null,null,null,null,null,null,null,null,null,null,null,null,null,null,null,null,null,null,null,null,null,null,null,null,null,null,null,null,null,null,null,null,null,null,null,null,null,null,null,null,null,null,null,null,null,null,null,null,null,null,null,null,null,null,null,null,null,null,null,null,null,null,null,null,null,null,null,null,null,null,null,null,null,null,null,null,null,null,null,null,null,null,null,null,null,null,null,null,null,null,null,null,null,null,null,null,null,null,null,null,null,null,null,null,null,null,null,null,null,null,null,null,null,null,null,null,null,null,null,null,null,null,null,null,null,null,null,null,null,null,null,null,null,null,null,null,null,null,null,null,null,null,null,null,null,null,null,null,null,null,null,null,null,null,null,null,null,null,null,null,null,null,null,null,null,null,null,null,null,null,null,null,null,null,null,null,null,null,null,null,null,null,null,null,null,null,null,null,null,null,null,null,null,null,null,null,null,null,null,null,null,null,null,null,null,null,null,null,null,null,null,null,null,null,null,null,null,null,null,null,null,null,null,null,null,null,null,null,null,null,null,null,null,null,null,null,null,null,null,null,null,null,null,null,null,null,null,null,null,null,null,null,null,null,null,null,null,null,null,null,null,null,null,null,null,null,null,null,null,null,null,null,null,null,null,null,null,null,null,null,null,null,null,null,null,null,null,null,null,null,null,null,null,null,null,null,null,null,null,null,null,null,null,null,null,null,null,null,null,null,null,null,null,null,null,null,null,null,null,null,null,null,null,null,null,null,null,null,null,null,null,null,null,null,null,null,null,null,null,null,null,null,null,null,null,null,null,null,null,null,null,null,null,null,null,null,null,null,null,null,null,null,null,null,null,null,null,null,null,null,null,null,null,null,null,null,null,null,null,null,null,null,null,null,null,null,null,null,null,null,null,null,null,null,null,null,null,null,null,null,null,null,null,null,null,null,null,null,null,null,null,null,null,null,null,null,null,null,null,null,null,null,null,null,null,null,null,null,null,null,null,null,null,null,null,null,null,null,null,null,null,null,null,null,null,null,null,null,null,null,null,null,null,null,null,null,null,null,null,null,null,null,null,null,null,null,null,null,null,null,null,null,null,null,null,null,null,null,null,null,null,null,null,null,null,null,null,null,null,null,null,null,null,null,null,null,null,null,null,null,null,null,null,null,null,null,null,null,null,null,null,null,null,null,null,null,null,null,null,null,null,null,null,null,null,null,null,null,null,null,null,null,null,null,null,null,null,null,null,null,null,null,null,null,null,null,null,null,null,null,null,null,null,null,null,null,null,null,null,null,null,null,null,null,null,null,null,null,null,null,null,null,null,null,null,null,null,null,null,null,null,null,null,null,null,null,null,null,null,null,null,null,null,null,null,null,null,null,null,null,null,null,null,null,null,null,null,null,null,null,null,null,null,null,null,null,null,null,null,null,null,null,null,null,null,null,null,null,null,null,null,null,null,null,null,null,null,null,null,null,null,null,null,null,null,null,null,null,null,null,null,null,null,null,null,null,null,null,null,null,null,null,null,null,null,null,null,null,null,null,null,null,null,null,null,null,null,null,null,null,null,null,null,null,null,null,null,null,null,null,null,null,null,null,null,null,null,null,null,null,null,null,null,null,null,null,null,null,null,null,null,null,null,null,null,null,null,null,null,null,null,null,null,null,null,null,null,null,null,null,null,null,null,null,null,null,null,null,null,null,null,null,null,null,null,null,null,null,null,null,null,null,null,null,null,null,null,null,null,null,null,null,null,null,null,null,null,null,null,null,null,null,null,null,null,null,null,null,null,null,null,null,null,null,null,null,null,null,null,null,null,null,null,null,null,null,null,null,null,null,null,null,null,null,null,null,null,null,null,null,null,null,null,null,null,null,null,null,null,null,null,null,null,null,null,null,null,null,null,null,null,null,null,null,null,null,null,null,null,null,null,null,null,null,null,null,null,null,null,null,null,null,null,null,null,null,null,null,null,null,null,null,null,null,null,null,null,null,null,null,null,null,null,null,null,null,null,null,null,null,null,null,null,null,null,null,null,null,null,null,null,null,null,null,null,null,null,null,null,null,null,null,null,null,null,null,null,null,null,null,null,null,null,null,null,null,null,null,null,null,null,null,null,null,null,null,null,null,null,null,null,null,null,null,null,null,null,null,null,null,null,null,null,null,null,null,null,null,null,null,null,null,null,null,null,null,null,null,null,null,null,null,null,null,null,null,null,null,null,null,null,null,null,null,null,null,null,null,null,null,null,null,null,null,null,null,null,null,null,null,null,null,null,null,null,null,null,null,null,null,null,null,null,null,null,null,null,null,null,null,null,null,null,null,null,null,null,null,null,null,null,null,null,null,null,null,null,null,null,null,null,null,null,null,null,null,null,null,null,null,null,null,null,null,null,null,null,null,null,null,null,null,null,null,null,null,null,null,null,null,null,null,null,null,null,null,null,null,null,null,null,null,null,null,null,null,null,null,null,null,null,null,null,null,null,null,null,null,null,null,null,null,null,null,null,null,null,null,null,null,null,null,null,null,null,null,null,null,null,null,null,null,null,null,null,null,null,null,null,null,null,null,null,null,null,null,null,null,null,null,null,null,null,null,null,null,null,null,null,null,null,null,null,null,null,null,null,null,null,null,null,null,null,null,null,null,null,null,null,null,null,null,null,null,null,null,null,null,null,null,null,null,null,null,null,null,null,null,null,null,null,null,null,null,null,null,null,null,null,null,null,null,null,null,null,null,null,null,null,null,null,null,null,null,null,null,null,null,null,null,null,null,null,null,null,null,null,null,null,null,null,null,null,null,null,null,null,null,null,null,null,null,null,null,null,null,null,null,null,null,null,null,null,null,null,null,null,null,null,null,null,null,null,null,null,null,null,null,null,null,null,null,null,null,null,null,null,null,null,null,null,null,null,null,null,null,null,null,null,null,null,null,null,null,null,null,null,null,null,null,null,null,null,null,null,null,null,null,null,null,null,null,null,null,null,null,null,null,null,null,null,null,null,null,null,null,null,null,null,null,null,null,null,null,null,null,null,null,null,null,null,null,null,null,null,null,null,null,null,null,null,null,null,null,null,null,null,null,null,null,null,null,null,null,null,null,null,null,null,null,null,null,null,null,null,null,null,null,null,null,null,null,null,null,null,null,null,null,null,null,null,null,null,null,null,null,null,null,null,null,null,null,null,null,null,null,null,null,null,null,null,null,null,null,null,null,null,null,null,null,null,null,null,null,null,null,null,null,null,null,null,null,null,null,null,null,null,null,null,null,null,null,null,null,null,null,null,null,null,null,null,null,null,null,null,null,null,null,null,null,null,null,null,null,null,null,null,null,null,null,null,null,null,null,null,null,null,null,null,null,null,null,null,null,null,null,null,null,null,null,null,null,null,null,null,null,null,null,null,null,null,null,null,null,null,null,null,null,null,null,null,null,null,null,null,null,null,null,null,null,null,null,null,null,null,null,null,null,null,null,null,null,null,null,null,null,null,null,null,null,null,null,null,null,null,null,null,null,null,null,null,null,null,null,null,null,null,null,null,null,null,null,null,null,null,null,null,null,null,null,null,null,null,null,null,null,null,null,null,null,null,null,null,null,null,null,null,null,null,null,null,null,null,null,null,null,null,null,null,null,null,null,null,null,null,null,null,null,null,null,null,null,null,null,null,null,null,null,null,null,null,null,null,null,null,null,null,null,null,null,null,null,null,null,null,null,null,null,null,null,null,null,null,null,null,null,null,null,null,null,null,null,null,null,null,null,null,null,null,null,null,null,null,null,null,null,null,null,null,null,null,null,null,null,null,null,null,null,null,null,null,null,null,null,null,null,null,null,null,null,null,null,null,null,null,null,null,null,null,null,null,null,null,null,null,null,null,null,null,null,null,null,null,null,null,null,null,null,null,null,null,null,null,null,null,null,null,null,null,null,null,null,null,null,null,null,null,null,null,null,null,null,null,null,null,null,null,null,null,null,null,null,null,null,null,null,null,null,null,null,null,null,null,null,null,null,null,null,null,null,null,null,null,null,null,null,null,null,null,null,null,null,null,null,null,null,null,null,null,null,null,null,null,null,null,null,null,null,null,null,null,null,null,null,null,null,null,null,null,null,null,null,null,null,null,null,null,null,null,null,null,null,null,null,null,null,null,null,null,null,null,null,null,null,null,null,null,null,null,null,null,null,null,null,null,null,null,null,null,null,null,null,null,null,null,null,null,null,null,null,null,null,null,null,null,null,null,null,null,null,null,null,null,null,null,null,null,null,null,null,null,null,null,null,null,null,null,null,null,null,null,null,null,null,null,null,null,null,null,null,null,null,null,null,null,null,null,null,null,null,null,null,null,null,null,null,null,null,null,null,null,null,null,null,null,null,null,null,null,null,null,null,null,null,null,null,null,null,null,null,null,null,null,null,null,null,null,null,null,null,null,null,null,null,null,null,null,null,null,null,null,null,null,null,null,null,null,null,null,null,null,null,null,null,null,null,null,null,null,null,null,null,null,null,null,null,null,null,null,null,null,null,null,null,null,null,null,null,null,null,null,null,null,null,null,null,null,null,null,null,null,null,null,null,null,null,null,null,null,null,null,null,null,null,null,null,null,null,null,null,null,null,null,null,null,null,null,null,null,null,null,null,null,null,null,null,null,null,null,null,null,null,null,null,null,null,null,null,null,null,null,null,null,null,null,null,null,null,null,null,null,null,null,null,null,null,null,null,null,null,null,null,null,null,null,null,null,null,null,null,null,null,null,null,null,null,null,null,null,null,null,null,null,null,null,null,null,null,null,null,null,null,null,null,null,null,null,null,null,null,null,null,null,null,null,null,null,null,null,null,null,null,null,null,null,null,null,null,null,null,null,null,null,null,null,null,null,null,null,null,null,null,null,null,null,null,null,null,null,null,null,null,null,null,null,null,null,null,null,null,null,null,null,null,null,null,null,null,null,null,null,null,null,null,null,null,null,null,null,null,null,null,null,null,null,null,null,null,null,null,null,null,null,null,null,null,null,null,null,null,null,null,null,null,null,null,null,null,null,null,null,null,null,null,null,null,null,null,null,null,null,null,null,null,null,null,null,null,null,null,null,null,null,null,null,null,null,null,null,null,null,null,null,null,null,null,null,null,null,null,null,null,null,null,null,null,null,null,null,null,null,null,null,null,null,null,null,null,null,null,null,null,null,null,null,null,null,null,null,null,null,null,null,null,null,null,null,null,null,null,null,null,null,null,null,null,null,null,null,null,null,null,null,null,null,null,null,null,null,null,null,null,null,null,null,null,null,null,null,null,null,null,null,null,null,null,null,null,null,null,null,null,null,null,null,null,null,null,null,null,null,null,null,null,null,null,null,null,null,null,null,null,null,null,null,null,null,null,null,null,null,null,null,null,null,null,null,null,null,null,null,null,null,null,null,null,null,null,null,null,null,null,null,null,null,null,null,null,null,null,null,null,null,null,null,null,null,null,null,null,null,null,null,null,null,null,null,null,null,null,null,null,null,null,null,null,null,null,null,null,null,null,null,null,null,null,null,null,null,null,null,null,null,null,null,null,null,null,null,null,null,null,null,null,null,null,null,null,null,null,null,null,null,null,null,null,null,null,null,null,null,null,null,null,null,null,null,null,null,null,null,null,null,null,null,null,null,null,null,null,null,null,null,null,null,null,null,null,null,null,null,null,null,null,null,null,null,null,null,null,null,null,null,null,null,null,null,null,null,null,null,null,null,null,null,null,null,null,null,null,null,null,null,null,null,null,null,null,null,null,null,null,null,null,null,null,null,null,null,null,null,null,null,null,null,null,null,null,null,null,null,null,null,null,null,null,null,null,null,null,null,null,null,null,null,null,null,null,null,null,null,null,null,null,null,null,null,null,null,null,null,null,null,null,null,null,null,null,null,null,null,null,null,null,null,null,null,null,null,null,null,null,null,null,null,null,null,null,null,null,null,null,null,null,null,null,null,null,null,null,null,null,null,null,null,null,null,null,null,null,null,null,null,null,null,null,null,null,null,null,null,null,null,null,null,null,null,null,null,null,null,null,null,null,null,null,null,null,null,null,null,null,null,null,null,null,null,null,null,null,null,null,null,null,null,null,null,null,null,null,null,null,null,null,null,null,null,null,null,null,null,null,null,null,null,null,null,null,null,null,null,null,null,null,null,null,null,null,null,null,null,null,null,null,null,null,null,null,null,null,null,null,null,null,null,null,null,null,null,null,null,null,null,null,null,null,null,null,null,null,null,null,null,null,null,null,null,null,null,null,null,null,null,null,null,null,null,null,null,null,null,null,null,null,null,null,null,null,null,null,null,null,null,null,null,null,null,null,null,null,null,null,null,null,null,null,null,null,null,null,null,null,null,null,null,null,null,null,null,null,null,null,null,null,null,null,null,null,null,null,null,null,null,null,null,null,null,null,null,null,null,null,null,null,null,null,null,null,null,null,null,null,null,null,null,null,null,null,null,null,null,null,null,null,null,null,null,null,null,null,null,null,null,null,null,null,null,null,null,null,null,null,null,null,null,null,null,null,null,null,null,null,null,null,null,null,null,null,null,null,null,null,null,null,null,null,null,null,null,null,null,null,null,null,null,null,null,null,null,null,null,null,null,null,null,null,null,null,null,null,null,null,null,null,null,null,null,null,null,null,null,null,null,null,null,null,null,null,null,null,null,null,null,null,null,null,null,null,null,null,null,null,null,null,null,null,null,null,null,null,null,null,null,null,null,null,null,null,null,null,null,null,null,null,null,null,null,null,null,null,null,null,null,null,null,null,null,null,null,null,null,null,null,null,null,null,null,null,null,null,null,null,null,null,null,null,null,null,null,null,null,null,null,null,null,null,null,null,null,null,null,null,null,null,null,null,null,null,null,null,null,null,null,null,null,null,null,null,null,null,null,null,null,null,null,null,null,null,null,null,null,null,null,null,null,null,null,null,null,null,null,null,null,null,null,null,null,null,null,null,null,null,null,null,null,null,null,null,null,null,null,null,null,null,null,null,null,null,null,null,null,null,null,null,null,null,null,null,null,null,null,null,null,null,null,null,null,null,null,null,null,null,null,null,null,null,null,null,null,null,null,null,null,null,null,null,null,null,null,null,null,null,null,null,null,null,null,null,null,null,null,null,null,null,null,null,null,null,null,null,null,null,null,null,null,null,null,null,null,null,null,null,null,null,null,null,null,null,null,null,null,null,null,null,null,null,null,null,null,null,null,null,null,null,null,null,null,null,null,null,null,null,null,null,null,null,null,null,null,null,null,null,null,null,null,null,null,null,null,null,null,null,null,null,null,null,null,null,null,null,null,null,null,null,null,null,null,null,null,null,null,null,null,null,null,null,null,null,null,null,null,null,null,null,null,null,null,null,null,null,null,null,null,null,null,null,null,null,null,null,null,null,null,null,null,null,null,null,null,null,null,null,null,null,null,null,null,null,null,null,null,null,null,null,null,null,null,null,null,null,null,null,null,null,null,null,null,null,null,null,null,null,null,null,null,null,null,null,null,null,null,null,null,null,null,null,null,null,null,null,null,null,null,null,null,null,null,null,null,null,null,null,null,null,null,null,null,null,null,null,null,null,null,null,null,null,null,null,null,null,null,null,null,null,null,null,null,null,null,null,null,null,null,null,null,null,null,null,null,null,null,null,null,null,null,null,null,null,null,null,null,null,null,null,null,null,null,null,null,null,null,null,null,null,null,null,null,null,null,null,null,null,null,null,null,null,null,null,null,null,null,null,null,null,null,null,null,null,null,null,null,null,null,null,null,null,null,null,null,null,null,null,null,null,null,null,null,null,null,null,null,null,null,null,null,null,null,null,null,null,null,null,null,null,null,null,null,null,null,null,null,null,null,null,null,null,null,null,null,null,null,null,null,null,null,null,null,null,null,null,null,null,null,null,null,null,null,null,null,null,null,null,null,null,null,null,null,null,null,null,null,null,null,null,null,null,null,null,null,null,null,null,null,null,null,null,null,null,null,null,null,null,null,null,null,null,null,null,null,null,null,null,null,null,null,null,null,null,null,null,null,null,null,null,null,null,null,null,null,null,null,null,null,null,null,null,null,null,null,null,null,null,null,null,null,null,null,null,null,null,null,null,null,null,null,null,null,null,null,null,null,null,null,null,null,null,null,null,null,null,null,null,null,null,null,null,null,null,null,null,null,null,null,null,null,null,null,null,null,null,null,null,null,null,null,null,null,null,null,null,null,null,null,null,null,null,null,null,null,null,null,null,null,null,null,null,null,null,null,null,null,null,null,null,null,null,null,null,null,null,null,null,null,null,null,null,null,null,null,null,null,null,null,null,null,null,null,null,null,null,null,null,null,null,null,null,null,null,null,null,null,null,null,null,null,null,null,null,null,null,null,null,null,null,null,null,null,null,null,null,null,null,null,null,null,null,null,null,null,null,null,null,null,null,null,null,null,null,null,null,null,null,null,null,null,null,null,null,null,null,null,null,null,null,null,null,null,null,null,null,null,null,null,null,null,null,null,null,null,null,null,null,null,null,null,null,null,null,null,null,null,null,null,null,null,null,null,null,null,null,null,null,null,null,null,null,null,null,null,null,null,null,null,null,null,null,null,null,null,null,null,null,null,null,null,null,null,null,null,null,null,null,null,null,null,null,null,null,null,null,null,null,null,null,null,null,null,null,null,null,null,null,null,null,null,null,null,null,null,null,null,null,null,null,null,null,null,null,null,null,null,null,null,null,null,null,null,null,null,null,null,null,null,null,null,null,null,null,null,null,null,null,null,null,null,null,null,null,null,null,null,null,null,null,null,null,null,null,null,null,null,null,null,null,null,null,null,null,null,null,null,null,null,null,null,null,null,null,null,null,null,null,null,null,null,null,null,null,null,null,null,null,null,null,null,null,null,null,null,null,null,null,null,null,null,null,null,null,null,null,null,null,null,null,null,null,null,null,null,null,null,null,null,null,null,null,null,null,null,null,null,null,null,null,null,null,null,null,null,null,null,null,null,null,null,null,null,null,null,null,null,null,null,null,null,null,null,null,null,null,null,null,null,null,null,null,null,null,null,null,null,null,null,null,null,null,null,null,null,null,null,null,null,null,null,null,null,null,null,null,null,null,null,null,null,null,null,null,null,null,null,null,null,null,null,null,null,null,null,null,null,null,null,null,null,null,null,null,null,null,null,null,null,null,null,null,null,null,null,null,null,null,null,null,null,null,null,null,null,null,null,null,null,null,null,null,null,null,null,null,null,null,null,null,null,null,null,null,null,null,null,null,null,null,null,null,null,null,null,null,null,null,null,null,null,null,null,null,null,null,null,null,null,null,null,null,null,null,null,null,null,null,null,null,null,null,null,null,null,null,null,null,null,null,null,null,null,null,null,null,null,null,null,null,null,null,null,null,null,null,null,null,null,null,null,null,null,null,null,null,null,null,null,null,null,null,null,null,null,null,null,null,null,null,null,null,null,null,null,null,null,null,null,null,null,null,null,null,null,null,null,null,null,null,null,null,null,null,null,null,null,null,null,null,null,null,null,null,null,null,null,null,null,null,null,null,null,null,null,null,null,null,null,null,null,null,null,null,null,null,null,null,null,null,null,null,null,null,null,null,null,null,null,null,null,null,null,null,null,null,null,null,null,null,null,null,null,null,null,null,null,null,null,null,null,null,null,null,null,null,null,null,null,null,null,null,null,null,null,null,null,null,null,null,null,null,null,null,null,null,null,null,null,null,null,null,null,null,null,null,null,null,null,null,null,null,null,null,null,null,null,null,null,null,null,null,null,null,null,null,null,null,null,null,null,null,null,null,null,null,null,null,null,null,null,null,null,null,null,null,null,null,null,null,null,null,null,null,null,null,null,null,null,null,null,null,null,null,null,null,null,null,null,null,null,null,null,null,null,null,null,null,null,null,null,null,null,null,null,null,null,null,null,null,null,null,null,null,null,null,null,null,null,null,null,null,null,null,null,null,null,null,null,null,null,null,null,null,null,null,null,null,null,null,null,null,null,null,null,null,null,null,null,null,null,null,null,null,null,null,null,null,null,null,null,null,null,null,null,null,null,null,null,null,null,null,null,null,null,null,null,null,null,null,null,null,null,null,null,null,null,null,null,null,null,null,null,null,null,null,null,null,null,null,null,null,null,null,null,null,null,null,null,null,null,null,null,null,null,null,null,null,null,null,null,null,null,null,null,null,null,null,null,null,null,null,null,null,null,null,null,null,null,null,null,null,null,null,null,null,null,null,null,null,null,null,null,null,null,null,null,null,null,null,null,null,null,null,null,null,null,null,null,null,null,null,null,null,null,null,null,null,null,null,null,null,null,null,null,null,null,null,null,null,null,null,null,null,null,null,null,null,null,null,null,null,null,null,null,null,null,null,null,null,null,null,null,null,null,null,null,null,null,null,null,null,null,null,null,null,null,null,null,null,null,null,null,null,null,null,null,null,null,null,null,null,null,null,null,null,null,null,null,null,null,null,null,null,null,null,null,null,null,null,null,null,null,null,null,null,null,null,null,null,null,null,null,null,null,null,null,null,null,null,null,null,null,null,null,null,null,null,null,null,null,null,null,null,null,null,null,null,null,null,null,null,null,null,null,null,null,null,null,null,null,null,null,null,null,null,null,null,null,null,null,null,null,null,null,null,null,null,null,null,null,null,null,null,null,null,null,null,null,null,null,null,null,null,null,null,null,null,null,null,null,null,null,null,null,null,null,null,null,null,null,null,null,null,null,null,null,null,null,null,null,null,null,null,null,null,null,null,null,null,null,null,null,null,null,null,null,null,null,null,null,null,null,null,null,null,null,null,null,null,null,null,null,null,null,null,null,null,null,null,null,null,null,null,null,null,null,null,null,null,null,null,null,null,null,null,null,null,null,null,null,null,null,null,null,null,null,null,null,null,null,null,null,null,null,null,null,null,null,null,null,null,null,null,null,null,null,null,null,null,null,null,null,null,null,null,null,null,null,null,null,null,null,null,null,null,null,null,null,null,null,null,null,null,null,null,null,null,null,null,null,null,null,null,null,null,null,null,null,null,null,null,null,null,null,null,null,null,null,null,null,null,null,null,null,null,null,null,null,null,null,null,null,null,null,null,null,null,null,null,null,null,null,null,null,null,null,null,null,null,null,null,null,null,null,null,null,null,null,null,null,null,null,null,null,null,null,null,null,null,null,null,null,null,null,null,null,null,null,null,null,null,null,null,null,null,null,null,null,null,null,null,null,null,null,null,null,null,null,null,null,null,null,null,null,null,null,null,null,null,null,null,null,null,null,null,null,null,null,null,null,null,null,null,null,null,null,null,null,null,null,null,null,null,null,null,null,null,null,null,null,null,null,null,null,null,null,null,null,null,null,null,null,null,null,null,null,null,null,null,null,null,null,null,null,null,null,null,null,null,null,null,null,null,null,null,null,null,null,null,null,null,null,null,null,null,null,null,null,null,null,null,null,null,null,null,null,null,null,null,null,null,null,null,null,null,null,null,null,null,null,null,null,null,null,null,null,null,null,null,null,null,null,null,null,null,null,null,null,null,null,null,null,null,null,null,null,null,null,null,null,null,null,null,null,null,null,null,null,null,null,null,null,null,null,null,null,null,null,null,null,null,null,null,null,null,null,null,null,null,null,null,null,null,null,null,null,null,null,null,null,null,null,null,null,null,null,null,null,null,null,null,null,null,null,null,null,null,null,null,null,null,null,null,null,null,null,null,null,null,null,null,null,null,null,null,null,null,null,null,null,null,null,null,null,null,null,null,null,null,null,null,null,null,null,null,null,null,null,null,null,null,null,null,null,null,null,null,null,null,null,null,null,null,null,null,null,null,null,null,null,null,null,null,null,null,null,null,null,null,null,null,null,null,null,null,null,null,null,null,null,null,null,null,null,null,null,null,null,null,null,null,null,null,null,null,null,null,null,null,null,null,null,null,null,null,null,null,null,null,null,null,null,null,null,null,null,null,null,null,null,null,null,null,null,null,null,null,null,null,null,null,null,null,null,null,null,null,null,null,null,null,null,null,null,null,null,null,null,null,null,null,null,null,null,null,null,null,null,null,null,null,null,null,null,null,null,null,null,null,null,null,null,null,null,null,null,null,null,null,null,null,null,null,null,null,null,null,null,null,null,null,null,null,null,null,null,null,null,null,null,null,null,null,null,null,null,null,null,null,null,null,null,null,null,null,null,null,null,null,null,null,null,null,null,null,null,null,null,null,null,null,null,null,null,null,null,null,null,null,null,null,null,null,null,null,null,null,null,null,null,null,null,null,null,null,null,null,null,null,null,null,null,null,null,null,null,null,null,null,null,null,null,null,null,null,null,null,null,null,null,null,null,null,null,null,null,null,null,null,null,null,null,null,null,null,null,null,null,null,null,null,null,null,null,null,null,null,null,null,null,null,null,null,null,null,null,null,null,null,null,null,null,null,null,null,null,null,null,null,null,null,null,null,null,null,null,null,null,null,null,null,null,null,null,null,null,null,null,null,null,null,null,null,null,null,null,null,null,null,null,null,null,null,null,null,null,null,null,null,null,null,null,null,null,null,null,null,null,null,null,null,null,null,null,null,null,null,null,null,null,null,null,null,null,null,null,null,null,null,null,null,null,null,null,null,null,null,null,null,null,null,null,null,null,null,null,null,null,null,null,null,null,null,null,null,null,null,null,null,null,null,null,null,null,null,null,null,null,null,null,null,null,null,null,null,null,null,null,null,null,null,null,null,null,null,null,null,null,null,null,null,null,null,null,null,null,null,null,null,null,null,null,null,null,null,null,null,null,null,null,null,null,null,null,null,null,null,null,null,null,null,null,null,null,null,null,null,null,null,null,null,null,null,null,null,null,null,null,null,null,null,null,null,null,null,null,null,null,null,null,null,null,null,null,null,null,null,null,null,null,null,null,null,null,null,null,null,null,null,null,null,null,null,null,null,null,null,null,null,null,null,null,null,null,null,null,null,null,null,null,null,null,null,null,null,null,null,null,null,null,null,null,null,null,null,null,null,null,null,null,null,null,null,null,null,null,null,null,null,null,null,null,null,null,null,null,null,null,null,null,null,null,null,null,null,null,null,null,null,null,null,null,null,null,null,null,null,null,null,null,null,null,null,null,null,null,null,null,null,null,null,null,null,null,null,null,null,null,null,null,null,null,null,null,null,null,null,null,null,null,null,null,null,null,null,null,null,null,null,null,null,null,null,null,null,null,null,null,null,null,null,null,null,null,null,null,null,null,null,null,null,null,null,null,null,null,null,null,null,null,null,null,null,null,null,null,null,null,null,null,null,null,null,null,null,null,null,null,null,null,null,null,null,null,null,null,null,null,null,null,null,null,null,null,null,null,null,null,null,null,null,null,null,null,null,null,null,null,null,null,null,null,null,null,null,null,null,null,null,null,null,null,null,null,null,null,null,null,null,null,null,null,null,null,null,null,null,null,null,null,null,null,null,null,null,null,null,null,null,null,null,null,null,null,null,null,null,null,null,null,null,null,null,null,null,null,null,null,null,null,null,null,null,null,null,null,null,null,null,null,null,null,null,null,null,null,null,null,null,null,null,null,null,null,null,null,null,null,null,null,null,null,null,null,null,null,null,null,null,null,null,null,null,null,null,null,null,null,null,null,null,null,null,null,null,null,null,null,null,null,null,null,null,null,null,null,null,null,null,null,null,null,null,null,null,null,null,null,null,null,null,null,null,null,null,null,null,null,null,null,null,null,null,null,null,null,null,null,null,null,null,null,null,null,null,null,null,null,null,null,null,null,null,null,null,null,null,null,null,null,null,null,null,null,null,null,null,null,null,null,null,null,null,null,null,null,null,null,null,null,null,null,null,null,null,null,null,null,null,null,null,null,null,null,null,null,null,null,null,null,null,null,null,null,null,null,null,null,null,null,null,null,null,null,null,null,null,null,null,null,null,null,null,null,null,null,null,null,null,null,null,null,null,null,null,null,null,null,null,null,null,null,null,null,null,null,null,null,null,null,null,null,null,null,null,null,null,null,null,null,null,null,null,null,null,null,null,null,null,null,null,null,null,null,null,null,null,null,null,null,null,null,null,null,null,null,null,null,null,null,null,null,null,null,null,null,null,null,null,null,null,null,null,null,null,null,null,null,null,null,null,null,null,null,null,null,null,null,null,null,null,null,null,null,null,null,null,null,null,null,null,null,null,null,null,null,null,null,null,null,null,null,null,null,null,null,null,null,null,null,null,null,null,null,null,null,null,null,null,null,null,null,null,null,null,null,null,null,null,null,null,null,null,null,null,null,null,null,null,null,null,null,null,null,null,null,null,null,null,null,null,null,null,null,null,null,null,null,null,null,null,null,null,null,null,null,null,null,null,null,null,null,null,null,null,null,null,null,null,null,null,null,null,null,null,null,null,null,null,null,null,null,null,null,null,null,null,null,null,null,null,null,null,null,null,null,null,null,null,null,null,null,null,null,null,null,null,null,null,null,null,null,null,null,null,null,null,null,null,null,null,null,null,null,null,null,null,null,null,null,null,null,null,null,null,null,null,null,null,null,null,null,null,null,null,null,null,null,null,null,null,null,null,null,null,null,null,null,null,null,null,null,null,null,null,null,null,null,null,null,null,null,null,null,null,null,null,null,null,null,null,null,null,null,null,null,null,null,null,null,null,null,null,null,null,null,null,null,null,null,null,null,null,null,null,null,null,null,null,null,null,null,null,null,null,null,null,null,null,null,null,null,null,null,null,null,null,null,null,null,null,null,null,null,null,null,null,null,null,null,null,null,null,null,null,null,null,null,null,null,null,null,null,null,null,null,null,null,null,null,null,null,null,null,null,null,null,null,null,null,null,null,null,null,null,null,null,null,null,null,null,null,null,null,null,null,null,null,null,null,null,null,null,null,null,null,null,null,null,null,null,null,null,null,null,null,null,null,null,null,null,null,null,null,null,null,null,null,null,null,null,null,null,null,null,null,null,null,null,null,null,null,null,null,null,null,null,null,null,null,null,null,null,null,null,null,null,null,null,null,null,null,null,null,null,null,null,null,null,null,null,null,null,null,null,null,null,null,null,null,null,null,null,null,null,null,null,null,null,null,null,null,null,null,null,null,null,null,null,null,null,null,null,null,null,null,null,null,null,null,null,null,null,null,null,null,null,null,null,null,null,null,null,null,null,null,null,null,null,null,null,null,null,null,null,null,null,null,null,null,null,null,null,null,null,null,null,null,null,null,null,null,null,null,null,null,null,null,null,null,null,null,null,null,null,null,null,null,null,null,null,null,null,null,null,null,null,null,null,null,null,null,null,null,null,null,null,null,null,null,null,null,null,null,null,null,null,null,null,null,null,null,null,null,null,null,null,null,null,null,null,null,null,null,null,null,null,null,null,null,null,null,null,null,null,null,null,null,null,null,null,null,null,null,null,null,null,null,null,null,null,null,null,null,null,null,null,null,null,null,null,null,null,null,null,null,null,null,null,null,null,null,null,null,null,null,null,null,null,null,null,null,null,null,null,null,null,null,null,null,null,null,null,null,null,null,null,null,null,null,null,null,null,null,null,null,null,null,null,null,null,null,null,null,null,null,null,null,null,null,null,null,null,null,null,null,null,null,null,null,null,null,null,null,null,null,null,null,null,null,null,null,null,null,null,null,null,null,null,null,null,null,null,null,null,null,null,null,null,null,null,null,null,null,null,null,null,null,null,null,null,null,null,null,null,null,null,null,null,null,null,null,null,null,null,null,null,null,null,null,null,null,null,null,null,null,null,null,null,null,null,null,null,null,null,null,null,null,null,null,null,null,null,null,null,null,null,null,null,null,null,null,null,null,null,null,null,null,null,null,null,null,null,null,null,null,null,null,null,null,null,null,null,null,null,null,null,null,null,null,null,null,null,null,null,null,null,null,null,null,null,null,null,null,null,null,null,null,null,null,null,null,null,null,null,null,null,null,null,null,null,null,null,null,null,null,null,null,null,null,null,null,null,null,null,null,null,null,null,null,null,null,null,null,null,null,null,null,null,null,null,null,null,null,null,null,null,null,null,null,null,null,null,null,null,null,null,null,null,null,null,null,null,null,null,null,null,null,null,null,null,null,null,null,null,null,null,null,null,null,null,null,null,null,null,null,null,null,null,null,null,null,null,null,null,null,null,null,null,null,null,null,null,null,null,null,null,null,null,null,null,null,null,null,null,null,null,null,null,null,null,null,null,null,null,null,null,null,null,null,null,null,null,null,null,null,null,null,null,null,null,null,null,null,null,null,null,null,null,null,null,null,null,null,null,null,null,null,null,null,null,null,null,null,null,null,null,null,null,null,null,null,null,null,null,null,null,null,null,null,null,null,null,null,null,null,null,null,null,null,null,null,null,null,null,null,null,null,null,null,null,null,null,null,null,null,null,null,null,null,null,null,null,null,null,null,null,null,null,null,null,null,null,null,null,null,null,null,null,null,null,null,null,null,null,null,null,null,null,null,null,null,null,null,null,null,null,null,null,null,null,null,null,null,null,null,null,null,null,null,null,null,null,null,null,null,null,null,null,null,null,null,null,null,null,null,null,null,null,null,null,null,null,null,null,null,null,null,null,null,null,null,null,null,null,null,null,null,null,null,null,null,null,null,null,null,null,null,null,null,null,null,null,null,null,null,null,null,null,null,null,null,null,null,null,null,null,null,null,null,null,null,null,null,null,null,null,null,null,null,null,null,null,null,null,null,null,null,null,null,null,null,null,null,null,null,null,null,null,null,null,null,null,null,null,null,null,null,null,null,null,null,null,null,null,null,null,null,null,null,null,null,null,null,null,null,null,null,null,null,null,null,null,null,null,null,null,null,null,null,null,null,null,null,null,null,null,null,null,null,null,null,null,null,null,null,null,null,null,null,null,null,null,null,null,null,null,null,null,null,null,null,null,null,null,null,null,null,null,null,null,null,null,null,null,null,null,null,null,null,null,null,null,null,null,null,null,null,null,null,null,null,null,null,null,null,null,null,null,null,null,null,null,null,null,null,null,null,null,null,null,null,null,null,null,null,null,null,null,null,null,null,null,null,null,null,null,null,null,null,null,null,null,null,null,null,null,null,null,null,null,null,null,null,null,null,null,null,null,null,null,null,null,null,null,null,null,null,null,null,null,null,null,null,null,null,null,null,null,null,null,null,null,null,null,null,null,null,null,null,null,null,null,null,null,null,null,null,null,null,null,null,null,null,null,null,null,null,null,null,null,null,null,null,null,null,null,null,null,null,null,null,null,null,null,null,null,null,null,null,null,null,null,null,null,null,null,null,null,null,null,null,null,null,null,null,null,null,null,null,null,null,null,null,null,null,null,null,null,null,null,null,null,null,null,null,null,null,null,null,null,null,null,null,null,null,null,null,null,null,null,null,null,null,null,null,null,null,null,null,null,null,null,null,null,null,null,null,null,null,null,null,null,null,null,null,null,null,null,null,null,null,null,null,null,null,null,null,null,null,null,null,null,null,null,null,null,null,null,null,null,null,null,null,null,null,null,null,null,null,null,null,null,null,null,null,null,null,null,null,null,null,null,null,null,null,null,null,null,null,null,null,null,null,null,null,null,null,null,null,null,null,null,null,null,null,null,null,null,null,null,null,null,null,null,null,null,null,null,null,null,null,null,null,null,null,null,null,null,null,null,null,null,null,null,null,null,null,null,null,null,null,null,null,null,null,null,null,null,null,null,null,null,null,null,null,null,null,null,null,null,null,null,null,null,null,null,null,null,null,null,null,null,null,null,null,null,null,null,null,null,null,null,null,null,null,null,null,null,null,null,null,null,null,null,null,null,null,null,null,null,null,null,null,null,null,null,null,null,null,null,null,null,null,null,null,null,null,null,null,null,null,null,null,null,null,null,null,null,null,null,null,null,null,null,null,null,null,null,null,null,null,null,null,null,null,null,null,null,null,null,null,null,null,null,null,null,null,null,null,null,null,null,null,null,null,null,null,null,null,null,null,null,null,null,null,null,null,null,null,null,null,null,null,null,null,null,null,null,null,null,null,null,null,null,null,null,null,null,null,null,null,null,null,null,null,null,null,null,null,null,null,null,null,null,null,null,null,null,null,null,null,null,null,null,null,null,null,null,null,null,null,null,null,null,null,null,null,null,null,null,null,null,null,null,null,null,null,null,null,null,null,null,null,null,null,null,null,null,null,null,null,null,null,null,null,null,null,null,null,null,null,null,null,null,null,null,null,null,null,null,null,null,null,null,null,null,null,null,null,null,null,null,null,null,null,null,null,null,null,null,null,null,null,null,null,null,null,null,null,null,null,null,null,null,null,null,null,null,null,null,null,null,null,null,null,null,null,null,null,null,null,null,null,null,null,null,null,null,null,null,null,null,null,null,null,null,null,null,null,null,null,null,null,null,null,null,null,null,null,null,null,null,null,null,null,null,null,null,null,null,null,null,null,null,null,null,null,null,null,null,null,null,null,null,null,null,null,null,null,null,null,null,null,null,null,null,null,null,null,null,null,null,null,null,null,null,null,null,null,null,null,null,null,null,null,null,null,null,null,null,null,null,null,null,null,null,null,null,null,null,null,null,null,null,null,null,null,null,null,null,null,null,null,null,null,null,null,null,null,null,null,null,null,null,null,null,null,null,null,null,null,null,null,null,null,null,null,null,null,null,null,null,null,null,null,null,null,null,null,null,null,null,null,null,null,null,null,null,null,null,null,null,null,null,null,null,null,null,null,null,null,null,null,null,null,null,null,null,null,null,null,null,null,null,null,null,null,null,null,null,null,null,null,null,null,null,null,null,null,null,null,null,null,null,null,null,null,null,null,null,null,null,null,null,null,null,null,null,null,null,null,null,null,null,null,null,null,null,null,null,null,null,null,null,null,null,null,null,null,null,null,null,null,null,null,null,null,null,null,null,null,null,null,null,null,null,null,null,null,null,null,null,null,null,null,null,null,null,null,null,null,null,null,null,null,null,null,null,null,null,null,null,null,null,null,null,null,null,null,null,null,null,null,null,null,null,null,null,null,null,null,null,null,null,null,null,null,null,null,null,null,null,null,null,null,null,null,null,null,null,null,null,null,null,null,null,null,null,null,null,null,null,null,null,null,null,null,null,null,null,null,null,null,null,null,null,null,null,null,null,null,null,null,null,null,null,null,null,null,null,null,null,null,null,null,null,null,null,null,null,null,null,null,null,null,null,null,null,null,null,null,null,null,null,null,null,null,null,null,null,null,null,null,null,null,null,null,null,null,null,null,null,null,null,null,null,null,null,null,null,null,null,null,null,null,null,null,null,null,null,null,null,null,null,null,null,null,null,null,null,null,null,null,null,null,null,null,null,null,null,null,null,null,null,null,null,null,null,null,null,null,null,null,null,null,null,null,null,null,null,null,null,null,null,null,null,null,null,null,null,null,null,null,null,null,null,null,null,null,null,null,null,null,null,null,null,null,null,null,null,null,null,null,null,null,null,null,null,null,null,null,null,null,null,null,null,null,null,null,null,null,null,null,null,null,null,null,null,null,null,null,null,null,null,null,null,null,null,null,null,null,null,null,null,null,null,null,null,null,null,null,null,null,null,null,null,null,null,null,null,null,null,null,null,null,null,null,null,null,null,null,null,null,null,null,null,null,null,null,null,null,null,null,null,null,null,null,null,null,null,null,null,null,null,null,null,null,null,null,null,null,null,null,null,null,null,null,null,null,null,null,null,null,null,null,null,null,null,null,null,null,null,null,null,null,null,null,null,null,null,null,null,null,null,null,null,null,null,null,null,null,null,null,null,null,null,null,null,null,null,null,null,null,null,null,null,null,null,null,null,null,null,null,null,null,null,null,null,null,null,null,null,null,null,null,null,null,null,null,null,null,null,null,null,null,null,null,null,null,null,null,null,null,null,null,null,null,null,null,null,null,null,null,null,null,null,null,null,null,null,null,null,null,null,null,null,null,null,null,null,null,null,null,null,null,null,null,null,null,null,null,null,null,null,null,null,null,null,null,null,null,null,null,null,null,null,null,null,null,null,null,null,null,null,null,null,null,null,null,null,null,null,null,null,null,null,null,null,null,null,null,null,null,null,null,null,null,null,null,null,null,null,null,null,null,null,null,null,null,null,null,null,null,null,null,null,null,null,null,null,null,null,null,null,null,null,null,null,null,null,null,null,null,null,null,null,null,null,null,null,null,null,null,null,null,null,null,null,null,null,null,null,null,null,null,null,null,null,null,null,null,null,null,null,null,null,null,null,null,null,null,null,null,null,null,null,null,null,null,null,null,null,null,null,null,null,null,null,null,null,null,null,null,null,null,null,null,null,null,null,null,null,null,null,null,null,null,null,null,null,null,null,null,null,null,null,null,null,null,null,null,null,null,null,null,null,null,null,null,null,null,null,null,null,null,null,null,null,null,null,null,null,null,null,null,null,null,null,null,null,null,null,null,null,null,null,null,null,null,null,null,null,null,null,null,null,null,null,null,null,null,null,null,null,null,null,null,null,null,null,null,null,null,null,null,null,null,null,null,null,null,null,null,null,null,null,null,null,null,null,null,null,null,null,null,null,null,null,null,null,null,null,null,null,null,null,null,null,null,null,null,null,null,null,null,null,null,null,null,null,null,null,null,null,null,null,null,null,null,null,null,null,null,null,null,null,null,null,null,null,null,null,null,null,null,null,null,null,null,null,null,null,null,null,null,null,null,null,null,null,null,null,null,null,null,null,null,null,null,null,null,null,null,null,null,null,null,null,null,null,null,null,null,null,null,null,null,null,null,null,null,null,null,null,null,null,null,null,null,null,null,null,null,null,null,null,null,null,null,null,null,null,null,null,null,null,null,null,null,null,null,null,null,null,null,null,null,null,null,null,null,null,null,null,null,null,null,null,null,null,null,null,null,null,null,null,null,null,null,null,null,null,null,null,null,null,null,null,null,null,null,null,null,null,null,null,null,null,null,null,null,null,null,null,null,null,null,null,null,null,null,null,null,null,null,null,null,null,null,null,null,null,null,null,null,null,null,null,null,null,null,null,null,null,null,null,null,null,null,null,null,null,null,null,null,null,null,null,null,null,null,null,null,null,null,null,null,null,null,null,null,null,null,null,null,null,null,null,null,null,null,null,null,null,null,null,null,null,null,null,null,null,null,null,null,null,null,null,null,null,null,null,null,null,null,null,null,null,null,null,null,null,null,null,null,null,null,null,null,null,null,null,null,null,null,null,null,null,null,null,null,null,null,null,null,null,null,null,null,null,null,null,null,null,null,null,null,null,null,null,null,null,null,null,null,null,null,null,null,null,null,null,null,null,null,null,null,null,null,null,null,null,null,null,null,null,null,null,null,null,null,null,null,null,null,null,null,null,null,null,null,null,null,null,null,null,null,null,null,null,null,null,null,null,null,null,null,null,null,null,null,null,null,null,null,null,null,null,null,null,null,null,null,null,null,null,null,null,null,null,null,null,null,null,null,null,null,null,null,null,null,null,null,null,null,null,null,null,null,null,null,null,null,null,null,null,null,null,null,null,null,null,null,null,null,null,null,null,null,null,null,null,null,null,null,null,null,null,null,null,null,null,null,null,null,null,null,null,null,null,null,null,null,null,null,null,null,null,null,null,null,null,null,null,null,null,null,null,null,null,null,null,null,null,null,null,null,null,null,null,null,null,null,null,null,null,null,null,null,null,null,null,null,null,null,null,null,null,null,null,null,null,null,null,null,null,null,null,null,null,null,null,null,null,null,null,null,null,null,null,null,null,null,null,null,null,null,null,null,null,null,null,null,null,null,null,null,null,null,null,null,null,null,null,null,null,null,null,null,null,null,null,null,null,null,null,null,null,null,null,null,null,null,null,null,null,null,null,null,null,null,null,null,null,null,null,null,null,null,null,null,null,null,null,null,null,null,null,null,null,null,null,null,null,null,null,null,null,null,null,null,null,null,null,null,null,null,null,null,null,null,null,null,null,null,null,null,null,null,null,null,null,null,null,null,null,null,null,null,null,null,null,null,null,null,null,null,null,null,null,null,null,null,null,null,null,null,null,null,null,null,null,null,null,null,null,null,null,null,null,null,null,null,null,null,null,null,null,null,null,null,null,null,null,null,null,null,null,null,null,null,null,null,null,null,null,null,null,null,null,null,null,null,null,null,null,null,null,null,null,null,null,null,null,null,null,null,null,null,null,null,null,null,null,null,null,null,null,null,null,null,null,null,null,null,null,null,null,null,null,null,null,null,null,null,null,null,null,null,null,null,null,null,null,null,null,null,null,null,null,null,null,null,null,null,null,null,null,null,null,null,null,null,null,null,null,null,null,null,null,null,null,null,null,null,null,null,null,null,null,null,null,null,null,null,null,null,null,null,null,null,null,null,null,null,null,null,null,null,null,null,null,null,null,null,null,null,null,null,null,null,null,null,null,null,null,null,null,null,null,null,null,null,null,null,null,null,null,null,null,null,null,null,null,null,null,null,null,null,null,null,null,null,null,null,null,null,null,null,null,null,null,null,null,null,null,null,null,null,null,null,null,null,null,null,null,null,null,null,null,null,null,null,null,null,null,null,null,null,null,null,null,null,null,null,null,null,null,null,null,null,null,null,null,null,null,null,null,null,null,null,null,null,null,null,null,null,null,null,null,null,null,null,null,null,null,null,null,null,null,null,null,null,null,null,null,null,null,null,null,null,null,null,null,null,null,null,null,null,null,null,null,null,null,null,null,null,null,null,null,null,null,null,null,null,null,null,null,null,null,null,null,null,null,null,null,null,null,null,null,null,null,null,null,null,null,null,null,null,null,null,null,null,null,null,null,null,null,null,null,null,null,null,null,null,null,null,null,null,null,null,null,null,null,null,null,null,null,null,null,null,null,null,null,null,null,null,null,null,null,null,null,null,null,null,null,null,null,null,null,null,null,null,null,null,null,null,null,null,null,null,null,null,null,null,null,null,null,null,null,null,null,null,null,null,null,null,null,null,null,null,null,null,null,null,null,null,null,null,null,null,null,null,null,null,null,null,null,null,null,null,null,null,null,null,null,null,null,null,null,null,null,null,null,null,null,null,null,null,null,null,null,null,null,null,null,null,null,null,null,null,null,null,null,null,null,null,null,null,null,null,null,null,null,null,null,null,null,null,null,null,null,null,null,null,null,null,null,null,null,null,null,null,null,null,null,null,null,null,null,null,null,null,null,null,null,null,null,null,null,null,null,null,null,null,null,null,null,null,null,null,null,null,null,null,null,null,null,null,null,null,null,null,null,null,null,null,null,null,null,null,null,null,null,null,null,null,null,null,null,null,null,null,null,null,null,null,null,null,null,null,null,null,null,null,null,null,null,null,null,null,null,null,null,null,null,null,null,null,null,null,null,null,null,null,null,null,null,null,null,null,null,null,null,null,null,null,null,null,null,null,null,null,null,null,null,null,null,null,null,null,null,null,null,null,null,null,null,null,null,null,null,null,null,null,null,null,null,null,null,null,null,null,null,null,null,null,null,null,null,null,null,null,null,null,null,null,null,null,null,null,null,null,null,null,null,null,null,null,null,null,null,null,null,null,null,null,null,null,null,null,null,null,null,null,null,null,null,null,null,null,null,null,null,null,null,null,null,null,null,null,null,null,null,null,null,null,null,null,null,null,null,null,null,null,null,null,null,null,null,null,null,null,null,null,null,null,null,null,null,null,null,null,null,null,null,null,null,null,null,null,null,null,null,null,null,null,null,null,null,null,null,null,null,null,null,null,null,null,null,null,null,null,null,null,null,null,null,null,null,null,null,null,null,null,null,null,null,null,null,null,null,null,null,null,null,null,null,null,null,null,null,null,null,null,null,null,null,null,null,null,null,null,null,null,null,null,null,null,null,null,null,null,null,null,null,null,null,null,null,null,null,null,null,null,null,null,null,null,null,null,null,null,null,null,null,null,null,null,null,null,null,null,null,null,null,null,null,null,null,null,null,null,null,null,null,null,null,null,null,null,null,null,null,null,null,null,null,null,null,null,null,null,null,null,null,null,null,null,null,null,null,null,null,null,null,null,null,null,null,null,null,null,null,null,null,null,null,null,null,null,null,null,null,null,null,null,null,null,null,null,null,null,null,null,null,null,null,null,null,null,null,null,null,null,null,null,null,null,null,null,null,null,null,null,null,null,null,null,null,null,null,null,null,null,null,null,null,null,null,null,null,null,null,null,null,null,null,null,null,null,null,null,null,null,null,null,null,null,null,null,null,null,null,null,null,null,null,null,null,null,null,null,null,null,null,null,null,null,null,null,null,null,null,null,null,null,null,null,null,null,null,null,null,null,null,null,null,null,null,null,null,null,null,null,null,null,null,null,null,null,null,null,null,null,null,null,null,null,null,null,null,null,null,null,null,null,null,null,null,null,null,null,null,null,null,null,null,null,null,null,null,null,null,null,null,null,null,null,null,null,null,null,null,null,null,null,null,null,null,null,null,null,null,null,null,null,null,null,null,null,null,null,null,null,null,null,null,null,null,null,null,null,null,null,null,null,null,null,null,null,null,null,null,null,null,null,null,null,null,null,null,null,null,null,null,null,null,null,null,null,null,null,null,null,null,null,null,null,null,null,null,null,null,null,null,null,null,null,null,null,null,null,null,null,null,null,null,null,null,null,null,null,null,null,null,null,null,null,null,null,null,null,null,null,null,null,null,null,null,null,null,null,null,null,null,null,null,null,null,null,null,null,null,null,null,null,null,null,null,null,null,null,null,null,null,null,null,null,null,null,null,null,null,null,null,null,null,null,null,null,null,null,null,null,null,null,null,null,null,null,null,null,null,null,null,null,null,null,null,null,null,null,null,null,null,null,null,null,null,null,null,null,null,null,null,null,null,null,null,null,null,null,null,null,null,null,null,null,null,null,null,null,null,null,null,null,null,null,null,null,null,null,null,null,null,null,null,null,null,null,null,null,null,null,null,null,null,null,null,null,null,null,null,null,null,null,null,null,null,null,null,null,null,null,null,null,null,null,null,null,null,null,null,null,null,null,null,null,null,null,null,null,null,null,null,null,null,null,null,null,null,null,null,null,null,null,null,null,null,null,null,null,null,null,null,null,null,null,null,null,null,null,null,null,null,null,null,null,null,null,null,null,null,null,null,null,null,null,null,null,null,null,null,null,null,null,null,null,null,null,null,null,null,null,null,null,null,null,null,null,null,null,null,null,null,null,null,null,null,null,null,null,null,null,null,null,null,null,null,null,null,null,null,null,null,null,null,null,null,null,null,null,null,null,null,null,null,null,null,null,null,null,null,null,null,null,null,null,null,null,null,null,null,null,null,null,null,null,null,null,null,null,null,null,null,null,null,null,null,null,null,null,null,null,null,null,null,null,null,null,null,null,null,null,null,null,null,null,null,null,null,null,null,null,null,null,null,null,null,null,null,null,null,null,null,null,null,null,null,null,null,null,null,null,null,null,null,null,null,null,null,null,null,null,null,null,null,null,null,null,null,null,null,null,null,null,null,null,null,null,null,null,null,null,null,null,null,null,null,null,null,null,null,null,null,null,null,null,null,null,null,null,null,null,null,null,null,null,null,null,null,null,null,null,null,null,null,null,null,null,null,null,null,null,null,null,null,null,null,null,null,null,null,null,null,null,null,null,null,null,null,null,null,null,null,null,null,null,null,null,null,null,null,null,null,null,null,null,null,null,null,null,null,null,null,null,null,null,null,null,null,null,null,null,null,null,null,null,null,null,null,null,null,null,null,null,null,null,null,null,null,null,null,null,null,null,null,null,null,null,null,null,null,null,null,null,null,null,null,null,null,null,null,null,null,null,null,null,null,null,null,null,null,null,null,null,null,null,null,null,null,null,null,null,null,null,null,null,null,null,null,null,null,null,null,null,null,null,null,null,null,null,null,null,null,null,null,null,null,null,null,null,null,null,null,null,null,null,null,null,null,null,null,null,null,null,null,null,null,null,null,null,null,null,null,null,null,null,null,null,null,null,null,null,null,null,null,null,null,null,null,null,null,null,null,null,null,null,null,null,null,null,null,null,null,null,null,null,null,null,null,null,null,null,null,null,null,null,null,null,null,null,null,null,null,null,null,null,null,null,null,null,null,null,null,null,null,null,null,null,null,null,null,null,null,null,null,null,null,null,null,null,null,null,null,null,null,null,null,null,null,null,null,null,null,null,null,null,null,null,null,null,null,null,null,null,null,null,null,null,null,null,null,null,null,null,null,null,null,null,null,null,null,null,null,null,null,null,null,null,null,null,null,null,null,null,null,null,null,null,null,null,null,null,null,null,null,null,null,null,null,null,null,null,null,null,null,null,null,null,null,null,null,null,null,null,null,null,null,null,null,null,null,null,null,null,null,null,null,null,null,null,null,null,null,null,null,null,null,null,null,null,null,null,null,null,null,null,null,null,null,null,null,null,null,null,null,null,null,null,null,null,null,null,null,null,null,null,null,null,null,null,null,null,null,null,null,null,null,null,null,null,null,null,null,null,null,null,null,null,null,null,null,null,null,null,null,null,null,null,null,null,null,null,null,null,null,null,null,null,null,null,null,null,null,null,null,null,null,null,null,null,null,null,null,null,null,null,null,null,null,null,null,null,null,null,null,null,null,null,null,null,null,null,null,null,null,null,null,null,null,null,null,null,null,null,null,null,null,null,null,null,null,null,null,null,null,null,null,null,null,null,null,null,null,null,null,null,null,null,null,null,null,null,null,null,null,null,null,null,null,null,null,null,null,null,null,null,null,null,null,null,null,null,null,null,null,null,null,null,null,null,null,null,null,null,null,null,null,null,null,null,null,null,null,null,null,null,null,null,null,null,null,null,null,null,null,null,null,null,null,null,null,null,null,null,null,null,null,null,null,null,null,null,null,null,null,null,null,null,null,null,null,null,null,null,null,null,null,null,null,null,null,null,null,null,null,null,null,null,null,null,null,null,null,null,null,null,null,null,null,null,null,null,null,null,null,null,null,null,null,null,null,null,null,null,null,null,null,null,null,null,null,null,null,null,null,null,null,null,null,null,null,null,null,null,null,null,null,null,null,null,null,null,null,null,null,null,null,null,null,null,null,null,null,null,null,null,null,null,null,null,null,null,null,null,null,null,null,null,null,null,null,null,null,null,null,null,null,null,null,null,null,null,null,null,null,null,null,null,null,null,null,null,null,null,null,null,null,null,null,null,null,null,null,null,null,null,null,null,null,null,null,null,null,null,null,null,null,null,null,null,null,null,null,null,null,null,null,null,null,null,null,null,null,null,null,null,null,null,null,null,null,null,null,null,null,null,null,null,null,null,null,null,null,null,null,null,null,null,null,null,null,null,null,null,null,null,null,null,null,null,null,null,null,null,null,null,null,null,null,null,null,null,null,null,null,null,null,null,null,null,null,null,null,null,null,null,null,null,null,null,null,null,null,null,null,null,null,null,null,null,null,null,null,null,null,null,null,null,null,null,null,null,null,null,null,null,null,null,null,null,null,null,null,null,null,null,null,null,null,null,null,null,null,null,null,null,null,null,null,null,null,null,null,null,null,null,null,null,null,null,null,null,null,null,null,null,null,null,null,null,null,null,null,null,null,null,null,null,null,null,null,null,null,null,null,null,null,null,null,null,null,null,null,null,null,null,null,null,null,null,null,null,null,null,null,null,null,null,null,null,null,null,null,null,null,null,null,null,null,null,null,null,null,null,null,null,null,null,null,null,null,null,null,null,null,null,null,null,null,null,null,null,null,null,null,null,null,null,null,null,null,null,null,null,null,null,null,null,null,null,null,null,null,null,null,null,null,null,null,null,null,null,null,null,null,null,null,null,null,null,null,null,null,null,null,null,null,null,null,null,null,null,null,null,null,null,null,null,null,null,null,null,null,null,null,null,null,null,null,null,null,null,null,null,null,null,null,null,null,null,null,null,null,null,null,null,null,null,null,null,null,null,null,null,null,null,null,null,null,null,null,null,null,null,null,null,null,null,null,null,null,null,null,null,null,null,null,null,null,null,null,null,null,null,null,null,null,null,null,null,null,null,null,null,null,null,null,null,null,null,null,null,null,null,null,null,null,null,null,null,null,null,null,null,null,null,null,null,null,null,null,null,null,null,null,null,null,null,null,null,null,null,null,null,null,null,null,null,null,null,null,null,null,null,null,null,null,null,null,null,null,null,null,null,null,null,null,null,null,null,null,null,null,null,null,null,null,null,null,null,null,null,null,null,null,null,null,null,null,null,null,null,null,null,null,null,null,null,null,null,null,null,null,null,null,null,null,null,null,null,null,null,null,null,null,null,null,null,null,null,null,null,null,null,null,null,null,null,null,null,null,null,null,null,null,null,null,null,null,null,null,null,null,null,null,null,null,null,null,null,null,null,null,null,null,null,null,null,null,null,null,null,null,null,null,null,null,null,null,null,null,null,null,null,null,null,null,null,null,null,null,null,null,null,null,null,null,null,null,null,null,null,null,null,null,null,null,null,null,null,null,null,null,null,null,null,null,null,null,null,null,null,null,null,null,null,null,null,null,null,null,null,null,null,null,null,null,null,null,null,null,null,null,null,null,null,null,null,null,null,null,null,null,null,null,null,null,null,null,null,null,null,null,null,null,null,null,null,null,null,null,null,null,null,null,null,null,null,null,null,null,null,null,null,null,null,null,null,null,null,null,null,null,null,null,null,null,null,null,null,null,null,null,null,null,null,null,null,null,null,null,null,null,null,null,null,null,null,null,null,null,null,null,null,null,null,null,null,null,null,null,null,null,null,null,null,null,null,null,null,null,null,null,null,null,null,null,null,null,null,null,null,null,null,null,null,null,null,null,null,null,null,null,null,null,null,null,null,null,null,null,null,null,null,null,null,null,null,null,null,null,null,null,null,null,null,null,null,null,null,null,null,null,null,null,null,null,null,null,null,null,null,null,null,null,null,null,null,null,null,null,null,null,null,null,null,null,null,null,null,null,null,null,null,null,null,null,null,null,null,null,null,null,null,null,null,null,null,null,null,null,null,null,null,null,null,null,null,null,null,null,null,null,null,null,null,null,null,null,null,null,null,null,null,null,null,null,null,null,null,null,null,null,null,null,null,null,null,null,null,null,null,null,null,null,null,null,null,null,null,null,null,null,null,null,null,null,null,null,null,null,null,null,null,null,null,null,null,null,null,null,null,null,null,null,null,null,null,null,null,null,null,null,null,null,null,null,null,null,null,null,null,null,null,null,null,null,null,null,null,null,null,null,null,null,null,null,null,null,null,null,null,null,null,null,null,null,null,null,null,null,null,null,null,null,null,null,null,null,null,null,null,null,null,null,null,null,null,null,null,null,null,null,null,null,null,null,null,null,null,null,null,null,null,null,null,null,null,null,null,null,null,null,null,null,null,null,null,null,null,null,null,null,null,null,null,null,null,null,null,null,null,null,null,null,null,null,null,null,null,null,null,null,null,null,null,null,null,null,null,null,null,null,null,null,null,null,null,null,null,null,null,null,null,null,null,null,null,null,null,null,null,null,null,null,null,null,null,null,null,null,null,null,null,null,null,null,null,null,null,null,null,null,null,null,null,null,null,null,null,null,null,null,null,null,null,null,null,null,null,null,null,null,null,null,null,null,null,null,null,null,null,null,null,null,null,null,null,null,null,null,null,null,null,null,null,null,null,null,null,null,null,null,null,null,null,null,null,null,null,null,null,null,null,null,null,null,null,null,null,null,null,null,null,null,null,null,null,null,null,null,null,null,null,null,null,null,null,null,null,null,null,null,null,null,null,null,null,null,null,null,null,null,null,null,null,null,null,null,null,null,null,null,null,null,null,null,null,null,null,null,null,null,null,null,null,null,null,null,null,null,null,null,null,null,null,null,null,null,null,null,null,null,null,null,null,null,null,null,null,null,null,null,null,null,null,null,null,null,null,null,null,null,null,null,null,null,null,null,null,null,null,null,null,null,null,null,null,null,null,null,null,null,null,null,null,null,null,null,null,null,null,null,null,null,null,null,null,null,null,null,null,null,null,null,null,null,null,null,null,null,null,null,null,null,null,null,null,null,null,null,null,null,null,null,null,null,null,null,null,null,null,null,null,null,null,null,null,null,null,null,null,null,null,null,null,null,null,null,null,null,null,null,null,null,null,null,null,null,null,null,null,null,null,null,null,null,null,null,null,null,null,null,null,null,null,null,null,null,null,null,null,null,null,null,null,null,null,null,null,null,null,null,null,null,null,null,null,null,null,null,null,null,null,null,null,null,null,null,null,null,null,null,null,null,null,null,null,null,null,null,null,null,null,null,null,null,null,null,null,null,null,null,null,null,null,null,null,null,null,null,null,null,null,null,null,null,null,null,null,null,null,null,null,null,null,null,null,null,null,null,null,null,null,null,null,null,null,null,null,null,null,null,null,null,null,null,null,null,null,null,null,null,null,null,null,null,null,null,null,null,null,null,null,null,null,null,null,null,null,null,null,null,null,null,null,null,null,null,null,null,null,null,null,null,null,null,null,null,null,null,null,null,null,null,null,null,null,null,null,null,null,null,null,null,null,null,null,null,null,null,null,null,null,null,null,null,null,null,null,null,null,null,null,null,null,null,null,null,null,null,null,null,null,null,null,null,null,null,null,null,null,null,null,null,null,null,null,null,null,null,null,null,null,null,null,null,null,null,null,null,null,null,null,null,null,null,null,null,null,null,null,null,null,null,null,null,null,null,null,null,null,null,null,null,null,null,null,null,null,null,null,null,null,null,null,null,null,null,null,null,null,null,null,null,null,null,null,null,null,null,null,null,null,null,null,null,null,null,null,null,null,null,null,null,null,null,null,null,null,null,null,null,null,null,null,null,null,null,null,null,null,null,null,null,null,null,null,null,null,null,null,null,null,null,null,null,null,null,null,null,null,null,null,null,null,null,null,null,null,null,null,null,null,null,null,null,null,null,null,null,null,null,null,null,null,null,null,null,null,null,null,null,null,null,null,null,null,null,null,null,null,null,null,null,null,null,null,null,null,null,null,null,null,null,null,null,null,null,null,null,null,null,null,null,null,null,null,null,null,null,null,null,null,null,null,null,null,null,null,null,null,null,null,null,null,null,null,null,null,null,null,null,null,null,null,null,null,null,null,null,null,null,null,null,null,null,null,null,null,null,null,null,null,null,null,null,null,null,null,null,null,null,null,null,null,null,null,null,null,null,null,null,null,null,null,null,null,null,null,null,null,null,null,null,null,null,null,null,null,null,null,null,null,null,null,null,null,null,null,null,null,null,null,null,null,null,null,null,null,null,null,null,null,null,null,null,null,null,null,null,null,null,null,null,null,null,null,null,null,null,null,null,null,null,null,null,null,null,null,null,null,null,null,null,null,null,null,null,null,null,null,null,null,null,null,null,null,null,null,null,null,null,null,null,null,null,null,null,null,null,null,null,null,null,null,null,null,null,null,null,null,null,null,null,null,null,null,null,null,null,null,null,null,null,null,null,null,null,null,null,null,null,null,null,null,null,null,null,null,null,null,null,null,null,null,null,null,null,null,null,null,null,null,null,null,null,null,null,null,null,null,null,null,null,null,null,null,null,null,null,null,null,null,null,null,null,null,null,null,null,null,null,null,null,null,null,null,null,null,null,null,null,null,null,null,null,null,null,null,null,null,null,null,null,null,null,null,null,null,null,null,null,null,null,null,null,null,null,null,null,null,null,null,null,null,null,null,null,null,null,null,null,null,null,null,null,null,null,null,null,null,null,null,null,null,null,null,null,null,null,null,null,null,null,null,null,null,null,null,null,null,null,null,null,null,null,null,null,null,null,null,null,null,null,null,null,null,null,null,null,null,null,null,null,null,null,null,null,null,null,null,null,null,null,null,null,null,null,null,null,null,null,null,null,null,null,null,null,null,null,null,null,null,null,null,null,null,null,null,null,null,null,null,null,null,null,null,null,null,null,null,null,null,null,null,null,null,null,null,null,null,null,null,null,null,null,null,null,null,null,null,null,null,null,null,null,null,null,null,null,null,null,null,null,null,null,null,null,null,null,null,null,null,null,null,null,null,null,null,null,null,null,null,null,null,null,null,null,null,null,null,null,null,null,null,null,null,null,null,null,null,null,null,null,null,null,null,null,null,null,null,null,null,null,null,null,null,null,null,null,null,null,null,null,null,null,null,null,null,null,null,null,null,null,null,null,null,null,null,null,null,null,null,null,null,null,null,null,null,null,null,null,null,null,null,null,null,null,null,null,null,null,null,null,null,null,null,null,null,null,null,null,null,null,null,null,null,null,null,null,null,null,null,null,null,null,null,null,null,null,null,null,null,null,null,null,null,null,null,null,null,null,null,null,null,null,null,null,null,null,null,null,null,null,null,null,null,null,null,null,null,null,null,null,null,null,null,null,null,null,null,null,null,null,null,null,null,null,null,null,null,null,null,null,null,null,null,null,null,null,null,null,null,null,null,null,null,null,null,null,null,null,null,null,null,null,null,null,null,null,null,null,null,null,null,null,null,null,null,null,null,null,null,null,null,null,null,null,null,null,null,null,null,null,null,null,null,null,null,null,null,null,null,null,null,null,null,null,null,null,null,null,null,null,null,null,null,null,null,null,null,null,null,null,null,null,null,null,null,null,null,null,null,null,null,null,null,null,null,null,null,null,null,null,null,null,null,null,null,null,null,null,null,null,null,null,null,null,null,null,null,null,null,null,null,null,null,null,null,null,null,null,null,null,null,null,null,null,null,null,null,null,null,null,null,null,null,null,null,null,null,null,null,null,null,null,null,null,null,null,null,null,null,null,null,null,null,null,null,null,null,null,null,null,null,null,null,null,null,null,null,null,null,null,null,null,null,null,null,null,null,null,null,null,null,null,null,null,null,null,null,null,null,null,null,null,null,null,null,null,null,null,null,null,null,null,null,null,null,null,null,null,null,null,null,null,null,null,null,null,null,null,null,null,null,null,null,null,null,null,null,null,null,null,null,null,null,null,null,null,null,null,null,null,null,null,null,null,null,null,null,null,null,null,null,null,null,null,null,null,null,null,null,null,null,null,null,null,null,null,null,null,null,null,null,null,null,null,null,null,null,null,null,null,null,null,null,null,null,null,null,null,null,null,null,null,null,null,null,null,null,null,null,null,null,null,null,null,null,null,null,null,null,null,null,null,null,null,null,null,null,null,null,null,null,null,null,null,null,null,null,null,null,null,null,null,null,null,null,null,null,null,null,null,null,null,null,null,null,null,null,null,null,null,null,null,null,null,null,null,null,null,null,null,null,null,null,null,null,null,null,null,null,null,null,null,null,null,null,null,null,null,null,null,null,null,null,null,null,null,null,null,null,null,null,null,null,null,null,null,null,null,null,null,null,null,null,null,null,null,null,null,null,null,null,null,null,null,null,null,null,null,null,null,null,null,null,null,null,null,null,null,null,null,null,null,null,null,null,null,null,null,null,null,null,null,null,null,null,null,null,null,null,null,null,null,null,null,null,null,null,null,null,null,null,null,null,null,null,null,null,null,null,null,null,null,null,null,null,null,null,null,null,null,null,null,null,null,null,null,null,null,null,null,null,null,null,null,null,null,null,null,null,null,null,null,null,null,null,null,null,null,null,null,null,null,null,null,null,null,null,null,null,null,null,null,null,null,null,null,null,null,null,null,null,null,null,null,null,null,null,null,null,null,null,null,null,null,null,null,null,null,null,null,null,null,null,null,null,null,null,null,null,null,null,null,null,null,null,null,null,null,null,null,null,null,null,null,null,null,null,null,null,null,null,null,null,null,null,null,null,null,null,null,null,null,null,null,null,null,null,null,null,null,null,null,null,null,null,null,null,null,null,null,null,null,null,null,null,null,null,null,null,null,null,null,null,null,null,null,null,null,null,null,null,null,null,null,null,null,null,null,null,null,null,null,null,null,null,null,null,null,null,null,null,null,null,null,null,null,null,null,null,null,null,null,null,null,null,null,null,null,null,null,null,null,null,null,null,null,null,null,null,null,null,null,null,null,null,null,null,null,null,null,null,null,null,null,null,null,null,null,null,null,null,null,null,null,null,null,null,null,null,null,null,null,null,null,null,null,null,null,null,null,null,null,null,null,null,null,null,null,null,null,null,null,null,null,null,null,null,null,null,null,null,null,null,null,null,null,null,null,null,null,null,null,null,null,null,null,null,null,null,null,null,null,null,null,null,null,null,null,null,null,null,null,null,null,null,null,null,null,null,null,null,null,null,null,null,null,null,null,null,null,null,null,null,null,null,null,null,null,null,null,null,null,null,null,null,null,null,null,null,null,null,null,null,null,null,null,null,null,null,null,null,null,null,null,null,null,null,null,null,null,null,null,null,null,null,null,null,null,null,null,null,null,null,null,null,null,null,null,null,null,null,null,null,null,null,null,null,null,null,null,null,null,null,null,null,null,null,null,null,null,null,null,null,null,null,null,null,null,null,null,null,null,null,null,null,null,null,null,null,null,null,null,null,null,null,null,null,null,null,null,null,null,null,null,null,null,null,null,null,null,null,null,null,null,null,null,null,null,null,null,null,null,null,null,null,null,null,null,null,null,null,null,null,null,null,null,null,null,null,null,null,null,null,null,null,null,null,null,null,null,null,null,null,null,null,null,null,null,null,null,null,null,null,null,null,null,null,null,null,null,null,null,null,null,null,null,null,null,null,null,null,null,null,null,null,null,null,null,null,null,null,null,null,null,null,null,null,null,null,null,null,null,null,null,null,null,null,null,null,null,null,null,null,null,null,null,null,null,null,null,null,null,null,null,null,null,null,null,null,null,null,null,null,null,null,null,null,null,null,null,null,null,null,null,null,null,null,null,null,null,null,null,null,null,null,null,null,null,null,null,null,null,null,null,null,null,null,null,null,null,null,null,null,null,null,null,null,null,null,null,null,null,null,null,null,null,null,null,null,null,null,null,null,null,null,null,null,null,null,null,null,null,null,null,null,null,null,null,null,null,null,null,null,null,null,null,null,null,null,null,null,null,null,null,null,null,null,null,null,null,null,null,null,null,null,null,null,null,null,null,null,null,null,null,null,null,null,null,null,null,null,null,null,null,null,null,null,null,null,null,null,null,null,null,null,null,null,null,null,null,null,null,null,null,null,null,null,null,null,null,null,null,null,null,null,null,null,null,null,null,null,null,null,null,null,null,null,null,null,null,null,null,null,null,null,null,null,null,null,null,null,null,null,null,null,null,null,null,null,null,null,null,null,null,null,null,null,null,null,null,null,null,null,null,null,null,null,null,null,null,null,null,null,null,null,null,null,null,null,null,null,null,null,null,null,null,null,null,null,null,null,null,null,null,null,null,null,null,null,null,null,null,null,null,null,null,null,null,null,null,null,null,null,null,null,null,null,null,null,null,null,null,null,null,null,null,null,null,null,null,null,null,null,null,null,null,null,null,null,null,null,null,null,null,null,null,null,null,null,null,null,null,null,null,null,null,null,null,null,null,null,null,null,null,null,null,null,null,null,null,null,null,null,null,null,null,null,null,null,null,null,null,null,null,null,null,null,null,null,null,null,null,null,null,null,null,null,null,null,null,null,null,null,null,null,null,null,null,null,null,null,null,null,null,null,null,null,null,null,null,null,null,null,null,null,null,null,null,null,null,null,null,null,null,null,null,null,null,null,null,null,null,null,null,null,null,null,null,null,null,null,null,null,null,null,null,null,null,null,null,null,null,null,null,null,null,null,null,null,null,null,null,null,null,null,null,null,null,null,null,null,null,null,null,null,null,null,null,null,null,null,null,null,null,null,null,null,null,null,null,null,null,null,null,null,null,null,null,null,null,null,null,null,null,null,null,null,null,null,null,null,null,null,null,null,null,null,null,null,null,null,null,null,null,null,null,null,null,null,null,null,null,null,null,null,null,null,null,null,null,null,null,null,null,null,null,null,null,null,null,null,null,null,null,null,null,null,null,null,null,null,null,null,null,null,null,null,null,null,null,null,null,null,null,null,null,null,null,null,null,null,null,null,null,null,null,null,null,null,null,null,null,null,null,null,null,null,null,null,null,null,null,null,null,null,null,null,null,null,null,null,null,null,null,null,null,null,null,null,null,null,null,null,null,null,null,null,null,null,null,null,null,null,null,null,null,null,null,null,null,null,null,null,null,null,null,null,null,null,null,null,null,null,null,null,null,null,null,null,null,null,null,null,null,null,null,null,null,null,null,null,null,null,null,null,null,null,null,null,null,null,null,null,null,null,null,null,null,null,null,null,null,null,null,null,null,null,null,null,null,null,null,null,null,null,null,null,null,null,null,null,null,null,null,null,null,null,null,null,null,null,null,null,null,null,null,null,null,null,null,null,null,null,null,null,null,null,null,null,null,null,null,null,null,null,null,null,null,null,null,null,null,null,null,null,null,null,null,null,null,null,null,null,null,null,null,null,null,null,null,null,null,null,null,null,null,null,null,null,null,null,null,null,null,null,null,null,null,null,null,null,null,null,null,null,null,null,null,null,null,null,null,null,null,null,null,null,null,null,null,null,null,null,null,null,null,null,null,null,null,null,null,null,null,null,null,null,null,null,null,null,null,null,null,null,null,null,null,null,null,null,null,null,null,null,null,null,null,null,null,null,null,null,null,null,null,null,null,null,null,null,null,null,null,null,null,null,null,null,null,null,null,null,null,null,null,null,null,null,null,null,null,null,null,null,null,null,null,null,null,null,null,null,null,null,null,null,null,null,null,null,null,null,null,null,null,null,null,null,null,null,null,null,null,null,null,null,null,null,null,null,null,null,null,null,null,null,null,null,null,null,null,null,null,null,null,null,null,null,null,null,null,null,null,null,null,null,null,null,null,null,null,null,null,null,null,null,null,null,null,null,null,null,null,null,null,null,null,null,null,null,null,null,null,null,null,null,null,null,null,null,null,null,null,null,null,null,null,null,null,null,null,null,null,null,null,null,null,null,null,null,null,null,null,null,null,null,null,null,null,null,null,null,null,null,null,null,null,null,null,null,null,null,null,null,null,null,null,null,null,null,null,null,null,null,null,null,null,null,null,null,null,null,null,null,null,null,null,null,null,null,null,null,null,null,null,null,null,null,null,null,null,null,null,null,null,null,null,null,null,null,null,null,null,null,null,null,null,null,null,null,null,null,null,null,null,null,null,null,null,null,1]
[null,null,null,null,null,null,null,null,null,"bis Zeile",14,null,null,null,null,null,null,null,null,null,null,null,18,"V Sek [m³/h]"]
[null,null,null,null,null,null,"aktuelle Einstellung des Auslegetools",null,null,{"$f":"VKL!A3","v":"Auslegetool: VKL-Deckengerät, 4L (3,2mm), mit Filter "}]
[null,1,null,2,null,null,null,12,null,13,null,null,null,16,17,null,null,20,null,null,null,null,null,{"$f":"IF(VKL!AF7=2,Plau_kuehlen!W1,Plau_kuehlen!W2)","v":18},6]
["Messung","Letzte Zeile Messung","Messung\n(Tabellenblatt)\nNAMEN EINFÜGEN !!!","Messpunkt\n(z.B. Spannung, Wassermenge, Vorlauftemepratur, …)","T Halle [°C]","rF Halle [%]","Hallendruck [Pa]","Wassermenge [kg/h]","dP Wasser [kPa]","T Wasser Vorlauf [°C]","T Wasser Rücklauf [°C]",null,"T Wasser Spreizung [K]","Q Sek [W]","q Sek [W/K]","V Sek [m³/h]","i [-]","T Ansaug mean [°C]","T Ausblas mean [°C]","T WT in [°C]","T WT out [°C]","dP Luft [Pa]","dP V_Prim [Pa]",{"$f":"IF(X4=W1,X1,X2)","v":"V Sek [m³/h]"},"Spannung [V]","Messstrecke","Wirkdruck","V Prim [m³/h]","T Ansaug 1","T Ansaug 2","T Ansaug 3","T Ausblas 1","T Ausblas 2","T Ausblas 3","T Primärluft","T frei","T Ansaug 1 Rot. [°C]","rF Ansaug 1 Rot. [%]","T Ansaug 2 Rot. [°C]","rF Ansaug 2 Rot. [%]","T Ausblas 1 Rot. [°C]","rF Ausblas 1 Rot. [%]","T Ausblas 2 Rot. [°C]","rF Ausblas 2 Rot. [%]","T Primärluft Rot. [°C]","rF Primärluft Rot. [%]","T Frei Rot. [°C]","rF Frei Rot. [%]","Beharrungszustand [min]","Beharrungszustand (1=T)",null,"ΔΘ\n(T_Ansaug_mean -\nT_W_Mittel) [K]","ΔΘ\n(T_Ansaugs_mean -\nT_W_Vorlauf) [K]","T_W_Mittel\n[°C]",null,"q_Sek_Mittel [W/K]","q_Sek_Vorlauf [W/K]",null,"Datum","Start Messwert","Ende Messwert",null,"Erste Zeile","Letzte Zeile",null,"Diagramm-Überschrift"]
[1,2,3,4,5,6,7,8,9,10,11,null,12,13,14,15,16,17,18,19,20,21,22,23,24,25,26,27,28,29,30,31,32,33,34,35,36,37,38,39,40,41,42,43,44,45,46,47,48,49,50,51,52,53,54,55,56,57,58,59,60,61,62,63,64,65,66,67,68,69,70,71,72,73,74,75,76,77,78,79,80,81,82,83,84,85,86,87,88,89,90,91,92,93,94,95,96,97,98,99,100,101,102,103,104,105,106,107,108,109,110,111,112,113,114,115,116,117,118,119,120,121,122,123,124,125,126,127,128,129,130,131,132,133,134,135,136,137,138,139,140,141,142]
["V90",{"$f":"VLOOKUP($A7,Matrix_Rohdaten,B$4,0)","v":"V90"},null,{"$f":"VLOOKUP($A7,Matrix_Rohdaten,D$4,0)","v":"VKL800; ISH Prototyp; mit Filter, mit 3-3,5cm Schalldämm."},null,null,null,{"$f":"VLOOKUP($A7,Matrix_Rohdaten,H$4,0)","v":119.88093600000001},null,{"$f":"VLOOKUP($A7,Matrix_Rohdaten,J$4,0)","v":55.153666666666659},null,null,null,{"$f":"(VLOOKUP($A7,Matrix_Rohdaten,N$4,0))","v":861.8487746666666},{"$f":"VLOOKUP($A7,Matrix_Rohdaten,O$4,0)","v":28.179728666666666},null,null,{"$f":"VLOOKUP($A7,Matrix_Rohdaten,R$4,0)","v":24.569666666666667},null,null,null,null,null,{"$f":"VLOOKUP($A7,Matrix_Rohdaten,X$4,0)","v":127.06816533333334},3.5]
["V89","V89",null,"VKL800; ISH Prototyp; mit Filter, mit 3-3,5cm Schalldämm.",null,null,null,119.99811333333334,null,55.201333333333338,null,null,null,1160.4499053333332,37.985166999999997,null,null,24.651222333333333,null,null,null,null,null,202.57796633333331,5.5999999999999988]
["V91","V91",null,"VKL800; ISH Prototyp; mit Filter, mit 3-3,5cm Schalldämm.",null,null,null,118.97463399999999,null,55.221333333333341,null,null,null,1387.9682919999998,46.449303000000008,null,null,25.339999666666667,null,null,null,null,null,301.98992166666665,8]
["V92","V92",null,"VKL800; ISH Prototyp; mit Filter, mit 3-3,5cm Schalldämm.",null,null,null,118.02393366666666,null,55.238333333333337,null,null,null,1439.1355493333333,48.520722000000006,null,null,25.578111000000003,null,null,null,null,null,333.39040599999998,10]
["V82","V82",null,"VKL800; ISH Prototyp; mit Filter, mit 3-3,5cm Schalldämm., mit 3D-Strömung",null,null,null,61.562867333333337,null,54.925333333333334,null,null,null,839.14837733333331,30.216217,null,null,27.153888666666671,null,null,null,null,null,183.61665200000002,5.5999999999999988]
["V83","V83",null,"VKL800; ISH Prototyp; mit Filter, mit 3-3,5cm Schalldämm., mit 3D-Strömung",null,null,null,116.66373833333334,null,55.30866666666666,null,null,null,1029.6328569999998,36.893515666666666,null,null,27.400444666666669,null,null,null,null,null,188.56985933333331,5.5999999999999988]
["V84","V84",null,"VKL800; ISH Prototyp; mit Filter, mit 3-3,5cm Schalldämm., mit 3D-Strömung",null,null,null,192.12808200000003,null,55.515333333333331,null,null,null,1120.1691630000003,40.029868999999998,null,null,27.532,null,null,null,null,null,188.11942033333335,5.5999999999999988]
["V85","V85",null,"VKL800; ISH Prototyp; mit Filter, mit 3-3,5cm Schalldämm., mit 3D-Strömung",null,null,null,231.00826900000001,null,55.568666666666672,null,null,null,1139.6910006666667,40.703091000000001,null,null,27.568555333333336,null,null,null,null,null,186.58214166666664,5.5999999999999988]
[null,{"$error":"#N/A"},null,{"$error":"#N/A"},null,null,null,{"$error":"#N/A"},null,{"$error":"#N/A"},null,null,null,{"$error":"#N/A"},{"$error":"#N/A"},null,null,{"$error":"#N/A"},null,null,null,null,null,{"$error":"#N/A"},{"$error":"#N/A"}]
[null,{"$error":"#N/A"},null,{"$error":"#N/A"},null,null,null,{"$error":"#N/A"},null,{"$error":"#N/A"},null,null,null,{"$error":"#N/A"},{"$error":"#N/A"},null,null,{"$error":"#N/A"},null,null,null,null,null,{"$error":"#N/A"},{"$error":"#N/A"}]
[null,{"$error":"#N/A"},null,{"$error":"#N/A"},null,null,null,{"$error":"#N/A"},null,{"$error":"#N/A"},null,null,null,{"$error":"#N/A"},{"$error":"#N/A"},null,null,{"$error":"#N/A"},null,null,null,null,null,{"$error":"#N/A"},{"$error":"#N/A"}]
[null,{"$error":"#N/A"},null,{"$error":"#N/A"},null,null,null,{"$error":"#N/A"},null,{"$error":"#N/A"},null,null,null,{"$error":"#N/A"},{"$error":"#N/A"},null,null,{"$error":"#N/A"},null,null,null,null,null,{"$error":"#N/A"},{"$error":"#N/A"}]
[null,{"$error":"#N/A"},null,{"$error":"#N/A"},null,null,null,{"$error":"#N/A"},null,{"$error":"#N/A"},null,null,null,{"$error":"#N/A"},{"$error":"#N/A"},null,null,{"$error":"#N/A"},null,null,null,null,null,{"$error":"#N/A"},{"$error":"#N/A"}]
[null,{"$error":"#N/A"},null,{"$error":"#N/A"},null,null,null,{"$error":"#N/A"},null,{"$error":"#N/A"},null,null,null,{"$error":"#N/A"},{"$error":"#N/A"},null,null,{"$error":"#N/A"},null,null,null,null,null,{"$error":"#N/A"},{"$error":"#N/A"}]
[null,{"$error":"#N/A"},null,{"$error":"#N/A"},null,null,null,{"$error":"#N/A"},null,{"$error":"#N/A"},null,null,null,{"$error":"#N/A"},{"$error":"#N/A"},null,null,{"$error":"#N/A"},null,null,null,null,null,{"$error":"#N/A"},{"$error":"#N/A"}]
[null,{"$error":"#N/A"},null,{"$error":"#N/A"},null,null,null,{"$error":"#N/A"},null,{"$error":"#N/A"},null,null,null,{"$error":"#N/A"},{"$error":"#N/A"},null,null,{"$error":"#N/A"},null,null,null,null,null,{"$error":"#N/A"},{"$error":"#N/A"}]
[null,{"$error":"#N/A"},null,{"$error":"#N/A"},null,null,null,{"$error":"#N/A"},null,{"$error":"#N/A"},null,null,null,{"$error":"#N/A"},{"$error":"#N/A"},null,null,{"$error":"#N/A"},null,null,null,null,null,{"$error":"#N/A"},{"$error":"#N/A"}]
[null,{"$error":"#N/A"},null,{"$error":"#N/A"},null,null,null,{"$error":"#N/A"},null,{"$error":"#N/A"},null,null,null,{"$error":"#N/A"},{"$error":"#N/A"},null,null,{"$error":"#N/A"},null,null,null,null,null,{"$f":"VLOOKUP($A24,Matrix_Rohdaten,X$4,0)","v":{"$error":"#N/A"}},{"$error":"#N/A"}]
[null,{"$error":"#N/A"},null,{"$error":"#N/A"},null,null,null,{"$error":"#N/A"},null,{"$error":"#N/A"},null,null,null,{"$error":"#N/A"},{"$error":"#N/A"},null,null,{"$error":"#N/A"},null,null,null,null,null,{"$error":"#N/A"},{"$error":"#N/A"}]
[null,{"$error":"#N/A"},null,{"$error":"#N/A"},null,null,null,{"$error":"#N/A"},null,{"$error":"#N/A"},null,null,null,{"$error":"#N/A"},{"$error":"#N/A"},null,null,{"$error":"#N/A"},null,null,null,null,null,{"$error":"#N/A"},{"$error":"#N/A"}]
[]
[]
[]
[null,null,"Gültig für gemessene Baugröße 800"]
[]
[]
[null,null,null,{"$f":"CONCATENATE(X5,\" als Parameter vorgegeben\")","v":"V Sek [m³/h] als Parameter vorgegeben"}]
["MIT DOPPELKILICK die richtige Kombination AUSWÄHLEN",null,null,null,null,null,null,null,null,null,null,"Messwerte",null,"Auslegungstool",null,null,null,null,null,null,null,null,null,null,null,null,null,null,"Für das Makro \"Starten der Plausibilität\" notwendig"]
["Parametereinsttelung",null,"Zeile",null,null,"Wassermenge [kg/h]","T Wasser Vorlauf [°C]","T Ansaug mean [°C]",{"$f":"X5","v":"V Sek [m³/h]"},"Abweichung \nAuslegetool",null,"Q Sek [W]","q Sek [W/K]","Q Sek [W]","q Sek [W/K]"]
["Filter","3D-Strömung",null,null,null,8,10,17,23,null,null,null,null,null,null,null,null,null,null,null,null,null,null,null,null,null,null,null,"Filter","3D-Strömung"]
["x",null,{"$f":"ROW(A7)","v":7},{"$f":"D7","v":"VKL800; ISH Prototyp; mit Filter, mit 3-3,5cm Schalldämm."},"V90",119.88093600000001,55.153666666666659,24.569666666666667,504,{"$f":"1/M37*O37-1","v":5.6033231230534497E-4},null,861.8487746666666,28.179728666666666,862.33174328436496,28.195518679190595,"Auslegetool: VKL, 4L, mit Filter ",null,null,null,null,null,null,null,null,null,null,null,null,{"$f":"IF(A37=\"x\",TRUE,FALSE)","v":true},{"$f":"IF(B37=\"x\",TRUE,FALSE)","v":false}]
["x",null,{"$f":"ROW(A8)","v":8},{"$f":"D8","v":"VKL800; ISH Prototyp; mit Filter, mit 3-3,5cm Schalldämm."},"V89",119.99811333333334,55.201333333333338,24.651222333333333,749,{"$f":"1/M38*O38-1","v":2.2508493297450638E-3},null,1160.4499053333332,37.985166999999997,1163.0630687126049,38.070665887682203,"Auslegetool: VKL, 4L, mit Filter ",null,null,null,null,null,null,null,null,null,null,null,null,{"$f":"IF(A38=\"x\",TRUE,FALSE)","v":true},false]
["x",null,9,"VKL800; ISH Prototyp; mit Filter, mit 3-3,5cm Schalldämm.","V91",118.97463399999999,55.221333333333341,25.339999666666667,1050,-1.5212776910766834E-3,null,1387.9682919999998,46.449303000000008,1385.8556381091744,46.378640711580047,"Auslegetool: VKL, 4L, mit Filter ",null,null,null,null,null,null,null,null,null,null,null,null,true,false]
["x",null,10,"VKL800; ISH Prototyp; mit Filter, mit 3-3,5cm Schalldämm.","V92",118.02393366666666,55.238333333333337,25.578111000000003,1144,-1.5506678575608612E-3,null,1439.1355493333333,48.520722000000006,1436.9037812828431,48.445482475968959,"Auslegetool: VKL, 4L, mit Filter ",null,null,null,null,null,null,null,null,null,null,null,null,true,false]
["x","x",11,"VKL800; ISH Prototyp; mit Filter, mit 3-3,5cm Schalldämm., mit 3D-Strömung","V82",61.562867333333337,54.925333333333334,27.153888666666671,760,-6.519923739324085E-3,null,839.14837733333331,30.216217,833.67681749558233,30.01920956946913,"Auslegetool: VKL, 4L, mit Filter mit 3D-Strömung",null,null,null,null,null,null,null,null,null,null,null,null,true,true]
["x","x",12,"VKL800; ISH Prototyp; mit Filter, mit 3-3,5cm Schalldämm., mit 3D-Strömung","V83",116.66373833333334,55.30866666666666,27.400444666666669,760,-6.519923739324307E-3,null,1029.6328569999998,36.893515666666666,1022.9193006914561,36.652972758044434,"Auslegetool: VKL, 4L, mit Filter mit 3D-Strömung",null,null,null,null,null,null,null,null,null,null,null,null,true,true]
["x","x",13,"VKL800; ISH Prototyp; mit Filter, mit 3-3,5cm Schalldämm., mit 3D-Strömung","V84",192.12808200000003,55.515333333333331,27.532,760,-6.5199237393236409E-3,null,1120.1691630000003,40.029868999999998,1112.8657499693163,39.768877306824884,"Auslegetool: VKL, 4L, mit Filter mit 3D-Strömung",null,null,null,null,null,null,null,null,null,null,null,null,true,true]
["x","x",14,"VKL800; ISH Prototyp; mit Filter, mit 3-3,5cm Schalldämm., mit 3D-Strömung","V85",231.00826900000001,55.568666666666672,27.568555333333336,760,-6.5199237393238629E-3,null,1139.6910006666667,40.703091000000001,1132.2603806853481,40.437709950725242,"Auslegetool: VKL, 4L, mit Filter mit 3D-Strömung",null,null,null,null,null,null,null,null,null,null,null,null,true,true]
[null,null,15,{"$error":"#N/A"},null,null,null,null,null,{"$error":"#DIV/0!"},null,null,null,null,null,null,null,null,null,null,null,null,null,null,null,null,null,null,false,false]
[null,null,16,{"$error":"#N/A"},null,null,null,null,null,{"$error":"#DIV/0!"},null,null,null,null,null,null,null,null,null,null,null,null,null,null,null,null,null,null,false,false]
[null,null,17,{"$error":"#N/A"},null,null,null,null,null,{"$error":"#DIV/0!"},null,null,null,null,null,null,null,null,null,null,null,null,null,null,null,null,null,null,false,false]
[null,null,18,{"$error":"#N/A"},null,null,null,null,null,{"$error":"#DIV/0!"},null,null,null,null,null,null,null,null,null,null,null,null,null,null,null,null,null,null,false,false]
[null,null,19,{"$error":"#N/A"},null,null,null,null,null,{"$error":"#DIV/0!"},null,null,null,null,null,null,null,null,null,null,null,null,null,null,null,null,null,null,false,false]
[null,null,20,{"$error":"#N/A"},null,null,null,null,null,{"$error":"#DIV/0!"},null,null,null,null,null,null,null,null,null,null,null,null,null,null,null,null,null,null,false,false]
[null,null,21,{"$error":"#N/A"},null,null,null,null,null,{"$error":"#DIV/0!"},null,null,null,null,null,null,null,null,null,null,null,null,null,null,null,null,null,null,false,false]
[null,null,22,{"$error":"#N/A"},null,null,null,null,null,{"$error":"#DIV/0!"},null,null,null,null,null,null,null,null,null,null,null,null,null,null,null,null,null,null,false,false]
[null,null,{"$f":"ROW(A23)","v":23},{"$error":"#N/A"},null,null,null,null,null,{"$error":"#DIV/0!"}]
[null,null,24,{"$error":"#N/A"},null,null,null,null,null,{"$error":"#DIV/0!"}]
[null,null,25,{"$error":"#N/A"},null,null,null,null,null,{"$error":"#DIV/0!"}]
[null,null,26,{"$error":"#N/A"},null,null,null,null,null,{"$error":"#DIV/0!"}]
[]
[]
["Plausibilitätstabelle manuell kopiert"]
[]
[null,null,"Plausibilitätsbetrachtung des Auslegetools, Vergleich zwischen gemessener und ausgelegter Leistung bei gleichen Randbedingungen"]
[null,null,"VKL800; 4L; Wandgerät; 3,2mm; Nullseriengerät; heizen"]
[null,null,"Bearbeiter: ","TT"]
[null,null,"Datum:","2018-08-09"]
[]
[null,null,null,"Drehzahl [1/min] als Parameter vorgegeben"]
[]
[null,null,null,null,null,"Messwerte bzw. eingestellte Parameter Auslegetool",null,null,null,null,null,"gemessene Leistung",null,"Auslegungstool"]
[null,null,"Zeile",null,null,"Wassermenge [kg/h]","T Wasser Vorlauf [°C]","T Ansaug mean [°C]","Drehzahl [1/min]","Abweichung \nAuslegetool",null,"Q Sek [W]","q Sek [W/K]","Q Sek [W]","q Sek [W/K]"]
[null,null,null,null,null,8,10,17,23]
[null,null,7,"VKL800; ISH Prototyp; mit Filter, mit 3-3,5cm Schalldämm.","V90",119.88093600000001,55.153666666666659,24.569666666666667,504,5.6033231230534497E-4,null,861.8487746666666,28.179728666666666,862.33174328436496,28.195518679190595,"Auslegetool: VKL, 4L, mit Filter "]
[null,null,8,"VKL800; ISH Prototyp; mit Filter, mit 3-3,5cm Schalldämm.","V89",119.99811333333334,55.201333333333338,24.651222333333333,749,2.2508493297450638E-3,null,1160.4499053333332,37.985166999999997,1163.0630687126049,38.070665887682203,"Auslegetool: VKL, 4L, mit Filter "]
[null,null,9,"VKL800; ISH Prototyp; mit Filter, mit 3-3,5cm Schalldämm.","V91",118.97463399999999,55.221333333333341,25.339999666666667,1050,-1.5212776910766834E-3,null,1387.9682919999998,46.449303000000008,1385.8556381091744,46.378640711580047,"Auslegetool: VKL, 4L, mit Filter "]
[null,null,10,"VKL800; ISH Prototyp; mit Filter, mit 3-3,5cm Schalldämm.","V92",118.02393366666666,55.238333333333337,25.578111000000003,1144,-1.5506678575608612E-3,null,1439.1355493333333,48.520722000000006,1436.9037812828431,48.445482475968959,"Auslegetool: VKL, 4L, mit Filter "]
[null,null,11,"VKL800; ISH Prototyp; mit Filter, mit 3-3,5cm Schalldämm., mit 3D-Strömung","V82",61.562867333333337,54.925333333333334,27.153888666666671,760,-6.519923739324085E-3,null,839.14837733333331,30.216217,833.67681749558233,30.01920956946913,"Auslegetool: VKL, 4L, mit Filter mit 3D-Strömung"]
[null,null,12,"VKL800; ISH Prototyp; mit Filter, mit 3-3,5cm Schalldämm., mit 3D-Strömung","V83",116.66373833333334,55.30866666666666,27.400444666666669,760,-6.519923739324307E-3,null,1029.6328569999998,36.893515666666666,1022.9193006914561,36.652972758044434,"Auslegetool: VKL, 4L, mit Filter mit 3D-Strömung"]
[null,null,13,"VKL800; ISH Prototyp; mit Filter, mit 3-3,5cm Schalldämm., mit 3D-Strömung","V84",192.12808200000003,55.515333333333331,27.532,760,-6.5199237393236409E-3,null,1120.1691630000003,40.029868999999998,1112.8657499693163,39.768877306824884,"Auslegetool: VKL, 4L, mit Filter mit 3D-Strömung"]
[null,null,14,"VKL800; ISH Prototyp; mit Filter, mit 3-3,5cm Schalldämm., mit 3D-Strömung","V85",231.00826900000001,55.568666666666672,27.568555333333336,760,-6.5199237393238629E-3,null,1139.6910006666667,40.703091000000001,1132.2603806853481,40.437709950725242,"Auslegetool: VKL, 4L, mit Filter mit 3D-Strömung"]
[]
[]
[]
[]
[]
[]
[]
[]
[]
[]
[]
[]
[]
[]
[]
[null,null,null,"Volumenstrom als Parameter vorgegeben"]
[]
[null,null,null,null,null,"Messwerte bzw. eingestellte Parameter Auslegetool",null,null,null,null,null,"gemessene Leistung",null,"Auslegungstool"]
[null,null,"Zeile",null,null,"Wassermenge [kg/h]","T Wasser Vorlauf [°C]","T Ansaug mean [°C]","V Sek [m³/h]","Abweichung \nAuslegetool",null,"Q Sek [W]","q Sek [W/K]","Q Sek [W]","q Sek [W/K]"]
[null,null,null,null,null,8,10,17,23]
[null,null,7,"VKL800; ISH Prototyp; mit Filter, mit 3-3,5cm Schalldämm.","V90",119.88093600000001,55.153666666666659,24.569666666666667,127.06816533333334,8.4841732722584773E-4,null,861.8487746666666,28.179728666666666,862.58002901497809,28.203636836743993,"Auslegetool: VKL, 4L, mit Filter "]
[null,null,8,"VKL800; ISH Prototyp; mit Filter, mit 3-3,5cm Schalldämm.","V89",119.99811333333334,55.201333333333338,24.651222333333333,202.57796633333331,2.1648087764729596E-3,null,1160.4499053333332,37.985166999999997,1162.9632228606515,38.067397622897388,"Auslegetool: VKL, 4L, mit Filter "]
[null,null,9,"VKL800; ISH Prototyp; mit Filter, mit 3-3,5cm Schalldämm.","V91",118.97463399999999,55.221333333333341,25.339999666666667,301.98992166666665,-1.0942096362135389E-3,null,1387.9682919999998,46.449303000000008,1386.4483945279792,46.398477725062008,"Auslegetool: VKL, 4L, mit Filter "]
[null,null,10,"VKL800; ISH Prototyp; mit Filter, mit 3-3,5cm Schalldämm.","V92",118.02393366666666,55.238333333333337,25.578111000000003,333.39040599999998,-2.0908679526191465E-3,null,1439.1355493333333,48.520722000000006,1436.1263602017223,48.41927157733226,"Auslegetool: VKL, 4L, mit Filter "]
[null,null,11,"VKL800; ISH Prototyp; mit Filter, mit 3-3,5cm Schalldämm., mit 3D-Strömung","V82",61.562867333333337,54.925333333333334,27.153888666666671,183.61665200000002,-3.2122693320537965E-2,null,839.14837733333331,30.216217,812.19230464669192,29.245590728002171,"Auslegetool: VKL, 4L, mit Filter mit 3D-Strömung"]
[null,null,12,"VKL800; ISH Prototyp; mit Filter, mit 3-3,5cm Schalldämm., mit 3D-Strömung","V83",116.66373833333334,55.30866666666666,27.400444666666669,188.56985933333331,-1.6694395002740281E-2,null,1029.6328569999998,36.893515666666666,1012.4433351654519,36.277600743087547,"Auslegetool: VKL, 4L, mit Filter mit 3D-Strömung"]
[null,null,13,"VKL800; ISH Prototyp; mit Filter, mit 3-3,5cm Schalldämm., mit 3D-Strömung","V84",192.12808200000003,55.515333333333331,27.532,188.11942033333335,-1.8080688136705159E-2,null,1120.1691630000003,40.029868999999998,1099.915738138445,39.306101422457836,"Auslegetool: VKL, 4L, mit Filter mit 3D-Strömung"]
[null,null,14,"VKL800; ISH Prototyp; mit Filter, mit 3-3,5cm Schalldämm., mit 3D-Strömung","V85",231.00826900000001,55.568666666666672,27.568555333333336,186.58214166666664,-2.2836957043148587E-2,null,1139.6910006666667,40.703091000000001,1113.6640033832668,39.773556259309636,"Auslegetool: VKL, 4L, mit Filter mit 3D-Strömung"]

{"sheet":"Master-Auslegung_V52-V67","index":4,"n_rows":169,"n_cols":52,"rows_kept":169,"cut":false,"hidden":true,"merged":[]}
[null,"VKL800","ISH-Prototyp","4L","3 - 3,5 cm Schalldämmung","mit Filter","2. Variable","Drehzahl [1/min]","Drehzahl","1/min",{"$f":"CONCATENATE(B1,\"; \", C1, \"; \", D1, \"; \", F1)","v":"VKL800; ISH-Prototyp; 4L; mit Filter"},null,null,null,null,null,null,null,null,null,null,null,null,null,null,null,null,"Bemerkung:",null,null,null,null,null,null,null,null,null,null,null,null,null,null,null,null,null,null,null,null,null,null,1,"kühlen"]
[null,"kühlen",null,null,null,null,null,null,null,null,null,null,null,null,null,null,null,null,null,null,null,null,null,null,null,null,null,"mit 3D Strömung",null,null,null,null,null,"Auslegung bei gleichem Volumenstrom",null,null,null,null,null,"Auslegung bei gleicher Drehzahl",null,null,null,null,null,null,null,null,null,null,2,"heizen"]
[null,"w_soll für Auslegung 1 und 2",{"$f":"VKL!I13","v":200},"kg/h",null,null,null,null,null,null,null,null,null,"Messung","Messung - Kontrolle","Drehzahl","q Sek ","Wasser-Massenstrom [kg/h]",{"$f":"H7","v":"Sekundärvolumenstrom - Kalorik [m³/h]"},"Abweichung zu Auslegung 1","Vergleichstext 1","Abweichung zu Auslegung 2","Vergleichstext 2","Druckverlust Kasten [Pa]","Bemerkung","Bemerkung",null,"Messung","Messung - Kontrolle","Drehzahl","q Sek ","Wasser-Massenstrom [kg/h]",{"$f":"$H$7","v":"Sekundärvolumenstrom - Kalorik [m³/h]"},{"$f":"$H$7","v":"Sekundärvolumenstrom - Kalorik [m³/h]"},{"$f":"AD3","v":"Drehzahl"},{"$f":"CONCATENATE(\"Abweichung \", AI3)","v":"Abweichung Drehzahl"},"q_1 (Volumenstrom)","Abweichung q zu Auslegung 1","Vergleichstext 1",{"$f":"AD3","v":"Drehzahl"},{"$f":"AG3","v":"Sekundärvolumenstrom - Kalorik [m³/h]"},{"$f":"CONCATENATE(\"Abweichung \", AO3)","v":"Abweichung Sekundärvolumenstrom - Kalorik [m³/h]"},"q_2 (Drehzahl)","Abweichung q zu Auslegung 2","Vergleichstext 2","Druckverlust Kasten [Pa]","Bemerkung","Bemerkung",null,null,"Abfrage",{"$f":"IF(B2=\"heizen\",2,1)","v":1}]
[null,"Nennwassermenge",200,"kg/h",null,null,null,null,null,null,null,null,null,null,null,"[1/min]","[W/K]",null,null,null,null,null,null,null,null,"[-]",null,null,null,"[1/min]","[W/K]",null,"[m³/h]",{"$f":"AG4","v":"[m³/h]"},{"$f":"AD4","v":"[1/min]"},null,null,null,null,"[1/min]",{"$f":"AG4","v":"[m³/h]"},null,null,null,null,null,null,"[-]"]
[null,null,null,null,null,null,null,null,null,null,null,null,null,"V72",{"$f":"VLOOKUP($N5,Matrix_Rohdaten,1,0)","v":"V72"},{"$f":"VLOOKUP($N5,Matrix_Rohdaten,4,0)","v":1039},{"$f":"VLOOKUP($N5,Matrix_Rohdaten,17,0)","v":60.463885666666663},{"$f":"VLOOKUP($N5,Matrix_Rohdaten,12,0)","v":201.13361333333333},{"$f":"VLOOKUP($N5,Matrix_Rohdaten,18,0)","v":287.06149800000003},{"$f":"Q5/$D$9-1","v":-6.4688846335466121E-2},{"$f":"IF(T5>0,CONCATENATE(\"+\", ROUND(AVERAGE(T5)*100,0), \" % Kühlleistung \", \" im Vergleich zur Auslegung 1\"), CONCATENATE(ROUND(AVERAGE(T5)*100,0), \" % Kühlleistung \", \" im Vergleich zur Auslegung 1\"))","v":"-6 % Kühlleistung  im Vergleich zur Auslegung 1"},{"$f":"Q5/$I$9-1","v":-0.11128927734418814},{"$f":"IF(V5>0,CONCATENATE(\"+\", ROUND(AVERAGE(V5)*100,0), \" % Kühlleistung \", \" im Vergleich zur Auslegung 2\"), CONCATENATE(ROUND(AVERAGE(V5)*100,0), \" % Kühlleistung \", \" im Vergleich zur Auslegung 2\"))","v":"-11 % Kühlleistung  im Vergleich zur Auslegung 2"},{"$f":"VLOOKUP($N5,Matrix_Rohdaten,5,0)","v":12},{"$f":"VLOOKUP($N5,Matrix_Rohdaten,2,0)","v":"VKL800; ISH Prototyp; mit Filter, 2MR,  mit 3-3,5cm Schalldämm., mit 3D-Strömung"},{"$f":"CONCATENATE(O5, \": \",Y5, \"; q Sek bei wok \",ROUND(R5,0), \" kg/h; \",ROUND(P5,0), \" 1/min; \", ROUND(S5,0), \" m³/h\")","v":"V72: VKL800; ISH Prototyp; mit Filter, 2MR,  mit 3-3,5cm Schalldämm., mit 3D-Strömung; q Sek bei wok 201 kg/h; 1039 1/min; 287 m³/h"},null,"V71",{"$f":"VLOOKUP($AB5,Matrix_Rohdaten,1,0)","v":"V71"},{"$f":"VLOOKUP($AB5,Matrix_Rohdaten,4,0)","v":489},{"$f":"VLOOKUP($AB5,Matrix_Rohdaten,17,0)","v":32.012887666666664},{"$f":"VLOOKUP($AB5,Matrix_Rohdaten,12,0)","v":201.02654933333335},{"$f":"VLOOKUP($AB5,Matrix_Rohdaten,18,0)","v":124.165886},{"$f":"AG5","v":124.165886},468.30730117177114,{"$f":"1/AD5*AI5-1","v":-4.2316357521940295E-2},31.937514380278337,{"$f":"AE5/AK5-1","v":2.3600235600949038E-3},{"$f":"IF(AL5>0,CONCATENATE(\"+\", ROUND(AVERAGE(AL5)*100,0), \" % Kühlleistung \", \" im Vergleich zur Auslegung 1\"), CONCATENATE(ROUND(AVERAGE(AL5)*100,0), \" % Kühlleistung \", \" im Vergleich zur Auslegung 1\"))","v":"+0 % Kühlleistung  im Vergleich zur Auslegung 1"},489,130.65969544457033,{"$f":"1/AG5*AO5-1","v":5.2299465286063551E-2},33.402934922582375,{"$f":"AE5/AQ5-1","v":-4.161452456610204E-2},{"$f":"IF(AR5>0,CONCATENATE(\"+\", ROUND(AVERAGE(AR5)*100,0), \" % Kühlleistung \", \" im Vergleich zur Auslegung 2\"), CONCATENATE(ROUND(AVERAGE(AR5)*100,0), \" % Kühlleistung \", \" im Vergleich zur Auslegung 2\"))","v":"-4 % Kühlleistung  im Vergleich zur Auslegung 2"},{"$f":"VLOOKUP($AB5,Matrix_Rohdaten,5,0)","v":1.8999999999999997},{"$f":"VLOOKUP($AB5,Matrix_Rohdaten,2,0)","v":"VKL800; ISH Prototyp; mit Filter, 2MR,  mit 3-3,5cm Schalldämm., mit 3D-Strömung"},{"$f":"CONCATENATE(AC5, \": \",AU5, \"; q Sek bei wok \",ROUND(AF5,0), \" kg/h; \",ROUND(AD5,0), \" 1/min; \", ROUND(AG5,0), \" m³/h\")","v":"V71: VKL800; ISH Prototyp; mit Filter, 2MR,  mit 3-3,5cm Schalldämm., mit 3D-Strömung; q Sek bei wok 201 kg/h; 489 1/min; 124 m³/h"}]
[null,"Auslegung 1 - Volumenstrom einstellbar",null,{"$f":"CONCATENATE(\"Auslegung 2; \", 'Master-Auswertung_V52-V67'!$F$1, \" \", ROUND($C$3,0), \" kg/h ;\",ROUND(B9,0), \" \", B8)","v":"Auslegung 2; ISH-Prototyp 200 kg/h ;325 m³/h"},null,null,{"$f":"CONCATENATE(\"Auslegung 2 - \", 'Master-Auslegung_V52-V67'!C7,\" einstellbar\")","v":"Auslegung 2 - Drehzahl einstellbar"},null,{"$f":"CONCATENATE(\"Auslegung 2; \", 'Master-Auswertung_V52-V67'!$F$1, \" \", ROUND($C$3,0), \" kg/h ;\", G9, \" \", G8)","v":"Auslegung 2; ISH-Prototyp 200 kg/h ;1146 1/min"},null,null,null,null,null,null,null,null,null,null,null,null,null,null,null,null,null,null,"V70",{"$f":"VLOOKUP($AB6,Matrix_Rohdaten,1,0)","v":"V70"},{"$f":"VLOOKUP($AB6,Matrix_Rohdaten,4,0)","v":734},{"$f":"VLOOKUP($AB6,Matrix_Rohdaten,17,0)","v":47.231174333333335},{"$f":"VLOOKUP($AB6,Matrix_Rohdaten,12,0)","v":205.22754133333333},{"$f":"VLOOKUP($AB6,Matrix_Rohdaten,18,0)","v":199.29921066666665},{"$f":"AG6","v":199.29921066666665},699.640629849638,{"$f":"1/AD6*AI6-1","v":-4.6811130995043637E-2},46.716587520640374,{"$f":"AE6/AK6-1","v":1.1015077085106073E-2},{"$f":"IF(AL6>0,CONCATENATE(\"+\", ROUND(AVERAGE(AL6)*100,0), \" % Kühlleistung \", \" im Vergleich zur Auslegung 1\"), CONCATENATE(ROUND(AVERAGE(AL6)*100,0), \" % Kühlleistung \", \" im Vergleich zur Auslegung 1\"))","v":"+1 % Kühlleistung  im Vergleich zur Auslegung 1"},734,210.88654988634488,{"$f":"1/AG6*AO6-1","v":5.8140417018802903E-2},48.60018764250416,{"$f":"AE6/AQ6-1","v":-2.8168889372219841E-2},{"$f":"IF(AR6>0,CONCATENATE(\"+\", ROUND(AVERAGE(AR6)*100,0), \" % Kühlleistung \", \" im Vergleich zur Auslegung 2\"), CONCATENATE(ROUND(AVERAGE(AR6)*100,0), \" % Kühlleistung \", \" im Vergleich zur Auslegung 2\"))","v":"-3 % Kühlleistung  im Vergleich zur Auslegung 2"},{"$f":"VLOOKUP($AB6,Matrix_Rohdaten,5,0)","v":5},{"$f":"VLOOKUP($AB6,Matrix_Rohdaten,2,0)","v":"VKL800; ISH Prototyp; mit Filter, 2MR,  mit 3-3,5cm Schalldämm., mit 3D-Strömung"},{"$f":"CONCATENATE(AC6, \": \",AU6, \"; q Sek bei wok \",ROUND(AF6,0), \" kg/h; \",ROUND(AD6,0), \" 1/min; \", ROUND(AG6,0), \" m³/h\")","v":"V70: VKL800; ISH Prototyp; mit Filter, 2MR,  mit 3-3,5cm Schalldämm., mit 3D-Strömung; q Sek bei wok 205 kg/h; 734 1/min; 199 m³/h"}]
[null,"V_Soll",{"$f":"'Master-Auswertung_V52-V67'!E2","v":"Drehzahl"},"q Sek ",null,null,{"$f":"'Master-Auswertung_V52-V67'!E2","v":"Drehzahl"},{"$f":"'Master-Auswertung_V52-V67'!K6","v":"Sekundärvolumenstrom - Kalorik [m³/h]"},"q Sek ",null,null,null,null,null,null,null,null,null,null,null,null,null,null,null,null,null,null,"V72",{"$f":"VLOOKUP($AB7,Matrix_Rohdaten,1,0)","v":"V72"},{"$f":"VLOOKUP($AB7,Matrix_Rohdaten,4,0)","v":1039},{"$f":"VLOOKUP($AB7,Matrix_Rohdaten,17,0)","v":60.463885666666663},{"$f":"VLOOKUP($AB7,Matrix_Rohdaten,12,0)","v":201.13361333333333},{"$f":"VLOOKUP($AB7,Matrix_Rohdaten,18,0)","v":287.06149800000003},{"$f":"AG7","v":287.06149800000003},953.4911342355166,{"$f":"1/AD7*AI7-1","v":-8.2299197078424813E-2},59.979748498788723,{"$f":"AE7/AK7-1","v":8.0716771909725704E-3},{"$f":"IF(AL7>0,CONCATENATE(\"+\", ROUND(AVERAGE(AL7)*100,0), \" % Kühlleistung \", \" im Vergleich zur Auslegung 1\"), CONCATENATE(ROUND(AVERAGE(AL7)*100,0), \" % Kühlleistung \", \" im Vergleich zur Auslegung 1\"))","v":"+1 % Kühlleistung  im Vergleich zur Auslegung 1"},1039,317.64160337214264,{"$f":"1/AG7*AO7-1","v":0.10652806309866958},63.88301115814339,{"$f":"AE7/AQ7-1","v":-5.352167077742509E-2},{"$f":"IF(AR7>0,CONCATENATE(\"+\", ROUND(AVERAGE(AR7)*100,0), \" % Kühlleistung \", \" im Vergleich zur Auslegung 2\"), CONCATENATE(ROUND(AVERAGE(AR7)*100,0), \" % Kühlleistung \", \" im Vergleich zur Auslegung 2\"))","v":"-5 % Kühlleistung  im Vergleich zur Auslegung 2"},{"$f":"VLOOKUP($AB7,Matrix_Rohdaten,5,0)","v":12},{"$f":"VLOOKUP($AB7,Matrix_Rohdaten,2,0)","v":"VKL800; ISH Prototyp; mit Filter, 2MR,  mit 3-3,5cm Schalldämm., mit 3D-Strömung"},{"$f":"CONCATENATE(AC7, \": \",AU7, \"; q Sek bei wok \",ROUND(AF7,0), \" kg/h; \",ROUND(AD7,0), \" 1/min; \", ROUND(AG7,0), \" m³/h\")","v":"V72: VKL800; ISH Prototyp; mit Filter, 2MR,  mit 3-3,5cm Schalldämm., mit 3D-Strömung; q Sek bei wok 201 kg/h; 1039 1/min; 287 m³/h"}]
[null,"m³/h",{"$f":"'Master-Auswertung_V52-V67'!C2","v":"1/min"},"W/K",null,null,{"$f":"'Master-Auswertung_V52-V67'!C2","v":"1/min"},"m³/h","W/K",null,null,null,null,null,null,null,null,null,null,null,null,null,null,null,null,null,null,"V73",{"$f":"VLOOKUP($AB8,Matrix_Rohdaten,1,0)","v":"V73"},{"$f":"VLOOKUP($AB8,Matrix_Rohdaten,4,0)","v":1146},{"$f":"VLOOKUP($AB8,Matrix_Rohdaten,17,0)","v":65.42791299999999},{"$f":"VLOOKUP($AB8,Matrix_Rohdaten,12,0)","v":201.19993766666667},{"$f":"VLOOKUP($AB8,Matrix_Rohdaten,18,0)","v":325.34300966666666},{"$f":"AG8","v":325.34300966666666},1060.3272697731511,{"$f":"1/AD8*AI8-1","v":-7.475805429917004E-2},64.716090428284346,{"$f":"AE8/AK8-1","v":1.0999159050011809E-2},{"$f":"IF(AL8>0,CONCATENATE(\"+\", ROUND(AVERAGE(AL8)*100,0), \" % Kühlleistung \", \" im Vergleich zur Auslegung 1\"), CONCATENATE(ROUND(AVERAGE(AL8)*100,0), \" % Kühlleistung \", \" im Vergleich zur Auslegung 1\"))","v":"+1 % Kühlleistung  im Vergleich zur Auslegung 1"},1146,356.54426660276158,{"$f":"1/AG8*AO8-1","v":9.5902650461316075E-2},68.112276600261893,{"$f":"AE8/AQ8-1","v":-3.9410862978724537E-2},{"$f":"IF(AR8>0,CONCATENATE(\"+\", ROUND(AVERAGE(AR8)*100,0), \" % Kühlleistung \", \" im Vergleich zur Auslegung 2\"), CONCATENATE(ROUND(AVERAGE(AR8)*100,0), \" % Kühlleistung \", \" im Vergleich zur Auslegung 2\"))","v":"-4 % Kühlleistung  im Vergleich zur Auslegung 2"},{"$f":"VLOOKUP($AB8,Matrix_Rohdaten,5,0)","v":18},{"$f":"VLOOKUP($AB8,Matrix_Rohdaten,2,0)","v":"VKL800; ISH Prototyp; mit Filter, 2MR,  mit 3-3,5cm Schalldämm., mit 3D-Strömung"},{"$f":"CONCATENATE(AC8, \": \",AU8, \"; q Sek bei wok \",ROUND(AF8,0), \" kg/h; \",ROUND(AD8,0), \" 1/min; \", ROUND(AG8,0), \" m³/h\")","v":"V73: VKL800; ISH Prototyp; mit Filter, 2MR,  mit 3-3,5cm Schalldämm., mit 3D-Strömung; q Sek bei wok 201 kg/h; 1146 1/min; 325 m³/h"}]
[null,325.34300966666666,{"$f":"'Master-Auswertung_V52-V67'!I33","v":1060.3272697731511},{"$f":"'Master-Auswertung_V52-V67'!C56","v":64.645744284958155},null,null,1146,{"$f":"'Master-Auswertung_V52-V67'!M33","v":356.54426660276158},{"$f":"'Master-Auswertung_V52-V67'!C77","v":68.035508208989711},null,null,{"$f":"I9*20*0.916","v":1246.4105103886916}]
[]
[]
[null,null,null,null,null,null,null,null,null,null,null,null,null,null,null,null,null,null,null,null,null,null,null,null,null,"Text für Diagramme"]
[]
[]
[null,null,null,null,null,null,null,null,null,null,null,null,null,null,null,null,null,null,null,null,null,null,null,null,null,{"$f":"CONCATENATE('Master-Auswertung_V52-V67'!B1, \"; \", ROUND($C$3,0), \" \", $D$3)","v":"VKL800; ISH-Prototyp; 4L; 3 - 3,5 cm Schalldämmung; mit Filter; 200 kg/h"}]
[null,null,null,null,null,null,null,null,null,null,null,null,null,null,null,null,null,null,null,null,null,null,null,null,null,{"$f":"CONCATENATE(\"A1; \",'Master-Auswertung_V52-V67'!B1, \"; \", ROUND($C$3,0), \" \", $D$3, \"; \", ROUND(C9,0), \" \",C8, \"; \",ROUND(B9,0), \" \", B8)","v":"A1; VKL800; ISH-Prototyp; 4L; 3 - 3,5 cm Schalldämmung; mit Filter; 200 kg/h; 1060 1/min; 325 m³/h"},null,null,null,null,"aus Masterauswertung"]
[null,null,null,null,null,null,null,null,null,null,null,null,null,null,null,null,null,null,null,null,null,null,null,null,null,{"$f":"CONCATENATE(\"A2; \",'Master-Auswertung_V52-V67'!B1, \"; \", ROUND($C$3,0), \" \", $D$3, \"; \", ROUND(G9,0), \" \",G8, \"; \",ROUND(H9,0), \" \", H8)","v":"A2; VKL800; ISH-Prototyp; 4L; 3 - 3,5 cm Schalldämmung; mit Filter; 200 kg/h; 1146 1/min; 357 m³/h"},null,null,null,null,"y =","mxb"]
[null,null,null,null,null,null,null,null,null,null,null,null,null,null,null,null,null,null,null,null,null,null,null,null,null,null,null,null,null,null,{"$f":"INDEX(LOGEST(AG5:AG8,LN(AD5:AD8),,TRUE),1,2)","v":0.12143595686926241},{"$f":"LN(INDEX(LOGEST(AG5:AG8,LN(AD5:AD8),,TRUE),1,1))","v":1.1199942743380205}]
[null,null,null,null,null,null,null,null,null,null,null,null,null,null,null,null," "]
[]
[]
[]
[]
[]
[]
[]
[]
[]
[]
[]
[]
[]
[null,"Basis der Auslegung"]
[null,null,1,4,18,12,17,3,5]
[null,{"$f":"CONCATENATE($C$7,\"variation (bei ca. \", ROUND(AVERAGE(F37:F40),0), \" kg/h)\")","v":"Drehzahlvariation (bei ca. 202 kg/h)"},null,null,null,null,null,null,null,null,null,null,null,"Grenzen der Auslegung"]
[null,"Messung","Messung - Kontrolle",{"$f":"'Master-Auswertung_V52-V67'!$B$2","v":"Drehzahl [1/min]"},"Sekundärvolumenstrom [m³/h]","Wasser-Massenstrom [kg/h]","spez. Kühlleistung [W/K]","Druckverlust wassers. [kPa]","Druckverlust Kasten [Pa]",null,null,null,null,{"$f":"'Master-Auswertung_V52-V67'!$B$2","v":"Drehzahl [1/min]"},"Volumenstrom [m³/h]"]
[null,"V53",{"$f":"VLOOKUP($B37,Matrix_Rohdaten,1,0)","v":"V53"},{"$f":"VLOOKUP($B37,Matrix_Rohdaten,4,0)","v":493},{"$f":"VLOOKUP($B37,Matrix_Rohdaten,18,0)","v":131.91539700000001},{"$f":"VLOOKUP($B37,Matrix_Rohdaten,12,0)","v":202.28672266666669},{"$f":"VLOOKUP($B37,Matrix_Rohdaten,17,0)","v":33.573952999999996},{"$f":"VLOOKUP($B37,Matrix_Rohdaten,3,0)","v":25.3},{"$f":"VLOOKUP($B37,Matrix_Rohdaten,5,0)","v":2},null,null,null,null,{"$f":"MIN(D37:D40)","v":493},{"$f":"MIN(E37:E40)","v":131.91539700000001}]
[null,"V52",{"$f":"VLOOKUP($B38,Matrix_Rohdaten,1,0)","v":"V52"},{"$f":"VLOOKUP($B38,Matrix_Rohdaten,4,0)","v":744},{"$f":"VLOOKUP($B38,Matrix_Rohdaten,18,0)","v":214.42879266666668},{"$f":"VLOOKUP($B38,Matrix_Rohdaten,12,0)","v":202.53447633333334},{"$f":"VLOOKUP($B38,Matrix_Rohdaten,17,0)","v":49.299673666666671},{"$f":"VLOOKUP($B38,Matrix_Rohdaten,3,0)","v":25.3},{"$f":"VLOOKUP($B38,Matrix_Rohdaten,5,0)","v":6},null,null,null,null,{"$f":"MAX(D37:D40)","v":1146},{"$f":"MAX(E37:E40)","v":357.29180200000002}]
[null,"V54",{"$f":"VLOOKUP($B39,Matrix_Rohdaten,1,0)","v":"V54"},{"$f":"VLOOKUP($B39,Matrix_Rohdaten,4,0)","v":1038},{"$f":"VLOOKUP($B39,Matrix_Rohdaten,18,0)","v":316.40559966666666},{"$f":"VLOOKUP($B39,Matrix_Rohdaten,12,0)","v":202.50095999999999},{"$f":"VLOOKUP($B39,Matrix_Rohdaten,17,0)","v":63.649177000000002},{"$f":"VLOOKUP($B39,Matrix_Rohdaten,3,0)","v":25.3},{"$f":"VLOOKUP($B39,Matrix_Rohdaten,5,0)","v":12}]
[null,"V55",{"$f":"VLOOKUP($B40,Matrix_Rohdaten,1,0)","v":"V55"},{"$f":"VLOOKUP($B40,Matrix_Rohdaten,4,0)","v":1146},{"$f":"VLOOKUP($B40,Matrix_Rohdaten,18,0)","v":357.29180200000002},{"$f":"VLOOKUP($B40,Matrix_Rohdaten,12,0)","v":202.22118966666667},{"$f":"VLOOKUP($B40,Matrix_Rohdaten,17,0)","v":68.331082333333327},{"$f":"VLOOKUP($B40,Matrix_Rohdaten,3,0)","v":25.2},{"$f":"VLOOKUP($B40,Matrix_Rohdaten,5,0)","v":18}]
[]
[null,{"$f":"CONCATENATE(\"Wassermassenstromvariation (bei Primärdruck von \", ROUND(AVERAGE(D44:D47),0), \" Pa)\")","v":"Wassermassenstromvariation (bei Primärdruck von 757 Pa)"},null,null,null,null,null,null,null,null,null,null,null,"Grenzen der Auslegung"]
[null,"Messung","Messung - Kontrolle",{"$f":"'Master-Auswertung_V52-V67'!$B$2","v":"Drehzahl [1/min]"},"Sekundärvolumenstrom [m³/h]","Wasser-Massenstrom [kg/h]","spez. Kühlleistung [W/K]","Druckverlust wassers. [kPa]",null,null,null,null,null,"Wasser-Massenstrom [kg/h]"]
[null,"V56",{"$f":"VLOOKUP($B44,Matrix_Rohdaten,1,0)","v":"V56"},{"$f":"VLOOKUP($B44,Matrix_Rohdaten,4,0)","v":757},{"$f":"VLOOKUP($B44,Matrix_Rohdaten,18,0)","v":215.56618033333334},{"$f":"VLOOKUP($B44,Matrix_Rohdaten,12,0)","v":62.167367666666671},{"$f":"VLOOKUP($B44,Matrix_Rohdaten,17,0)","v":34.974695666666662},{"$f":"VLOOKUP($B44,Matrix_Rohdaten,3,0)","v":2.7999999999999994},null,null,null,null,null,{"$f":"MIN(F44:F47)","v":62.167367666666671}]
[null,"V57",{"$f":"VLOOKUP($B45,Matrix_Rohdaten,1,0)","v":"V57"},{"$f":"VLOOKUP($B45,Matrix_Rohdaten,4,0)","v":757},{"$f":"VLOOKUP($B45,Matrix_Rohdaten,18,0)","v":220.1936033333333},{"$f":"VLOOKUP($B45,Matrix_Rohdaten,12,0)","v":127.58523366666667},{"$f":"VLOOKUP($B45,Matrix_Rohdaten,17,0)","v":45.736350666666659},{"$f":"VLOOKUP($B45,Matrix_Rohdaten,3,0)","v":11},null,null,null,null,null,{"$f":"MAX(F44:F47)","v":307.19070266666671}]
[null,"V58",{"$f":"VLOOKUP($B46,Matrix_Rohdaten,1,0)","v":"V58"},{"$f":"VLOOKUP($B46,Matrix_Rohdaten,4,0)","v":757},{"$f":"VLOOKUP($B46,Matrix_Rohdaten,18,0)","v":220.20125299999998},{"$f":"VLOOKUP($B46,Matrix_Rohdaten,12,0)","v":237.25349533333335},{"$f":"VLOOKUP($B46,Matrix_Rohdaten,17,0)","v":51.616886999999998},{"$f":"VLOOKUP($B46,Matrix_Rohdaten,3,0)","v":32.9}]
[null,"V59",{"$f":"VLOOKUP($B47,Matrix_Rohdaten,1,0)","v":"V59"},{"$f":"VLOOKUP($B47,Matrix_Rohdaten,4,0)","v":757},{"$f":"VLOOKUP($B47,Matrix_Rohdaten,18,0)","v":219.08769933333335},{"$f":"VLOOKUP($B47,Matrix_Rohdaten,12,0)","v":307.19070266666671},{"$f":"VLOOKUP($B47,Matrix_Rohdaten,17,0)","v":52.78139766666667},{"$f":"VLOOKUP($B47,Matrix_Rohdaten,3,0)","v":52.29999999999999}]
[]
[]
[]
[]
[null,{"$f":"CONCATENATE(\"Wassermassenstromvariation (bei \",$C$7, \" von \", ROUND(AVERAGE(D54:D57),0), \" Pa)\")","v":"Wassermassenstromvariation (bei Drehzahl von 484 Pa)"}]
[null,"Messung","Messung - Kontrolle",{"$f":"'Master-Auswertung_V52-V67'!$B$2","v":"Drehzahl [1/min]"},"Sekundärvolumenstrom [m³/h]","Wasser-Massenstrom [kg/h]","spez. Kühlleistung [W/K]","Druckverlust wassers. [kPa]"]
[null,"V60",{"$f":"VLOOKUP($B54,Matrix_Rohdaten,1,0)","v":"V60"},{"$f":"VLOOKUP($B54,Matrix_Rohdaten,4,0)","v":484},{"$f":"VLOOKUP($B54,Matrix_Rohdaten,18,0)","v":124.77748533333333},{"$f":"VLOOKUP($B54,Matrix_Rohdaten,12,0)","v":51.865944333333324},{"$f":"VLOOKUP($B54,Matrix_Rohdaten,17,0)","v":23.999263666666668},{"$f":"VLOOKUP($B54,Matrix_Rohdaten,3,0)","v":2.1}]
[null,"V61",{"$f":"VLOOKUP($B55,Matrix_Rohdaten,1,0)","v":"V61"},{"$f":"VLOOKUP($B55,Matrix_Rohdaten,4,0)","v":484},{"$f":"VLOOKUP($B55,Matrix_Rohdaten,18,0)","v":128.02884933333334},{"$f":"VLOOKUP($B55,Matrix_Rohdaten,12,0)","v":127.25331033333333},{"$f":"VLOOKUP($B55,Matrix_Rohdaten,17,0)","v":30.894434},{"$f":"VLOOKUP($B55,Matrix_Rohdaten,3,0)","v":10.699999999999998}]
[null,"V62",{"$f":"VLOOKUP($B56,Matrix_Rohdaten,1,0)","v":"V62"},{"$f":"VLOOKUP($B56,Matrix_Rohdaten,4,0)","v":484},{"$f":"VLOOKUP($B56,Matrix_Rohdaten,18,0)","v":129.75702699999999},{"$f":"VLOOKUP($B56,Matrix_Rohdaten,12,0)","v":237.47421699999998},{"$f":"VLOOKUP($B56,Matrix_Rohdaten,17,0)","v":33.360050000000001},{"$f":"VLOOKUP($B56,Matrix_Rohdaten,3,0)","v":33.6}]
[null,"V63",{"$f":"VLOOKUP($B57,Matrix_Rohdaten,1,0)","v":"V63"},{"$f":"VLOOKUP($B57,Matrix_Rohdaten,4,0)","v":484},{"$f":"VLOOKUP($B57,Matrix_Rohdaten,18,0)","v":129.60573133333332},{"$f":"VLOOKUP($B57,Matrix_Rohdaten,12,0)","v":307.01867100000004},{"$f":"VLOOKUP($B57,Matrix_Rohdaten,17,0)","v":34.112689333333329},{"$f":"VLOOKUP($B57,Matrix_Rohdaten,3,0)","v":53.6}]
[]
[]
[null,{"$f":"CONCATENATE(\"Wassermassenstromvariation (bei \",$C$7, \" von \", ROUND(AVERAGE(D62:D65),0), \" Pa)\")","v":"Wassermassenstromvariation (bei Drehzahl von 1145 Pa)"}]
[null,"Messung","Messung - Kontrolle",{"$f":"'Master-Auswertung_V52-V67'!$B$2","v":"Drehzahl [1/min]"},"Sekundärvolumenstrom [m³/h]","Wasser-Massenstrom [kg/h]","spez. Kühlleistung [W/K]","Druckverlust wassers. [kPa]"]
[null,"V64",{"$f":"VLOOKUP($B62,Matrix_Rohdaten,1,0)","v":"V64"},{"$f":"VLOOKUP($B62,Matrix_Rohdaten,4,0)","v":1145},{"$f":"VLOOKUP($B62,Matrix_Rohdaten,18,0)","v":357.41096700000003},{"$f":"VLOOKUP($B62,Matrix_Rohdaten,12,0)","v":60.093255999999997},{"$f":"VLOOKUP($B62,Matrix_Rohdaten,17,0)","v":42.15506633333333},{"$f":"VLOOKUP($B62,Matrix_Rohdaten,3,0)","v":2.6}]
[null,"V65",{"$f":"VLOOKUP($B63,Matrix_Rohdaten,1,0)","v":"V65"},{"$f":"VLOOKUP($B63,Matrix_Rohdaten,4,0)","v":1145},{"$f":"VLOOKUP($B63,Matrix_Rohdaten,18,0)","v":355.07831033333332},{"$f":"VLOOKUP($B63,Matrix_Rohdaten,12,0)","v":127.62082633333334},{"$f":"VLOOKUP($B63,Matrix_Rohdaten,17,0)","v":60.162134333333334},{"$f":"VLOOKUP($B63,Matrix_Rohdaten,3,0)","v":11}]
[null,"V66",{"$f":"VLOOKUP($B64,Matrix_Rohdaten,1,0)","v":"V66"},{"$f":"VLOOKUP($B64,Matrix_Rohdaten,4,0)","v":1145},{"$f":"VLOOKUP($B64,Matrix_Rohdaten,18,0)","v":351.954835},{"$f":"VLOOKUP($B64,Matrix_Rohdaten,12,0)","v":238.68088166666666},{"$f":"VLOOKUP($B64,Matrix_Rohdaten,17,0)","v":70.415725666666674},{"$f":"VLOOKUP($B64,Matrix_Rohdaten,3,0)","v":34.1}]
[null,"V67",{"$f":"VLOOKUP($B65,Matrix_Rohdaten,1,0)","v":"V67"},{"$f":"VLOOKUP($B65,Matrix_Rohdaten,4,0)","v":1145},{"$f":"VLOOKUP($B65,Matrix_Rohdaten,18,0)","v":353.55656500000003},{"$f":"VLOOKUP($B65,Matrix_Rohdaten,12,0)","v":308.21452866666664},{"$f":"VLOOKUP($B65,Matrix_Rohdaten,17,0)","v":73.498672666666664},{"$f":"VLOOKUP($B65,Matrix_Rohdaten,3,0)","v":53.5}]
[]
[]
[null,null,null,null,null,null,null,null,null,null,null,null,null,null,null,null,"y =","mxb"]
[null,null,null,null,null,null,null,null,null,null,null,null,null,null,null,null,{"$f":"INDEX(LOGEST(I37:I40,LN(D37:D40),,TRUE),1,2)","v":3.3924276746095977E-7},{"$f":"LN(INDEX(LOGEST(I37:I40,LN(D37:D40),,TRUE),1,1))","v":2.5165026901202348}]
[null,null,null,null,null,null,null,null,null,null,null,null,null,null,null,null,{"$f":"G7","v":"Drehzahl"},{"$f":"I36","v":"Druckverlust Kasten [Pa]"}]
[null,null,null,null,null,null,null,null,null,null,null,null,null,null,null,null,{"$f":"P5","v":1039},{"$f":"Q69*Q71^R69","v":13.238285346275907}]
[]
[]
[]
[]
[]
[]
[null,null,null,null,null,null,null,null,"Bei L_WA 45dB(A)"]
[null,null,null,null,null,null,null,"Sek Vol",215,"m³/h"]
[null,null,null,null,null,null,null,"Drehzahl",750,"1/min"]
[null,null,null,null,null,null,null,"spez. Leistung trocken",48.403245732128077,"W/K"]
[]
[null,null,null,null,null,null,null,"sens. Leistung bei dT 20 K, 50 %rF",{"$f":"20*I81*I87","v":874.07802972580805},"Watt","mit Filter"]
[null,null,null,null,null,null,null,"sens. Leistung bei dT 20 K, 50 %rF",{"$f":"I83*1.1","v":961.48583269838889},"Watt","ohne Filter"]
[]
[]
[null,null,null,null,null,null,null,"Sens Faktor",{"$f":"J96/J95","v":0.90291262135922334}]
[null,null,null,null,null,null,null,"Total Faktor",{"$f":"I96/I95","v":1.349514563106796}]
[]
[null,"2017-02-20"]
[null,"Auslegung euCalc"]
[]
[null,"QA","VA","DPA","TAI","RH","TAO","RH","QTOT","QSEN","QW","VW","TWI","TWO","GLI","DPW"]
[null,"m3/h","m/s","Pa","°C","%","°C","%","kW","kW","l/h","m/s","°C","°C","%","kPa"]
[null,214,0.42,1,26,1,11,2,1.03,1.03,200,0.8,6,10.4,0,20]
[null,214,0.42,1,26,50,12,87,1.39,0.93,200,0.8,6,12,0,20]
[]
[]
[]
[]
[]
[]
[]
[]
[]
[]
[]
[]
[]
[]
[]
[]
[]
[]
[]
[]
[]
[]
[]
[]
[]
[]
[]
[]
[]
[]
[]
[]
[]
[]
[]
[]
[]
[]
[]
[]
[]
[]
[]
[]
[]
[]
[]
[]
[null,null,null,null,null,null,null,null,"Bei L_WA 40dB(A)"]
[null,null,null,null,null,null,null,"Sek Vol",175,"m³/h"]
[null,null,null,null,null,null,null,"Drehzahl",622,"1/min"]
[null,null,null,null,null,null,null,"spez. Leistung trocken",41.051299012368112,"W/K"]
[]
[null,null,null,null,null,null,null,"sens. Leistung bei dT 20 K, 50 %rF",{"$f":"20*I148*I154","v":748.84787209374792},"Watt","mit Filter"]
[null,null,null,null,null,null,null,"sens. Leistung bei dT 20 K, 50 %rF",{"$f":"I150*1.1","v":823.73265930312277},"Watt","ohne Filter"]
[]
[]
[null,null,null,null,null,null,null,"Sens Faktor",{"$f":"J163/J162","v":0.91208791208791207}]
[null,null,null,null,null,null,null,"Total Faktor",{"$f":"I163/I162","v":1.3846153846153846}]
[]
[null,"2017-02-20"]
[null,"Auslegung euCalc"]
[]
[null,"QA","VA","DPA","TAI","RH","TAO","RH","QTOT","QSEN","QW","VW","TWI","TWO","GLI","DPW"]
[null,"m3/h","m/s","Pa","°C","%","°C","%","kW","kW","l/h","m/s","°C","°C","%","kPa"]
[null,175,0.35,1,26,1,10,2,0.91,0.91,200,0.8,6,9.9,0,20]
[null,175,0.35,1,26,50,11,90,1.26,0.83,200,0.8,6,11.4,0,20]
[]
[]
[]
[null,"QA","VA","DPA","TAI","RH","TAO","RH","QTOT","QSEN","QW","VW","TWI","TWO","GLI","DPW"]
[null,"m3/h","m/s","Pa","°C","%","°C","%","kW","kW","l/h","m/s","°C","°C","%","kPa"]
[null,175,0.35,1,26,50,11,90,1.26,0.83,200,0.8,6,11.4,0,20]

{"sheet":"Master-Auswertung_V52-V67","index":5,"n_rows":376,"n_cols":32,"rows_kept":376,"cut":false,"hidden":true,"merged":[]}
[null,{"$f":"CONCATENATE('Master-Auslegung_V52-V67'!B1, \"; \", 'Master-Auslegung_V52-V67'!C1, \"; \", 'Master-Auslegung_V52-V67'!D1, \"; \",'Master-Auslegung_V52-V67'!E1, \"; \", 'Master-Auslegung_V52-V67'!F1)","v":"VKL800; ISH-Prototyp; 4L; 3 - 3,5 cm Schalldämmung; mit Filter"},null,"4L; 3D-Strömung","3 - 3,5 cm Schalldämmung",{"$f":"'Master-Auslegung_V52-V67'!C1","v":"ISH-Prototyp"},null,null,1,4,26,12,17,3,6]
[null,{"$f":"'Master-Auslegung_V52-V67'!H1","v":"Drehzahl [1/min]"},{"$f":"'Master-Auslegung_V52-V67'!J1","v":"1/min"}," -> 2. Variable",{"$f":"'Master-Auslegung_V52-V67'!I1","v":"Drehzahl"}]
[null,null,null,null,null,null,null,"Aus Kalorikmessung vom",null,{"$f":"VLOOKUP($H8,Matrix_Rohdaten,8,0)","v":"2017-02-22"}]
[null,"w_soll \n(Kühlwasser)","Volumenstrom \nAuslegung 1 ","q Auslegung 1",{"$f":"CONCATENATE(B2, \"; Auslegung 2\")","v":"Drehzahl [1/min]; Auslegung 2"},"q Auslegung 2",null,"Gemessen von",null,{"$f":"VLOOKUP($H8,Matrix_Rohdaten,10,0)","v":"TT"}]
[null,"[kg/h]","[m³/h]","[W/K]","[Pa]","[W/K]",null,{"$f":"CONCATENATE(E2,\"variation (bei ca. \", ROUND(AVERAGE(L7:L10),0), \" kg/h)\")","v":"Drehzahlvariation (bei ca. 202 kg/h)"},null,null,null,null,null,null,null,null,{"$f":"I144","v":"Baugröße 800 3D-Strömung"},{"$f":"J144","v":"Baugröße 800 3D-Strömung"},{"$f":"K144","v":"Baugröße 800 3D-Strömung"}]
[null,{"$f":"'Master-Auslegung_V52-V67'!C3","v":200},{"$f":"'Master-Auslegung_V52-V67'!B9","v":325.34300966666666},{"$f":"C56","v":64.645744284958155},{"$f":"'Master-Auslegung_V52-V67'!G9","v":1146},{"$f":"C77","v":68.035508208989711},null,"Messung","Messung",{"$f":"B2","v":"Drehzahl [1/min]"},"Sekundärvolumenstrom - Kalorik [m³/h]","Wasser-Massenstrom","spez. Kühlleistung [W/K]","Druckverlust wassers.","Steuerspannung [V]",null,{"$f":"I145","v":"Drehzahl [1/min]"},"Sekundärvolumenstrom - Kalorik [m³/h]","Steuerspannung [V]"]
[null,null,null,null,null,null,null,null,null,{"$f":"C2","v":"1/min"},"m³/h","kg/h","W/K","kPa","V",null,"1/min","m³/h","V"]
[null,{"$f":"CONCATENATE(\"w_soll = \", ROUND(B11,0),\" kg/h\")","v":"w_soll = 200 kg/h"},null,null,null,null,null,{"$f":"'Master-Auslegung_V52-V67'!B37","v":"V53"},{"$f":"VLOOKUP($H8,Matrix_Rohdaten,1,0)","v":"V53"},{"$f":"VLOOKUP($H8,Matrix_Rohdaten,4,0)","v":493},{"$f":"VLOOKUP($H8,Matrix_Rohdaten,18,0)","v":131.91539700000001},{"$f":"VLOOKUP($H8,Matrix_Rohdaten,12,0)","v":202.28672266666669},{"$f":"VLOOKUP($H8,Matrix_Rohdaten,17,0)","v":33.573952999999996},{"$f":"VLOOKUP($H8,Matrix_Rohdaten,3,0)","v":25.3},{"$f":"VLOOKUP($H8,Matrix_Rohdaten,6,0)","v":3.5},null,489,124.165886,3.5]
[null,"wsoll","Faktor: Wassermenge zu Nennwassermenge ","Kühlleistung Korrekturfaktor für \nw_soll ≠ w_ok",{"$f":"B2","v":"Drehzahl [1/min]"},{"$f":"$N$88","v":"Sekundärvolumenstrom - Kalorik"},null,{"$f":"'Master-Auslegung_V52-V67'!B38","v":"V52"},{"$f":"VLOOKUP($H9,Matrix_Rohdaten,1,0)","v":"V52"},{"$f":"VLOOKUP($H9,Matrix_Rohdaten,4,0)","v":744},{"$f":"VLOOKUP($H9,Matrix_Rohdaten,18,0)","v":214.42879266666668},{"$f":"VLOOKUP($H9,Matrix_Rohdaten,12,0)","v":202.53447633333334},{"$f":"VLOOKUP($H9,Matrix_Rohdaten,17,0)","v":49.299673666666671},{"$f":"VLOOKUP($H9,Matrix_Rohdaten,3,0)","v":25.3},{"$f":"VLOOKUP($H9,Matrix_Rohdaten,6,0)","v":5.5999999999999988},null,734,199.29921066666665,5.5999999999999988]
[null,"[kg/h]","[-]","[-]",null,null,null,{"$f":"'Master-Auslegung_V52-V67'!B39","v":"V54"},{"$f":"VLOOKUP($H10,Matrix_Rohdaten,1,0)","v":"V54"},{"$f":"VLOOKUP($H10,Matrix_Rohdaten,4,0)","v":1038},{"$f":"VLOOKUP($H10,Matrix_Rohdaten,18,0)","v":316.40559966666666},{"$f":"VLOOKUP($H10,Matrix_Rohdaten,12,0)","v":202.50095999999999},{"$f":"VLOOKUP($H10,Matrix_Rohdaten,17,0)","v":63.649177000000002},{"$f":"VLOOKUP($H10,Matrix_Rohdaten,3,0)","v":25.3},{"$f":"VLOOKUP($H10,Matrix_Rohdaten,6,0)","v":8},null,1039,287.06149800000003,8]
[null,{"$f":"$B$6","v":200},{"$f":"B11/$H$84","v":1},{"$f":"$H$123*C11^$H$122+$I$123*C11^$I$122+$J$123*C11^$J$122+$K$123*C11^$K$122+$L$123","v":1},{"$f":"$M$90","v":757},{"$f":"AVERAGE($N$90:$N$93)","v":218.76218399999999},{"$f":"$L$31*E11^$M$31","v":218.6971997658955},{"$f":"'Master-Auslegung_V52-V67'!B40","v":"V55"},{"$f":"VLOOKUP($H11,Matrix_Rohdaten,1,0)","v":"V55"},{"$f":"VLOOKUP($H11,Matrix_Rohdaten,4,0)","v":1146},{"$f":"VLOOKUP($H11,Matrix_Rohdaten,18,0)","v":357.29180200000002},{"$f":"VLOOKUP($H11,Matrix_Rohdaten,12,0)","v":202.22118966666667},{"$f":"VLOOKUP($H11,Matrix_Rohdaten,17,0)","v":68.331082333333327},{"$f":"VLOOKUP($H11,Matrix_Rohdaten,3,0)","v":25.2},{"$f":"VLOOKUP($H11,Matrix_Rohdaten,6,0)","v":10},null,1146,325.34300966666666,10,"y =","mxb"]
[null,{"$f":"$B$6","v":200},{"$f":"B12/$H$84","v":1},{"$f":"IFERROR($Q$123*C12^$Q$122+$R$123*C12^$R$122+$S$123*C12^$S$122+$T$123*C12^$T$122+$U$123,D11)","v":0.99999999999999989},{"$f":"IFERROR(IF($V$90=0,E11,$V$90),E11)","v":484},{"$f":"IFERROR(IF($W$90=0,F11,$W$90),F11)","v":124.77748533333333},{"$f":"$L$31*E12^$M$31","v":129.08641093243617},null,null,null,null,null,null,null,null,null,null,null,null,{"$f":"INDEX(LOGEST(J8:J11,LN(O8:O11),,TRUE),1,2)","v":177.27771053271968},{"$f":"LN(INDEX(LOGEST(J8:J11,LN(O8:O11),,TRUE),1,1))","v":0.82782435462413761}]
[null,{"$f":"$B$6","v":200},{"$f":"B13/$H$84","v":1},{"$f":"IFERROR($Z$123*C13^$Z$122+$AA$123*C13^$AA$122+$AB$123*C13^$AB$122+$AC$123*C13^$AC$122+$AD$123,D11)","v":0.99999999999999978},{"$f":"IFERROR(IF($AE$90=0,E11,$AE$90),E11)","v":1145},{"$f":"IFERROR(IF($AF$90=0,F11,$AF$90),F11)","v":357.41096700000003},{"$f":"$L$31*E13^$M$31","v":356.17757791238483},null,null,null,null,null,null,null,null,null,null,null,null,"x = Drehzahl","y = Steuerspannung"]
[null,null,null,null,null,null,null,null,null,null,null,null,null,null,null,null,null,null,null,2,{"$f":"T12*T14^U12","v":314.66909873186955}]
[null,"y =","axn+bx(n-1)+...+nx+m",null,null,"Korrektur\nWassermenge",null,null,null,null,null,null,null,null,null,null,null,null,null,10,{"$f":"T12*T15^U12","v":1192.5551959898153}]
[null,"Polynom",3,"Ordnung","Auslegung 1",{"$f":"B19*H33^2+C19*H33+D19","v":1}]
[null,"a =","b =","m =","Auslegung 2",{"$f":"B19*M33^2+C19*M33+D19","v":1}]
[null,2,1,0]
[null,{"$f":"LINEST(D11:D13,F11:F13^{0,1,2},0,0)","v":0},0,1]
[]
[]
[]
[]
[]
[]
[]
[]
[null,null,null,null,null,null,null,null,null,null,null,null,null,null,null,null,"Makro Zielwertsuche - für Grenzwerte"]
[null,null,null,null,null,null,null,null,null,null,null,null,null,null,null,null,"Aus Drehzahl"]
[null,null,null,null,null,null,null,"y =","mxb",null,null,"y =","mxb",null,null,null,"y =","mxb",null,"y =","mxb"]
[null,null,null,null,null,null,null,{"$f":"INDEX(LOGEST('Master-Auswertung_V52-V67'!J8:J11,LN('Master-Auswertung_V52-V67'!K8:K11),,TRUE),1,2)","v":7.8348243502652721},{"$f":"LN(INDEX(LOGEST(J8:J11,LN(K8:K11),,TRUE),1,1))","v":0.84837617954411648},null,null,{"$f":"INDEX(LOGEST('Master-Auswertung_V52-V67'!K8:K11,LN('Master-Auswertung_V52-V67'!J8:J11),,TRUE),1,2)","v":8.836060411696231E-2},{"$f":"LN(INDEX(LOGEST(K8:K11,LN(J8:J11),,TRUE),1,1))","v":1.1786979968264459},null,null,null,{"$f":"INDEX(LOGEST(O8:O11,LN(J8:J11),,TRUE),1,2)","v":2.0684853736900014E-3},{"$f":"LN(INDEX(LOGEST(O8:O11,LN(J8:J11),,TRUE),1,1))","v":1.1969908465214376},null,{"$f":"INDEX(LOGEST(K8:K11,LN(O8:O11),,TRUE),1,2)","v":39.484831794998449},{"$f":"LN(INDEX(LOGEST(O8:O11,LN(M8:M11),,TRUE),1,1))","v":1.4142134783276306}]
[null,null,null,null,null,null,null,"V soll [m³/h]",{"$f":"B2","v":"Drehzahl [1/min]"},null,null,{"$f":"B76","v":"Drehzahl Soll 1/min"},"Volumenstrom [m³/h]",null,null,null,"x = Drehzahl","y = Steuerspannung",null,"x = Volumenstrom","y = Steuerspannung"]
[null,null,null,null,null,null,null,{"$f":"'Master-Auslegung_V52-V67'!B9","v":325.34300966666666},{"$f":"H31*H33^I31","v":1060.3272697731511},null,null,{"$f":"'Master-Auslegung_V52-V67'!G9","v":1146},{"$f":"L31*L33^M31","v":356.54426660276158},null,null,null,304.10478598610166,{"$f":"Q31*Q33^R31","v":1.940030520957936},null,2,{"$f":"T31*T33^U31","v":105.23276205312189}]
[null,null,null,null,null,null,null,null,null,null,null,null,null,null,null,null,1205.7544423342297,{"$f":"Q31*Q34^R31","v":10.089998885735444},null,10,{"$f":"T31*T34^U31","v":1024.810981707242}]
[null,null,null,null,null,null,null,null,null,null,null,null,null,null,null,null,"Aus Volumenstrom"]
[null,null,null,null,null,null,null,{"$f":"CONCATENATE(\"w_mess = \", ROUND(H39,0),\" kg/h\")","v":"w_mess = 202 kg/h"},null,null,null,null,null,null,null,null,"y =","mxb"]
[null,null,null,null,null,null,null,"wsoll","Faktor: Wassermenge zu Nennwassermenge ","Kühlleistung Korrekturfaktor für \nw_soll ≠ w_ok",{"$f":"B2","v":"Drehzahl [1/min]"},{"$f":"$N$88","v":"Sekundärvolumenstrom - Kalorik"},null,null,null,null,{"$f":"INDEX(LOGEST(O8:O11,LN(K8:K11),,TRUE),1,2)","v":2.4256595964516174E-2},{"$f":"LN(INDEX(LOGEST(O8:O11,LN(K8:K11),,TRUE),1,1))","v":1.0159056593433617}]
[null,null,null,null,null,null,null,"[kg/h]","[-]","[-]",null,null,null,null,null,null,"x = Volumenstrom","y = Steuerspannung"]
[null,null,null,null,null,null,null,{"$f":"AVERAGE($L$8:$L$11)","v":202.38583716666668},{"$f":"H39/$H$84","v":1.0119291858333335},{"$f":"$H$123*I39^$H$122+$I$123*I39^$I$122+$J$123*I39^$J$122+$K$123*I39^$K$122+$L$123","v":1.0016157180437071},{"$f":"$M$90","v":757},{"$f":"AVERAGE($N$90:$N$93)","v":218.76218399999999},null,null,null,null,74.696274572174772,{"$f":"Q37*Q39^R37","v":1.9405500632723665}]
[null,null,null,null,null,null,null,{"$f":"AVERAGE($L$8:$L$11)","v":202.38583716666668},{"$f":"H40/$H$84","v":1.0119291858333335},{"$f":"IFERROR($Q$123*I40^$Q$122+$R$123*I40^$R$122+$S$123*I40^$S$122+$T$123*I40^$T$122+$U$123,J39)","v":1.0008592943075207},{"$f":"IFERROR(IF($V$90=0,K39,$V$90),K39)","v":484},{"$f":"IFERROR(IF($W$90=0,L39,$W$90),L39)","v":124.77748533333333},null,null,null,null,378.49268943500834,{"$f":"Q37*Q40^R37","v":10.090043862716188}]
[null,null,null,null,null,null,null,{"$f":"AVERAGE($L$8:$L$11)","v":202.38583716666668},{"$f":"H41/$H$84","v":1.0119291858333335},{"$f":"IFERROR($Z$123*I41^$Z$122+$AA$123*I41^$AA$122+$AB$123*I41^$AB$122+$AC$123*I41^$AC$122+$AD$123,J39)","v":1.0022230414925126},{"$f":"IFERROR(IF($AE$90=0,K39,$AE$90),K39)","v":1145},{"$f":"IFERROR(IF($AF$90=0,L39,$AF$90),L39)","v":357.41096700000003}]
[]
[null,null,null,null,null,null,null,"y =","axn+bx(n-1)+...+nx+m"]
[null,null,null,null,null,null,null,"Polynom",3,"Ordnung"]
[null,null,null,null,null,null,null,"a =","b =","m ="]
[null,null,null,null,null,null,null,2,1,0]
[null,null,null,null,null,null,null,{"$f":"LINEST(J39:J41,L39:L41^{0,1,2},0,0)","v":-1.5767591923255246E-8},1.3465164453748854E-5,0.99942463722176511]
[]
[null,null,null,null,null,null,null,null,null,null,{"$f":"H47*J52^2+I47*J52^1+J47*J52^0","v":1.0009265172740147}]
[null,"y =","axn+bx(n-1)+...+nx+m",null,null,null,null,null,null,null,null,{"$f":"CONCATENATE($B$1, \" ; \",L51)","v":"VKL800; ISH-Prototyp; 4L; 3 - 3,5 cm Schalldämmung; mit Filter ; q Sek [W/K] bei wok 200 kg/h"},null,{"$f":"CONCATENATE($B$1, \" ; \",N51)","v":"VKL800; ISH-Prototyp; 4L; 3 - 3,5 cm Schalldämmung; mit Filter ; q Sek [W/K] bei w_soll 200 kg/h"},{"$f":"CONCATENATE(\"im Mittel \", ROUND(AVERAGE(O52:O55)*100,0), \" % Kühlleistung bei \", ROUND(H$87,0), \" kg/h\")","v":"im Mittel 0 % Kühlleistung bei 200 kg/h"}]
[null,"Polynom",2,"Ordnung",null,null,null,"Wasser-\nmenge [kg/h]","q Sek [W/K]",{"$f":"K6","v":"Sekundärvolumenstrom - Kalorik [m³/h]"},{"$f":"CONCATENATE(\"Korrektur bei \", ROUND(AVERAGE(H52:H55),0), \" kg/h (Mittelwert)\")","v":"Korrektur bei 202 kg/h (Mittelwert)"},{"$f":"CONCATENATE(\"q Sek [W/K] bei wok \", H$84, \" kg/h\")","v":"q Sek [W/K] bei wok 200 kg/h"},{"$f":"CONCATENATE(\"Korrektur bei \", ROUND(AVERAGE(B6),0), \" kg/h (Mittelwert)\")","v":"Korrektur bei 200 kg/h (Mittelwert)"},{"$f":"CONCATENATE(\"q Sek [W/K] bei w_soll \", ROUND(H$87,0), \" kg/h\")","v":"q Sek [W/K] bei w_soll 200 kg/h"},{"$f":"CONCATENATE(\"q Sek Abweichung von Nennwassermenge bei \", H$87, \" kg/h\")","v":"q Sek Abweichung von Nennwassermenge bei 200 kg/h"}]
[null,"a =","b =","c =","m =",null,null,{"$f":"L8","v":202.28672266666669},33.573952999999996,{"$f":"K8","v":131.91539700000001},{"$f":"IF($J$39=$J$40,$J$39,$H$47*J52^$H$46+$I$47*J52^$I$46+$J$47*J52^$J$46)","v":1.0009265172740147},{"$f":"I52/K52","v":33.542874946941538},{"$f":"IF($D$11=$D$12,$D$11,$B$19*J52^$B$18+$C$19*J52^$C$18+$D$19*J52^$D$18)","v":1},{"$f":"L52*M52","v":33.542874946941538},{"$f":"1/L52*N52-1","v":0}]
[null,3,2,1,0,null,null,202.53447633333334,49.299673666666671,{"$f":"K9","v":214.42879266666668},{"$f":"IF($J$39=$J$40,$J$39,$H$47*J53^$H$46+$I$47*J53^$I$46+$J$47*J53^$J$46)","v":1.0015869669199509},{"$f":"I53/K53","v":49.221560678122138},{"$f":"IF($D$11=$D$12,$D$11,$B$19*J53^$B$18+$C$19*J53^$C$18+$D$19*J53^$D$18)","v":1},{"$f":"L53*M53","v":49.221560678122138},{"$f":"1/L53*N53-1","v":0}]
[null,{"$f":"LINEST(N52:N55,K8:K11^{1,2,3},0,0)","v":1.7202674142691246E-7},-3.67710657289108E-4,0.30012366397870976,0,null,null,202.50095999999999,63.649177000000002,{"$f":"K10","v":316.40559966666666},{"$f":"IF($J$39=$J$40,$J$39,$H$47*J54^$H$46+$I$47*J54^$I$46+$J$47*J54^$J$46)","v":1.0021065575537538},{"$f":"I54/K54","v":63.515378200272693},{"$f":"IF($D$11=$D$12,$D$11,$B$19*J54^$B$18+$C$19*J54^$C$18+$D$19*J54^$D$18)","v":1},{"$f":"L54*M54","v":63.515378200272693},{"$f":"1/L54*N54-1","v":0}]
[null,"V soll [m³/h]","q sek [W/K]",null,null,null,null,202.22118966666667,68.331082333333327,{"$f":"K11","v":357.29180200000002},{"$f":"IF($J$39=$J$40,$J$39,$H$47*J55^$H$46+$I$47*J55^$I$46+$J$47*J55^$J$46)","v":1.0022227798034502},{"$f":"I55/K55","v":68.17953424161243},{"$f":"IF($D$11=$D$12,$D$11,$B$19*J55^$B$18+$C$19*J55^$C$18+$D$19*J55^$D$18)","v":1},{"$f":"L55*M55","v":68.17953424161243},{"$f":"1/L55*N55-1","v":0}]
[null,{"$f":"C6","v":325.34300966666666},{"$f":"B54*B56^B53+C54*B56^C53+D54*B56^D53+E54*B56^E53","v":64.645744284958155}]
[null,null,null,null,null,null,null,null,null,null,null,null,"Auslegung 1"]
[null,null,null,null,null,null,null,null,null,null,null,"Sekundärvolumenstrom [m³/h]",{"$f":"H33","v":325.34300966666666}]
[null,null,null,null,null,null,null,null,null,null,null,"Abweichung",{"$f":"L68*M58^L67+M68*M58^M67+N68*M58^N67","v":0},{"$f":"IF(M59>=0, CONCATENATE(\"+\", ROUND(AVERAGE(M59)*100,0), \" % Kühlleistung bei \", ROUND(H$87,0), \" kg/h\"),CONCATENATE(ROUND(AVERAGE(M59)*100,0), \" % Kühlleistung bei \", ROUND(H$87,0), \" kg/h\"))","v":"+0 % Kühlleistung bei 200 kg/h"}]
[null,null,null,null,null,null,null,null,null,null,null,null,"Auslegung 2"]
[null,null,null,null,null,null,null,null,null,null,null,"Sekundärvolumenstrom [m³/h]",{"$f":"M33","v":356.54426660276158}]
[null,null,null,null,null,null,null,null,null,null,null,"Abweichung",{"$f":"L68*M61^L67+M68*M61^M67+N68*M61^N67","v":0},{"$f":"IF(M62>=0, CONCATENATE(\"+\", ROUND(AVERAGE(M62)*100,0), \" % Kühlleistung bei \", ROUND(H$87,0), \" kg/h\"),CONCATENATE(ROUND(AVERAGE(M62)*100,0), \" % Kühlleistung bei \", ROUND(H$87,0), \" kg/h\"))","v":"+0 % Kühlleistung bei 200 kg/h"}]
[]
[null,null,null,null,null,null,null,null,null,null,null,"y =","axn+bx(n-1)+...+nx+m"]
[null,null,null,null,null,null,null,null,null,null,null,"Polynom",3,"Ordnung"]
[null,null,null,null,null,null,null,null,null,null,null,"a =","b =","m ="]
[null,null,null,null,null,null,null,null,null,null,null,2,1,0]
[null,null,null,null,null,null,null,null,null,null,null,{"$f":"LINEST(O52:O55,J52:J55^{0,1,2},0,0)","v":0},0,0]
[]
[]
[null,"y =","axn+bx(n-1)+...+nx+m",null,null,null,null,{"$f":"CONCATENATE(\"Wassermassenstromvariation (bei \",$E$2, \" von \", ROUND(AVERAGE(J74:J77),0), \" Pa)\")","v":"Wassermassenstromvariation (bei Drehzahl von 757 Pa)"},null,null,null,null,null,null,null,null,{"$f":"CONCATENATE(\"Wassermassenstromvariation (bei \",$E$2, \" von \", ROUND(AVERAGE(S74:S77),0), \" Pa)\")","v":"Wassermassenstromvariation (bei Drehzahl von 484 Pa)"},null,null,null,null,null,null,null,null,{"$f":"CONCATENATE(\"Wassermassenstromvariation (bei \",$E$2, \" von \", ROUND(AVERAGE(AB74:AB77),0), \" Pa)\")","v":"Wassermassenstromvariation (bei Drehzahl von 1145 Pa)"}]
[null,"Polynom",2,"Ordnung",null,null,null,"Messung","Messung",{"$f":"B2","v":"Drehzahl [1/min]"},"Sekundärvolumenstrom - Kalorik","Wasser-Massenstrom","spez. Kühlleistung","Druckverlust wassers.",null,null,"Messung","Messung",{"$f":"L4","v":0},"Sekundärvolumenstrom - Kalorik","Wasser-Massenstrom","spez. Kühlleistung","Druckverlust wassers.",null,null,"Messung","Messung",{"$f":"U4","v":0},"Sekundärvolumenstrom - Kalorik","Wasser-Massenstrom","spez. Kühlleistung","Druckverlust wassers."]
[null,"a =","b =","c =","m =",null,null,null,null,"Pa","m³/h","kg/h","W/K","kPa",null,null,null,null,"Pa","m³/h","kg/h","W/K","kPa",null,null,null,null,"Pa","m³/h","kg/h","W/K","kPa"]
[null,3,2,1,0,null,null,{"$f":"'Master-Auslegung_V52-V67'!B44","v":"V56"},{"$f":"VLOOKUP($H74,Matrix_Rohdaten,1,0)","v":"V56"},{"$f":"VLOOKUP($H74,Matrix_Rohdaten,4,0)","v":757},{"$f":"VLOOKUP($H74,Matrix_Rohdaten,18,0)","v":215.56618033333334},{"$f":"VLOOKUP($H74,Matrix_Rohdaten,12,0)","v":62.167367666666671},{"$f":"VLOOKUP($H74,Matrix_Rohdaten,17,0)","v":34.974695666666662},{"$f":"VLOOKUP($H74,Matrix_Rohdaten,3,0)","v":2.7999999999999994},null,null,{"$f":"'Master-Auslegung_V52-V67'!B54","v":"V60"},{"$f":"VLOOKUP($Q74,Matrix_Rohdaten,1,0)","v":"V60"},{"$f":"VLOOKUP($Q74,Matrix_Rohdaten,4,0)","v":484},{"$f":"VLOOKUP($Q74,Matrix_Rohdaten,18,0)","v":124.77748533333333},{"$f":"VLOOKUP($Q74,Matrix_Rohdaten,12,0)","v":51.865944333333324},{"$f":"VLOOKUP($Q74,Matrix_Rohdaten,17,0)","v":23.999263666666668},{"$f":"VLOOKUP($Q74,Matrix_Rohdaten,3,0)","v":2.1},null,null,{"$f":"'Master-Auslegung_V52-V67'!B62","v":"V64"},{"$f":"VLOOKUP($Z74,Matrix_Rohdaten,1,0)","v":"V64"},{"$f":"VLOOKUP($Z74,Matrix_Rohdaten,4,0)","v":1145},{"$f":"VLOOKUP($Z74,Matrix_Rohdaten,18,0)","v":357.41096700000003},{"$f":"VLOOKUP($Z74,Matrix_Rohdaten,12,0)","v":60.093255999999997},{"$f":"VLOOKUP($Z74,Matrix_Rohdaten,17,0)","v":42.15506633333333},{"$f":"VLOOKUP($Z74,Matrix_Rohdaten,3,0)","v":2.6}]
[null,{"$f":"LINEST(N52:N55,J8:J11^{1,2,3},0,0)","v":-1.0255779790967646E-8},3.2012452995299013E-6,6.9168260788980904E-2,0,null,null,{"$f":"'Master-Auslegung_V52-V67'!B45","v":"V57"},{"$f":"VLOOKUP($H75,Matrix_Rohdaten,1,0)","v":"V57"},{"$f":"VLOOKUP($H75,Matrix_Rohdaten,4,0)","v":757},{"$f":"VLOOKUP($H75,Matrix_Rohdaten,18,0)","v":220.1936033333333},{"$f":"VLOOKUP($H75,Matrix_Rohdaten,12,0)","v":127.58523366666667},{"$f":"VLOOKUP($H75,Matrix_Rohdaten,17,0)","v":45.736350666666659},{"$f":"VLOOKUP($H75,Matrix_Rohdaten,3,0)","v":11},null,null,{"$f":"'Master-Auslegung_V52-V67'!B55","v":"V61"},{"$f":"VLOOKUP($Q75,Matrix_Rohdaten,1,0)","v":"V61"},{"$f":"VLOOKUP($Q75,Matrix_Rohdaten,4,0)","v":484},{"$f":"VLOOKUP($Q75,Matrix_Rohdaten,18,0)","v":128.02884933333334},{"$f":"VLOOKUP($Q75,Matrix_Rohdaten,12,0)","v":127.25331033333333},{"$f":"VLOOKUP($Q75,Matrix_Rohdaten,17,0)","v":30.894434},{"$f":"VLOOKUP($Q75,Matrix_Rohdaten,3,0)","v":10.699999999999998},null,null,{"$f":"'Master-Auslegung_V52-V67'!B63","v":"V65"},{"$f":"VLOOKUP($Z75,Matrix_Rohdaten,1,0)","v":"V65"},{"$f":"VLOOKUP($Z75,Matrix_Rohdaten,4,0)","v":1145},{"$f":"VLOOKUP($Z75,Matrix_Rohdaten,18,0)","v":355.07831033333332},{"$f":"VLOOKUP($Z75,Matrix_Rohdaten,12,0)","v":127.62082633333334},{"$f":"VLOOKUP($Z75,Matrix_Rohdaten,17,0)","v":60.162134333333334},{"$f":"VLOOKUP($Z75,Matrix_Rohdaten,3,0)","v":11}]
[null,{"$f":"CONCATENATE(E2,\" Soll \",C2)","v":"Drehzahl Soll 1/min"},"q sek [W/K]",null,null,null,null,{"$f":"'Master-Auslegung_V52-V67'!B46","v":"V58"},{"$f":"VLOOKUP($H76,Matrix_Rohdaten,1,0)","v":"V58"},{"$f":"VLOOKUP($H76,Matrix_Rohdaten,4,0)","v":757},{"$f":"VLOOKUP($H76,Matrix_Rohdaten,18,0)","v":220.20125299999998},{"$f":"VLOOKUP($H76,Matrix_Rohdaten,12,0)","v":237.25349533333335},{"$f":"VLOOKUP($H76,Matrix_Rohdaten,17,0)","v":51.616886999999998},{"$f":"VLOOKUP($H76,Matrix_Rohdaten,3,0)","v":32.9},null,null,{"$f":"'Master-Auslegung_V52-V67'!B56","v":"V62"},{"$f":"VLOOKUP($Q76,Matrix_Rohdaten,1,0)","v":"V62"},{"$f":"VLOOKUP($Q76,Matrix_Rohdaten,4,0)","v":484},{"$f":"VLOOKUP($Q76,Matrix_Rohdaten,18,0)","v":129.75702699999999},{"$f":"VLOOKUP($Q76,Matrix_Rohdaten,12,0)","v":237.47421699999998},{"$f":"VLOOKUP($Q76,Matrix_Rohdaten,17,0)","v":33.360050000000001},{"$f":"VLOOKUP($Q76,Matrix_Rohdaten,3,0)","v":33.6},null,null,{"$f":"'Master-Auslegung_V52-V67'!B64","v":"V66"},{"$f":"VLOOKUP($Z76,Matrix_Rohdaten,1,0)","v":"V66"},{"$f":"VLOOKUP($Z76,Matrix_Rohdaten,4,0)","v":1145},{"$f":"VLOOKUP($Z76,Matrix_Rohdaten,18,0)","v":351.954835},{"$f":"VLOOKUP($Z76,Matrix_Rohdaten,12,0)","v":238.68088166666666},{"$f":"VLOOKUP($Z76,Matrix_Rohdaten,17,0)","v":70.415725666666674},{"$f":"VLOOKUP($Z76,Matrix_Rohdaten,3,0)","v":34.1}]
[null,{"$f":"E6","v":1146},{"$f":"B75*B77^B74+C75*B77^C74+D75*B77^D74+E75*B77^E74","v":68.035508208989711},null,null,null,null,{"$f":"'Master-Auslegung_V52-V67'!B47","v":"V59"},{"$f":"VLOOKUP($H77,Matrix_Rohdaten,1,0)","v":"V59"},{"$f":"VLOOKUP($H77,Matrix_Rohdaten,4,0)","v":757},{"$f":"VLOOKUP($H77,Matrix_Rohdaten,18,0)","v":219.08769933333335},{"$f":"VLOOKUP($H77,Matrix_Rohdaten,12,0)","v":307.19070266666671},{"$f":"VLOOKUP($H77,Matrix_Rohdaten,17,0)","v":52.78139766666667},{"$f":"VLOOKUP($H77,Matrix_Rohdaten,3,0)","v":52.29999999999999},null,null,{"$f":"'Master-Auslegung_V52-V67'!B57","v":"V63"},{"$f":"VLOOKUP($Q77,Matrix_Rohdaten,1,0)","v":"V63"},{"$f":"VLOOKUP($Q77,Matrix_Rohdaten,4,0)","v":484},{"$f":"VLOOKUP($Q77,Matrix_Rohdaten,18,0)","v":129.60573133333332},{"$f":"VLOOKUP($Q77,Matrix_Rohdaten,12,0)","v":307.01867100000004},{"$f":"VLOOKUP($Q77,Matrix_Rohdaten,17,0)","v":34.112689333333329},{"$f":"VLOOKUP($Q77,Matrix_Rohdaten,3,0)","v":53.6},null,null,{"$f":"'Master-Auslegung_V52-V67'!B65","v":"V67"},{"$f":"VLOOKUP($Z77,Matrix_Rohdaten,1,0)","v":"V67"},{"$f":"VLOOKUP($Z77,Matrix_Rohdaten,4,0)","v":1145},{"$f":"VLOOKUP($Z77,Matrix_Rohdaten,18,0)","v":353.55656500000003},{"$f":"VLOOKUP($Z77,Matrix_Rohdaten,12,0)","v":308.21452866666664},{"$f":"VLOOKUP($Z77,Matrix_Rohdaten,17,0)","v":73.498672666666664},{"$f":"VLOOKUP($Z77,Matrix_Rohdaten,3,0)","v":53.5}]
[]
[]
[null,null,null,null,null,null,null,"Wassermengenvariation",null,null,null,null,null,null,null,null,"Wassermengenvariation",null,null,null,null,null,null,null,null,"Wassermengenvariation"]
[null,null,null,null,null,null,null,{"$f":"CONCATENATE($B$1,\"; \", $E$2, \" = \",M90, \" \", M89,\"; m_w=\", ROUND(H87,0), \" kg/h\")","v":"VKL800; ISH-Prototyp; 4L; 3 - 3,5 cm Schalldämmung; mit Filter; Drehzahl = 757 1/min; m_w=200 kg/h"},null,null,null,null,null,null,null,null,{"$f":"CONCATENATE($B$1,\"; \", $E$2, \" = \",V90, \" \", V89,\"; m_w=\", ROUND(Q87,0), \" kg/h\")","v":"VKL800; ISH-Prototyp; 4L; 3 - 3,5 cm Schalldämmung; mit Filter; Drehzahl = 484 1/min; m_w=200 kg/h"},null,null,null,null,null,null,null,null,{"$f":"CONCATENATE($B$1,\"; \", $E$2, \" = \",AE90, \" \", AE89,\"; m_w=\", ROUND(Z87,0), \" kg/h\")","v":"VKL800; ISH-Prototyp; 4L; 3 - 3,5 cm Schalldämmung; mit Filter; Drehzahl = 1145 1/min; m_w=200 kg/h"}]
[]
[null,null,null,null,null,null,null,"wok","spez. Leistung bei wok",null,null,"Druckverlust bei wok",null,null,null,null,"wok","spez. Leistung bei wok",null,null,"Druckverlust bei wok",null,null,null,null,"wok","spez. Leistung bei wok",null,null,"Druckverlust bei wok"]
[null,null,null,null,null,null,null,{"$f":"'Master-Auslegung_V52-V67'!C4","v":200},{"$f":"H106*H84^H105+I106*H84^I105+J106*H84^J105+K106*H84^K105+L106","v":50.679106559845373},null,null,{"$f":"I$114*H84^J$114","v":24.164501376514277},null,null,null,null,{"$f":"H84","v":200},{"$f":"Q106*Q84^Q105+R106*Q84^R105+S106*Q84^S105+T106*Q84^T105+U106","v":33.049068876238309},null,null,{"$f":"R$114*Q84^S$114","v":24.52033139628659},null,null,null,null,{"$f":"H84","v":200},{"$f":"Z106*Z84^Z105+AA106*Z84^AA105+AB106*Z84^AB105+AC106*Z84^AC105+AD106","v":68.45598702264877},null,null,{"$f":"AA$114*Z84^AB$114","v":24.476932526320127}]
[]
[null,null,null,null,null,null,null,"w_soll",null,null,null,null,null,null,null,null,"w_soll",null,null,null,null,null,null,null,null,"w_soll"]
[null,null,null,null,null,null,null,{"$f":"$B$6","v":200},null,{"$f":"H87/H84","v":1},{"$f":"H$123*J87^H$122+I$123*J87^I$122+J$123*J87^J$122+K$123*J87^K$122+L$123","v":1},{"$f":"I$114*H87^J$114","v":24.164501376514277},null,null,null,null,{"$f":"$B$6","v":200},null,{"$f":"Q87/Q84","v":1},{"$f":"Q$123*S87^Q$122+R$123*S87^R$122+S$123*S87^S$122+T$123*S87^T$122+U$123","v":0.99999999999999989},{"$f":"R$114*Q87^S$114","v":24.52033139628659},null,null,null,null,{"$f":"$B$6","v":200},null,{"$f":"Z87/Z84","v":1},{"$f":"Z$123*AB87^Z$122+AA$123*AB87^AA$122+AB$123*AB87^AB$122+AC$123*AB87^AC$122+AD$123","v":0.99999999999999978},{"$f":"AA$114*Z87^AB$114","v":24.476932526320127}]
[null,null,null,null,null,null,null,"Wassermenge","spez. Leistung","Faktor: Wassermenge zu Nennwassermenge ","Kühlleistung Korrekturfaktor für \nw_soll ≠ w_ok","wasserseit. Druckverlust - kühlen",{"$f":"$B$2","v":"Drehzahl [1/min]"},{"$f":"K72","v":"Sekundärvolumenstrom - Kalorik"},null,null,"Wassermenge","spez. Leistung","Faktor: Wassermenge zu Nennwassermenge ","Kühlleistung Korrekturfaktor für \nw_soll ≠ w_ok","wasserseit. Druckverlust - kühlen",{"$f":"$B$2","v":"Drehzahl [1/min]"},{"$f":"T72","v":"Sekundärvolumenstrom - Kalorik"},null,null,"Wassermenge","spez. Leistung","Faktor: Wassermenge zu Nennwassermenge ","Kühlleistung Korrekturfaktor für \nw_soll ≠ w_ok","wasserseit. Druckverlust - kühlen",{"$f":"$B$2","v":"Drehzahl [1/min]"},{"$f":"AC72","v":"Sekundärvolumenstrom - Kalorik"}]
[null,null,null,null,null,null,null,"[kg/h]","[W/K]","[-]","[-]","[kPa]",{"$f":"$C$2","v":"1/min"},"m³/h",null,null,"[kg/h]","[W/K]","[-]","[-]","[kPa]",{"$f":"$C$2","v":"1/min"},"m³/h",null,null,"[kg/h]","[W/K]","[-]","[-]","[kPa]",{"$f":"$C$2","v":"1/min"},"m³/h"]
[null,null,null,null,null,null,null,{"$f":"L74","v":62.167367666666671},34.974695666666662,{"$f":"H90/H$84","v":0.31083683833333337},0.69012060473809134,{"$f":"N74","v":2.7999999999999994},{"$f":"J74","v":757},215.56618033333334,null,null,{"$f":"U74","v":51.865944333333324},23.999263666666668,{"$f":"Q90/Q$84","v":0.25932972166666662},0.72617064512585139,{"$f":"W74","v":2.1},{"$f":"S74","v":484},124.77748533333333,null,null,{"$f":"AD74","v":60.093255999999997},42.15506633333333,{"$f":"Z90/Z$84","v":0.30046627999999997},0.61579809402771823,{"$f":"AF74","v":2.6},{"$f":"AB74","v":1145},357.41096700000003]
[null,null,null,null,null,null,null,127.58523366666667,45.736350666666659,0.63792616833333338,0.90246955345706481,{"$f":"N75","v":11},{"$f":"J75","v":757},220.1936033333333,null,null,127.25331033333333,30.894434,0.63626655166666668,0.93480497486004965,{"$f":"W75","v":10.699999999999998},{"$f":"S75","v":484},128.02884933333334,null,null,127.62082633333334,60.162134333333334,0.63810413166666669,0.87884401277317936,{"$f":"AF75","v":11},{"$f":"AB75","v":1145},355.07831033333332]
[null,null,null,null,null,null,null,237.25349533333335,51.616886999999998,1.1862674766666668,1.0185042812277527,{"$f":"N76","v":32.9},{"$f":"J76","v":757},220.20125299999998,null,null,237.47421699999998,33.360050000000001,1.1873710849999999,1.0094096788301736,{"$f":"W76","v":33.6},{"$f":"S76","v":484},129.75702699999999,null,null,238.68088166666666,70.415725666666674,1.1934044083333333,1.0286277173005995,{"$f":"AF76","v":34.1},{"$f":"AB76","v":1145},351.954835]
[null,null,null,null,null,null,null,307.19070266666671,52.78139766666667,1.5359535133333335,1.0414824027005838,{"$f":"N77","v":52.29999999999999},{"$f":"J77","v":757},219.08769933333335,null,null,307.01867100000004,34.112689333333329,1.5350933550000001,1.0321830687901692,{"$f":"W77","v":53.6},{"$f":"S77","v":484},129.60573133333332,null,null,308.21452866666664,73.498672666666664,1.5410726433333333,1.0736631792680094,{"$f":"AF77","v":53.5},{"$f":"AB77","v":1145},353.55656500000003]
[]
[]
[]
[]
[]
[]
[null,null,null,null,null,null,null,"y = qk\nx = wk",null,null,null,null,null,null,null,null,"y = qk\nx = wk",null,null,null,null,null,null,null,null,"y = qk\nx = wk"]
[]
[null,null,null,null,null,null,null,"y =","axn+bx(n-1)+...+nx+m",null,null,null,null,null,null,null,"y =","axn+bx(n-1)+...+nx+m",null,null,null,null,null,null,null,"y =","axn+bx(n-1)+...+nx+m"]
[null,null,null,null,null,null,null,"Polynom",{"$f":"H105","v":3},"Ordnung",null,null,null,null,null,null,"Polynom",{"$f":"Q105","v":3},"Ordnung",null,null,null,null,null,null,"Polynom",{"$f":"Z105","v":3},"Ordnung"]
[null,null,null,null,null,null,null,"a =","b =","c =","m =",null,null,null,null,null,"a =","b =","c =","m =",null,null,null,null,null,"a =","b =","c =","m ="]
[null,null,null,null,null,null,null,3,2,1,0,null,null,null,null,null,3,2,1,0,null,null,null,null,null,3,2,1,0]
[null,null,null,null,null,null,null,{"$f":"LINEST(I90:I93,H90:H93^{0,1,2,3},0,0)","v":1.7446350242008093E-6},-1.3782879722194199E-3,0.37706048616068777,16.441448022878141,null,null,null,null,null,{"$f":"LINEST(R90:R93,Q90:Q93^{0,1,2,3},0,0)","v":1.2071924440489394E-6},-8.751625937299971E-4,0.21745807698715142,14.906417675616398,null,null,null,null,null,{"$f":"LINEST(AA90:AA93,Z90:Z93^{0,1,2,3},0,0)","v":2.8634513605288407E-6},-2.1971638943943895E-3,0.60016308115309558,13.402315683574514]
[]
[]
[]
[null,null,null,null,null,null,null,"y = Druck dp [kPa] \nx = Wasserm. wk",null,null,null,null,null,null,null,null,"y = Druck dp [kPa] \nx = Wasserm. wk",null,null,null,null,null,null,null,null,"y = Druck dp [kPa] \nx = Wasserm. wk"]
[]
[null,null,null,null,null,null,null,"y =","mxb",null,null,null,null,null,null,null,"y =","mxb",null,null,null,null,null,null,null,"y =","mxb"]
[null,null,null,null,null,null,null,null,"m","b","R2",null,"y=",null,null,null,null,"m","b","R2",null,null,null,null,null,null,"m","b","R2"]
[null,null,null,null,null,null,null,null,{"$f":"INDEX(LOGEST(L90:L93,LN(H90:H93),,TRUE),1,2)","v":1.4985040472400401E-3},{"$f":"LN(INDEX(LOGEST(L90:L93,LN(H90:H93),,TRUE),1,1))","v":1.828537622620277},{"$f":"INDEX(LOGEST(L90:L93,LN(H90:H93),,TRUE),3,1)","v":0.99965705991452025},null,{"$f":"I114*B6^J114","v":24.164501376514277},null,null,null,null,{"$f":"INDEX(LOGEST(U90:U93,LN(Q90:Q93),,TRUE),1,2)","v":1.5693487087812743E-3},{"$f":"LN(INDEX(LOGEST(U90:U93,LN(Q90:Q93),,TRUE),1,1))","v":1.8225781015219287},{"$f":"INDEX(LOGEST(U90:U93,LN(Q90:Q93),,TRUE),3,1)","v":0.99999404464335362},null,null,null,null,null,null,{"$f":"INDEX(LOGEST(AD90:AD93,LN(Z90:Z93),,TRUE),1,2)","v":1.3538519143980949E-3},{"$f":"LN(INDEX(LOGEST(AD90:AD93,LN(Z90:Z93),,TRUE),1,1))","v":1.8501218303458133},{"$f":"INDEX(LOGEST(AD90:AD93,LN(Z90:Z93),,TRUE),3,1)","v":0.99969914938606386}]
[]
[]
[null,null,null,null,null,null,null,"y = qk in %\nx = wk in %",null,null,null,null,null,null,null,null,"y = qk in %\nx = wk in %",null,null,null,null,null,null,null,null,"y = qk in %\nx = wk in %"]
[]
[null,null,null,null,null,null,null,"y =","axn+bx(n-1)+...+nx+m",null,null,null,null,null,null,null,"y =","axn+bx(n-1)+...+nx+m",null,null,null,null,null,null,null,"y =","axn+bx(n-1)+...+nx+m"]
[null,null,null,null,null,null,null,"Polynom",{"$f":"H122","v":3},"Ordnung",null,null,null,null,null,null,"Polynom",{"$f":"Q122","v":3},"Ordnung",null,null,null,null,null,null,"Polynom",{"$f":"Z122","v":3},"Ordnung"]
[null,null,null,null,null,null,null,"a =","b =","c =","m =",null,null,null,null,null,"a =","b =","c =","m =",null,null,null,null,null,"a =","b =","c =","m ="]
[null,null,null,null,null,null,null,3,2,1,0,null,null,null,null,null,3,2,1,0,null,null,null,null,null,3,2,1,0]
[null,null,null,null,null,null,null,{"$f":"LINEST(K90:K93,J90:J93^{0,1,2,3},0,0)","v":0.27540107040216166},-1.0878549885972109,1.4880313081898244,0.32442261000522471,null,null,null,null,null,{"$f":"LINEST(T90:T93,S90:S93^{0,1,2,3},0,0)","v":0.29221820404553284},-1.0592281398393304,1.3159709751671693,0.45103896062662818,null,null,null,null,null,{"$f":"LINEST(AC90:AC93,AB90:AB93^{0,1,2,3},0,0)","v":0.33463268708187122},-1.2838403125602136,1.7534275883116819,0.19578003716666023]
[]
[]
[]
[]
[]
[]
[]
[]
[]
[]
[]
[]
["BG","WT bzw. Laufradlänge","Verhältnis"]
["Baugröße 800",{"$f":"VLOOKUP(A137,A139:C142,2,0)","v":820},{"$f":"VLOOKUP(A137,A139:C142,3,0)","v":1},null,null,null,{"$f":"'Master-Auslegung_V52-V67'!AB1","v":"Bemerkung:"},"Abfrage","Korrektur"]
[null,null,null,null,null,null,"3D-Strömung",{"$f":"IF(VKL!AB9=TRUE,\"Ja\",\"Nein\")","v":"Nein"}]
["Baugröße 630",590,{"$f":"B139/$B$137","v":0.71951219512195119},null,null,null,"Filter",{"$f":"IF(VKL!AB8=TRUE,\"Ja\",\"Nein\")","v":"Ja"},{"$f":"IF(H139=\"Ja\",1,O149)","v":1}]
["Baugröße 800",820,{"$f":"B140/$B$137","v":1}]
["Baugröße 1000",1020,{"$f":"B141/$B$137","v":1.2439024390243902}]
["Baugröße 1200",1200,{"$f":"B142/$B$137","v":1.4634146341463414}]
[null,null,null,null,null,null,null,null,"gemessen","gemessen","gemessen"]
[{"$f":"A137","v":"Baugröße 800"},{"$f":"$A$137","v":"Baugröße 800"},{"$f":"A139","v":"Baugröße 630"},{"$f":"A140","v":"Baugröße 800"},{"$f":"A141","v":"Baugröße 1000"},{"$f":"A142","v":"Baugröße 1200"},{"$f":"CONCATENATE($A$137,\" \",$G$138)","v":"Baugröße 800 3D-Strömung"},{"$f":"CONCATENATE($A$137,\" \",$G$138)","v":"Baugröße 800 3D-Strömung"},{"$f":"CONCATENATE($A$137,\" \",$G$138)","v":"Baugröße 800 3D-Strömung"},{"$f":"CONCATENATE($A$137,\" \",$G$138)","v":"Baugröße 800 3D-Strömung"},{"$f":"CONCATENATE($A$137,\" \",$G$138)","v":"Baugröße 800 3D-Strömung"},{"$f":"CONCATENATE($A$137,\" mit \",$G$139)","v":"Baugröße 800 mit Filter"},{"$f":"CONCATENATE($A$137,\" mit \",$G$139)","v":"Baugröße 800 mit Filter"},{"$f":"CONCATENATE($A$137,\" mit \",$G$139)","v":"Baugröße 800 mit Filter"},{"$f":"CONCATENATE($A$137,\" mit \",$G$139)","v":"Baugröße 800 mit Filter"}]
[{"$f":"$J$6","v":"Drehzahl [1/min]"},{"$f":"$K$6","v":"Sekundärvolumenstrom - Kalorik [m³/h]"},{"$f":"$K$6","v":"Sekundärvolumenstrom - Kalorik [m³/h]"},{"$f":"$K$6","v":"Sekundärvolumenstrom - Kalorik [m³/h]"},{"$f":"$K$6","v":"Sekundärvolumenstrom - Kalorik [m³/h]"},{"$f":"$K$6","v":"Sekundärvolumenstrom - Kalorik [m³/h]"},"Messung","Messung",{"$f":"$J$6","v":"Drehzahl [1/min]"},{"$f":"$K$6","v":"Sekundärvolumenstrom - Kalorik [m³/h]"},{"$f":"O6","v":"Steuerspannung [V]"},"Messung","Messung",{"$f":"$J$6","v":"Drehzahl [1/min]"},{"$f":"$K$6","v":"Sekundärvolumenstrom - Kalorik [m³/h]"}]
[{"$f":"$J$7","v":"1/min"},{"$f":"$K$7","v":"m³/h"},{"$f":"$K$7","v":"m³/h"},{"$f":"$K$7","v":"m³/h"},{"$f":"$K$7","v":"m³/h"},{"$f":"$K$7","v":"m³/h"},null,"Kontrolle",{"$f":"$J$7","v":"1/min"},{"$f":"$K$7","v":"m³/h"},{"$f":"O7","v":"V"},null,"Kontrolle",{"$f":"$J$7","v":"1/min"},{"$f":"$K$7","v":"m³/h"}]
[{"$f":"IF($H$138=\"Ja\",I147,J8)","v":493},{"$f":"IF($H$138=\"Ja\",J147*$I$139,K8*$I$139)","v":131.91539700000001},{"$f":"B147*$C$139","v":94.914736865853669},{"$f":"B147*$C$140","v":131.91539700000001},{"$f":"B147*$C$141","v":164.08988407317074},{"$f":"B147*$C$142","v":193.0469224390244},"V71",{"$f":"VLOOKUP($G147,Matrix_Rohdaten,1,0)","v":"V71"},{"$f":"VLOOKUP($G147,Matrix_Rohdaten,4,0)","v":489},{"$f":"VLOOKUP($G147,Matrix_Rohdaten,18,0)","v":124.165886},{"$f":"VLOOKUP($G147,Matrix_Rohdaten,6,0)","v":3.5},"V19",{"$f":"VLOOKUP($L147,Matrix_Rohdaten,1,0)","v":"V19"},{"$f":"VLOOKUP($L147,Matrix_Rohdaten,4,0)","v":728},{"$f":"VLOOKUP($L147,Matrix_Rohdaten,18,0)","v":242.40024192366829}]
[{"$f":"IF($H$138=\"Ja\",I148,J9)","v":744},{"$f":"IF($H$138=\"Ja\",J148*$I$139,K9*$I$139)","v":214.42879266666668},{"$f":"B148*$C$139","v":154.2841313089431},{"$f":"B148*$C$140","v":214.42879266666668},{"$f":"B148*$C$141","v":266.72849819512197},{"$f":"B148*$C$142","v":313.79823317073175},"V70",{"$f":"VLOOKUP($G148,Matrix_Rohdaten,1,0)","v":"V70"},{"$f":"VLOOKUP($G148,Matrix_Rohdaten,4,0)","v":734},{"$f":"VLOOKUP($G148,Matrix_Rohdaten,18,0)","v":199.29921066666665},{"$f":"VLOOKUP($G148,Matrix_Rohdaten,6,0)","v":5.5999999999999988},"V20",{"$f":"VLOOKUP($L148,Matrix_Rohdaten,1,0)","v":"V20"},{"$f":"VLOOKUP($L148,Matrix_Rohdaten,4,0)","v":728},{"$f":"VLOOKUP($L148,Matrix_Rohdaten,18,0)","v":205.4667631720603}]
[{"$f":"IF($H$138=\"Ja\",I149,J10)","v":1038},{"$f":"IF($H$138=\"Ja\",J149*$I$139,K10*$I$139)","v":316.40559966666666},{"$f":"B149*$C$139","v":227.65768756504065},{"$f":"B149*$C$140","v":316.40559966666666},{"$f":"B149*$C$141","v":393.57769714634145},{"$f":"B149*$C$142","v":463.03258487804874},"V72",{"$f":"VLOOKUP($G149,Matrix_Rohdaten,1,0)","v":"V72"},{"$f":"VLOOKUP($G149,Matrix_Rohdaten,4,0)","v":1039},{"$f":"VLOOKUP($G149,Matrix_Rohdaten,18,0)","v":287.06149800000003},{"$f":"VLOOKUP($G149,Matrix_Rohdaten,6,0)","v":8},null,null,"ohne Filter",{"$f":"1/O148*O147","v":1.1797540301965017}]
[{"$f":"IF($H$138=\"Ja\",I150,J11)","v":1146},{"$f":"IF($H$138=\"Ja\",J150*$I$139,K11*$I$139)","v":357.29180200000002},{"$f":"B150*$C$139","v":257.07580875609756},{"$f":"B150*$C$140","v":357.29180200000002},{"$f":"B150*$C$141","v":444.43614395121955},{"$f":"B150*$C$142","v":522.86605170731707},"V73",{"$f":"VLOOKUP($G150,Matrix_Rohdaten,1,0)","v":"V73"},{"$f":"VLOOKUP($G150,Matrix_Rohdaten,4,0)","v":1146},{"$f":"VLOOKUP($G150,Matrix_Rohdaten,18,0)","v":325.34300966666666},{"$f":"VLOOKUP($G150,Matrix_Rohdaten,6,0)","v":10}]
[]
["Abfrage",{"$f":"VKL!AF7","v":1}]
[]
["Drehzahl/Volumenstrom"]
[null,null,"y =","mxb"]
[{"$f":"A137","v":"Baugröße 800"}]
["Volumenstrom vorgegeben",1,{"$f":"INDEX(LOGEST(A147:A150,LN(B147:B150),,TRUE),1,2)","v":7.8348243502652721},{"$f":"LN(INDEX(LOGEST(A147:A150,LN(B147:B150),,TRUE),1,1))","v":0.84837617954411648}]
["Drehzahl vorgegeben",2,{"$f":"INDEX(LOGEST(B147:B150,LN(A147:A150),,TRUE),1,2)","v":8.836060411696231E-2},{"$f":"LN(INDEX(LOGEST(B147:B150,LN(A147:A150),,TRUE),1,1))","v":1.1786979968264459}]
["aus Abfrage",{"$f":"$B$152","v":1},{"$f":"IF(B159=1,C157,C158)","v":7.8348243502652721},{"$f":"IF(B159=1,D157,D158)","v":0.84837617954411648}]
[]
[{"$f":"A139","v":"Baugröße 630"}]
["Volumenstrom vorgegeben",1,{"$f":"INDEX(LOGEST(A147:A150,LN(C147:C150),,TRUE),1,2)","v":10.358924903623633},{"$f":"LN(INDEX(LOGEST(A147:A150,LN(C147:C150),,TRUE),1,1))","v":0.84837617954411648}]
["Drehzahl vorgegeben",2,{"$f":"INDEX(LOGEST(C147:C150,LN(A147:A150),,TRUE),1,2)","v":6.3576532230497279E-2},{"$f":"LN(INDEX(LOGEST(C147:C150,LN(A147:A150),,TRUE),1,1))","v":1.1786979968264459}]
["aus Abfrage",{"$f":"$B$152","v":1},{"$f":"IF(B164=1,C162,C163)","v":10.358924903623633},{"$f":"IF(B164=1,D162,D163)","v":0.84837617954411648}]
[]
[{"$f":"A140","v":"Baugröße 800"}]
["Volumenstrom vorgegeben",1,{"$f":"INDEX(LOGEST(A147:A150,LN(D147:D150),,TRUE),1,2)","v":7.8348243502652721},{"$f":"LN(INDEX(LOGEST(A147:A150,LN(D147:D150),,TRUE),1,1))","v":0.84837617954411648}]
["Drehzahl vorgegeben",2,{"$f":"INDEX(LOGEST(D147:D150,LN(A147:A150),,TRUE),1,2)","v":8.836060411696231E-2},{"$f":"LN(INDEX(LOGEST(D147:D150,LN(A147:A150),,TRUE),1,1))","v":1.1786979968264459}]
["aus Abfrage",{"$f":"$B$152","v":1},{"$f":"IF(B169=1,C167,C168)","v":7.8348243502652721},{"$f":"IF(B169=1,D167,D168)","v":0.84837617954411648}]
[]
[{"$f":"A141","v":"Baugröße 1000"}]
["Volumenstrom vorgegeben",1,{"$f":"INDEX(LOGEST(A147:A150,LN(E147:E150),,TRUE),1,2)","v":6.5105069809369578},{"$f":"LN(INDEX(LOGEST(A147:A150,LN(E147:E150),,TRUE),1,1))","v":0.84837617954411693}]
["Drehzahl vorgegeben",2,{"$f":"INDEX(LOGEST(E147:E150,LN(A147:A150),,TRUE),1,2)","v":0.10991197097475841},{"$f":"LN(INDEX(LOGEST(E147:E150,LN(A147:A150),,TRUE),1,1))","v":1.1786979968264453}]
["aus Abfrage",{"$f":"$B$152","v":1},{"$f":"IF(B174=1,C172,C173)","v":6.5105069809369578},{"$f":"IF(B174=1,D172,D173)","v":0.84837617954411693}]
[]
[{"$f":"A142","v":"Baugröße 1200"}]
["Volumenstrom vorgegeben",1,{"$f":"INDEX(LOGEST(A147:A150,LN(F147:F150),,TRUE),1,2)","v":5.6719906565420457},{"$f":"LN(INDEX(LOGEST(A147:A150,LN(F147:F150),,TRUE),1,1))","v":0.84837617954411648}]
["Drehzahl vorgegeben",2,{"$f":"INDEX(LOGEST(F147:F150,LN(A147:A150),,TRUE),1,2)","v":0.12930820114677405},{"$f":"LN(INDEX(LOGEST(F147:F150,LN(A147:A150),,TRUE),1,1))","v":1.1786979968264459}]
["aus Abfrage",{"$f":"$B$152","v":1},{"$f":"IF(B179=1,C177,C178)","v":5.6719906565420457},{"$f":"IF(B179=1,D177,D178)","v":0.84837617954411648}]
[]
[]
[]
[{"$f":"CONCATENATE(\"Leistung - \", A137)","v":"Leistung - Baugröße 800"},null,"a =","b =","c =","m ="]
["Volumenstrom vorgegeben",1,{"$f":"B53","v":3},2,1,0]
[null,1,1.7202674142691246E-7,-3.67710657289108E-4,0.30012366397870976,0]
[{"$f":"A158","v":"Drehzahl vorgegeben"},2,{"$f":"B74","v":3},2,1,0]
[null,2,-1.0255779790967646E-8,3.2012452995299013E-6,6.9168260788980904E-2,0]
[null,{"$f":"$B$152","v":1},{"$f":"IF($B$188=1,C184,C186)","v":3},{"$f":"IF($B$188=1,D184,D186)","v":2},{"$f":"IF($B$188=1,E184,E186)","v":1},{"$f":"IF($B$188=1,F184,F186)","v":0}]
["aus Abfrage",{"$f":"$B$152","v":1},{"$f":"IF($B$189=1,C185,C187)","v":1.7202674142691246E-7},{"$f":"IF($B$189=1,D185,D187)","v":-3.67710657289108E-4},{"$f":"IF($B$189=1,E185,E187)","v":0.30012366397870976},{"$f":"IF($B$189=1,F185,F187)","v":0}]
[]
["Einheiten"]
[null,1,"Volumenstrom","[m³/h]"]
[null,2,"Drehzahl","[1/min]"]
[null,{"$f":"B152","v":1},{"$f":"IF($B$152=1,C192,C193)","v":"Volumenstrom"},{"$f":"IF($B$152=1,D192,D193)","v":"[m³/h]"}]
[null,{"$f":"IF(B152=1,2,1)","v":2},{"$f":"IF($B$152=2,C192,C193)","v":"Drehzahl"},{"$f":"IF($B$152=2,D192,D193)","v":"[1/min]"}]
[]
[]
[]
[]
[]
["Grenzwerte für Auslegung"]
[]
[]
[]
[]
["Grenzen der Messung",null,null,"Grenzenerweiterung der Auslegung (bei 2 bzw. 10 V)"]
[{"$f":"'Master-Auslegung_V52-V67'!B2","v":"kühlen"},null,null,"kühlen"]
[{"$f":"'Master-Auslegung_V52-V67'!N36","v":"Drehzahl [1/min]"},{"$f":"'Master-Auslegung_V52-V67'!O36","v":"Volumenstrom [m³/h]"},{"$f":"'Master-Auslegung_V52-V67'!N43","v":"Wasser-Massenstrom [kg/h]"},{"$f":"$J$6","v":"Drehzahl [1/min]"},{"$f":"$K$6","v":"Sekundärvolumenstrom - Kalorik [m³/h]"}]
[{"$f":"'Master-Auslegung_V52-V67'!N37","v":493},{"$f":"'Master-Auslegung_V52-V67'!O37","v":131.91539700000001},{"$f":"'Master-Auslegung_V52-V67'!N44","v":62.167367666666671},{"$f":"Q33","v":304.10478598610166},{"$f":"Q39","v":74.696274572174772},null,null,"Polynom 6 Ordnung",{"$f":"'BG;WT3,2;k'!J1","v":6},{"$f":"'BG;WT3,2;k'!K1","v":5},{"$f":"'BG;WT3,2;k'!L1","v":4},{"$f":"'BG;WT3,2;k'!M1","v":3},{"$f":"'BG;WT3,2;k'!N1","v":2},{"$f":"'BG;WT3,2;k'!O1","v":1},{"$f":"'BG;WT3,2;k'!P1","v":0}]
[{"$f":"'Master-Auslegung_V52-V67'!N38","v":1146},{"$f":"'Master-Auslegung_V52-V67'!O38","v":357.29180200000002},{"$f":"'Master-Auslegung_V52-V67'!N45","v":307.19070266666671},{"$f":"Q34","v":1205.7544423342297},{"$f":"Q40","v":378.49268943500834},null,null,{"$f":"'BG;WT3,2;k'!I3","v":"BG 630"},{"$f":"'BG;WT3,2;k'!J3","v":-1.8135006382699553E-16},{"$f":"'BG;WT3,2;k'!K3","v":8.4675402256476301E-13},{"$f":"'BG;WT3,2;k'!L3","v":-1.6046751409279111E-9},{"$f":"'BG;WT3,2;k'!M3","v":1.6070988669481746E-6},{"$f":"'BG;WT3,2;k'!N3","v":-9.4153118089835501E-4},{"$f":"'BG;WT3,2;k'!O3","v":0.36088300476970353},{"$f":"'BG;WT3,2;k'!P3","v":0}]
[null,null,null,null,null,null,null,{"$f":"'BG;WT3,2;k'!I4","v":"BG 800"},{"$f":"'BG;WT3,2;k'!J4","v":1.4215219648449425E-16},{"$f":"'BG;WT3,2;k'!K4","v":-2.5631997963674169E-13},{"$f":"'BG;WT3,2;k'!L4","v":-1.4887350812644426E-10},{"$f":"'BG;WT3,2;k'!M4","v":6.9160113347305388E-7},{"$f":"'BG;WT3,2;k'!N4","v":-6.8832513875944073E-4},{"$f":"'BG;WT3,2;k'!O4","v":0.3620754630460048},{"$f":"'BG;WT3,2;k'!P4","v":0}]
[{"$f":"'Heizen_Auslegung_V78-V85'!B2","v":"heizen"},null,null,null,null,null,null,{"$f":"'BG;WT3,2;k'!I5","v":"BG 1000"},{"$f":"'BG;WT3,2;k'!J5","v":3.4002555069477508E-16},{"$f":"'BG;WT3,2;k'!K5","v":-9.3074693501542378E-13},{"$f":"'BG;WT3,2;k'!L5","v":7.6445628722333344E-10},{"$f":"'BG;WT3,2;k'!M5","v":7.8817516861799249E-8},{"$f":"'BG;WT3,2;k'!N5","v":-4.9496128804693139E-4},{"$f":"'BG;WT3,2;k'!O5","v":0.35555617810700041},{"$f":"'BG;WT3,2;k'!P5","v":0}]
[{"$f":"'Heizen_Auslegung_V78-V85'!N36","v":"Drehzahl [1/min]"},{"$f":"'Heizen_Auslegung_V78-V85'!O36","v":"Volumenstrom [m³/h]"},{"$f":"'Heizen_Auslegung_V78-V85'!N43","v":"Wasser-Massenstrom [kg/h]"},null,null,null,null,{"$f":"'BG;WT3,2;k'!I6","v":"BG 1200"},{"$f":"'BG;WT3,2;k'!J6","v":4.1335317722297958E-16},{"$f":"'BG;WT3,2;k'!K6","v":-1.2357141751521776E-12},{"$f":"'BG;WT3,2;k'!L6","v":1.2545964150793252E-9},{"$f":"'BG;WT3,2;k'!M6","v":-2.9707673841329711E-7},{"$f":"'BG;WT3,2;k'!N6","v":-3.6696101891322039E-4},{"$f":"'BG;WT3,2;k'!O6","v":0.35383923484006213},{"$f":"'BG;WT3,2;k'!P6","v":0}]
[{"$f":"'Heizen_Auslegung_V78-V85'!N37","v":504},{"$f":"'Heizen_Auslegung_V78-V85'!O37","v":127.06816533333334},{"$f":"'Heizen_Auslegung_V78-V85'!N44","v":61.562867333333337}]
[{"$f":"'Heizen_Auslegung_V78-V85'!N38","v":1144},{"$f":"'Heizen_Auslegung_V78-V85'!O38","v":333.39040599999998},{"$f":"'Heizen_Auslegung_V78-V85'!N45","v":231.00826900000001},null,null,null,null,"Korrekturfaktoren",{"$f":"'BG;WT3,2;k'!J8","v":6},{"$f":"'BG;WT3,2;k'!K8","v":5},{"$f":"'BG;WT3,2;k'!L8","v":4},{"$f":"'BG;WT3,2;k'!M8","v":3},{"$f":"'BG;WT3,2;k'!N8","v":2},{"$f":"'BG;WT3,2;k'!O8","v":1},{"$f":"'BG;WT3,2;k'!P8","v":0}]
[null,null,null,null,null,null,null,{"$f":"'BG;WT3,2;k'!I9","v":"BG 630"},{"$f":"'BG;WT3,2;k'!J9","v":1.9431561472614572E-12},{"$f":"'BG;WT3,2;k'!K9","v":-5.7966513663789936E-10},{"$f":"'BG;WT3,2;k'!L9","v":6.4271622324181492E-8},{"$f":"'BG;WT3,2;k'!M9","v":-3.2796313202038004E-6},{"$f":"'BG;WT3,2;k'!N9","v":8.3471715107161652E-5},{"$f":"'BG;WT3,2;k'!O9","v":-8.1042095576984083E-4},{"$f":"'BG;WT3,2;k'!P9","v":0.72307373447868861}]
["gesamt",null,null,null,null,null,null,{"$f":"'BG;WT3,2;k'!I10","v":"BG 800"},{"$f":"'BG;WT3,2;k'!J10","v":-4.5065182817187669E-26},{"$f":"'BG;WT3,2;k'!K10","v":8.220154120588495E-24},{"$f":"'BG;WT3,2;k'!L10","v":0},{"$f":"'BG;WT3,2;k'!M10","v":-7.5651800354186965E-20},{"$f":"'BG;WT3,2;k'!N10","v":4.8206471312720581E-18},{"$f":"'BG;WT3,2;k'!O10","v":-9.7753242638633818E-17},{"$f":"'BG;WT3,2;k'!P10","v":1.0000000000000002}]
[{"$f":"A208","v":"Drehzahl [1/min]"},{"$f":"B208","v":"Volumenstrom [m³/h]"},{"$f":"CONCATENATE(C208, \" \", A207)","v":"Wasser-Massenstrom [kg/h] kühlen"},{"$f":"CONCATENATE(C213, \" \", A212)","v":"Wasser-Massenstrom [kg/h] heizen"},null,null,null,{"$f":"'BG;WT3,2;k'!I11","v":"BG 1000"},{"$f":"'BG;WT3,2;k'!J11","v":-2.3425481281731126E-12},{"$f":"'BG;WT3,2;k'!K11","v":5.7876594222649172E-10},{"$f":"'BG;WT3,2;k'!L11","v":-5.0431685558410269E-8},{"$f":"'BG;WT3,2;k'!M11","v":1.873393153195928E-6},{"$f":"'BG;WT3,2;k'!N11","v":-4.0988594550350719E-5},{"$f":"'BG;WT3,2;k'!O11","v":7.8867528621639105E-4},{"$f":"'BG;WT3,2;k'!P11","v":1.2183134292917011}]
[{"$f":"D209","v":304.10478598610166},{"$f":"E209","v":74.696274572174772},{"$f":"C209","v":62.167367666666671},{"$f":"C214","v":61.562867333333337},null,null,null,{"$f":"'BG;WT3,2;k'!I12","v":"BG 1200"},{"$f":"'BG;WT3,2;k'!J12","v":-6.562698072788781E-12},{"$f":"'BG;WT3,2;k'!K12","v":1.637379031641481E-9},{"$f":"'BG;WT3,2;k'!L12","v":-1.4758903061050266E-7},{"$f":"'BG;WT3,2;k'!M12","v":6.0194493859372346E-6},{"$f":"'BG;WT3,2;k'!N12","v":-1.4889601524840834E-4},{"$f":"'BG;WT3,2;k'!O12","v":2.5040420678397604E-3},{"$f":"'BG;WT3,2;k'!P12","v":1.4455087566500393}]
[{"$f":"D210","v":1205.7544423342297},{"$f":"E210","v":378.49268943500834},{"$f":"C210","v":307.19070266666671},{"$f":"C215","v":231.00826900000001}]
[]
[]
[]
[]
[]
[]
[]
[{"$f":"'Master-Auslegung_V52-V67'!B2","v":"kühlen"}]
[]
[]
[]
["Gemessene Baugröße"]
[{"$f":"A137","v":"Baugröße 800"},null,"DpK =",{"$f":"M114","v":24.164501376514277},"[kPa]"]
[]
[{"$f":"IF($A$233=$A$247,A249,IF($A$233=$A$261,A263,IF($A$233=$A$275,A277,IF($A$233=$A$289,A291,\"-\"))))","v":"bei 200 kg/h Kühlwassermassenstrom"},null,null,null,null,{"$f":"IF($A$233=$A$247,F249,IF($A$233=$A$261,F263,IF($A$233=$A$275,F277,IF($A$233=$A$289,F291,\"-\"))))","v":"für kondensierende Auslegung"}]
[{"$f":"IF($A$233=$A$247,A250,IF($A$233=$A$261,A264,IF($A$233=$A$275,A278,IF($A$233=$A$289,A292,\"-\"))))","v":"Auslegung"},{"$f":"IF($A$233=$A$247,B250,IF($A$233=$A$261,B264,IF($A$233=$A$275,B278,IF($A$233=$A$289,B292,\"-\"))))","v":"Volumenstrom"},"Drehzahl",null,"Volumenstrom - Baugröße 800","Volumenstrom - Baugröße 800","Drehzahl","Korrektur Total \nbei Sollwassermenge","Korrektur Sensibel\nbei Sollwassermenge","qSK1)  - aus Volumenstrom der gemessenen Baugröße","qSK1)  - aus Drehzahl","Korrektur Baugröße","qSK1)  - aus Volumenstrom","qSK2)  - aus Volumenstrom","qtotal2)  - aus Volumenstrom",null,"Steuerspannung [V]","Steuerspannung [V]"]
[null,{"$f":"IF($A$233=$A$247,B251,IF($A$233=$A$261,B265,IF($A$233=$A$275,B279,IF($A$233=$A$289,B293,\"-\"))))","v":"[m³/h]"},"[1/min]",null,"[m³/h]","[m³/h]","[1/min]","[-]","[-]","[W/K]",0,"[-]","[W/K]","[W/K]","[W/K]",null,"[V]","[V]"]
[1,{"$f":"IF($A$233=$A$247,B252,IF($A$233=$A$261,B266,IF($A$233=$A$275,B280,IF($A$233=$A$289,B294,\"-\"))))","v":139.69402283391284},517.54370589476957,null,139.69402283391284,139.69402283391284,517.54370589476957,1.4357110589136486,0.93392125113754243,35.218774884386264,35.233350384099005,0.99999999999999978,35.218774884386264,32.891562303557478,50.563984582903615,null,3.6662511205488344,3.6654571439099417]
[2,{"$f":"IF($A$233=$A$247,B253,IF($A$233=$A$261,B267,IF($A$233=$A$275,B281,IF($A$233=$A$289,B295,\"-\"))))","v":174.73952118343757},625.77829255026722,null,174.73952118343757,174.73952118343757,625.77829255026722,1.3905014423231365,0.92128970007085675,42.133669889567706,42.024380857434195,0.99999999999999989,42.133669889567706,38.817316095444319,58.586928751810802,null,4.6019531031838712,4.6013758127950455]
[3,{"$f":"IF($A$233=$A$247,B254,IF($A$233=$A$261,B268,IF($A$233=$A$275,B282,IF($A$233=$A$289,B296,\"-\"))))","v":218.57527244750682},756.64304869176635,null,218.57527244750682,218.57527244750682,756.64304869176635,1.3474947667487078,0.9108365200919315,49.828563376096987,49.725777305684133,0.99999999999999978,49.828563376096987,45.385675266664443,67.143728383897013,null,5.7764189650565241,5.7762207150005374]
[4,{"$f":"IF($A$233=$A$247,B255,IF($A$233=$A$261,B269,IF($A$233=$A$275,B283,IF($A$233=$A$289,B297,\"-\"))))","v":273.40845080236602},914.87648125616442,null,273.40845080236602,273.40845080236602,914.87648125616442,1.3083741563275657,0.90386193571311602,58.085033972062611,58.106483755011553,0.99999999999999967,58.085033972062611,52.500851241950613,75.996957318455415,null,7.2506378891761054,7.2510498178222207]
[]
[]
[]
[]
[]
[{"$f":"A139","v":"Baugröße 630"},null,"DpK =",{"$f":"D233*J325","v":19.533332037422326},"[kPa]"]
[]
[{"$f":"CONCATENATE(\"bei \", ROUND($B$6,0), \" kg/h Kühlwassermassenstrom\")","v":"bei 200 kg/h Kühlwassermassenstrom"},null,null,null,null,"für kondensierende Auslegung"]
["Auslegung",{"$f":"$C$194","v":"Volumenstrom"},{"$f":"$C$195","v":"Drehzahl"},null,{"$f":"CONCATENATE(\"Volumenstrom - \",A247)","v":"Volumenstrom - Baugröße 630"},{"$f":"CONCATENATE(\"Volumenstrom - \",$A$233)","v":"Volumenstrom - Baugröße 800"},"Drehzahl","Korrektur Total \nbei Sollwassermenge","Korrektur Sensibel\nbei Sollwassermenge","qSK1)  - aus Volumenstrom der gemessenen Baugröße","qSK1)  - aus Drehzahl","Korrektur Baugröße","qSK1)  - aus Volumenstrom","qSK2)  - aus Volumenstrom","qtotal2)  - aus Volumenstrom",null,"Steuerspannung [V]","Steuerspannung [V]"]
[null,{"$f":"$D$194","v":"[m³/h]"},{"$f":"$D$195","v":"[1/min]"},null,"[m³/h]","[m³/h]","[1/min]","[-]","[-]","[W/K]",null,"[-]","[W/K]","[W/K]","[W/K]",null,"[V]","[V]"]
[{"$f":"VKL!A22","v":1},{"$f":"VKL!B22","v":107.1530557757868},{"$f":"$C$164*B252^$D$164","v":546.4144783819612},null,{"$f":"IF($B$152=1,B252,C252)","v":107.1530557757868},{"$f":"E252/$C$139","v":148.92458599346639},{"$f":"IF($B$152=2,B252,C252)","v":546.4144783819612},{"$f":"Auslegung_BG800_kondensierend!AH32","v":1.4227206924048619},{"$f":"Auslegung_BG800_kondensierend!AL32","v":0.93017384576603157},{"$f":"$C$185*F252^$C$184+$D$185*F252^$D$184+$E$185*F252^$E$184+$F$185*F252^$F$184","v":37.108701779003759},{"$f":"$C$187*G252^$C$186+$D$187*G252^$D$186+$E$187*G252^$E$186+$F$187*G252^$F$186","v":37.07717949159823},{"$f":"$I$216*J252^$I$215+$J$216*J252^$J$215+$K$216*J252^$K$215+$L$216*J252^$L$215+$M$216*J252^$M$215+$N$216*J252^$N$215+$O$216*J252^$O$215","v":0.72651472465397171},{"$f":"IF($A$247=$A$233,J252,J252*L252)","v":26.960018255239266},{"$f":"M252*I252","v":25.077503862398324},{"$f":"M252*H252","v":38.356575839341723},null,{"$f":"$Q$31*G252^$R$31","v":3.9123839437968289},{"$f":"$Q$37*F252^$R$37","v":3.9116385643377058}]
[{"$f":"VKL!A23","v":2},{"$f":"VKL!B23","v":134.03517977466791},{"$f":"$C$164*B253^$D$164","v":660.68803871282785},null,{"$f":"IF($B$152=1,B253,C253)","v":134.03517977466791},{"$f":"E253/$C$139","v":186.28618205970795},{"$f":"IF($B$152=2,B253,C253)","v":660.68803871282785},{"$f":"Auslegung_BG800_kondensierend!AH33","v":1.3778693830057145},{"$f":"Auslegung_BG800_kondensierend!AL33","v":0.91801414216460964},{"$f":"$C$185*F253^$C$184+$D$185*F253^$D$184+$E$185*F253^$E$184+$F$185*F253^$F$184","v":44.260481875883457},{"$f":"$C$187*G253^$C$186+$D$187*G253^$D$186+$E$187*G253^$E$186+$F$187*G253^$F$186","v":44.138287384239057},{"$f":"$I$216*J253^$I$215+$J$216*J253^$J$215+$K$216*J253^$K$215+$L$216*J253^$L$215+$M$216*J253^$M$215+$N$216*J253^$N$215+$O$216*J253^$O$215","v":0.72916159658170487},{"$f":"IF($A$247=$A$233,J253,J253*L253)","v":32.27304363009479},{"$f":"M253*I253","v":29.627110463122488},{"$f":"M253*H253","v":44.468038714315213},null,{"$f":"$Q$31*G253^$R$31","v":4.9109146393781291},{"$f":"$Q$37*F253^$R$37","v":4.9104265153065993}]
[{"$f":"VKL!A24","v":3},{"$f":"VKL!B24","v":167.66070839900547},{"$f":"$C$164*B254^$D$164","v":798.8573032713399},null,{"$f":"IF($B$152=1,B254,C254)","v":167.66070839900547},{"$f":"E254/$C$139","v":233.01996760539745},{"$f":"IF($B$152=2,B254,C254)","v":798.8573032713399},{"$f":"Auslegung_BG800_kondensierend!AH34","v":1.3359129200844166},{"$f":"Auslegung_BG800_kondensierend!AL34","v":0.90844776164902719},{"$f":"$C$185*F254^$C$184+$D$185*F254^$D$184+$E$185*F254^$E$184+$F$185*F254^$F$184","v":52.145324640583411},{"$f":"$C$187*G254^$C$186+$D$187*G254^$D$186+$E$187*G254^$E$186+$F$187*G254^$F$186","v":52.070028148521452},{"$f":"$I$216*J254^$I$215+$J$216*J254^$J$215+$K$216*J254^$K$215+$L$216*J254^$L$215+$M$216*J254^$M$215+$N$216*J254^$N$215+$O$216*J254^$O$215","v":0.73354834546304348},{"$f":"IF($A$247=$A$233,J254,J254*L254)","v":38.251116613733231},{"$f":"M254*I254","v":34.749141268321871},{"$f":"M254*H254","v":51.100160891941904},null,{"$f":"$Q$31*G254^$R$31","v":6.1642682686804227},{"$f":"$Q$37*F254^$R$37","v":6.1642173094818666}]
[{"$f":"VKL!A25","v":4},{"$f":"VKL!B25","v":209.72129362659112},{"$f":"$C$164*B255^$D$164","v":965.91943124904276},null,{"$f":"IF($B$152=1,B255,C255)","v":209.72129362659112},{"$f":"E255/$C$139","v":291.47705215899106},{"$f":"IF($B$152=2,B255,C255)","v":965.91943124904276},{"$f":"Auslegung_BG800_kondensierend!AH35","v":1.2976715272013271},{"$f":"Auslegung_BG800_kondensierend!AL35","v":0.90256771013997528},{"$f":"$C$185*F255^$C$184+$D$185*F255^$D$184+$E$185*F255^$E$184+$F$185*F255^$F$184","v":60.49887301676246},{"$f":"$C$187*G255^$C$186+$D$187*G255^$D$186+$E$187*G255^$E$186+$F$187*G255^$F$186","v":60.55518889027941},{"$f":"$I$216*J255^$I$215+$J$216*J255^$J$215+$K$216*J255^$K$215+$L$216*J255^$L$215+$M$216*J255^$M$215+$N$216*J255^$N$215+$O$216*J255^$O$215","v":0.73982985880066621},{"$f":"IF($A$247=$A$233,J255,J255*L255)","v":44.758872681590802},{"$f":"M255*I255","v":40.397913224670106},{"$f":"M255*H255","v":58.08231466852969},null,{"$f":"$Q$31*G255^$R$31","v":7.7374773796870349},{"$f":"$Q$37*F255^$R$37","v":7.7381185777624495}]
[]
[]
[]
[]
[]
[{"$f":"A140","v":"Baugröße 800"},null,"DpK =",{"$f":"D233*K325","v":24.164501376514277},"[kPa]"]
[]
[{"$f":"CONCATENATE(\"bei \", ROUND($B$6,0), \" kg/h Kühlwassermassenstrom\")","v":"bei 200 kg/h Kühlwassermassenstrom"},null,null,null,null,"für kondensierende Auslegung"]
["Auslegung",{"$f":"$C$194","v":"Volumenstrom"},{"$f":"$C$195","v":"Drehzahl"},null,{"$f":"CONCATENATE(\"Volumenstrom - \",A261)","v":"Volumenstrom - Baugröße 800"},{"$f":"CONCATENATE(\"Volumenstrom - \",$A$233)","v":"Volumenstrom - Baugröße 800"},"Drehzahl","Korrektur Total \nbei Sollwassermenge","Korrektur Sensibel\nbei Sollwassermenge","qSK1)  - aus Volumenstrom der gemessenen Baugröße","qSK1)  - aus Drehzahl","Korrektur Baugröße","qSK1)  - aus Volumenstrom","qSK2)  - aus Volumenstrom","qtotal2)  - aus Volumenstrom",null,"Steuerspannung [V]","Steuerspannung [V]"]
[null,{"$f":"$D$194","v":"[m³/h]"},{"$f":"$D$195","v":"[1/min]"},null,"[m³/h]","[m³/h]","[1/min]","[-]","[-]","[W/K]",null,"[-]","[W/K]","[W/K]","[W/K]",null,"[V]","[V]"]
[{"$f":"VKL!A36","v":1},{"$f":"VKL!B36","v":139.69402283391284},{"$f":"$C$169*B266^$D$169","v":517.54370589476957},null,{"$f":"IF($B$152=1,B266,C266)","v":139.69402283391284},{"$f":"E266/$C$140","v":139.69402283391284},{"$f":"IF($B$152=2,B266,C266)","v":517.54370589476957},{"$f":"Auslegung_BG800_kondensierend!AH36","v":1.4357110589136486},{"$f":"Auslegung_BG800_kondensierend!AL36","v":0.93392125113754243},{"$f":"$C$185*F266^$C$184+$D$185*F266^$D$184+$E$185*F266^$E$184+$F$185*F266^$F$184","v":35.218774884386264},{"$f":"$C$187*G266^$C$186+$D$187*G266^$D$186+$E$187*G266^$E$186+$F$187*G266^$F$186","v":35.233350384099005},{"$f":"$I$217*J266^$I$215+$J$217*J266^$J$215+$K$217*J266^$K$215+$L$217*J266^$L$215+$M$217*J266^$M$215+$N$217*J266^$N$215+$O$217*J266^$O$215","v":0.99999999999999978},{"$f":"IF($A$261=$A$233,J266,J266*L266)","v":35.218774884386264},{"$f":"M266*I266","v":32.891562303557478},{"$f":"M266*H266","v":50.563984582903615},null,{"$f":"$Q$31*G266^$R$31","v":3.6662511205488344},{"$f":"$Q$37*F266^$R$37","v":3.6654571439099417}]
[{"$f":"VKL!A37","v":2},{"$f":"VKL!B37","v":174.73952118343757},{"$f":"$C$169*B267^$D$169","v":625.77829255026722},null,{"$f":"IF($B$152=1,B267,C267)","v":174.73952118343757},{"$f":"E267/$C$140","v":174.73952118343757},{"$f":"IF($B$152=2,B267,C267)","v":625.77829255026722},{"$f":"Auslegung_BG800_kondensierend!AH37","v":1.3905014423231365},{"$f":"Auslegung_BG800_kondensierend!AL37","v":0.92128970007085675},{"$f":"$C$185*F267^$C$184+$D$185*F267^$D$184+$E$185*F267^$E$184+$F$185*F267^$F$184","v":42.133669889567706},{"$f":"$C$187*G267^$C$186+$D$187*G267^$D$186+$E$187*G267^$E$186+$F$187*G267^$F$186","v":42.024380857434195},{"$f":"$I$217*J267^$I$215+$J$217*J267^$J$215+$K$217*J267^$K$215+$L$217*J267^$L$215+$M$217*J267^$M$215+$N$217*J267^$N$215+$O$217*J267^$O$215","v":0.99999999999999989},{"$f":"IF($A$261=$A$233,J267,J267*L267)","v":42.133669889567706},{"$f":"M267*I267","v":38.817316095444319},{"$f":"M267*H267","v":58.586928751810802},null,{"$f":"$Q$31*G267^$R$31","v":4.6019531031838712},{"$f":"$Q$37*F267^$R$37","v":4.6013758127950455}]
[{"$f":"VKL!A38","v":3},{"$f":"VKL!B38","v":218.57527244750682},{"$f":"$C$169*B268^$D$169","v":756.64304869176635},null,{"$f":"IF($B$152=1,B268,C268)","v":218.57527244750682},{"$f":"E268/$C$140","v":218.57527244750682},{"$f":"IF($B$152=2,B268,C268)","v":756.64304869176635},{"$f":"Auslegung_BG800_kondensierend!AH38","v":1.3474947667487078},{"$f":"Auslegung_BG800_kondensierend!AL38","v":0.9108365200919315},{"$f":"$C$185*F268^$C$184+$D$185*F268^$D$184+$E$185*F268^$E$184+$F$185*F268^$F$184","v":49.828563376096987},{"$f":"$C$187*G268^$C$186+$D$187*G268^$D$186+$E$187*G268^$E$186+$F$187*G268^$F$186","v":49.725777305684133},{"$f":"$I$217*J268^$I$215+$J$217*J268^$J$215+$K$217*J268^$K$215+$L$217*J268^$L$215+$M$217*J268^$M$215+$N$217*J268^$N$215+$O$217*J268^$O$215","v":0.99999999999999978},{"$f":"IF($A$261=$A$233,J268,J268*L268)","v":49.828563376096987},{"$f":"M268*I268","v":45.385675266664443},{"$f":"M268*H268","v":67.143728383897013},null,{"$f":"$Q$31*G268^$R$31","v":5.7764189650565241},{"$f":"$Q$37*F268^$R$37","v":5.7762207150005374}]
[{"$f":"VKL!A39","v":4},{"$f":"VKL!B39","v":273.40845080236602},{"$f":"$C$169*B269^$D$169","v":914.87648125616442},null,{"$f":"IF($B$152=1,B269,C269)","v":273.40845080236602},{"$f":"E269/$C$140","v":273.40845080236602},{"$f":"IF($B$152=2,B269,C269)","v":914.87648125616442},{"$f":"Auslegung_BG800_kondensierend!AH39","v":1.3083741563275657},{"$f":"Auslegung_BG800_kondensierend!AL39","v":0.90386193571311602},{"$f":"$C$185*F269^$C$184+$D$185*F269^$D$184+$E$185*F269^$E$184+$F$185*F269^$F$184","v":58.085033972062611},{"$f":"$C$187*G269^$C$186+$D$187*G269^$D$186+$E$187*G269^$E$186+$F$187*G269^$F$186","v":58.106483755011553},{"$f":"$I$217*J269^$I$215+$J$217*J269^$J$215+$K$217*J269^$K$215+$L$217*J269^$L$215+$M$217*J269^$M$215+$N$217*J269^$N$215+$O$217*J269^$O$215","v":0.99999999999999967},{"$f":"IF($A$261=$A$233,J269,J269*L269)","v":58.085033972062611},{"$f":"M269*I269","v":52.500851241950613},{"$f":"M269*H269","v":75.996957318455415},null,{"$f":"$Q$31*G269^$R$31","v":7.2506378891761054},{"$f":"$Q$37*F269^$R$37","v":7.2510498178222207}]
[]
[]
[]
[]
[]
[{"$f":"A141","v":"Baugröße 1000"},null,"DpK =",{"$f":"D233*L325","v":28.317587971864072},"[kPa]"]
[]
[{"$f":"CONCATENATE(\"bei \", ROUND($B$6,0), \" kg/h Kühlwassermassenstrom\")","v":"bei 200 kg/h Kühlwassermassenstrom"},null,null,null,null,"für kondensierende Auslegung"]
["Auslegung",{"$f":"$C$194","v":"Volumenstrom"},{"$f":"$C$195","v":"Drehzahl"},null,{"$f":"CONCATENATE(\"Volumenstrom - \",A275)","v":"Volumenstrom - Baugröße 1000"},{"$f":"CONCATENATE(\"Volumenstrom - \",$A$233)","v":"Volumenstrom - Baugröße 800"},"Drehzahl","Korrektur Total \nbei Sollwassermenge","Korrektur Sensibel\nbei Sollwassermenge","qSK1)  - aus Volumenstrom der gemessenen Baugröße","qSK1)  - aus Drehzahl","Korrektur Baugröße","qSK1)  - aus Volumenstrom","qSK2)  - aus Volumenstrom","qtotal2)  - aus Volumenstrom",null,"Steuerspannung [V]","Steuerspannung [V]"]
[null,{"$f":"$D$194","v":"[m³/h]"},{"$f":"$D$195","v":"[1/min]"},null,"[m³/h]","[m³/h]","[1/min]","[-]","[-]","[W/K]",null,"[-]","[W/K]","[W/K]","[W/K]",null,"[V]","[V]"]
[{"$f":"VKL!A50","v":1},{"$f":"VKL!B50","v":166.54338598998621},{"$f":"$C$174*B280^$D$174","v":499.23580914657231},null,{"$f":"IF($B$152=1,B280,C280)","v":166.54338598998621},{"$f":"E280/$C$141","v":133.88782010959676},{"$f":"IF($B$152=2,B280,C280)","v":499.23580914657231},{"$f":"Auslegung_BG800_kondensierend!AH40","v":1.4443110586798946},{"$f":"Auslegung_BG800_kondensierend!AL40","v":0.93644364076659459},{"$f":"$C$185*F280^$C$184+$D$185*F280^$D$184+$E$185*F280^$E$184+$F$185*F280^$F$184","v":34.004216433582485},{"$f":"$C$187*G280^$C$186+$D$187*G280^$D$186+$E$187*G280^$E$186+$F$187*G280^$F$186","v":34.053036050906734},{"$f":"$I$218*J280^$I$215+$J$218*J280^$J$215+$K$218*J280^$K$215+$L$218*J280^$L$215+$M$218*J280^$M$215+$N$218*J280^$N$215+$O$218*J280^$O$215","v":1.2266605874669718},{"$f":"IF($A$275=$A$233,J280,J280*L280)","v":41.711632106772349},{"$f":"M280*I280","v":39.060592632382679},{"$f":"M280*H280","v":60.244571527398655},null,{"$f":"$Q$31*G280^$R$31","v":3.5115569234757675},{"$f":"$Q$37*F280^$R$37","v":3.5107357682352909}]
[{"$f":"VKL!A51","v":2},{"$f":"VKL!B51","v":208.32502063006203},{"$f":"$C$174*B281^$D$174","v":603.64249797491175},null,{"$f":"IF($B$152=1,B281,C281)","v":208.32502063006203},{"$f":"E281/$C$141","v":167.47697736926554},{"$f":"IF($B$152=2,B281,C281)","v":603.64249797491175},{"$f":"Auslegung_BG800_kondensierend!AH41","v":1.3989872220760988},{"$f":"Auslegung_BG800_kondensierend!AL41","v":0.92356308864507974},{"$f":"$C$185*F281^$C$184+$D$185*F281^$D$184+$E$185*F281^$E$184+$F$185*F281^$F$184","v":40.75815068155498},{"$f":"$C$187*G281^$C$186+$D$187*G281^$D$186+$E$187*G281^$E$186+$F$187*G281^$F$186","v":40.663546090986486},{"$f":"$I$218*J281^$I$215+$J$218*J281^$J$215+$K$218*J281^$K$215+$L$218*J281^$L$215+$M$218*J281^$M$215+$N$218*J281^$N$215+$O$218*J281^$O$215","v":1.2243965482945645},{"$f":"IF($A$275=$A$233,J281,J281*L281)","v":49.904139009365664},{"$f":"M281*I281","v":46.089620759663163},{"$f":"M281*H281","v":69.815252802811955},null,{"$f":"$Q$31*G281^$R$31","v":4.4077852802915629},{"$f":"$Q$37*F281^$R$37","v":4.4071561767031104}]
[{"$f":"VKL!A52","v":3},{"$f":"VKL!B52","v":260.58869163782259},{"$f":"$C$174*B282^$D$174","v":729.88419825137987},null,{"$f":"IF($B$152=1,B282,C282)","v":260.58869163782259},{"$f":"E282/$C$141","v":209.49286974805347},{"$f":"IF($B$152=2,B282,C282)","v":729.88419825137987},{"$f":"Auslegung_BG800_kondensierend!AH42","v":1.3553675492656683},{"$f":"Auslegung_BG800_kondensierend!AL42","v":0.91258323459303559},{"$f":"$C$185*F282^$C$184+$D$185*F282^$D$184+$E$185*F282^$E$184+$F$185*F282^$F$184","v":48.317579169858938},{"$f":"$C$187*G282^$C$186+$D$187*G282^$D$186+$E$187*G282^$E$186+$F$187*G282^$F$186","v":48.202448684669129},{"$f":"$I$218*J282^$I$215+$J$218*J282^$J$215+$K$218*J282^$K$215+$L$218*J282^$L$215+$M$218*J282^$M$215+$N$218*J282^$N$215+$O$218*J282^$O$215","v":1.2197909889099416},{"$f":"IF($A$275=$A$233,J282,J282*L282)","v":58.937347677336632},{"$f":"M282*I282","v":53.785235381718195},{"$f":"M282*H282","v":79.881768481650383},null,{"$f":"$Q$31*G282^$R$31","v":5.5327524278424676},{"$f":"$Q$37*F282^$R$37","v":5.5324669429028672}]
[{"$f":"VKL!A53","v":4},{"$f":"VKL!B53","v":325.96390436076189},{"$f":"$C$174*B283^$D$174","v":882.52691105732276},null,{"$f":"IF($B$152=1,B283,C283)","v":325.96390436076189},{"$f":"E283/$C$141","v":262.04941330963209},{"$f":"IF($B$152=2,B283,C283)","v":882.52691105732276},{"$f":"Auslegung_BG800_kondensierend!AH43","v":1.3155269725416372},{"$f":"Auslegung_BG800_kondensierend!AL43","v":0.9048848646998342},{"$f":"$C$185*F283^$C$184+$D$185*F283^$D$184+$E$185*F283^$E$184+$F$185*F283^$F$184","v":56.492182823699309},{"$f":"$C$187*G283^$C$186+$D$187*G283^$D$186+$E$187*G283^$E$186+$F$187*G283^$F$186","v":56.486746867198661},{"$f":"$I$218*J283^$I$215+$J$218*J283^$J$215+$K$218*J283^$K$215+$L$218*J283^$L$215+$M$218*J283^$M$215+$N$218*J283^$N$215+$O$218*J283^$O$215","v":1.2130283841715079},{"$f":"IF($A$275=$A$233,J283,J283*L283)","v":68.52662124895339},{"$f":"M283*I283","v":62.008702397195968},{"$f":"M283*H283","v":90.148618590143073},null,{"$f":"$Q$31*G283^$R$31","v":6.9448337784023746},{"$f":"$Q$37*F283^$R$37","v":6.9451083460265099}]
[]
[]
[]
[]
[]
[{"$f":"A142","v":"Baugröße 1200"},null,"DpK =",{"$f":"D233*M325","v":32.444395967232076},"[kPa]"]
[]
[{"$f":"CONCATENATE(\"bei \", ROUND($B$6,0), \" kg/h Kühlwassermassenstrom\")","v":"bei 200 kg/h Kühlwassermassenstrom"},null,null,null,null,"für kondensierende Auslegung"]
["Auslegung",{"$f":"$C$194","v":"Volumenstrom"},{"$f":"$C$195","v":"Drehzahl"},null,{"$f":"CONCATENATE(\"Volumenstrom - \",A289)","v":"Volumenstrom - Baugröße 1200"},{"$f":"CONCATENATE(\"Volumenstrom - \",$A$233)","v":"Volumenstrom - Baugröße 800"},"Drehzahl","Korrektur Total \nbei Sollwassermenge","Korrektur Sensibel\nbei Sollwassermenge","qSK1)  - aus Volumenstrom der gemessenen Baugröße","qSK1)  - aus Drehzahl","Korrektur Baugröße","qSK1)  - aus Volumenstrom","qSK2)  - aus Volumenstrom","qtotal2)  - aus Volumenstrom",null,"Steuerspannung [V]","Steuerspannung [V]"]
[null,{"$f":"$D$194","v":"[m³/h]"},{"$f":"$D$195","v":"[1/min]"},null,"[m³/h]","[m³/h]","[1/min]","[-]","[-]","[W/K]",null,"[-]","[W/K]","[W/K]","[W/K]",null,"[V]","[V]"]
[{"$f":"VKL!A78","v":0},{"$f":"VKL!B64","v":161.36323610164138},{"$f":"$C$174*B294^$D$174","v":486.03062630142102},null,{"$f":"IF($B$152=1,B294,C294)","v":161.36323610164138},{"$f":"E294/$C$141","v":129.72338588563326},{"$f":"IF($B$152=2,B294,C294)","v":486.03062630142102},{"$f":"Auslegung_BG800_kondensierend!AH44","v":1.4506904282944815},{"$f":"Auslegung_BG800_kondensierend!AL44","v":0.93833385944210057},{"$f":"$C$185*F294^$C$184+$D$185*F294^$D$184+$E$185*F294^$E$184+$F$185*F294^$F$184","v":33.120700581017587},{"$f":"$C$187*G294^$C$186+$D$187*G294^$D$186+$E$187*G294^$E$186+$F$187*G294^$F$186","v":33.196613323763671},{"$f":"$I$219*J294^$I$215+$J$219*J294^$J$215+$K$219*J294^$K$215+$L$219*J294^$L$215+$M$219*J294^$M$215+$N$219*J294^$N$215+$O$219*J294^$O$215","v":1.4628045833399967},{"$f":"IF($A$289=$A$233,J294,J294*L294)","v":48.449112613344219},{"$f":"M294*I294","v":45.461442825024236},{"$f":"M294*H294","v":70.284663927539896},null,{"$f":"$Q$31*G294^$R$31","v":3.400667999996752},{"$f":"$Q$37*F294^$R$37","v":3.3998290373366062}]
[{"$f":"VKL!A79","v":0},{"$f":"VKL!B65","v":201.84519142823666},{"$f":"$C$174*B295^$D$174","v":587.67541051744854},null,{"$f":"IF($B$152=1,B295,C295)","v":201.84519142823666},{"$f":"E295/$C$141","v":162.26770291289614},{"$f":"IF($B$152=2,B295,C295)","v":587.67541051744854},{"$f":"Auslegung_BG800_kondensierend!AH45","v":1.405345038401407},{"$f":"Auslegung_BG800_kondensierend!AL45","v":0.92530000404646096},{"$f":"$C$185*F295^$C$184+$D$185*F295^$D$184+$E$185*F295^$E$184+$F$185*F295^$F$184","v":39.753267317983024},{"$f":"$C$187*G295^$C$186+$D$187*G295^$D$186+$E$187*G295^$E$186+$F$187*G295^$F$186","v":39.672552625507926},{"$f":"$I$219*J295^$I$215+$J$219*J295^$J$215+$K$219*J295^$K$215+$L$219*J295^$L$215+$M$219*J295^$M$215+$N$219*J295^$N$215+$O$219*J295^$O$215","v":1.4559757714524419},{"$f":"IF($A$289=$A$233,J295,J295*L295)","v":57.879794051055484},{"$f":"M295*I295","v":53.556173669649965},{"$f":"M295*H295","v":81.341081393346101},null,{"$f":"$Q$31*G295^$R$31","v":4.2685927044225753},{"$f":"$Q$37*F295^$R$37","v":4.2679285602406019}]
[{"$f":"VKL!A80","v":0},{"$f":"VKL!B66","v":252.48319008240352},{"$f":"$C$174*B296^$D$174","v":710.57776419048889},null,{"$f":"IF($B$152=1,B296,C296)","v":252.48319008240352},{"$f":"E296/$C$141","v":202.97668222310872},{"$f":"IF($B$152=2,B296,C296)","v":710.57776419048889},{"$f":"Auslegung_BG800_kondensierend!AH46","v":1.3613242537409047},{"$f":"Auslegung_BG800_kondensierend!AL46","v":0.91396239091555442},{"$f":"$C$185*F296^$C$184+$D$185*F296^$D$184+$E$185*F296^$E$184+$F$185*F296^$F$184","v":47.207179319837806},{"$f":"$C$187*G296^$C$186+$D$187*G296^$D$186+$E$187*G296^$E$186+$F$187*G296^$F$186","v":47.086178599691969},{"$f":"$I$219*J296^$I$215+$J$219*J296^$J$215+$K$219*J296^$K$215+$L$219*J296^$L$215+$M$219*J296^$M$215+$N$219*J296^$N$215+$O$219*J296^$O$215","v":1.4434305375198773},{"$f":"IF($A$289=$A$233,J296,J296*L296)","v":68.140284220430715},{"$f":"M296*I296","v":62.277657083770279},{"$f":"M296*H296","v":92.761021566070994},null,{"$f":"$Q$31*G296^$R$31","v":5.3580338518576829},{"$f":"$Q$37*F296^$R$37","v":5.3576884551813366}]
[{"$f":"VKL!A81","v":0},{"$f":"VKL!B67","v":315.82528283981998},{"$f":"$C$174*B297^$D$174","v":859.18367306983089},null,{"$f":"IF($B$152=1,B297,C297)","v":315.82528283981998},{"$f":"E297/$C$141","v":253.89875679279646},{"$f":"IF($B$152=2,B297,C297)","v":859.18367306983089},{"$f":"Auslegung_BG800_kondensierend!AH47","v":1.320915202013238},{"$f":"Auslegung_BG800_kondensierend!AL47","v":0.90573713815915924},{"$f":"$C$185*F297^$C$184+$D$185*F297^$D$184+$E$185*F297^$E$184+$F$185*F297^$F$184","v":55.31235619094943},{"$f":"$C$187*G297^$C$186+$D$187*G297^$D$186+$E$187*G297^$E$186+$F$187*G297^$F$186","v":55.286696758869432},{"$f":"$I$219*J297^$I$215+$J$219*J297^$J$215+$K$219*J297^$K$215+$L$219*J297^$L$215+$M$219*J297^$M$215+$N$219*J297^$N$215+$O$219*J297^$O$215","v":1.4254406881180157},{"$f":"IF($A$289=$A$233,J297,J297*L297)","v":78.844483070255748},{"$f":"M297*I297","v":71.412376455691728},{"$f":"M297*H297","v":104.1468762823762},null,{"$f":"$Q$31*G297^$R$31","v":6.7255306762795435},{"$f":"$Q$37*F297^$R$37","v":6.7257100499101368}]
[]
[]
[]
[]
[]
[]
[]
[]
[]
[]
[]
["Kühlen - Druckverlust Wasser",null,null,null,null,null,null,null,null,null,null,null,null,null,null,null,null,"heizen - Druckverlust Wasser"]
[]
[]
["Korrektur",null,null,null,null,null,null,null,null,null,null,null,null,null,null,null,null,600,830,1030,1230,null,null,null,null,"Korrektur 600",null,"Korrektur 1030","Korrektur 1230"]
[]
["Master"]
[{"$f":"A137","v":"Baugröße 800"},1,{"$f":"$A$247","v":"Baugröße 630"},{"$f":"$A$261","v":"Baugröße 800"},{"$f":"$A$275","v":"Baugröße 1000"},{"$f":"$A$289","v":"Baugröße 1200"},null,null,null,{"$f":"$A$247","v":"Baugröße 630"},{"$f":"$A$261","v":"Baugröße 800"},{"$f":"$A$275","v":"Baugröße 1000"},{"$f":"$A$289","v":"Baugröße 1200"}]
[null,2,{"$f":"CONCATENATE(\"WT Länge = \",$B$139)","v":"WT Länge = 590"},{"$f":"CONCATENATE(\"WT Länge = \",$B$140)","v":"WT Länge = 820"},{"$f":"CONCATENATE(\"WT Länge = \",$B$141)","v":"WT Länge = 1020"},{"$f":"CONCATENATE(\"WT Länge = \",$B$142)","v":"WT Länge = 1200"},null,null,null,{"$f":"CONCATENATE(\"WT Länge = \",$B$139)","v":"WT Länge = 590"},{"$f":"CONCATENATE(\"WT Länge = \",$B$140)","v":"WT Länge = 820"},{"$f":"CONCATENATE(\"WT Länge = \",$B$141)","v":"WT Länge = 1020"},{"$f":"CONCATENATE(\"WT Länge = \",$B$142)","v":"WT Länge = 1200"}]
[null,3]
[{"$f":"HLOOKUP($A$315,$C$315:$F$323,B318,0)","v":0.1},4,{"$f":"N334","v":0.1},{"$f":"N346","v":0.1},{"$f":"N358","v":0.1},{"$f":"N371","v":0.1},null,null,null,{"$f":"1/$A318*C318","v":1},{"$f":"1/$A318*D318","v":1},1,1,null,null,null,null,{"$f":"AB334","v":0},{"$f":"AB346","v":0},{"$f":"AB358","v":0},{"$f":"AB371","v":0.1}]
[{"$f":"HLOOKUP($A$315,$C$315:$F$323,B319,0)","v":2.4},5,1.9,2.4,2.8,3.2,null,null,null,0.79166666666666663,1,1.1666666666666667,1.3333333333333335,null,null,null,null,0.7,0.9,1.1000000000000001,1.2,null,null,null,null,{"$f":"1/S319*R319","v":0.77777777777777779},null,{"$f":"1/S319*T319","v":1.2222222222222223},{"$f":"1/S319*U319","v":1.3333333333333333}]
[{"$f":"HLOOKUP($A$315,$C$315:$F$323,B320,0)","v":6.8},6,5.5,6.8,8,9.1999999999999993,null,null,null,0.80882352941176472,1,1.1764705882352942,1.3529411764705881,null,null,null,null,2.1,2.6,3,3.5,null,null,null,null,{"$f":"1/S320*R320","v":0.80769230769230771},null,{"$f":"1/S320*T320","v":1.1538461538461537},{"$f":"1/S320*U320","v":1.346153846153846}]
[{"$f":"HLOOKUP($A$315,$C$315:$F$323,B321,0)","v":13.2},7,10.7,13.2,15.5,17.7,null,null,null,0.81060606060606055,1,1.1742424242424243,1.3409090909090908,null,null,null,null,4.0999999999999996,5,5.8,6.6,null,null,null,null,{"$f":"1/S321*R321","v":0.82},null,{"$f":"1/S321*T321","v":1.1599999999999999},{"$f":"1/S321*U321","v":1.32}]
[{"$f":"HLOOKUP($A$315,$C$315:$F$323,B322,0)","v":21.3},8,17.2,21.3,24.9,28.5,null,null,null,0.80751173708920176,1,1.169014084507042,1.3380281690140845,null,null,null,null,6.5,8,9.3000000000000007,10.6,null,null,null,null,{"$f":"1/S322*R322","v":0.8125},null,{"$f":"1/S322*T322","v":1.1625000000000001},{"$f":"1/S322*U322","v":1.325}]
[{"$f":"HLOOKUP($A$315,$C$315:$F$323,B323,0)","v":31},9,25,31,36.200000000000003,41.5,null,null,null,0.80645161290322576,1,1.167741935483871,1.3387096774193548,null,null,null,null,9.5,11.7,13.5,15.4,null,null,null,null,{"$f":"1/S323*R323","v":0.81196581196581197},null,{"$f":"1/S323*T323","v":1.153846153846154},{"$f":"1/S323*U323","v":1.3162393162393162}]
[]
[null,null,null,null,null,null,null,null,null,{"$f":"AVERAGE(J320:J323)","v":0.80834823500256325},{"$f":"AVERAGE(K320:K323)","v":1},{"$f":"AVERAGE(L320:L323)","v":1.1718672581171579},{"$f":"AVERAGE(M320:M323)","v":1.3426470284532794},null,null,null,null,null,null,null,null,null,null,null,null,{"$f":"AVERAGE(Z320:Z323)","v":0.81303952991452988},null,{"$f":"AVERAGE(AB320:AB323)","v":1.1575480769230768},{"$f":"AVERAGE(AC320:AC323)","v":1.3268482905982906}]
[]
[]
[600,null,null,null,null,null,null,null,null,null,null,null,null,null,null,null,null,600]
[]
["S","TWI","TWO","QA","VA","TAI","UR","PT","PS","TAO","UR","QW","VW","DPW","DPA",null,null,"S","TWI","TWO","QA","VA","TAI","PT","TAO","QW","VW","DPW","DPA"]
[null,"°C","°C","m3/h","m/s","°C"," % ","kW","kW","°C"," % ","l/h","m/s","kPa","Pa",null,null,null,"°C","°C","m3/h","m/s","°C","kW","°C","l/h","m/s","kPa","Pa"]
["S","TWI","TWO","QA","VA","TAI","UR","PT","PS","TAO","UR","QW","VW","DPW","DPA",null,null,"S","TWI","TWO","QA","VA","TAI","PT","TAO","QW","VW","DPW","DPA"]
[null,"°C","°C","m3/h","m/s","°C"," % ","kW","kW","°C"," % ","l/h","m/s","kPa","Pa",null,null,null,"°C","°C","m3/h","m/s","°C","kW","°C","l/h","m/s","kPa","Pa"]
[null,16,25.4,116,0.3,26,45,0.11,0.11,23.1,53,10,0,0.1,0,null,null,null,55,28.9,200,0.5,23,0.3,27.52,10,0,0,0]
[null,16,19.600000000000001,116,0.3,26,45,0.25,0.25,19.38,67,60,0.2,1.9,0,null,null,null,55,44.8,200,0.5,23,0.7,33.56,60,0.2,0.7,0]
[null,16,18.2,116,0.3,26,45,0.28999999999999998,0.28999999999999998,18.43,71.2,110,0.4,5.5,0,null,null,null,55,48.4,200,0.5,23,0.83,35.43,110,0.4,2.1,0]
[null,16,17.600000000000001,116,0.3,26,45,0.3,0.3,18.07,72.900000000000006,160,0.6,10.7,0,null,null,null,55,50.2,200,0.5,23,0.88,36.18,160,0.6,4.0999999999999996,0]
[null,16,17.3,116,0.3,26,45,0.31,0.31,17.89,73.5,210,0.8,17.2,0,null,null,null,55,51.2,200,0.5,23,0.9,36.57,210,0.8,6.5,0]
[null,16,17,116,0.3,26,45,0.31,0.31,17.78,74.2,260,1,25,0,null,null,null,55,51.9,200,0.5,23,0.92,36.81,260,1,9.5,0]
[]
[830,null,null,null,null,null,null,null,null,null,null,null,null,null,null,null,null,830]
["S","TWI","TWO","QA","VA","TAI","UR","PT","PS","TAO","UR","QW","VW","DPW","DPA",null,null,"S","TWI","TWO","QA","VA","TAI","PT","TAO","QW","VW","DPW","DPA"]
[null,"°C","°C","m3/h","m/s","°C"," % ","kW","kW","°C"," % ","l/h","m/s","kPa","Pa",null,null,null,"°C","°C","m3/h","m/s","°C","kW","°C","l/h","m/s","kPa","Pa"]
["S","TWI","TWO","QA","VA","TAI","UR","PT","PS","TAO","UR","QW","VW","DPW","DPA",null,null,"S","TWI","TWO","QA","VA","TAI","PT","TAO","QW","VW","DPW","DPA"]
[null,"°C","°C","m3/h","m/s","°C"," % ","kW","kW","°C"," % ","l/h","m/s","kPa","Pa",null,null,null,"°C","°C","m3/h","m/s","°C","kW","°C","l/h","m/s","kPa","Pa"]
[null,16,25.9,200,0.4,26,45,0.11,0.11,24.24,49.4,10,0,0.1,0,null,null,null,55,27,200,0.4,23,0.32,27.85,10,0,0,0]
[null,16,21,200,0.4,26,45,0.35,0.35,20.59,62,60,0.2,2.4,0,null,null,null,55,43.1,200,0.4,23,0.82,35.32,60,0.2,0.9,0]
[null,16,19.399999999999999,200,0.4,26,45,0.43,0.43,19.34,67.099999999999994,110,0.4,6.8,0,null,null,null,55,47.3,200,0.4,23,0.97,37.56,110,0.4,2.6,0]
[null,16,18.5,200,0.4,26,45,0.46,0.46,18.84,69.3,160,0.6,13.2,0,null,null,null,55,49.4,200,0.4,23,1.03,38.450000000000003,160,0.6,5,0]
[null,16,18,200,0.4,26,45,0.48,0.48,18.579999999999998,70.400000000000006,210,0.8,21.3,0,null,null,null,55,50.6,200,0.4,23,1.06,38.9,210,0.8,8,0]
[null,16,17.600000000000001,200,0.4,26,45,0.49,0.49,18.43,71.2,260,1,31,0,null,null,null,55,51.4,200,0.4,23,1.08,39.19,260,1,11.7,0]
[]
[1030,null,null,null,null,null,null,null,null,null,null,null,null,null,null,null,null,1030]
["S","TWI","TWO","QA","VA","TAI","UR","PT","PS","TAO","UR","QW","VW","DPW","DPA",null,null,"S","TWI","TWO","QA","VA","TAI","PT","TAO","QW","VW","DPW","DPA"]
[null,"°C","°C","m3/h","m/s","°C"," % ","kW","kW","°C"," % ","l/h","m/s","kPa","Pa",null,null,null,"°C","°C","m3/h","m/s","°C","kW","°C","l/h","m/s","kPa","Pa"]
["S","TWI","TWO","QA","VA","TAI","UR","PT","PS","TAO","UR","QW","VW","DPW","DPA",null,null,"S","TWI","TWO","QA","VA","TAI","PT","TAO","QW","VW","DPW","DPA"]
[null,"°C","°C","m3/h","m/s","°C"," % ","kW","kW","°C"," % ","l/h","m/s","kPa","Pa",null,null,null,"°C","°C","m3/h","m/s","°C","kW","°C","l/h","m/s","kPa","Pa"]
[null,16,25.9,200,0.3,26,45,0.12,0.12,24.23,49.4,10,0,0.1,0,null,null,null,55,25.9,200,0.3,23,0.34,28.03,10,0,0,0]
[null,16,21.4,200,0.3,26,45,0.38,0.38,20.2,63.6,60,0.2,2.8,0,null,null,null,55,41.9,200,0.3,23,0.9,36.54,60,0.2,1.1000000000000001,0]
[null,16,19.600000000000001,200,0.3,26,45,0.46,0.46,18.850000000000001,69.2,110,0.4,8,0,null,null,null,55,46.5,200,0.3,23,1.07,39.04,110,0.4,3,0]
[null,16,18.7,200,0.3,26,45,0.5,0.5,18.34,71.5,160,0.6,15.5,0,null,null,null,55,48.8,200,0.3,23,1.1299999999999999,40.020000000000003,160,0.6,5.8,0]
[null,16,18.100000000000001,200,0.3,26,45,0.51,0.51,18.09,72.7,210,0.8,24.9,0,null,null,null,55,50.1,200,0.3,23,1.17,40.520000000000003,210,0.8,9.3000000000000007,0]
[null,16,17.7,200,0.3,26,45,0.52,0.52,17.940000000000001,73.5,260,1,36.200000000000003,0,null,null,null,55,51,200,0.3,23,1.19,40.840000000000003,260,1,13.5,0]
[]
[]
[]
["S","TWI","TWO","QA","VA","TAI","UR","PT","PS","TAO","UR","QW","VW","DPW","DPA",null,null,"S","TWI","TWO","QA","VA","TAI","PT","TAO","QW","VW","DPW","DPA"]
[null,"°C","°C","m3/h","m/s","°C"," % ","kW","kW","°C"," % ","l/h","m/s","kPa","Pa",null,null,null,"°C","°C","m3/h","m/s","°C","kW","°C","l/h","m/s","kPa","Pa"]
["S","TWI","TWO","QA","VA","TAI","UR","PT","PS","TAO","UR","QW","VW","DPW","DPA",null,null,"S","TWI","TWO","QA","VA","TAI","PT","TAO","QW","VW","DPW","DPA"]
[null,"°C","°C","m3/h","m/s","°C"," % ","kW","kW","°C"," % ","l/h","m/s","kPa","Pa",null,null,null,"°C","°C","m3/h","m/s","°C","kW","°C","l/h","m/s","kPa","Pa"]
[null,16,26,200,0.3,26,45,0.12,0.12,24.22,49.4,10,0,0.1,0,null,null,null,55,25.2,200,0.3,23,0.34,28.15,10,0,0.1,0]
[null,16,21.7,200,0.3,26,45,0.4,0.4,19.88,64.900000000000006,60,0.2,3.2,0,null,null,null,55,40.9,200,0.3,23,0.97,37.56,60,0.2,1.2,0]
[null,16,19.8,200,0.3,26,45,0.49,0.49,18.46,71,110,0.4,9.1999999999999993,0,null,null,null,55,45.9,200,0.3,23,1.1499999999999999,40.29,110,0.4,3.5,0]
[null,16,18.8,200,0.3,26,45,0.52,0.52,17.95,73.400000000000006,160,0.6,17.7,0,null,null,null,55,48.3,200,0.3,23,1.22,41.34,160,0.6,6.6,0]
[null,16,18.2,200,0.3,26,45,0.54,0.54,17.71,74.5,210,0.8,28.5,0,null,null,null,55,49.8,200,0.3,23,1.26,41.89,210,0.8,10.6,0]
[null,16,17.8,200,0.3,26,45,0.55000000000000004,0.55000000000000004,17.559999999999999,75.3,260,1,41.5,0,null,null,null,55,50.7,200,0.3,23,1.28,42.21,260,1,15.4,0]

{"sheet":"BG;WT3,2;k","index":6,"n_rows":441,"n_cols":110,"rows_kept":441,"cut":false,"hidden":true,"merged":[]}
["TT",null,null,"Master auswählen ->","BG","WT","Verhältnis",null,"Polynom 6 Ordnung",6,5,4,3,2,1,0]
["2017-03-03",null,null,null,"BG 800",{"$f":"VLOOKUP(E2,E3:G6,2,0)","v":830},{"$f":"VLOOKUP(E2,E3:G6,3,0)","v":1},null,{"$f":"E2","v":"BG 800"},{"$f":"VLOOKUP($I2,$I$3:$P$6,2,0)","v":1.4215219648449425E-16},{"$f":"VLOOKUP($I2,$I$3:$P$6,3,0)","v":-2.5631997963674169E-13},{"$f":"VLOOKUP($I2,$I$3:$P$6,4,0)","v":-1.4887350812644426E-10},{"$f":"VLOOKUP($I2,$I$3:$P$6,5,0)","v":6.9160113347305388E-7},{"$f":"VLOOKUP($I2,$I$3:$P$6,6,0)","v":-6.8832513875944073E-4},{"$f":"VLOOKUP($I2,$I$3:$P$6,7,0)","v":0.3620754630460048},{"$f":"VLOOKUP($I2,$I$3:$P$6,8,0)","v":0},null,null,null,null,null,null,null,null,null,null,null,null,null,null,null,null,null,null,null,null,null,null,null,null,null,null,null,"  Datentabelle aus Eurocoil entnehmen"]
[null,null,null,null,"BG 630",600,{"$f":"F3/$F$2","v":0.72289156626506024},null,{"$f":"E3","v":"BG 630"},{"$f":"LINEST(AR18:AR117,AV18:AV117^{1,2,3,4,5,6},0,0)","v":-1.8135006382699553E-16},8.4675402256476301E-13,-1.6046751409279111E-9,1.6070988669481746E-6,-9.4153118089835501E-4,0.36088300476970353,0]
[null,null,null,null,"BG 800",830,{"$f":"F4/$F$2","v":1},null,{"$f":"E4","v":"BG 800"},{"$f":"LINEST(BI18:BI117,BM18:BM117^{1,2,3,4,5,6},0,0)","v":1.4215219648449425E-16},-2.5631997963674169E-13,-1.4887350812644426E-10,6.9160113347305388E-7,-6.8832513875944073E-4,0.3620754630460048,0]
["WT 4L",3.2,"mm",null,"BG 1000",1030,{"$f":"F5/$F$2","v":1.2409638554216869},null,{"$f":"E5","v":"BG 1000"},{"$f":"LINEST(BZ18:BZ117,CD18:CD117^{1,2,3,4,5,6},0,0)","v":3.4002555069477508E-16},-9.3074693501542378E-13,7.6445628722333344E-10,7.8817516861799249E-8,-4.9496128804693139E-4,0.35555617810700041,0]
["Länge",830,"mm",null,"BG 1200",1230,{"$f":"F6/$F$2","v":1.4819277108433735},null,{"$f":"E6","v":"BG 1200"},{"$f":"LINEST(CQ18:CQ116,CU18:CU116^{1,2,3,4,5,6},0,0)","v":4.1335317722297958E-16},-1.2357141751521776E-12,1.2545964150793252E-9,-2.9707673841329711E-7,-3.6696101891322039E-4,0.35383923484006213,0]
["Rohrreihen",3]
[null,null,null,null,null,null,null,null,"Korrekturfaktoren",6,5,4,3,2,1,0]
[null,null,null,null,null,null,null,null,{"$f":"E3","v":"BG 630"},{"$f":"LINEST(G18:G117,C18:C117^{0,1,2,3,4,5,6},0,0)","v":1.9431561472614572E-12},-5.7966513663789936E-10,6.4271622324181492E-8,-3.2796313202038004E-6,8.3471715107161652E-5,-8.1042095576984083E-4,0.72307373447868861]
["Grenzen",null,null,null,null,null,null,null,{"$f":"E4","v":"BG 800"},{"$f":"LINEST(J18:J117,C18:C117^{0,1,2,3,4,5,6},0,0)","v":-4.5065182817187669E-26},8.220154120588495E-24,0,-7.5651800354186965E-20,4.8206471312720581E-18,-9.7753242638633818E-17,1.0000000000000002]
["Maximum",{"$f":"MAX(B18:B117)","v":1000},"m³/h",null,null,null,null,null,{"$f":"E5","v":"BG 1000"},{"$f":"LINEST(M18:M97,C18:C97^{0,1,2,3,4,5,6},0,0)","v":-2.3425481281731126E-12},5.7876594222649172E-10,-5.0431685558410269E-8,1.873393153195928E-6,-4.0988594550350719E-5,7.8867528621639105E-4,1.2183134292917011]
[null,null,null,null,null,null,null,null,{"$f":"E6","v":"BG 1200"},{"$f":"LINEST(P18:P84,C18:C84^{0,1,2,3,4,5,6},0,0)","v":-6.562698072788781E-12},1.637379031641481E-9,-1.4758903061050266E-7,6.0194493859372346E-6,-1.4889601524840834E-4,2.5040420678397604E-3,1.4455087566500393]
[null,{"$f":"CONCATENATE(\"Master - \",AA13)","v":"Master - BG 800"},null,null,{"$f":"AR13","v":"BG630"},null,null,{"$f":"BI13","v":"BG 800"},null,null,{"$f":"BZ13","v":"BG1000"},null,null,{"$f":"CQ13","v":"BG1200"},null,null,null,null,null,null,null,null,null,null,null,null,{"$f":"E2","v":"BG 800"},null,null,null,null,null,null,null,null,null,null,null,null,null,null,null,null,"BG630",null,null,null,null,null,null,null,null,null,null,null,null,null,null,null,null,"BG 800",null,null,null,null,null,null,null,null,null,null,null,null,null,null,null,null,"BG1000",null,null,null,null,null,null,null,null,null,null,null,null,null,null,null,null,"BG1200"]
[null,"Volumen-nstrom","spez. \nLeistung","Korrektur-faktor","Volumen-nstrom","spez. \nLeistung","Korrektur-faktor","Volumen-nstrom","spez. \nLeistung","Korrektur-faktor","Volumen-nstrom","spez. \nLeistung","Korrektur-faktor","Volumen-nstrom","spez. \nLeistung","Korrektur-faktor",null,null,null,null,null,null,null,null,null,null,{"$f":"IF($AA$13=$AR$13,AR14,IF($AA$13=$BI$13,BI14,IF($AA$13=$BZ$13,BZ14,IF($AA$13=$CQ$13,CQ14,\"-\"))))","v":"q sensibel"},{"$f":"IF($AA$13=$AR$13,AS14,IF($AA$13=$BI$13,BJ14,IF($AA$13=$BZ$13,CA14,IF($AA$13=$CQ$13,CR14,\"-\"))))","v":"S"},"TWI","TWO","QA","VA","TAI","UR","PT","PS","TAO","UR","QW","VW","DPW","DPA",null,"q sensibel","S","TWI","TWO","QA","VA","TAI","UR","PT","PS","TAO","UR","QW","VW","DPW","DPA",null,"q sensibel","S","TWI","TWO","QA","VA","TAI","UR","PT","PS","TAO","UR","QW","VW","DPW","DPA",null,"q sensibel","S","TWI","TWO","QA","VA","TAI","UR","PT","PS","TAO","UR","QW","VW","DPW","DPA",null,"q sensibel","S","TWI","TWO","QA","VA","TAI","UR","PT","PS","TAO","UR","QW","VW","DPW","DPA"]
[null,"[m³/h]","[W/K]","[-]","[m³/h]","[W/K]","[-]","[m³/h]","[W/K]","[-]","[m³/h]","[W/K]","[-]","[m³/h]","[W/K]","[-]",null,null,null,null,null,null,null,null,null,null,{"$f":"IF($AA$13=$AR$13,AR15,IF($AA$13=$BI$13,BI15,IF($AA$13=$BZ$13,BZ15,IF($AA$13=$CQ$13,CQ15,\"-\"))))","v":"W/K"},{"$f":"IF($AA$13=$AR$13,AS15,IF($AA$13=$BI$13,BJ15,IF($AA$13=$BZ$13,CA15,IF($AA$13=$CQ$13,CR15,\"-\"))))","v":0},{"$f":"IF($AA$13=$AR$13,AT15,IF($AA$13=$BI$13,BK15,IF($AA$13=$BZ$13,CB15,IF($AA$13=$CQ$13,CS15,\"-\"))))","v":"°C"},{"$f":"IF($AA$13=$AR$13,AU15,IF($AA$13=$BI$13,BL15,IF($AA$13=$BZ$13,CC15,IF($AA$13=$CQ$13,CT15,\"-\"))))","v":"°C"},{"$f":"IF($AA$13=$AR$13,AV15,IF($AA$13=$BI$13,BM15,IF($AA$13=$BZ$13,CD15,IF($AA$13=$CQ$13,CU15,\"-\"))))","v":"m3/h"},{"$f":"IF($AA$13=$AR$13,AW15,IF($AA$13=$BI$13,BN15,IF($AA$13=$BZ$13,CE15,IF($AA$13=$CQ$13,CV15,\"-\"))))","v":"m/s"},{"$f":"IF($AA$13=$AR$13,AX15,IF($AA$13=$BI$13,BO15,IF($AA$13=$BZ$13,CF15,IF($AA$13=$CQ$13,CW15,\"-\"))))","v":"°C"},{"$f":"IF($AA$13=$AR$13,AY15,IF($AA$13=$BI$13,BP15,IF($AA$13=$BZ$13,CG15,IF($AA$13=$CQ$13,CX15,\"-\"))))","v":" % "},{"$f":"IF($AA$13=$AR$13,AZ15,IF($AA$13=$BI$13,BQ15,IF($AA$13=$BZ$13,CH15,IF($AA$13=$CQ$13,CY15,\"-\"))))","v":"kW"},{"$f":"IF($AA$13=$AR$13,BA15,IF($AA$13=$BI$13,BR15,IF($AA$13=$BZ$13,CI15,IF($AA$13=$CQ$13,CZ15,\"-\"))))","v":"kW"},{"$f":"IF($AA$13=$AR$13,BB15,IF($AA$13=$BI$13,BS15,IF($AA$13=$BZ$13,CJ15,IF($AA$13=$CQ$13,DA15,\"-\"))))","v":"°C"},{"$f":"IF($AA$13=$AR$13,BC15,IF($AA$13=$BI$13,BT15,IF($AA$13=$BZ$13,CK15,IF($AA$13=$CQ$13,DB15,\"-\"))))","v":" % "},{"$f":"IF($AA$13=$AR$13,BD15,IF($AA$13=$BI$13,BU15,IF($AA$13=$BZ$13,CL15,IF($AA$13=$CQ$13,DC15,\"-\"))))","v":"l/h"},{"$f":"IF($AA$13=$AR$13,BE15,IF($AA$13=$BI$13,BV15,IF($AA$13=$BZ$13,CM15,IF($AA$13=$CQ$13,DD15,\"-\"))))","v":"m/s"},{"$f":"IF($AA$13=$AR$13,BF15,IF($AA$13=$BI$13,BW15,IF($AA$13=$BZ$13,CN15,IF($AA$13=$CQ$13,DE15,\"-\"))))","v":"kPa"},{"$f":"IF($AA$13=$AR$13,BG15,IF($AA$13=$BI$13,BX15,IF($AA$13=$BZ$13,CO15,IF($AA$13=$CQ$13,DF15,\"-\"))))","v":"Pa"},null,"W/K",null,"°C","°C","m3/h","m/s","°C"," % ","kW","kW","°C"," % ","l/h","m/s","kPa","Pa",null,"W/K",null,"°C","°C","m3/h","m/s","°C"," % ","kW","kW","°C"," % ","l/h","m/s","kPa","Pa",null,"W/K",null,"°C","°C","m3/h","m/s","°C"," % ","kW","kW","°C"," % ","l/h","m/s","kPa","Pa",null,"W/K",null,"°C","°C","m3/h","m/s","°C"," % ","kW","kW","°C"," % ","l/h","m/s","kPa","Pa"]
[null,null,null,null,null,null,null,null,null,null,null,null,null,null,null,null,null,null,null,null,null,null,null,null,null,null,0,"S","TWI","TWO","QA","VA","TAI","UR","PT","PS","TAO","UR","QW","VW","DPW","DPA",null,null,"S","TWI","TWO","QA","VA","TAI","UR","PT","PS","TAO","UR","QW","VW","DPW","DPA",null,null,"S","TWI","TWO","QA","VA","TAI","UR","PT","PS","TAO","UR","QW","VW","DPW","DPA",null,null,"S","TWI","TWO","QA","VA","TAI","UR","PT","PS","TAO","UR","QW","VW","DPW","DPA",null,null,"S","TWI","TWO","QA","VA","TAI","UR","PT","PS","TAO","UR","QW","VW","DPW","DPA"]
[null,null,null,null,null,null,null,null,null,null,null,null,null,null,null,null,null,null,null,null,null,null,null,null,null,null,0,0,"°C","°C","m3/h","m/s","°C"," % ","kW","kW","°C"," % ","l/h","m/s","kPa","Pa",null,null,null,"°C","°C","m3/h","m/s","°C"," % ","kW","kW","°C"," % ","l/h","m/s","kPa","Pa",null,null,null,"°C","°C","m3/h","m/s","°C"," % ","kW","kW","°C"," % ","l/h","m/s","kPa","Pa",null,null,null,"°C","°C","m3/h","m/s","°C"," % ","kW","kW","°C"," % ","l/h","m/s","kPa","Pa",null,null,null,"°C","°C","m3/h","m/s","°C"," % ","kW","kW","°C"," % ","l/h","m/s","kPa","Pa"]
[null,{"$f":"AE18","v":10},{"$f":"$J$4*B18^6+$K$4*B18^5+$L$4*B18^4+$M$4*B18^3+$N$4*B18^2+$O$4*B18","v":3.5526122034926497},{"$f":"1/C18*C18","v":1},{"$f":"IF($B18*$G$3>$B$11,\"\",$B18*$G$3)","v":7.2289156626506026},{"$f":"IF(E18>$B$11,\"\",$J$3*E18^6+$K$3*E18^5+$L$3*E18^4+$M$3*E18^3+$N$3*E18^2+$O$3*E18)","v":2.5601937391281502},{"$f":"IF(E18>$B$11,\"\",1/$C18*F18)","v":0.7206510568789829},{"$f":"IF($B18*$G$4>$B$11,\"\",$B18*$G$4)","v":10},{"$f":"IF(H18>$B$11,\"\",$J$4*H18^6+$K$4*H18^5+$L$4*H18^4+$M$4*H18^3+$N$4*H18^2+$O$4*H18)","v":3.5526122034926497},{"$f":"IF(H18>$B$11,\"\",1/$C18*I18)","v":1},{"$f":"IF($B18*$G$5>$B$11,\"\",$B18*$G$5)","v":12.409638554216869},{"$f":"IF(K18>$B$11,\"\",$J$5*K18^6+$K$5*K18^5+$L$5*K18^4+$M$5*K18^3+$N$5*K18^2+$O$5*K18)","v":4.336268531785727},{"$f":"IF(K18>$B$11,\"\",1/$C18*L18)","v":1.2205859472989053},{"$f":"IF($B18*$G$6>$B$11,\"\",$B18*$G$6)","v":14.819277108433734},{"$f":"IF(N18>$B$11,\"\",$J$6*N18^6+$K$6*N18^5+$L$6*N18^4+$M$6*N18^3+$N$6*N18^2+$O$6*N18)","v":5.1621458061571728},{"$f":"IF(N18>$B$11,\"\",1/$C18*O18)","v":1.4530563738654492},null,null,null,null,null,null,null,null,null,null,3,0,16,16.2,10,0,26,45,0.04,0.03,15.99,100,200,0.8,19.7,0,null,{"$f":"BA18/(AX18-AT18)*1000","v":3},null,16,16.2,10,0,26,45,0.03,0.03,16.010000000000002,83.3,200,0.8,15.8,0,null,{"$f":"BR18/(BO18-BK18)*1000","v":3},null,16,16.2,10,0,26,45,0.04,0.03,15.99,100,200,0.8,19.7,0,null,{"$f":"CI18/(CF18-CB18)*1000","v":3},null,16,16.2,10,0,26,45,0.04,0.03,15.99,100,200,0.8,23,0,null,{"$f":"CZ18/(CW18-CS18)*1000","v":3},null,16,16.2,10,0,26,45,0.05,0.03,15.99,100,200,0.8,26.3,0]
[null,20,6.9716873835966098,{"$f":"1/C19*C19","v":1},{"$f":"IF($B19*$G$3>$B$11,\"\",$B19*$G$3)","v":14.457831325301205},{"$f":"IF(E19>$B$11,\"\",$J$3*E19^6+$K$3*E19^5+$L$3*E19^4+$M$3*E19^3+$N$3*E19^2+$O$3*E19)","v":5.0255656372420434},{"$f":"IF(E19>$B$11,\"\",1/$C19*F19)","v":0.72085355534823403},{"$f":"IF($B19*$G$4>$B$11,\"\",$B19*$G$4)","v":20},{"$f":"IF(H19>$B$11,\"\",$J$4*H19^6+$K$4*H19^5+$L$4*H19^4+$M$4*H19^3+$N$4*H19^2+$O$4*H19)","v":6.9716873835966098},{"$f":"IF(H19>$B$11,\"\",1/$C19*I19)","v":1},24.819277108433738,8.521239279741069,1.2222635369150854,{"$f":"IF($B19*$G$6>$B$11,\"\",$B19*$G$6)","v":29.638554216867469},{"$f":"IF(N19>$B$11,\"\",$J$6*N19^6+$K$6*N19^5+$L$6*N19^4+$M$6*N19^3+$N$6*N19^2+$O$6*N19)","v":10.15813419073411},1.4570553198691549,null,null,null,null,null,null,null,null,null,null,6,0,16,16.399999999999999,20,0,26,45,0.06,0.06,16.010000000000002,83.3,200,0.8,19.7,0,null,6,null,16,16.3,20,0.1,26,45,0.06,0.06,16.010000000000002,83.3,200,0.8,15.8,0,null,6,null,16,16.399999999999999,20,0,26,45,0.06,0.06,16.010000000000002,83.3,200,0.8,19.7,0,null,6,null,16,16.399999999999999,20,0,26,45,0.06,0.06,16.010000000000002,83.3,200,0.8,23,0,null,7.0000000000000009,null,16,16.5,20,0,26,45,7.0000000000000007E-2,7.0000000000000007E-2,16.010000000000002,83.3,200,0.8,26.3,0]
[null,30,10.261317784612283,1,21.686746987951807,7.3996030484307411,0.72111625463223394,30,10.261317784612283,1,37.228915662650607,12.556428249595701,1.2236662496141706,44.457831325301207,14.984212349815877,1.4602619921084576,null,null,null,null,null,null,null,null,null,null,10,0,16,16.399999999999999,30,0.1,26,45,0.1,0.1,16.010000000000002,83.3,200,0.8,19.7,0,null,10,null,16,16.399999999999999,30,0.1,26,45,0.1,0.1,16.05,83,200,0.8,15.8,0,null,10,null,16,16.399999999999999,30,0.1,26,45,0.1,0.1,16.010000000000002,83.3,200,0.8,19.7,0,null,10,null,16,16.5,30,0,26,45,0.1,0.1,16.010000000000002,83.3,200,0.8,23,0,null,10,null,16,16.5,30,0,26,45,0.1,0.1,16.010000000000002,83.3,200,0.8,26.3,0]
[null,40,13.42555399127604,0.99999999999999989,28.91566265060241,9.6856921283772639,0.72143705464005814,40,13.42555399127604,0.99999999999999989,49.638554216867476,16.443722754383728,1.2248077632452934,59.277108433734938,19.637874533912171,1.4627235901529958,null,null,null,null,null,null,null,null,null,null,13.000000000000002,0,16,16.600000000000001,40,0.1,26,45,0.13,0.13,16.04,83,200,0.8,19.7,0,null,13.000000000000002,null,16,16.5,40,0.1,26,45,0.13,0.13,16.14,82.6,200,0.8,15.8,0,null,13.000000000000002,null,16,16.600000000000001,40,0.1,26,45,0.13,0.13,16.04,83,200,0.8,19.7,0,null,13.000000000000002,null,16,16.600000000000001,40,0.1,26,45,0.13,0.13,16.02,83.2,200,0.8,23,0,null,13.000000000000002,null,16,16.600000000000001,40,0.1,26,45,0.13,0.13,16.010000000000002,83.3,200,0.8,26.3,0]
[null,50,16.468402108794411,1,36.144578313253014,11.887119793652445,0.72181379317332306,50,16.468402108794411,1,62.048192771084345,20.185350779091863,1.2257018407579772,74.096385542168676,24.117763945944624,1.4644871910836645,null,null,null,null,null,null,null,null,null,null,16,0,16,16.7,50,0.1,26,45,0.16,0.16,16.11,82.6,200,0.8,19.600000000000001,0,null,16,null,16,16.7,50,0.1,26,45,0.16,0.16,16.27,81.8,200,0.8,15.8,0,null,16,null,16,16.7,50,0.1,26,45,0.16,0.16,16.11,82.6,200,0.8,19.600000000000001,0,null,16,null,16,16.7,50,0.1,26,45,0.16,0.16,16.05,82.9,200,0.8,23,0,null,16,null,16,16.7,50,0.1,26,45,0.16,0.16,16.02,83.2,200,0.8,26.3,0]
[null,60,19.393821045227874,1,43.373493975903614,14.007075662375492,0.72224424623233974,60,19.393821045227874,1,74.457831325301214,23.783851239433865,1.2263623132320396,88.915662650602414,28.423577791449507,1.4655996734817522,null,null,null,null,null,null,null,null,null,null,19,0,16,16.8,60,0.1,26,45,0.19,0.19,16.190000000000001,82.1,200,0.8,19.600000000000001,0,null,19,null,16,16.8,60,0.2,26,45,0.19,0.19,16.440000000000001,80.900000000000006,200,0.8,15.8,0,null,19,null,16,16.8,60,0.1,26,45,0.19,0.19,16.190000000000001,82.1,200,0.8,19.600000000000001,0,null,19,null,16,16.8,60,0.1,26,45,0.19,0.19,16.100000000000001,82.7,200,0.8,23,0,null,19,null,16,16.8,60,0.1,26,45,0.19,0.19,16.05,82.9,200,0.8,26.3,0]
[null,70,22.205719896224206,1,50.602409638554214,16.048653976241287,0.72272612872911857,70,22.205719896224206,1,86.867469879518083,27.242045134751191,1.2268030607457741,103.73493975903614,32.555975480995912,1.4661076350211744,null,null,null,null,null,null,null,null,null,null,22,0,16,16.899999999999999,70,0.1,26,45,0.22,0.22,16.309999999999999,81.5,200,0.8,19.600000000000001,0,null,20.999999999999996,null,16,16.899999999999999,70,0.2,26,45,0.21,0.21,16.63,79.900000000000006,200,0.8,15.8,0,null,22,null,16,16.899999999999999,70,0.1,26,45,0.22,0.22,16.309999999999999,81.5,200,0.8,19.600000000000001,0,null,22,null,16,17,70,0.1,26,45,0.22,0.22,16.170000000000002,82.3,200,0.8,23,0,null,23,null,16,17,70,0.1,26,45,0.23,0.23,16.100000000000001,82.7,200,0.8,26.3,0]
[null,80,24.907955432101428,1,57.831325301204821,18.014855503914408,0.7232570956304516,80,24.907955432101428,1,99.277108433734952,30.563007595039934,1.2270379910689202,118.55421686746988,36.516489984819337,1.4660573038346136,null,null,null,null,null,null,null,null,null,null,25,0,16,17.100000000000001,80,0.2,26,45,0.25,0.25,16.440000000000001,80.8,200,0.8,19.600000000000001,0,null,24,null,16,17,80,0.2,26,45,0.24,0.24,16.84,78.8,200,0.8,15.8,0,null,25,null,16,17.100000000000001,80,0.2,26,45,0.25,0.25,16.440000000000001,80.8,200,0.8,19.600000000000001,0,null,25,null,16,17.100000000000001,80,0.1,26,45,0.25,0.25,16.260000000000002,81.900000000000006,200,0.8,22.9,0,null,26.000000000000004,null,16,17.100000000000001,80,0.1,26,45,0.26,0.26,16.16,82.4,200,0.8,26.3,0]
[null,90,27.504329687280332,0.99999999999999989,65.060240963855421,19.908589425789884,0.72383474355300581,90,27.504329687280332,0.99999999999999989,111.68674698795182,33.750040822103983,1.2270810161831374,133.37349397590361,40.307442339670708,1.4654944438915487,null,null,null,null,null,null,null,null,null,null,28.000000000000004,0,16,17.2,90,0.2,26,45,0.28000000000000003,0.28000000000000003,16.579999999999998,80.099999999999994,200,0.8,19.600000000000001,0,null,26.000000000000004,null,16,17.100000000000001,90,0.2,26,45,0.26,0.26,17.05,77.8,200,0.8,15.8,0,null,28.000000000000004,null,16,17.2,90,0.2,26,45,0.28000000000000003,0.28000000000000003,16.579999999999998,80.099999999999994,200,0.8,19.600000000000001,0,null,28.000000000000004,null,16,17.2,90,0.1,26,45,0.28000000000000003,0.28000000000000003,16.36,81.2,200,0.8,22.9,0,null,28.999999999999996,null,16,17.2,90,0.1,26,45,0.28999999999999998,0.28999999999999998,16.23,81.900000000000006,200,0.8,26.3,0]
[null,100,29.998587652066597,0.99999999999999989,72.289156626506028,21.732675200120671,0.72445661283068807,100,29.998587652066597,0.99999999999999989,124.09638554216869,36.806647924834422,1.226946026650652,148.19277108433735,43.931859307880842,1.4644642546981501,null,null,null,null,null,null,null,null,null,null,30,0,16,17.3,100,0.2,26,45,0.3,0.3,16.73,79.400000000000006,200,0.8,19.600000000000001,0,null,28.000000000000004,null,16,17.2,100,0.3,26,45,0.28000000000000003,0.28000000000000003,17.25,76.7,200,0.8,15.8,0,null,30,null,16,17.3,100,0.2,26,45,0.3,0.3,16.73,79.400000000000006,200,0.8,19.600000000000001,0,null,31,null,16,17.3,100,0.2,26,45,0.31,0.31,16.47,80.7,200,0.8,22.9,0,null,31,null,16,17.399999999999999,100,0.1,26,45,0.31,0.31,16.309999999999999,81.400000000000006,200,0.8,26.2,0]
[null,110,32.394415066782443,1,79.518072289156621,23.489844410511836,0.72512019007247197,110,32.394415066782443,1,136.50602409638554,39.736507648615188,1.2266468638713406,163.01204819277109,47.393394188640322,1.4630112657054266,null,null,null,null,null,null,null,null,null,null,33,0,16,17.399999999999999,110,0.2,26,45,0.33,0.33,16.89,78.5,200,0.8,19.600000000000001,0,null,30,null,16,17.3,110,0.3,26,45,0.3,0.3,17.46,75.8,200,0.8,15.8,0,null,33,null,16,17.399999999999999,110,0.2,26,45,0.33,0.33,16.89,78.5,200,0.8,19.600000000000001,0,null,34,null,16,17.399999999999999,110,0.2,26,45,0.34,0.34,16.59,80,200,0.8,22.9,0,null,34,null,16,17.5,110,0.1,26,45,0.34,0.34,16.41,81,200,0.8,26.2,0]
[null,120,34.695436318247936,1,86.746987951807228,25.182742594781523,0.7258229112264184,120,34.695436318247936,1,148.91566265060243,42.543449998854982,1.2261972902897149,177.83132530120483,50.696250781494847,1.4611792258923499,null,null,null,null,null,null,null,null,null,null,34.999999999999993,0,16,17.5,120,0.2,26,45,0.35,0.35,17.05,77.7,200,0.8,19.600000000000001,0,null,32,null,16,17.399999999999999,120,0.3,26,45,0.32,0.32,17.66,74.7,200,0.8,15.8,0,null,34.999999999999993,null,16,17.5,120,0.2,26,45,0.35,0.35,17.05,77.7,200,0.8,19.600000000000001,0,null,36,null,16,17.600000000000001,120,0.2,26,45,0.36,0.36,16.72,79.5,200,0.8,22.9,0,null,37,null,16,17.600000000000001,120,0.2,26,45,0.37,0.37,16.510000000000002,80.5,200,0.8,26.2,0]
[null,130,36.905212438611812,1,93.975903614457835,26.813931055188579,0.72656216516273719,130,36.905212438611812,1,161.32530120481928,45.231432758645411,1.2256109576359557,192.65060240963857,53.845110502055974,1.4590109890742944,null,null,null,null,null,null,null,null,null,null,37,0,16,17.600000000000001,130,0.2,26,45,0.37,0.37,17.21,77,200,0.8,19.600000000000001,0,null,34,null,16,17.5,130,0.3,26,45,0.34,0.34,17.86,73.7,200,0.8,15.8,0,null,37,null,16,17.600000000000001,130,0.2,26,45,0.37,0.37,17.21,77,200,0.8,19.600000000000001,0,null,39,null,16,17.7,130,0.2,26,45,0.39,0.39,16.86,78.8,200,0.8,22.9,0,null,40,null,16,17.7,130,0.2,26,45,0.4,0.4,16.62,80,200,0.8,26.2,0]
[null,140,39.027239206531931,1,101.20481927710843,28.385888650026942,0.72733529778545125,140,39.027239206531931,1,173.73493975903617,47.804518900545368,1.2249013733091423,207.46987951807228,56.8450626499273,1.4565483955732443,null,null,null,null,null,null,null,null,null,null,39,0,16,17.7,140,0.3,26,45,0.39,0.39,17.37,76.099999999999994,200,0.8,19.600000000000001,0,null,36,null,16,17.600000000000001,140,0.4,26,45,0.36,0.36,18.059999999999999,73,200,0.8,15.8,0,null,39,null,16,17.7,140,0.3,26,45,0.39,0.39,17.37,76.099999999999994,200,0.8,19.600000000000001,0,null,40.999999999999993,null,16,17.8,140,0.2,26,45,0.41,0.41,16.989999999999998,78,200,0.8,22.9,0,null,41.999999999999993,null,16,17.8,140,0.2,26,45,0.42,0.42,16.73,79.400000000000006,200,0.8,26.2,0]
[null,150,41.064945350705258,1,108.43373493975903,29.901013566586762,0.72813961667851668,150,41.064945350705258,1,186.14457831325302,50.266854892491679,1.2240818650359748,222.28915662650601,59.701537828846128,1.4538321509740131,null,null,null,null,null,null,null,null,null,null,40.999999999999993,0,16,17.8,150,0.3,26,45,0.41,0.41,17.53,75.400000000000006,200,0.8,19.600000000000001,0,null,38,null,16,17.600000000000001,150,0.4,26,45,0.38,0.38,18.239999999999998,71.900000000000006,200,0.8,15.8,1,null,40.999999999999993,null,16,17.8,150,0.3,26,45,0.41,0.41,17.53,75.400000000000006,200,0.8,19.600000000000001,0,null,43,null,16,17.899999999999999,150,0.2,26,45,0.43,0.43,17.13,77.3,200,0.8,22.9,0,null,45,null,16,17.899999999999999,150,0.2,26,45,0.45,0.45,16.850000000000001,78.8,200,0.8,26.2,0]
[null,160,43.021690855747501,1,115.66265060240964,31.361625075482227,0.72897239628814947,160,43.021690855747501,1,198.5542168674699,52.622649897835991,1.2231655439643383,237.10843373493975,62.42024451904043,1.450901702779108,null,null,null,null,null,null,null,null,null,null,43,0,16,17.899999999999999,160,0.3,26,45,0.43,0.43,17.690000000000001,74.7,200,0.8,19.600000000000001,0,null,39,null,16,17.7,160,0.4,26,45,0.39,0.39,18.420000000000002,71.3,200,0.8,15.8,1,null,43,null,16,17.899999999999999,160,0.3,26,45,0.43,0.43,17.690000000000001,74.7,200,0.8,19.600000000000001,0,null,45,null,16,18,160,0.2,26,45,0.45,0.45,17.27,76.599999999999994,200,0.8,22.9,0,null,47,null,16,18,160,0.2,26,45,0.47,0.47,16.97,78.2,200,0.8,26.2,0]
[null,170,44.900765370422242,1,122.89156626506023,32.769965266346134,0.72983088363863158,170,44.900765370422242,1,210.96385542168676,54.876155869507897,1.2221652663777711,251.92771084337349,65.007108801801479,1.4477951158628581,null,null,null,null,null,null,null,null,null,null,45,0,16,17.899999999999999,170,0.3,26,45,0.45,0.45,17.84,73.900000000000006,200,0.8,19.600000000000001,0,null,40.999999999999993,null,16,17.8,170,0.4,26,45,0.41,0.41,18.59,70.400000000000006,200,0.8,15.8,1,null,45,null,16,17.899999999999999,170,0.3,26,45,0.45,0.45,17.84,73.900000000000006,200,0.8,19.600000000000001,0,null,47,null,16,18,170,0.3,26,45,0.47,0.47,17.399999999999999,76,200,0.8,22.9,0,null,49,null,16,18.100000000000001,170,0.2,26,45,0.49,0.49,17.09,77.599999999999994,200,0.8,26.2,0]
[null,180,46.705386718219714,0.99999999999999989,130.12048192771084,34.128200764891155,0.73071230457402003,180,46.705386718219714,0.99999999999999989,223.37349397590364,57.031648538304296,1.2210935942439443,266.74698795180723,67.468217236271599,1.4445489477116848,null,null,null,null,null,null,null,null,null,null,47,0,16,18,180,0.3,26,45,0.47,0.47,17.989999999999998,73.099999999999994,200,0.8,19.600000000000001,0,null,41.999999999999993,null,16,17.8,180,0.5,26,45,0.42,0.42,18.75,69.7,200,0.8,15.8,1,null,47,null,16,18,180,0.3,26,45,0.47,0.47,17.989999999999998,73.099999999999994,200,0.8,19.600000000000001,0,null,49,null,16,18.100000000000001,180,0.3,26,45,0.49,0.49,17.54,75.3,200,0.8,22.9,0,null,51.000000000000007,null,16,18.2,180,0.2,26,45,0.51,0.51,17.22,77,200,0.8,26.2,0]
[null,190,48.438699510285161,1,137.34939759036143,35.438424431337893,0.7316138705130415,190,48.438699510285161,1,235.7831325301205,59.09340929530503,1.2199627548373284,281.56626506024094,69.809762888447679,1.441198124520761,null,null,null,null,null,null,null,null,null,null,49,0,16,18.100000000000001,190,0.4,26,45,0.49,0.49,18.14,72.5,200,0.8,19.600000000000001,0,null,44,null,16,17.899999999999999,190,0.5,26,45,0.44,0.44,18.91,68.900000000000006,200,0.8,15.8,1,null,49,null,16,18.100000000000001,190,0.4,26,45,0.49,0.49,18.14,72.5,200,0.8,19.600000000000001,0,null,51.000000000000007,null,16,18.2,190,0.3,26,45,0.51,0.51,17.670000000000002,74.7,200,0.8,22.9,0,null,54.000000000000007,null,16,18.3,190,0.2,26,45,0.54,0.54,17.329999999999998,76.400000000000006,200,0.8,26.2,0]
[null,200,50.103773860696691,1,144.57831325301206,36.70265704020958,0.73253278569901381,200,50.103773860696691,1,248.19277108433738,61.065707968414735,1.2187845997029179,296.3855421686747,72.037994512399891,1.4377758192963033,null,null,null,null,null,null,null,null,null,null,50,0,16,18.2,200,0.4,26,45,0.5,0.5,18.28,71.8,200,0.8,19.600000000000001,0,null,45,null,16,17.899999999999999,200,0.5,26,45,0.45,0.45,19.059999999999999,68.400000000000006,200,0.8,15.8,1,null,50,null,16,18.2,200,0.4,26,45,0.5,0.5,18.28,71.8,200,0.8,19.600000000000001,0,null,53.000000000000007,null,16,18.3,200,0.3,26,45,0.53,0.53,17.8,74,200,0.8,22.9,0,null,56.000000000000007,null,16,18.399999999999999,200,0.3,26,45,0.56000000000000005,0.56000000000000005,17.46,75.8,200,0.8,26.2,0]
[null,210,51.703604204092898,0.99999999999999989,151.80722891566265,37.922848941493569,0.7334662549209976,210,51.703604204092898,0.99999999999999989,260.60240963855426,62.952786493030985,1.2175705632538396,311.20481927710841,74.15916888370586,1.4343133331860713,null,null,null,null,null,null,null,null,null,null,52.000000000000007,0,16,18.2,210,0.4,26,45,0.52,0.52,18.420000000000002,71.3,200,0.8,19.600000000000001,1,null,46,null,16,18,210,0.6,26,45,0.46,0.46,19.21,67.7,200,0.8,15.8,1,null,52.000000000000007,null,16,18.2,210,0.4,26,45,0.52,0.52,18.420000000000002,71.3,200,0.8,19.600000000000001,1,null,55.000000000000007,null,16,18.399999999999999,210,0.3,26,45,0.55000000000000004,0.55000000000000004,17.93,73.5,200,0.8,22.9,0,null,57.999999999999993,null,16,18.5,210,0.3,26,45,0.57999999999999996,0.57999999999999996,17.57,75.3,200,0.8,26.2,0]
[null,220,53.241108215649788,0.99999999999999989,159.03614457831324,39.100881703169549,0.73441149167657938,220,53.241108215649788,0.99999999999999989,273.01204819277109,64.758843476838592,1.2163316213204454,326.02409638554218,76.179506285100388,1.4308399813268358,null,null,null,null,null,null,null,null,null,null,53.000000000000007,0,16,18.3,220,0.4,26,45,0.53,0.53,18.55,70.7,200,0.8,19.5,1,null,48,null,16,18,220,0.6,26,45,0.48,0.48,19.34,67.099999999999994,200,0.8,15.7,1,null,53.000000000000007,null,16,18.3,220,0.4,26,45,0.53,0.53,18.55,70.7,200,0.8,19.5,1,null,56.999999999999993,null,16,18.399999999999999,220,0.3,26,45,0.56999999999999995,0.56999999999999995,18.059999999999999,72.900000000000006,200,0.8,22.9,0,null,59,null,16,18.600000000000001,220,0.3,26,45,0.59,0.59,17.690000000000001,74.7,200,0.8,26.2,0]
[null,230,54.719125833407595,1,166.26506024096386,40.238569735104413,0.73536572674078826,230,54.719125833407595,1,285.42168674698797,66.488019658730252,1.2150782499916586,340.84337349397589,78.105149144340572,1.4273829845551944,null,null,null,null,null,null,null,null,null,null,55.000000000000007,0,16,18.399999999999999,230,0.4,26,45,0.55000000000000004,0.55000000000000004,18.690000000000001,70,200,0.8,19.5,1,null,49,null,16,18.100000000000001,230,0.6,26,45,0.49,0.49,19.48,66.5,200,0.8,15.7,1,null,55.000000000000007,null,16,18.399999999999999,230,0.4,26,45,0.55000000000000004,0.55000000000000004,18.690000000000001,70,200,0.8,19.5,1,null,57.999999999999993,null,16,18.5,230,0.4,26,45,0.57999999999999996,0.57999999999999996,18.190000000000001,72.3,200,0.8,22.8,0,null,61,null,16,18.600000000000001,230,0.3,26,45,0.61,0.61,17.809999999999999,74.2,200,0.8,26.1,0]
[null,240,56.140418382946891,0.99999999999999989,173.49397590361446,41.337661894313953,0.73632621709977497,240,56.140418382946891,0.99999999999999989,297.83132530120486,68.144384261853403,1.2138203851105038,355.66265060240966,79.942123824286199,1.4239673683758878,null,null,null,null,null,null,null,null,null,null,56.000000000000007,0,16,18.399999999999999,240,0.5,26,45,0.56000000000000005,0.56000000000000005,18.809999999999999,69.5,200,0.8,19.5,1,null,50,null,16,18.100000000000001,240,0.6,26,45,0.5,0.5,19.61,65.900000000000006,200,0.8,15.7,1,null,56.000000000000007,null,16,18.399999999999999,240,0.5,26,45,0.56000000000000005,0.56000000000000005,18.809999999999999,69.5,200,0.8,19.5,1,null,60,null,16,18.600000000000001,240,0.4,26,45,0.6,0.6,18.309999999999999,71.8,200,0.8,22.8,0,null,63,null,16,18.7,240,0.3,26,45,0.63,0.63,17.920000000000002,73.400000000000006,200,0.8,26.1,0]
[null,250,57.507667804414545,0.99999999999999989,180.72289156626505,42.399843071591214,0.73729025520204472,250,57.507667804414545,0.99999999999999989,310.24096385542174,69.731922240783263,1.2125673828043906,370.48192771084337,81.696305565195843,1.420615870618291,null,null,null,null,null,null,null,null,null,null,56.999999999999993,0,16,18.5,250,0.5,26,45,0.56999999999999995,0.56999999999999995,18.93,68.900000000000006,200,0.8,19.5,1,null,51.000000000000007,null,16,18.2,250,0.7,26,45,0.51,0.51,19.73,65.400000000000006,200,0.8,15.7,1,null,56.999999999999993,null,16,18.5,250,0.5,26,45,0.56999999999999995,0.56999999999999995,18.93,68.900000000000006,200,0.8,19.5,1,null,61,null,16,18.600000000000001,250,0.4,26,45,0.61,0.61,18.43,71.3,200,0.8,22.8,0,null,65,null,16,18.8,250,0.3,26,45,0.65,0.65,18.03,73,200,0.8,26.1,0]
[null,260,58.823475981899009,0.99999999999999989,187.95180722891567,43.426735759501604,0.73825517847440281,260,58.823475981899009,0.99999999999999989,322.65060240963857,71.25452242282222,1.2113279814465308,385.30120481927713,83.373386579238158,1.4173488592359549,null,null,null,null,null,null,null,null,null,null,59,0,16,18.5,260,0.5,26,45,0.59,0.59,19.05,68.400000000000006,200,0.8,19.5,1,null,52.000000000000007,null,16,18.2,260,0.7,26,45,0.52,0.52,19.84,64.900000000000006,200,0.8,15.7,1,null,59,null,16,18.5,260,0.5,26,45,0.59,0.59,19.05,68.400000000000006,200,0.8,19.5,1,null,63,null,16,18.7,260,0.4,26,45,0.63,0.63,18.54,70.599999999999994,200,0.8,22.8,1,null,66,null,16,18.899999999999999,260,0.3,26,45,0.66,0.66,18.149999999999999,72.5,200,0.8,26.1,0]
[null,270,60.090364175155429,1,195.18072289156626,44.419901601744726,0.73921837904437748,270,60.090364175155429,1,335.06024096385545,72.715966543425367,1.2101102654573366,400.12048192771084,84.978847297218707,1.414184261714851,null,null,null,null,null,null,null,null,null,null,60,0,16,18.600000000000001,270,0.5,26,45,0.6,0.6,19.170000000000002,67.900000000000006,200,0.8,19.5,1,null,53.000000000000007,null,16,18.3,270,0.7,26,45,0.53,0.53,19.96,64.5,200,0.8,15.7,1,null,60,null,16,18.600000000000001,270,0.5,26,45,0.6,0.6,19.170000000000002,67.900000000000006,200,0.8,19.5,1,null,64,null,16,18.8,270,0.4,26,45,0.64,0.64,18.649999999999999,70.099999999999994,200,0.8,22.8,1,null,68,null,16,18.899999999999999,270,0.3,26,45,0.68,0.68,18.260000000000002,72,200,0.8,26.1,0]
[null,280,61.310772553680088,0.99999999999999989,202.40963855421685,45.380842923882902,0.74017731360586125,280,61.310772553680088,0.99999999999999989,347.46987951807233,74.119919175752429,1.208921631363516,414.93975903614455,86.517930767522245,1.4111375075525634,null,null,null,null,null,null,null,null,null,null,61,0,16,18.600000000000001,280,0.5,26,45,0.61,0.61,19.28,67.400000000000006,200,0.8,19.5,1,null,54.000000000000007,null,16,18.3,280,0.7,26,45,0.54,0.54,20.07,64.099999999999994,200,0.8,15.7,2,null,61,null,16,18.600000000000001,280,0.5,26,45,0.61,0.61,19.28,67.400000000000006,200,0.8,19.5,1,null,66,null,16,18.8,280,0.4,26,45,0.66,0.66,18.77,69.599999999999994,200,0.8,22.8,1,null,68.999999999999986,null,16,19,280,0.4,26,45,0.69,0.69,18.36,71.400000000000006,200,0.8,26.1,0]
[null,290,62.48705983313468,0.99999999999999989,209.63855421686748,46.3110042454365,0.74112951336013111,290,62.48705983313468,0.99999999999999989,359.87951807228922,75.469918554345696,1.2077687565374402,429.75903614457832,87.995620207270392,1.408221485252366,null,null,null,null,null,null,null,null,null,null,62,0,16,18.7,290,0.6,26,45,0.62,0.62,19.39,66.900000000000006,200,0.8,19.5,1,null,55.000000000000007,null,16,18.399999999999999,290,0.8,26,45,0.55000000000000004,0.55000000000000004,20.170000000000002,63.7,200,0.8,15.7,2,null,62,null,16,18.7,290,0.6,26,45,0.62,0.62,19.39,66.900000000000006,200,0.8,19.5,1,null,67,null,16,18.899999999999999,290,0.4,26,45,0.67,0.67,18.87,69.2,200,0.8,22.8,1,null,71,null,16,19.100000000000001,290,0.4,26,45,0.71,0.71,18.47,70.900000000000006,200,0.8,26.1,0]
[null,300,63.621503014119938,1,216.86746987951807,47.211773773345911,0.74207259396037684,300,63.621503014119938,1,372.28915662650604,76.769368292934502,1.2066575710400393,444.57831325301203,89.416619705694742,1.4054465152426521,null,null,null,null,null,null,null,null,null,null,63,0,16,18.7,300,0.6,26,45,0.63,0.63,19.489999999999998,66.5,200,0.8,19.5,1,null,56.000000000000007,null,16,18.399999999999999,300,0.8,26,45,0.56000000000000005,0.56000000000000005,20.28,63.2,200,0.8,15.7,2,null,63,null,16,18.7,300,0.6,26,45,0.63,0.63,19.489999999999998,66.5,200,0.8,19.5,1,null,68,null,16,18.899999999999999,300,0.5,26,45,0.68,0.68,18.98,68.599999999999994,200,0.8,22.8,1,null,72,null,16,19.100000000000001,300,0.4,26,45,0.72,0.72,18.57,70.5,200,0.8,26.1,1]
[null,310,64.71629722329908,1,224.09638554216866,48.084484876800303,0.74300426538446929,310,64.71629722329908,1,384.69879518072293,78.021529996365587,1.2055932329867038,459.39759036144579,90.785338079725392,1.4028203400833781,null,null,null,null,null,null,null,null,null,null,65,0,16,18.8,310,0.6,26,45,0.65,0.65,19.59,66,200,0.8,19.5,1,null,56.999999999999993,null,16,18.399999999999999,310,0.8,26,45,0.56999999999999995,0.56999999999999995,20.38,62.9,200,0.8,15.7,2,null,65,null,16,18.8,310,0.6,26,45,0.65,0.65,19.59,66,200,0.8,19.5,1,null,69.999999999999986,null,16,19,310,0.5,26,45,0.7,0.7,19.079999999999998,68.2,200,0.8,22.8,1,null,74,null,16,19.2,310,0.4,26,45,0.74,0.74,18.670000000000002,70.2,200,0.8,26.1,1]
[null,320,65.773555656870514,1,231.32530120481928,48.930417543433038,0.74392234165801718,320,65.773555656870514,1,397.10843373493981,79.229516766660183,1.2045801078474021,474.2168674698795,92.105875881795015,1.4003481332573193,null,null,null,null,null,null,null,null,null,null,66,0,16,18.8,320,0.6,26,45,0.66,0.66,19.690000000000001,65.7,200,0.8,19.5,1,null,56.999999999999993,null,16,18.5,320,0.8,26,45,0.56999999999999995,0.56999999999999995,20.47,62.4,200,0.8,15.7,2,null,66,null,16,18.8,320,0.6,26,45,0.66,0.66,19.690000000000001,65.7,200,0.8,19.5,1,null,71,null,16,19.100000000000001,320,0.5,26,45,0.71,0.71,19.170000000000002,67.900000000000006,200,0.8,22.8,1,null,75,null,16,19.2,320,0.4,26,45,0.75,0.75,18.77,69.599999999999994,200,0.8,26.1,1]
[null,{"$f":"AE50","v":330},{"$f":"$J$4*B50^6+$K$4*B50^5+$L$4*B50^4+$M$4*B50^3+$N$4*B50^2+$O$4*B50","v":66.795309626390534},1,238.55421686746988,49.750799816883912,0.74482475034785367,330,66.795309626390534,1,409.51807228915663,{"$f":"IF(K50>$B$11,\"\",$J$5*K50^6+$K$5*K50^5+$L$5*K50^4+$M$5*K50^3+$N$5*K50^2+$O$5*K50)","v":80.396287603196811},{"$f":"IF(K50>$B$11,\"\",1/$C50*L50)","v":1.2036217520793195},489.03614457831327,93.382015559858161,{"$f":"IF(N50>$B$11,\"\",1/$C50*O50)","v":1.3980325277654426},null,null,null,null,null,null,null,null,null,null,67,0,16,18.899999999999999,330,0.6,26,45,0.67,0.67,19.79,65.3,200,0.8,19.5,1,null,{"$f":"BA50/(AX50-AT50)*1000","v":57.999999999999993},null,16,18.5,330,0.9,26,45,0.57999999999999996,0.57999999999999996,20.56,62.2,200,0.8,15.7,2,null,{"$f":"BR50/(BO50-BK50)*1000","v":67},null,16,18.899999999999999,330,0.6,26,45,0.67,0.67,19.79,65.3,200,0.8,19.5,1,null,{"$f":"CI50/(CF50-CB50)*1000","v":72},null,16,19.100000000000001,330,0.5,26,45,0.72,0.72,19.27,67.400000000000006,200,0.8,22.8,1,null,{"$f":"CZ50/(CW50-CS50)*1000","v":77},null,16,19.3,330,0.4,26,45,0.77,0.77,18.87,69.099999999999994,200,0.8,26.1,1]
[null,340,67.78350870694527,1,245.78313253012047,50.546809215728061,0.74570954174505444,340,67.78350870694527,1,421.92771084337352,81.524642697020766,1.2027209014730089,503.85542168674698,94.617214769626202,1.3958736656535971,null,null,null,null,null,null,null,null,null,null,68,0,16,18.899999999999999,340,0.7,26,45,0.68,0.68,19.88,64.900000000000006,200,0.8,19.5,1,null,59,null,16,18.5,340,0.9,26,45,0.59,0.59,20.65,61.8,200,0.8,15.7,2,null,68,null,16,18.899999999999999,340,0.7,26,45,0.68,0.68,19.88,64.900000000000006,200,0.8,19.5,1,null,73,null,16,19.2,340,0.5,26,45,0.73,0.73,19.37,66.900000000000006,200,0.8,22.8,1,null,78,null,16,19.3,340,0.4,26,45,0.78,0.78,18.96,68.8,200,0.8,26.1,1]
[null,350,68.740020987672253,1,253.01204819277109,51.319574133771553,0.74657489765641971,350,68.740020987672253,1,434.3373493975904,82.617219619279524,1.201879464571243,518.67469879518069,95.81460283901751,1.3938692694929606,null,null,null,null,null,null,null,null,null,null,68.999999999999986,0,16,19,350,0.7,26,45,0.69,0.69,19.97,64.400000000000006,200,0.8,19.5,1,null,60,null,16,18.600000000000001,350,0.9,26,45,0.6,0.6,20.73,61.4,200,0.8,15.7,2,null,68.999999999999986,null,16,19,350,0.7,26,45,0.69,0.69,19.97,64.400000000000006,200,0.8,19.5,1,null,74,null,16,19.2,350,0.5,26,45,0.74,0.74,19.46,66.599999999999994,200,0.8,22.8,1,null,79,null,16,19.399999999999999,350,0.5,26,45,0.79,0.79,19.05,68.5,200,0.8,26.1,1]
[null,360,69.666633424631826,1,260.24096385542168,52.070175221713832,0.74741913972411844,360,69.666633424631826,1,446.74698795180728,83.676490403784697,1.2010985214939274,533.49397590361446,96.976980384823349,1.3920147367209434,null,null,null,null,null,null,null,null,null,null,69.999999999999986,0,16,19,360,0.7,26,45,0.7,0.7,20.05,64.2,200,0.8,19.5,1,null,61,null,16,18.600000000000001,360,1,26,45,0.61,0.61,20.82,61.2,200,0.8,15.7,2,null,69.999999999999986,null,16,19,360,0.7,26,45,0.7,0.7,20.05,64.2,200,0.8,19.5,1,null,75,null,16,19.2,360,0.6,26,45,0.75,0.75,19.55,66.3,200,0.8,22.8,1,null,80,null,16,19.5,360,0.5,26,45,0.8,0.8,19.14,68,200,0.8,26.1,1]
[null,370,70.565052296027801,1,267.46987951807228,52.799646750176741,0.74824073719490325,370,70.565052296027801,1,459.15662650602411,84.704759523699877,1.200378328472776,548.31325301204822,98.106822081588774,1.3903032576241898,null,null,null,null,null,null,null,null,null,null,69.999999999999986,0,16,19,370,0.7,26,45,0.7,0.7,20.14,63.8,200,0.8,19.5,1,null,61,null,16,18.600000000000001,370,1,26,45,0.61,0.61,20.89,60.9,200,0.8,15.7,3,null,69.999999999999986,null,16,19,370,0.7,26,45,0.7,0.7,20.14,63.8,200,0.8,19.5,1,null,76,null,16,19.3,370,0.6,26,45,0.76,0.76,19.64,65.900000000000006,200,0.8,22.8,1,null,81,null,16,19.5,370,0.5,26,45,0.81,0.81,19.23,67.5,200,0.8,26.1,1]
[null,380,71.436903759777891,1,274.69879518072287,53.508977954100381,0.74903831406293786,380,71.436903759777891,1,471.56626506024099,85.704162762355139,1.1997183283664421,563.13253012048187,99.206282582709449,1.3887259576130584,null,null,null,null,null,null,null,null,null,null,71,0,16,19.100000000000001,380,0.7,26,45,0.71,0.71,20.22,63.4,200,0.8,19.5,1,null,62,null,16,18.7,380,1,26,45,0.62,0.62,20.97,60.5,200,0.8,15.7,3,null,71,null,16,19.100000000000001,380,0.7,26,45,0.71,0.71,20.22,63.4,200,0.8,19.5,1,null,77,null,16,19.3,380,0.6,26,45,0.77,0.77,19.72,65.5,200,0.8,22.8,1,null,82.999999999999986,null,16,19.600000000000001,380,0.5,26,45,0.83,0.83,19.309999999999999,67.3,200,0.8,26.1,1]
[null,390,72.283734513433672,1,281.92771084337352,54.199114358505625,0.74981065551383363,390,72.283734513433672,1,483.97590361445788,86.676666978187342,1.1991171673909404,577.95180722891564,100.27720559374359,1.3872720642997136,null,null,null,null,null,null,null,null,null,null,72,0,16,19.100000000000001,390,0.7,26,45,0.72,0.72,20.3,63.2,200,0.8,19.5,2,null,63,null,16,18.7,390,1,26,45,0.63,0.63,21.05,60.4,200,0.8,15.7,3,null,72,null,16,19.100000000000001,390,0.7,26,45,0.72,0.72,20.3,63.2,200,0.8,19.5,2,null,79,null,16,19.399999999999999,390,0.6,26,45,0.79,0.79,19.8,65.2,200,0.8,22.8,1,null,83.999999999999986,null,16,19.600000000000001,390,0.5,26,45,0.84,0.84,19.39,66.900000000000006,200,0.8,26.1,1]
[null,400,73.107012556450115,1,289.15662650602411,54.870959085623468,0.75055671360191967,400,73.107012556450115,1,496.38554216867476,87.624070763807197,1.198572718262118,592.77108433734941,101.32113609793922,1.3859290997522757,null,null,null,null,null,null,null,null,null,null,73,0,16,19.100000000000001,400,0.8,26,45,0.73,0.73,20.38,62.9,200,0.8,19.5,2,null,63,null,16,18.7,400,1.1000000000000001,26,45,0.63,0.63,21.12,59.9,200,0.8,15.7,3,null,73,null,16,19.100000000000001,400,0.8,26,45,0.73,0.73,20.38,62.9,200,0.8,19.5,2,null,80,null,16,19.399999999999999,400,0.6,26,45,0.8,0.8,19.88,64.900000000000006,200,0.8,22.8,1,null,84.999999999999986,null,16,19.600000000000001,400,0.5,26,45,0.85,0.85,19.48,66.5,200,0.8,26.1,1]
[null,410,73.908128054804862,1,296.3855421686747,55.525374143390934,0.75127561209800064,410,73.908128054804862,1,508.79518072289159,88.548005999191943,1.1980821099071974,607.59036144578317,102.33933573397739,1.3846830981578917,null,null,null,null,null,null,null,null,null,null,74,0,16,19.2,410,0.8,26,45,0.74,0.74,20.46,62.5,200,0.8,19.5,2,null,64,null,16,18.8,410,1.1000000000000001,26,45,0.64,0.64,21.19,59.8,200,0.8,15.7,3,null,74,null,16,19.2,410,0.8,26,45,0.74,0.74,20.46,62.5,200,0.8,19.5,2,null,80,null,16,19.5,410,0.6,26,45,0.8,0.8,19.96,64.5,200,0.8,22.8,1,null,86,null,16,19.7,410,0.5,26,45,0.86,0.86,19.559999999999999,66.3,200,0.8,26.1,1]
[null,420,74.688394307966703,0.99999999999999989,303.6144578313253,56.163181695313789,0.75196665045084643,420,74.688394307966703,0.99999999999999989,521.20481927710853,89.449940299004922,1.197641763861881,622.40963855421683,103.33280132593029,1.3835188489908157,null,null,null,null,null,null,null,null,null,null,75,0,16,19.2,420,0.8,26,45,0.75,0.75,20.53,62.2,200,0.8,19.5,2,null,65,null,16,18.8,420,1.1000000000000001,26,45,0.65,0.65,21.26,59.4,200,0.8,15.7,3,null,75,null,16,19.2,420,0.8,26,45,0.75,0.75,20.53,62.2,200,0.8,19.5,2,null,81,null,16,19.5,420,0.6,26,45,0.81,0.81,20.04,64.3,200,0.8,22.8,1,null,87,null,16,19.7,420,0.5,26,45,0.87,0.87,19.63,65.900000000000006,200,0.8,26.1,1]
[null,430,75.449048818213981,1,310.84337349397589,56.785165311696204,0.75262930681225271,430,75.449048818213981,1,533.61445783132535,90.331180354040853,1.197247437428717,637.22891566265059,104.30228656543494,1.3824201656503265,null,null,null,null,null,null,null,null,null,null,75,0,16,19.2,430,0.8,26,45,0.75,0.75,20.6,61.9,200,0.8,19.5,2,null,65,null,16,18.8,430,1.1000000000000001,26,45,0.65,0.65,21.32,59.3,200,0.8,15.7,3,null,75,null,16,19.2,430,0.8,26,45,0.75,0.75,20.6,61.9,200,0.8,19.5,2,null,81.999999999999986,null,16,19.5,430,0.7,26,45,0.82,0.82,20.11,63.8,200,0.8,22.8,1,null,88,null,16,19.8,430,0.6,26,45,0.88,0.88,19.71,65.5,200,0.8,26.1,1]
[null,440,76.191254462302496,0.99999999999999989,318.07228915662648,57.392071202236608,0.75326324008266266,440,76.191254462302496,0.99999999999999989,546.02409638554218,91.192876166797802,1.1968942736323855,652.04819277108436,105.24832684608253,1.3813701794102462,null,null,null,null,null,null,null,null,null,null,76,0,16,19.3,440,0.8,26,45,0.76,0.76,20.67,61.8,200,0.8,19.5,2,null,66,null,16,18.8,440,1.2,26,45,0.66,0.66,21.39,59,200,0.8,15.7,3,null,76,null,16,19.3,440,0.8,26,45,0.76,0.76,20.67,61.8,200,0.8,19.5,2,null,82.999999999999986,null,16,19.600000000000001,440,0.7,26,45,0.83,0.83,20.18,63.7,200,0.8,22.8,1,null,89,null,16,19.8,440,0.6,26,45,0.89,0.89,19.78,65.400000000000006,200,0.8,26.1,1]
[null,450,76.916100765483009,0.99999999999999989,325.30120481927713,57.98460942999084,0.75386829094191554,450,76.916100765483009,0.99999999999999989,558.43373493975912,92.03602618117506,1.1965768579688232,666.86746987951813,106.17126725002291,1.3803516584094508,null,null,null,null,null,null,null,null,null,null,77,0,16,19.3,450,0.9,26,45,0.77,0.77,20.74,61.3,200,0.8,19.5,2,null,67,null,16,18.899999999999999,450,1.2,26,45,0.67,0.67,21.45,58.8,200,0.8,15.7,4,null,77,null,16,19.3,450,0.9,26,45,0.77,0.77,20.74,61.3,200,0.8,19.5,2,null,83.999999999999986,null,16,19.600000000000001,450,0.7,26,45,0.84,0.84,20.25,63.4,200,0.8,22.8,1,null,90,null,16,19.899999999999999,450,0.6,26,45,0.9,0.9,19.86,64.900000000000006,200,0.8,26,1]
[null,460,77.624605277868127,1,332.53012048192772,58.563455106701696,0.75444448183750012,460,77.624605277868127,1,570.84337349397595,92.861483306297373,1.1962892819085742,681.68674698795178,107.07129368678483,1.3793473513135193,null,null,null,null,null,null,null,null,null,null,78,0,16,19.3,460,0.9,26,45,0.78,0.78,20.8,61.3,200,0.8,19.5,2,null,67,null,16,18.899999999999999,460,1.2,26,45,0.67,0.67,21.5,58.5,200,0.8,15.7,4,null,78,null,16,19.3,460,0.9,26,45,0.78,0.78,20.8,61.3,200,0.8,19.5,2,null,84.999999999999986,null,16,19.7,460,0.7,26,45,0.85,0.85,20.32,63.1,200,0.8,22.8,1,null,91,null,16,19.899999999999999,460,0.6,26,45,0.91,0.91,19.93,64.7,200,0.8,26,1]
[null,470,78.317715053148959,1,339.75903614457832,59.129249569495315,0.75499201591068221,470,78.317715053148959,1,583.25301204819277,93.669961834465525,1.1960252130810767,696.50602409638554,107.94846718431091,1.3783403551936311,null,null,null,null,null,null,null,null,null,null,78,0,16,19.399999999999999,470,0.9,26,45,0.78,0.78,20.87,60.9,200,0.8,19.5,2,null,68,null,16,18.899999999999999,470,1.2,26,45,0.68,0.68,21.56,58.4,200,0.8,15.7,4,null,78,null,16,19.399999999999999,470,0.9,26,45,0.78,0.78,20.87,60.9,200,0.8,19.5,2,null,86,null,16,19.7,470,0.7,26,45,0.86,0.86,20.39,62.8,200,0.8,22.8,1,null,92,null,16,19.899999999999999,470,0.6,26,45,0.92,0.92,20,64.400000000000006,200,0.8,26,1]
[null,480,78.996308229661466,1,346.98795180722891,59.682601538944198,0.7555112748488495,480,78.996308229661466,1,595.66265060240971,94.462045253233057,1.1957779720364772,711.32530120481931,108.80276133220937,1.3773145071019433,null,null,null,null,null,null,null,null,null,null,79,0,16,19.399999999999999,480,0.9,26,45,0.79,0.79,20.93,60.8,200,0.8,19.5,2,null,68,null,16,18.899999999999999,480,1.3,26,45,0.68,0.68,21.62,58.1,200,0.8,15.7,4,null,79,null,16,19.399999999999999,480,0.9,26,45,0.79,0.79,20.93,60.8,200,0.8,19.5,2,null,86,null,16,19.7,480,0.7,26,45,0.86,0.86,20.45,62.5,200,0.8,22.8,2,null,93,null,16,20,480,0.6,26,45,0.93,0.93,20.07,64.099999999999994,200,0.8,26,1]
[null,490,79.661195713802115,1,354.2168674698795,60.224088258497076,0.75600281566025551,490,79.661195713802115,1,608.07228915662654,95.238194951609231,1.1955406154556156,726.14457831325296,109.63410287721968,1.3762547987743103,null,null,null,null,null,null,null,null,null,null,80,0,16,19.399999999999999,490,0.9,26,45,0.8,0.8,20.99,60.4,200,0.8,19.5,2,null,68.999999999999986,null,16,19,490,1.3,26,45,0.69,0.69,21.68,57.9,200,0.8,15.7,4,null,80,null,16,19.399999999999999,490,0.9,26,45,0.8,0.8,20.99,60.4,200,0.8,19.5,2,null,87,null,16,19.8,490,0.8,26,45,0.87,0.87,20.52,62.3,200,0.8,22.8,2,null,93,null,16,20,490,0.6,26,45,0.93,0.93,20.13,63.9,200,0.8,26,1]
[null,500,80.313122965793241,1,361.4457831325301,60.754256615275551,0.75646736637488055,500,80.313122965793241,1,620.48192771084348,95.998759820388187,1.195306025657547,740.96385542168673,110.4424154708945,1.3751478138626716,null,null,null,null,null,null,null,null,null,null,80,0,16,19.5,500,1,26,45,0.8,0.8,21.05,60.3,200,0.8,19.5,2,null,68.999999999999986,null,16,19,500,1.3,26,45,0.69,0.69,21.73,57.7,200,0.8,15.7,4,null,80,null,16,19.5,500,1,26,45,0.8,0.8,21.05,60.3,200,0.8,19.5,2,null,88,null,16,19.8,500,0.8,26,45,0.88,0.88,20.58,62.1,200,0.8,22.8,2,null,94,null,16,20.100000000000001,500,0.6,26,45,0.94,0.94,20.2,63.6,200,0.8,26,1]
[null,510,80.952771887797965,1,368.67469879518075,61.273624242237048,0.75690582068225443,510,80.952771887797965,1,632.89156626506031,96.743986746604691,1.1950670062378301,755.7831325301205,111.22766656949713,1.3739821870912676,null,null,null,null,null,null,null,null,null,null,81,0,16,19.5,510,1,26,45,0.81,0.81,21.1,60,200,0.8,19.5,3,null,69.999999999999986,null,16,19,510,1.3,26,45,0.7,0.7,21.78,57.6,200,0.8,15.7,4,null,81,null,16,19.5,510,1,26,45,0.81,0.81,21.1,60,200,0.8,19.5,3,null,89,null,16,19.8,510,0.8,26,45,0.89,0.89,20.64,61.8,200,0.8,22.8,2,null,95,null,16,20.100000000000001,510,0.7,26,45,0.95,0.95,20.260000000000002,63.3,200,0.8,26,1]
[null,520,81.58076281438494,1,375.90361445783134,61.782680601705223,0.75731923152367531,520,81.58076281438494,1,645.30120481927713,97.474032002115422,1.1948163836600958,770.60240963855426,111.98991748611402,1.3727490847433841,null,null,null,null,null,null,null,null,null,null,81.999999999999986,0,16,19.5,520,1,26,45,0.82,0.82,21.17,59.8,200,0.8,19.5,3,null,69.999999999999986,null,16,19,520,1.4,26,45,0.7,0.7,21.84,57.4,200,0.8,15.7,5,null,81.999999999999986,null,16,19.5,520,1,26,45,0.82,0.82,21.17,59.8,200,0.8,19.5,3,null,90,null,16,19.899999999999999,520,0.8,26,45,0.9,0.9,20.7,61.6,200,0.8,22.8,2,null,96,null,16,20.100000000000001,520,0.7,26,45,0.96,0.96,20.32,63.1,200,0.8,26,1]
[null,530,82.197656605342146,1,383.13253012048193,62.281888050266289,0.75770880366215332,530,82.197656605342146,1,657.71084337349407,98.188973526307393,1.1945471146184228,785.42168674698792,112.72937659498251,1.3714427059184078,null,null,null,null,null,null,null,null,null,null,81.999999999999986,0,16,19.5,530,1,26,45,0.82,0.82,21.22,59.6,200,0.8,19.5,3,null,71,null,16,19.100000000000001,530,1.4,26,45,0.71,0.71,21.88,57.1,200,0.8,15.7,5,null,81.999999999999986,null,16,19.5,530,1,26,45,0.82,0.82,21.22,59.6,200,0.8,19.5,3,null,90,null,16,19.899999999999999,530,0.8,26,45,0.9,0.9,20.76,61.4,200,0.8,22.8,2,null,97,null,16,20.2,530,0.7,26,45,0.97,0.97,20.38,62.8,200,0.8,26,1]
[null,540,82.803956840840726,1,390.36144578313252,62.77168288503276,0.75807588525856995,540,82.803956840840726,1,670.1204819277109,98.88882410293192,1.1942523989887133,800.24096385542168,113.44645568803517,1.3700608040518287,null,null,null,null,null,null,null,null,null,null,82.999999999999986,0,16,19.600000000000001,540,1,26,45,0.83,0.83,21.27,59.4,200,0.8,19.5,3,null,71,null,16,19.100000000000001,540,1.4,26,45,0.71,0.71,21.93,57,200,0.8,15.7,5,null,82.999999999999986,null,16,19.600000000000001,540,1,26,45,0.83,0.83,21.27,59.4,200,0.8,19.5,3,null,91,null,16,19.899999999999999,540,0.8,26,45,0.91,0.91,20.82,61.2,200,0.8,22.7,2,null,98,null,16,20.2,540,0.7,26,45,0.98,0.98,20.440000000000001,62.6,200,0.8,26,1]
[null,550,83.400112118948343,1,397.59036144578312,63.252476371273445,0.75842195848682326,550,83.400112118948343,1,682.53012048192772,99.573545431065128,1.1939257981937679,815.06024096385545,114.14182948365763,1.3686052282623351,null,null,null,null,null,null,null,null,null,null,83.999999999999986,0,16,19.600000000000001,550,1.1000000000000001,26,45,0.84,0.84,21.32,59.3,200,0.8,19.5,3,null,72,null,16,19.100000000000001,550,1.5,26,45,0.72,0.72,21.98,56.8,200,0.8,15.7,5,null,83.999999999999986,null,16,19.600000000000001,550,1.1000000000000001,26,45,0.84,0.84,21.32,59.3,200,0.8,19.5,3,null,92,null,16,19.899999999999999,550,0.8,26,45,0.92,0.92,20.88,61,200,0.8,22.7,2,null,98,null,16,20.2,550,0.7,26,45,0.98,0.98,20.5,62.4,200,0.8,26,1]
[null,560,83.986518455491975,1,404.81927710843371,63.724655751410467,0.75874862922411612,560,83.986518455491975,1,694.93975903614466,100.2430630901946,1.1935613588187688,829.8795180722891,114.81649828766402,1.3670824841788169,null,null,null,null,null,null,null,null,null,null,83.999999999999986,0,16,19.600000000000001,560,1.1000000000000001,26,45,0.84,0.84,21.37,58.9,200,0.8,19.5,3,null,72,null,16,19.100000000000001,560,1.5,26,45,0.72,0.72,22.02,56.6,200,0.8,15.7,5,null,83.999999999999986,null,16,19.600000000000001,560,1.1000000000000001,26,45,0.84,0.84,21.37,58.9,200,0.8,19.5,3,null,92,null,16,20,560,0.9,26,45,0.92,0.92,20.93,60.8,200,0.8,22.7,2,null,99,null,16,20.3,560,0.7,26,45,0.99,0.99,20.56,62.2,200,0.8,26,1]
[null,570,84.563521786270172,1,412.04819277108436,64.188585235382703,0.75905761585493037,570,84.563521786270172,1,707.34939759036149,100.89728239943247,1.193153741331221,844.69879518072287,115.47185380648614,1.3655043140035621,null,null,null,null,null,null,null,null,null,null,84.999999999999986,0,16,19.600000000000001,570,1.1000000000000001,26,45,0.85,0.85,21.42,59,200,0.8,19.5,3,null,73,null,16,19.100000000000001,570,1.5,26,45,0.73,0.73,22.07,56.6,200,0.8,15.7,5,null,84.999999999999986,null,16,19.600000000000001,570,1.1000000000000001,26,45,0.85,0.85,21.42,59,200,0.8,19.5,3,null,93,null,16,20,570,0.9,26,45,0.93,0.93,20.98,60.4,200,0.8,22.7,2,null,100,null,16,20.3,570,0.7,26,45,1,1,20.61,61.8,200,0.8,26,2]
[null,580,85.131420571615422,1,419.27710843373495,64.644606972376408,0.75935073722862623,580,85.131420571615422,1,719.75903614457843,101.5361051708544,1.1926983537815958,859.51807228915663,116.10974811257864,1.363888295684003,null,null,null,null,null,null,null,null,null,null,84.999999999999986,0,16,19.7,580,1.1000000000000001,26,45,0.85,0.85,21.47,58.7,200,0.8,19.5,3,null,73,null,16,19.2,580,1.5,26,45,0.73,0.73,22.11,56.4,200,0.8,15.7,6,null,84.999999999999986,null,16,19.7,580,1.1000000000000001,26,45,0.85,0.85,21.47,58.7,200,0.8,19.5,3,null,94,null,16,20,580,0.9,26,45,0.94,0.94,21.03,60.3,200,0.8,22.7,2,null,100,null,16,20.3,580,0.7,26,45,1,1,20.67,61.8,200,0.8,26,2]
[null,590,85.690468503305325,1,426.50602409638554,65.093042003922079,0.75962989981098372,590,85.690468503305325,1,732.16867469879526,102.15944735696544,1.1921914903875788,874.3373493975904,116.73256576204039,1.3622584611909045,null,null,null,null,null,null,null,null,null,null,86,0,16,19.7,590,1.1000000000000001,26,45,0.86,0.86,21.52,58.5,200,0.8,19.5,3,null,74,null,16,19.2,590,1.6,26,45,0.74,0.74,22.16,56.1,200,0.8,15.7,6,null,86,null,16,19.7,590,1.1000000000000001,26,45,0.86,0.86,21.52,58.5,200,0.8,19.5,3,null,94,null,16,20.100000000000001,590,0.9,26,45,0.94,0.94,21.09,60.1,200,0.8,22.7,2,null,101,null,16,20.399999999999999,590,0.8,26,45,1.01,1.01,20.72,61.4,200,0.8,26,2]
[null,600,86.240877313824228,1,433.73493975903614,65.534191198358229,0.75989708406935741,600,86.240877313824228,1,744.57831325301208,102.7672575922912,1.1916304749350901,889.15662650602405,117.3432990644497,1.3606459340324895,null,null,null,null,null,null,null,null,null,null,86,0,16,19.7,600,1.1000000000000001,26,45,0.86,0.86,21.57,58.4,200,0.8,19.5,3,null,74,null,16,19.2,600,1.6,26,45,0.74,0.74,22.2,56.2,200,0.8,15.7,6,null,86,null,16,19.7,600,1.1000000000000001,26,45,0.86,0.86,21.57,58.4,200,0.8,19.5,3,null,95,null,16,20.100000000000001,600,0.9,26,45,0.95,0.95,21.13,60,200,0.8,22.7,2,null,102.00000000000001,null,16,20.399999999999999,600,0.8,26,45,1.02,1.02,20.78,61.3,200,0.8,26,2]
[null,610,86.782819687973586,1,440.96385542168673,65.968336166662198,0.76015433012951672,610,86.782819687973586,1,756.98795180722902,103.35953662909597,1.1910138089626925,903.97590361445782,117.94562650491616,1.3590895862682038,null,null,null,null,null,null,null,null,null,null,87,0,16,19.7,610,1.2,26,45,0.87,0.87,21.62,58.1,200,0.8,19.5,3,null,75,null,16,19.2,610,1.6,26,45,0.75,0.75,22.24,55.9,200,0.8,15.7,6,null,87,null,16,19.7,610,1.2,26,45,0.87,0.87,21.62,58.1,200,0.8,19.5,3,null,95,null,16,20.100000000000001,610,0.9,26,45,0.95,0.95,21.19,59.8,200,0.8,22.7,2,null,103.00000000000001,null,16,20.399999999999999,610,0.8,26,45,1.03,1.03,20.83,61.1,200,0.8,26,2]
[null,620,87.316432276832529,1,448.19277108433732,66.395740159647033,0.76040372273963908,620,87.316432276832529,1,769.39759036144585,103.93635766722724,1.1903413247314325,918.79518072289159,118.54399431834844,1.3576367154181292,null,null,null,null,null,null,null,null,null,null,{"$f":"IF($AA$13=$AR$13,AR79,IF($AA$13=$BI$13,BI79,IF($AA$13=$BZ$13,BZ79,IF($AA$13=$CQ$13,CQ79,\"-\"))))","v":87},{"$f":"IF($AA$13=$AR$13,AS79,IF($AA$13=$BI$13,BJ79,IF($AA$13=$BZ$13,CA79,IF($AA$13=$CQ$13,CR79,\"-\"))))","v":0},{"$f":"IF($AA$13=$AR$13,AT79,IF($AA$13=$BI$13,BK79,IF($AA$13=$BZ$13,CB79,IF($AA$13=$CQ$13,CS79,\"-\"))))","v":16},{"$f":"IF($AA$13=$AR$13,AU79,IF($AA$13=$BI$13,BL79,IF($AA$13=$BZ$13,CC79,IF($AA$13=$CQ$13,CT79,\"-\"))))","v":19.8},{"$f":"IF($AA$13=$AR$13,AV79,IF($AA$13=$BI$13,BM79,IF($AA$13=$BZ$13,CD79,IF($AA$13=$CQ$13,CU79,\"-\"))))","v":620},{"$f":"IF($AA$13=$AR$13,AW79,IF($AA$13=$BI$13,BN79,IF($AA$13=$BZ$13,CE79,IF($AA$13=$CQ$13,CV79,\"-\"))))","v":1.2},{"$f":"IF($AA$13=$AR$13,AX79,IF($AA$13=$BI$13,BO79,IF($AA$13=$BZ$13,CF79,IF($AA$13=$CQ$13,CW79,\"-\"))))","v":26},{"$f":"IF($AA$13=$AR$13,AY79,IF($AA$13=$BI$13,BP79,IF($AA$13=$BZ$13,CG79,IF($AA$13=$CQ$13,CX79,\"-\"))))","v":45},{"$f":"IF($AA$13=$AR$13,AZ79,IF($AA$13=$BI$13,BQ79,IF($AA$13=$BZ$13,CH79,IF($AA$13=$CQ$13,CY79,\"-\"))))","v":0.87},{"$f":"IF($AA$13=$AR$13,BA79,IF($AA$13=$BI$13,BR79,IF($AA$13=$BZ$13,CI79,IF($AA$13=$CQ$13,CZ79,\"-\"))))","v":0.87},{"$f":"IF($AA$13=$AR$13,BB79,IF($AA$13=$BI$13,BS79,IF($AA$13=$BZ$13,CJ79,IF($AA$13=$CQ$13,DA79,\"-\"))))","v":21.66},{"$f":"IF($AA$13=$AR$13,BC79,IF($AA$13=$BI$13,BT79,IF($AA$13=$BZ$13,CK79,IF($AA$13=$CQ$13,DB79,\"-\"))))","v":58},{"$f":"IF($AA$13=$AR$13,BD79,IF($AA$13=$BI$13,BU79,IF($AA$13=$BZ$13,CL79,IF($AA$13=$CQ$13,DC79,\"-\"))))","v":200},{"$f":"IF($AA$13=$AR$13,BE79,IF($AA$13=$BI$13,BV79,IF($AA$13=$BZ$13,CM79,IF($AA$13=$CQ$13,DD79,\"-\"))))","v":0.8},{"$f":"IF($AA$13=$AR$13,BF79,IF($AA$13=$BI$13,BW79,IF($AA$13=$BZ$13,CN79,IF($AA$13=$CQ$13,DE79,\"-\"))))","v":19.5},{"$f":"IF($AA$13=$AR$13,BG79,IF($AA$13=$BI$13,BX79,IF($AA$13=$BZ$13,CO79,IF($AA$13=$CQ$13,DF79,\"-\"))))","v":4},null,75,null,16,19.2,620,1.6,26,45,0.75,0.75,22.28,55.7,200,0.8,15.7,6,null,87,null,16,19.8,620,1.2,26,45,0.87,0.87,21.66,58,200,0.8,19.5,4,null,96,null,16,20.100000000000001,620,1,26,45,0.96,0.96,21.23,59.5,200,0.8,22.7,2,null,103.00000000000001,null,16,20.399999999999999,620,0.8,26,45,1.03,1.03,20.88,60.9,200,0.8,26,2]
[null,630,87.84181881406775,1,455.42168674698797,66.816648946525817,0.76064737557352602,630,87.84181881406775,1,781.80722891566268,104.49788757808574,1.1896143430189374,933.61445783132535,119.14370121593581,1.3563437417902724,null,null,null,null,null,null,null,null,null,null,88,0,16,19.8,630,1.2,26,45,0.88,0.88,21.71,57.9,200,0.8,19.5,4,null,75,null,16,19.2,630,1.7,26,45,0.75,0.75,22.32,55.6,200,0.8,15.7,6,null,88,null,16,19.8,630,1.2,26,45,0.88,0.88,21.71,57.9,200,0.8,19.5,4,null,97,null,16,20.2,630,1,26,45,0.97,0.97,21.28,59.4,200,0.8,22.7,2,null,104.00000000000001,null,16,20.5,630,0.8,26,45,1.04,1.04,20.93,60.8,200,0.8,26,2]
[null,640,88.359053334592971,0.99999999999999989,462.65060240963857,67.231291674842112,0.76088741490081979,640,88.359053334592971,0.99999999999999989,794.21686746987962,105.04440902272179,1.1888358358135149,948.43373493975901,119.75098626384533,1.3552769268631613,null,null,null,null,null,null,null,null,null,null,88,0,16,19.8,640,1.2,26,45,0.88,0.88,21.74,57.6,200,0.8,19.5,4,null,76,null,16,19.3,640,1.7,26,45,0.76,0.76,22.35,55.6,200,0.8,15.7,7,null,88,null,16,19.8,640,1.2,26,45,0.88,0.88,21.74,57.6,200,0.8,19.5,4,null,97,null,16,20.2,640,1,26,45,0.97,0.97,21.32,59.3,200,0.8,22.7,3,null,105.00000000000001,null,16,20.5,640,0.8,26,45,1.05,1.05,20.97,60.5,200,0.8,26,2]
[null,{"$f":"AE82","v":650},{"$f":"$J$4*B82^6+$K$4*B82^5+$L$4*B82^4+$M$4*B82^3+$N$4*B82^2+$O$4*B82","v":88.868183495578108},1,469.87951807228916,67.6398817117676,0.76112596264706156,650,88.868183495578108,1,{"$f":"IF($B82*$G$5>$B$11,\"\",$B82*$G$5)","v":806.62650602409644},{"$f":"IF(K82>$B$11,\"\",$J$5*K82^6+$K$5*K82^5+$L$5*K82^4+$M$5*K82^3+$N$5*K82^2+$O$5*K82)","v":105.57634346405933},{"$f":"IF(K82>$B$11,\"\",1/$C82*L82)","v":1.1880105940199912},963.25301204819277,120.37311991413668,{"$f":"IF(N82>$B$11,\"\",1/$C82*O82)","v":1.3545131134600741},null,null,null,null,null,null,null,null,null,null,89,0,16,19.8,650,1.2,26,45,0.89,0.89,21.79,57.5,200,0.8,19.5,4,null,{"$f":"BA82/(AX82-AT82)*1000","v":76},null,16,19.3,650,1.7,26,45,0.76,0.76,22.39,55.4,200,0.8,15.7,7,null,{"$f":"BR82/(BO82-BK82)*1000","v":89},null,16,19.8,650,1.2,26,45,0.89,0.89,21.79,57.5,200,0.8,19.5,4,null,{"$f":"CI82/(CF82-CB82)*1000","v":98},null,16,20.2,650,1,26,45,0.98,0.98,21.37,59,200,0.8,22.7,3,null,{"$f":"CZ82/(CW82-CS82)*1000","v":105.00000000000001},null,16,20.5,650,0.8,26,45,1.05,1.05,21.02,60.3,200,0.8,26,2]
[null,660,89.369233999807676,{"$f":"1/C83*C83","v":1},{"$f":"IF($B83*$G$3>$B$11,\"\",$B83*$G$3)","v":477.10843373493975},{"$f":"IF(E83>$B$11,\"\",$J$3*E83^6+$K$3*E83^5+$L$3*E83^4+$M$3*E83^3+$N$3*E83^2+$O$3*E83)","v":68.042617466766131},{"$f":"IF(E83>$B$11,\"\",1/$C83*F83)","v":0.76136511886084379},{"$f":"IF($B83*$G$4>$B$11,\"\",$B83*$G$4)","v":660},{"$f":"IF(H83>$B$11,\"\",$J$4*H83^6+$K$4*H83^5+$L$4*H83^4+$M$4*H83^3+$N$4*H83^2+$O$4*H83)","v":89.369233999807676},{"$f":"IF(H83>$B$11,\"\",1/$C83*I83)","v":1},819.03614457831327,106.09427507324398,1.1871454003228035,{"$f":"IF($B83*$G$6>$B$11,\"\",$B83*$G$6)","v":978.07228915662654},{"$f":"IF(N83>$B$11,\"\",$J$6*N83^6+$K$6*N83^5+$L$6*N83^4+$M$6*N83^3+$N$6*N83^2+$O$6*N83)","v":121.01849818788992},{"$f":"IF(N83>$B$11,\"\",1/$C83*O83)","v":1.3541404885281925},null,null,null,null,null,null,null,null,null,null,89,0,16,19.8,660,1.3,26,45,0.89,0.89,21.83,57.4,200,0.8,19.5,4,null,77,null,16,19.3,660,1.7,26,45,0.77,0.77,22.43,55.3,200,0.8,15.7,7,null,89,null,16,19.8,660,1.3,26,45,0.89,0.89,21.83,57.4,200,0.8,19.5,4,null,98,null,16,20.2,660,1,26,45,0.98,0.98,21.41,58.9,200,0.8,22.7,3,null,106.00000000000001,null,16,20.6,660,0.9,26,45,1.06,1.06,21.07,60.2,200,0.8,26,2]
[null,670,89.862210121389523,0.99999999999999989,484.33734939759034,68.439683195624582,0.76160694359924463,670,89.862210121389523,0.99999999999999989,831.44578313253021,106.59897553011905,1.186249207382289,992.89156626506019,121.69674001055012,{"$f":"IF(N84>$B$11,\"\",1/$C84*O84)","v":1.3542593693851643},null,null,null,null,null,null,null,null,null,null,90,0,16,19.899999999999999,670,1.3,26,45,0.9,0.9,21.87,57.2,200,0.8,19.5,4,null,77,null,16,19.3,670,1.8,26,45,0.77,0.77,22.46,55.2,200,0.8,15.7,7,null,90,null,16,19.899999999999999,670,1.3,26,45,0.9,0.9,21.87,57.2,200,0.8,19.5,4,null,99,null,16,20.3,670,1,26,45,0.99,0.99,21.46,58.8,200,0.8,22.7,3,null,106.00000000000001,null,16,20.6,670,0.9,26,45,1.06,1.06,21.11,59.9,200,0.8,26,2]
[null,680,90.347101333812191,1,491.56626506024094,68.83124978585063,0.76185343823632667,680,90.347101333812191,1,843.85542168674704,107.09142971782657,1.1853333215655459,"","",{"$f":"IF(N85>$B$11,\"\",1/$C85*O85)","v":""},null,null,null,null,null,null,null,null,null,null,90,0,16,19.899999999999999,680,1.3,26,45,0.9,0.9,21.91,57.1,200,0.8,19.5,4,null,77,null,16,19.3,680,1.8,26,45,0.77,0.77,22.5,55,200,0.8,15.7,7,null,90,null,16,19.899999999999999,680,1.3,26,45,0.9,0.9,21.91,57.1,200,0.8,19.5,4,null,99,null,16,20.3,680,1,26,45,0.99,0.99,21.5,58.5,200,0.8,22.7,3,null,107.00000000000001,null,16,20.6,680,0.9,26,45,1.07,1.07,21.16,59.8,200,0.8,26,2]
[null,690,90.823885040352565,1,498.79518072289159,69.21747552343686,0.76210652619279506,690,90.823885040352565,1,856.26506024096398,107.5728623115364,1.1844115924323471,"","","",null,null,null,null,null,null,null,null,null,null,91,0,16,19.899999999999999,690,1.3,26,45,0.91,0.91,21.95,57,200,0.8,19.5,4,null,78,null,16,19.3,690,1.8,26,45,0.78,0.78,22.53,54.8,200,0.8,15.7,7,null,91,null,16,19.899999999999999,690,1.3,26,45,0.91,0.91,21.95,57,200,0.8,19.5,4,null,100,null,16,20.3,690,1.1000000000000001,26,45,1,1,21.54,58.4,200,0.8,22.7,3,null,108.00000000000001,null,16,20.6,690,0.9,26,45,1.08,1.08,21.21,59.7,200,0.8,26,2]
[null,700,91.292530406832668,1,506.02409638554218,69.598506840992115,0.76236803307823653,700,91.292530406832668,1,868.6746987951808,108.04476526129869,1.1835006082076156,"","","",null,null,null,null,null,null,null,null,null,null,91,0,16,19.899999999999999,700,1.3,26,45,0.91,0.91,21.99,56.8,200,0.8,19.5,4,null,78,null,16,19.399999999999999,700,1.9,26,45,0.78,0.78,22.57,54.8,200,0.8,15.7,8,null,91,null,16,19.899999999999999,700,1.3,26,45,0.91,0.91,21.99,56.8,200,0.8,19.5,4,null,100,null,16,20.3,700,1.1000000000000001,26,45,1,1,21.58,58.3,200,0.8,22.7,3,null,108.00000000000001,null,16,20.7,700,0.9,26,45,1.08,1.08,21.25,59.4,200,0.8,26,2]
[null,710,91.753002296726777,0.99999999999999989,513.25301204819277,69.974479047239072,0.76263966623068591,710,91.753002296726777,0.99999999999999989,881.08433734939763,108.50892616902593,1.1826198974733375,"","","",null,null,null,null,null,null,null,null,null,null,92,0,16,20,710,1.4,26,45,0.92,0.92,22.02,56.6,200,0.8,19.399999999999999,4,null,79,null,16,19.399999999999999,710,1.9,26,45,0.79,0.79,22.6,54.8,200,0.8,15.7,8,null,92,null,16,20,710,1.4,26,45,0.92,0.92,22.02,56.6,200,0.8,19.399999999999999,4,null,101,null,16,20.3,710,1.1000000000000001,26,45,1.01,1.01,21.62,58.1,200,0.8,22.7,3,null,109.00000000000001,null,16,20.7,710,0.9,26,45,1.0900000000000001,1.0900000000000001,21.29,59.3,200,0.8,26,2]
[null,720,92.205265308616703,1,520.48192771084337,70.345517037878835,0.76292299363195859,720,92.205265308616703,1,893.49397590361457,108.9674575595985,1.1817921373023297,"","","",null,null,null,null,null,null,null,null,null,null,92,0,16,20,720,1.4,26,45,0.92,0.92,22.06,56.5,200,0.8,19.399999999999999,5,null,79,null,16,19.399999999999999,720,1.9,26,45,0.79,0.79,22.63,54.6,200,0.8,15.7,8,null,92,null,16,20,720,1.4,26,45,0.92,0.92,22.06,56.5,200,0.8,19.399999999999999,5,null,102.00000000000001,null,16,20.399999999999999,720,1.1000000000000001,26,45,1.02,1.02,21.66,58,200,0.8,22.7,3,null,109.00000000000001,null,16,20.7,720,0.9,26,45,1.0900000000000001,1.0900000000000001,21.33,59.2,200,0.8,26,2]
[null,730,92.6492879159984,1,527.71084337349396,70.711735987822266,0.76321942217120886,730,92.6492879159984,1,905.9036144578314,109.42282704609786,1.1810433680322228,"","","",null,null,null,null,null,null,null,null,null,null,93,0,16,20,730,1.4,26,45,0.93,0.93,22.09,56.5,200,0.8,19.399999999999999,5,null,79,null,16,19.399999999999999,730,1.9,26,45,0.79,0.79,22.66,54.4,200,0.8,15.7,8,null,93,null,16,20,730,1.4,26,45,0.93,0.93,22.09,56.5,200,0.8,19.399999999999999,5,null,102.00000000000001,null,16,20.399999999999999,730,1.1000000000000001,26,45,1.02,1.02,21.7,57.9,200,0.8,22.7,3,null,110.00000000000001,null,16,20.7,730,0.9,26,45,1.1000000000000001,1.1000000000000001,21.37,59,200,0.8,26,2]
[null,740,93.085046709436654,1,534.93975903614455,71.073242024787788,0.76353017522397204,740,93.085046709436654,1,918.31325301204822,109.87788838916578,1.1804032148380146,"","","",null,null,null,null,null,null,null,null,null,null,93,0,16,20,740,1.4,26,45,0.93,0.93,22.13,56.3,200,0.8,19.399999999999999,5,null,80,null,16,19.399999999999999,740,2,26,45,0.8,0.8,22.69,54.4,200,0.8,15.7,8,null,93,null,16,20,740,1.4,26,45,0.93,0.93,22.13,56.3,200,0.8,19.399999999999999,5,null,102.00000000000001,null,16,20.399999999999999,740,1.1000000000000001,26,45,1.02,1.02,21.74,57.7,200,0.8,22.7,3,null,110.00000000000001,null,16,20.8,740,1,26,45,1.1000000000000001,1.1000000000000001,21.41,58.9,200,0.8,26,2]
[null,750,93.512530741070321,1,542.16867469879514,71.430132884266214,0.76385626950949792,750,93.512530741070321,1,930.72289156626516,110.33591345048973,{"$f":"IF(K92>$B$11,\"\",1/$C92*L92)","v":1.1799051162031127},"","","",null,null,null,null,null,null,null,null,null,null,93,0,16,20,750,1.4,26,45,0.93,0.93,22.16,56.2,200,0.8,19.399999999999999,5,null,80,null,16,19.399999999999999,750,2,26,45,0.8,0.8,22.72,54.3,200,0.8,15.7,9,null,93,null,16,20,750,1.4,26,45,0.93,0.93,22.16,56.2,200,0.8,19.399999999999999,5,null,103.00000000000001,null,16,20.399999999999999,750,1.2,26,45,1.03,1.03,21.78,57.6,200,0.8,22.7,3,null,111.00000000000001,null,16,20.8,750,1,26,45,1.1100000000000001,1.1100000000000001,21.45,58.8,200,0.8,26,2]
[null,760,93.931745971466739,0.99999999999999989,549.39759036144574,71.782498545852263,0.76419849118590144,760,93.931745971466739,0.99999999999999989,943.13253012048199,110.80062504041425,1.1795865593094765,"","","",null,null,null,null,null,null,null,null,null,null,94,0,16,20,760,1.5,26,45,0.94,0.94,22.2,56.2,200,0.8,19.399999999999999,5,null,80,null,16,19.5,760,2,26,45,0.8,0.8,22.75,54.2,200,0.8,15.7,9,null,94,null,16,20,760,1.5,26,45,0.94,0.94,22.2,56.2,200,0.8,19.399999999999999,5,null,103.00000000000001,null,16,20.5,760,1.2,26,45,1.03,1.03,21.81,57.5,200,0.8,22.7,3,null,111.00000000000001,null,16,20.8,760,1,26,45,1.1100000000000001,1.1100000000000001,21.49,58.5,200,0.8,26,3]
[null,770,94.342719818825685,1,556.62650602409633,72.130421850942355,0.76455737114067213,770,94.342719818825685,1,955.54216867469893,111.27623065967879,1.1794893222643141,"","","",null,null,null,null,null,null,null,null,null,null,94,0,16,20.100000000000001,770,1.5,26,45,0.94,0.94,22.23,56,200,0.8,19.399999999999999,5,null,81,null,16,19.5,770,2,26,45,0.81,0.81,22.78,54,200,0.8,15.7,9,null,94,null,16,20.100000000000001,770,1.5,26,45,0.94,0.94,22.23,56,200,0.8,19.399999999999999,5,null,104.00000000000001,null,16,20.5,770,1.2,26,45,1.04,1.04,21.85,57.3,200,0.8,22.7,4,null,112.00000000000001,null,16,20.8,770,1,26,45,1.1200000000000001,1.1200000000000001,21.53,58.5,200,0.8,26,3]
[null,780,94.745505810533189,0.99999999999999989,563.85542168674704,72.473979101800012,0.7649331594337514,780,94.745505810533189,0.99999999999999989,967.95180722891575,111.76745713528271,1.1796597229507548,"","","",null,null,null,null,null,null,null,null,null,null,95,0,16,20.100000000000001,780,1.5,26,45,0.95,0.95,22.26,55.8,200,0.8,19.399999999999999,5,null,81,null,16,19.5,780,2.1,26,45,0.81,0.81,22.81,54,200,0.8,15.7,9,null,95,null,16,20.100000000000001,780,1.5,26,45,0.95,0.95,22.26,55.8,200,0.8,19.399999999999999,5,null,104.00000000000001,null,16,20.5,780,1.2,26,45,1.04,1.04,21.88,57.1,200,0.8,22.7,4,null,112.00000000000001,null,16,20.8,780,1,26,45,1.1200000000000001,1.1200000000000001,21.57,58.4,200,0.8,26,3]
[null,790,95.140188337064643,1,571.08433734939763,72.813240641987107,0.76532579885193042,790,95.140188337064643,1,980.36144578313258,112.27958615047402,1.1801488741296955,"","","",null,null,null,null,null,null,null,null,null,null,95,0,16,20.100000000000001,790,1.5,26,45,0.95,0.95,22.3,55.7,200,0.8,19.399999999999999,5,null,81,null,16,19.5,790,2.1,26,45,0.81,0.81,22.84,53.9,200,0.8,15.7,9,null,95,null,16,20.100000000000001,790,1.5,26,45,0.95,0.95,22.3,55.7,200,0.8,19.399999999999999,5,null,105.00000000000001,null,16,20.5,790,1.2,26,45,1.05,1.05,21.92,57.1,200,0.8,22.7,4,null,112.99999999999999,null,16,20.9,790,1,26,45,1.1299999999999999,1.1299999999999999,21.6,58.2,200,0.8,26,3]
[null,800,95.526887508237479,1,578.31325301204822,73.148271418162125,0.76573489753714008,800,95.526887508237479,1,992.77108433734952,112.81849066886758,1.1810129442261899,"","","",null,null,null,null,null,null,null,null,null,null,96,0,16,20.100000000000001,800,1.5,26,45,0.96,0.96,22.33,55.7,200,0.8,19.399999999999999,5,null,81.999999999999986,null,16,19.5,800,2.1,26,45,0.82,0.82,22.86,53.9,200,0.8,15.7,10,null,96,null,16,20.100000000000001,800,1.5,26,45,0.96,0.96,22.33,55.7,200,0.8,19.399999999999999,5,null,105.00000000000001,null,16,20.5,800,1.2,26,45,1.05,1.05,21.95,57,200,0.8,22.7,4,null,112.99999999999999,null,16,20.9,800,1,26,45,1.1299999999999999,1.1299999999999999,21.64,58,200,0.8,26,3]
[null,810,95.905764111814108,1,585.54216867469881,73.479131523245712,0.76615970065759809,810,95.905764111814108,1,"",{"$f":"IF(K98>$B$11,\"\",$J$5*K98^6+$K$5*K98^5+$L$5*K98^4+$M$5*K98^3+$N$5*K98^2+$O$5*K98)","v":""},{"$f":"IF(K98>$B$11,\"\",1/$C98*L98)","v":""},"","","",null,null,null,null,null,null,null,null,null,null,96,0,16,20.100000000000001,810,1.5,26,45,0.96,0.96,22.36,55.5,200,0.8,19.399999999999999,6,null,81.999999999999986,null,16,19.5,810,2.1,26,45,0.82,0.82,22.89,53.7,200,0.8,15.7,10,null,96,null,16,20.100000000000001,810,1.5,26,45,0.96,0.96,22.36,55.5,200,0.8,19.399999999999999,6,null,106.00000000000001,null,16,20.5,810,1.2,26,45,1.06,1.06,21.99,56.8,200,0.8,22.7,4,null,113.99999999999999,null,16,20.9,810,1,26,45,1.1399999999999999,1.1399999999999999,21.67,57.9,200,0.8,26,3]
[null,820,96.277024674453173,1,592.77108433734941,73.805876720951687,0.76659906110014908,820,96.277024674453173,1,"","","","","","",null,null,null,null,null,null,null,null,null,null,96,0,16,20.100000000000001,820,1.6,26,45,0.96,0.96,22.39,55.4,200,0.8,19.399999999999999,6,null,81.999999999999986,null,16,19.5,820,2.2000000000000002,26,45,0.82,0.82,22.92,53.6,200,0.8,15.7,10,null,96,null,16,20.100000000000001,820,1.6,26,45,0.96,0.96,22.39,55.4,200,0.8,19.399999999999999,6,null,106.00000000000001,null,16,20.6,820,1.3,26,45,1.06,1.06,22.02,56.6,200,0.8,22.7,4,null,113.99999999999999,null,16,20.9,820,1.1000000000000001,26,45,1.1399999999999999,1.1399999999999999,21.71,57.8,200,0.8,26,3]
[null,830,96.640926625011502,1,600,74.128558951686415,0.76705140917493342,830,96.640926625011502,1,"","","","","","",null,null,null,null,null,null,null,null,null,null,97,0,16,20.2,830,1.6,26,45,0.97,0.97,22.42,55.3,200,0.8,19.399999999999999,6,null,81.999999999999986,null,16,19.5,830,2.2000000000000002,26,45,0.82,0.82,22.94,53.6,200,0.8,15.7,10,null,97,null,16,20.2,830,1.6,26,45,0.97,0.97,22.42,55.3,200,0.8,19.399999999999999,6,null,107.00000000000001,null,16,20.6,830,1.3,26,45,1.07,1.07,22.05,56.6,200,0.8,22.7,4,null,114.99999999999999,null,16,20.9,830,1.1000000000000001,26,45,1.1499999999999999,1.1499999999999999,21.74,57.6,200,0.8,26,3]
[null,840,96.997783560195273,1,607.22891566265059,74.447226819813409,0.76751472134012888,840,96.997783560195273,1,"","","","","","",null,null,null,null,null,null,null,null,null,null,97,0,16,20.2,840,1.6,26,45,0.97,0.97,22.45,55.2,200,0.8,19.399999999999999,6,null,82.999999999999986,null,16,19.600000000000001,840,2.2000000000000002,26,45,0.83,0.83,22.97,53.4,200,0.8,15.7,10,null,97,null,16,20.2,840,1.6,26,45,0.97,0.97,22.45,55.2,200,0.8,19.399999999999999,6,null,107.00000000000001,null,16,20.6,840,1.3,26,45,1.07,1.07,22.08,56.6,200,0.8,22.7,4,null,114.99999999999999,null,16,21,840,1.1000000000000001,26,45,1.1499999999999999,1.1499999999999999,21.78,57.6,200,0.8,26,3]
[null,850,97.347970612560459,1,614.45783132530119,74.761926062285937,0.76798648797553537,850,97.347970612560459,1,"","","","","","",null,null,null,null,null,null,null,null,null,null,97,0,16,20.2,850,1.6,26,45,0.97,0.97,22.48,55.2,200,0.8,19.399999999999999,6,null,82.999999999999986,null,16,19.600000000000001,850,2.2000000000000002,26,45,0.83,0.83,22.99,53.4,200,0.8,15.7,11,null,97,null,16,20.2,850,1.6,26,45,0.97,0.97,22.48,55.2,200,0.8,19.399999999999999,6,null,107.00000000000001,null,16,20.6,850,1.3,26,45,1.07,1.07,22.11,56.4,200,0.8,22.7,4,null,115.99999999999999,null,16,21,850,1.1000000000000001,26,45,1.1599999999999999,1.1599999999999999,21.81,57.5,200,0.8,26,3]
[null,860,97.691929920863288,0.99999999999999989,621.68674698795178,75.072699998644651,0.76846368025954992,860,97.691929920863288,0.99999999999999989,"","","","","","",null,null,null,null,null,null,null,null,null,null,98,0,16,20.2,860,1.6,26,45,0.98,0.98,22.5,55,200,0.8,19.399999999999999,6,null,82.999999999999986,null,16,19.600000000000001,860,2.2999999999999998,26,45,0.83,0.83,23.02,53.3,200,0.8,15.7,11,null,98,null,16,20.2,860,1.6,26,45,0.98,0.98,22.5,55,200,0.8,19.399999999999999,6,null,108.00000000000001,null,16,20.6,860,1.3,26,45,1.08,1.08,22.14,56.2,200,0.8,22.7,4,null,115.99999999999999,null,16,21,860,1.1000000000000001,26,45,1.1599999999999999,1.1599999999999999,21.84,57.3,200,0.8,26,3]
[null,870,98.030176202760515,1,628.91566265060237,75.379589962384102,0.76894271623538535,870,98.030176202760515,1,"","","","","","",null,null,null,null,null,null,null,null,null,null,98,0,16,20.2,870,1.7,26,45,0.98,0.98,22.53,54.9,200,0.8,19.399999999999999,6,null,83.999999999999986,null,16,19.600000000000001,870,2.2999999999999998,26,45,0.84,0.84,23.04,53.2,200,0.8,15.7,11,null,98,null,16,20.2,870,1.7,26,45,0.98,0.98,22.53,54.9,200,0.8,19.399999999999999,6,null,108.00000000000001,null,16,20.7,870,1.3,26,45,1.08,1.08,22.18,56.1,200,0.8,22.7,4,null,117,null,16,21,870,1.1000000000000001,26,45,1.17,1.17,21.88,57.1,200,0.8,26,3]
[null,880,98.363302429857981,1,636.14457831325296,75.682635713684505,0.76941942618948911,880,98.363302429857981,1,"","","","","","",null,null,null,null,null,null,null,null,null,null,98,0,16,20.2,880,1.7,26,45,0.98,0.98,22.56,54.8,200,0.8,19.399999999999999,6,null,83.999999999999986,null,16,19.600000000000001,880,2.2999999999999998,26,45,0.84,0.84,23.06,53,200,0.8,15.7,11,null,98,null,16,20.2,880,1.7,26,45,0.98,0.98,22.56,54.8,200,0.8,19.399999999999999,6,null,109.00000000000001,null,16,20.7,880,1.4,26,45,1.0900000000000001,1.0900000000000001,22.2,56.1,200,0.8,22.7,4,null,117,null,16,21,880,1.1000000000000001,26,45,1.17,1.17,21.91,57.1,200,0.8,26,3]
[null,890,98.691985605110517,1,643.37349397590356,75.981875833510259,0.7698890175087908,890,98.691985605110517,1,"","","","","","",null,null,null,null,null,null,null,null,null,null,99,0,16,20.3,890,1.7,26,45,0.99,0.99,22.58,54.8,200,0.8,19.399999999999999,7,null,83.999999999999986,null,16,19.600000000000001,890,2.4,26,45,0.84,0.84,23.09,53,200,0.8,15.7,12,null,99,null,16,20.3,890,1.7,26,45,0.99,0.99,22.58,54.8,200,0.8,19.399999999999999,7,null,109.00000000000001,null,16,20.7,890,1.4,26,45,1.0900000000000001,1.0900000000000001,22.23,56,200,0.8,22.7,5,null,117,null,16,21.1,890,1.1000000000000001,26,45,1.17,1.17,21.94,57.1,200,0.8,26,3]
[null,900,99.01699264256996,1,650.60240963855426,76.277348099076079,0.77034603923410294,900,99.01699264256996,1,"","","","","","",null,null,null,null,null,null,null,null,null,null,99,0,16,20.3,900,1.7,26,45,0.99,0.99,22.61,54.7,200,0.8,19.399999999999999,7,null,84.999999999999986,null,16,19.600000000000001,900,2.4,26,45,0.85,0.85,23.11,53.1,200,0.8,15.7,12,null,99,null,16,20.3,900,1.7,26,45,0.99,0.99,22.61,54.7,200,0.8,19.399999999999999,7,null,109.00000000000001,null,16,20.7,900,1.4,26,45,1.0900000000000001,1.0900000000000001,22.26,55.8,200,0.8,22.7,5,null,118,null,16,21.1,900,1.2,26,45,1.18,1.18,21.97,56.9,200,0.8,26,3]
[null,910,99.339186349484009,1,657.83132530120486,76.569089840679169,0.77078434658506623,910,99.339186349484009,1,"","","","","","",null,null,null,null,null,null,null,null,null,null,99,0,16,20.3,910,1.7,26,45,0.99,0.99,22.64,54.5,200,0.8,19.399999999999999,7,null,84.999999999999986,null,16,19.600000000000001,910,2.4,26,45,0.85,0.85,23.13,52.9,200,0.8,15.7,12,null,99,null,16,20.3,910,1.7,26,45,0.99,0.99,22.64,54.5,200,0.8,19.399999999999999,7,null,110.00000000000001,null,16,20.7,910,1.4,26,45,1.1000000000000001,1.1000000000000001,22.29,55.8,200,0.8,22.7,5,null,118,null,16,21.1,910,1.2,26,45,1.18,1.18,22,56.7,200,0.8,26,3]
[null,920,99.659531510743136,1,665.06024096385545,76.857138279897896,0.7711970657980951,920,99.659531510743136,1,"","","","","","",null,null,null,null,null,null,null,null,null,null,100,0,16,20.3,920,1.8,26,45,1,1,22.66,54.4,200,0.8,19.399999999999999,7,null,84.999999999999986,null,16,19.7,920,2.4,26,45,0.85,0.85,23.15,52.8,200,0.8,15.7,12,null,100,null,16,20.3,920,1.8,26,45,1,1,22.66,54.4,200,0.8,19.399999999999999,7,null,110.00000000000001,null,16,20.7,920,1.4,26,45,1.1000000000000001,1.1000000000000001,22.32,55.6,200,0.8,22.7,5,null,119,null,16,21.1,920,1.2,26,45,1.19,1.19,22.03,56.7,200,0.8,26,4]
[null,930,99.97910107567867,1,672.28915662650604,77.141530849158244,0.77157655969287386,930,99.97910107567867,1,"","","","","","",null,null,null,null,null,null,null,null,null,null,100,0,16,20.3,930,1.8,26,45,1,1,22.69,54.4,200,0.8,19.399999999999999,7,null,84.999999999999986,null,16,19.7,930,2.5,26,45,0.85,0.85,23.18,52.7,200,0.8,15.7,13,null,100,null,16,20.3,930,1.8,26,45,1,1,22.69,54.4,200,0.8,19.399999999999999,7,null,110.00000000000001,null,16,20.8,930,1.4,26,45,1.1000000000000001,1.1000000000000001,22.34,55.6,200,0.8,22.7,5,null,119,null,16,21.1,930,1.2,26,45,1.19,1.19,22.06,56.5,200,0.8,26,4]
[null,940,100.29908244720951,1,679.51807228915663,77.422305492665657,0.77191439446532717,940,100.29908244720951,1,"","","","","","",null,null,null,null,null,null,null,null,null,null,100,0,16,20.3,940,1.8,26,45,1,1,22.71,54.3,200,0.8,19.399999999999999,7,null,86,null,16,19.7,940,2.5,26,45,0.86,0.86,23.2,52.7,200,0.8,15.7,13,null,100,null,16,20.3,940,1.8,26,45,1,1,22.71,54.3,200,0.8,19.399999999999999,7,null,111.00000000000001,null,16,20.8,940,1.4,26,45,1.1100000000000001,1.1100000000000001,22.37,55.5,200,0.8,22.7,5,null,120,null,16,21.1,940,1.2,26,45,1.2,1.2,22.09,56.5,200,0.8,25.9,4]
[null,950,100.62078387333861,1,686.74698795180723,77.699500948704781,0.77220130829543998,950,100.62078387333861,1,"","","","","","",null,null,null,null,null,null,null,null,null,null,101,0,16,20.3,950,1.8,26,45,1.01,1.01,22.74,54.3,200,0.8,19.399999999999999,7,null,86,null,16,19.7,950,2.5,26,45,0.86,0.86,23.22,52.6,200,0.8,15.7,13,null,101,null,16,20.3,950,1.8,26,45,1.01,1.01,22.74,54.3,200,0.8,19.399999999999999,7,null,111.00000000000001,null,16,20.8,950,1.5,26,45,1.1100000000000001,1.1100000000000001,22.4,55.3,200,0.8,22.7,5,null,120,null,16,21.2,950,1.2,26,45,1.2,1.2,22.12,56.3,200,0.8,25.9,4]
[null,960,100.9456409409994,1,693.97590361445782,77.973157013305126,0.77242718245633613,960,100.9456409409994,1,"","","","","","",null,null,null,null,null,null,null,null,null,null,101,0,16,20.399999999999999,960,1.8,26,45,1.01,1.01,22.76,54.1,200,0.8,19.399999999999999,8,null,86,null,16,19.7,960,2.5,26,45,0.86,0.86,23.24,52.6,200,0.8,15.7,13,null,101,null,16,20.399999999999999,960,1.8,26,45,1.01,1.01,22.76,54.1,200,0.8,19.399999999999999,8,null,111.00000000000001,null,16,20.8,960,1.5,26,45,1.1100000000000001,1.1100000000000001,22.43,55.3,200,0.8,22.7,5,null,120,null,16,21.2,960,1.2,26,45,1.2,1.2,22.14,56.2,200,0.8,25.9,4]
[null,970,{"$f":"$J$4*B114^6+$K$4*B114^5+$L$4*B114^4+$M$4*B114^3+$N$4*B114^2+$O$4*B114","v":101.27522317225083},0.99999999999999989,701.20481927710841,78.243314785273952,0.77258101571591919,970,101.27522317225083,0.99999999999999989,"","","","","","",null,null,null,null,null,null,null,null,null,null,101,0,16,20.399999999999999,970,1.9,26,45,1.01,1.01,22.78,54,200,0.8,19.399999999999999,8,null,86,null,16,19.7,970,2.6,26,45,0.86,0.86,23.26,52.5,200,0.8,15.7,13,null,101,null,16,20.399999999999999,970,1.9,26,45,1.01,1.01,22.78,54,200,0.8,19.399999999999999,8,null,112.00000000000001,null,16,20.8,970,1.5,26,45,1.1200000000000001,1.1200000000000001,22.45,55.1,200,0.8,22.7,5,null,121,null,16,21.2,970,1.3,26,45,1.21,1.21,22.17,56.2,200,0.8,25.9,4]
[null,980,{"$f":"$J$4*B115^6+$K$4*B115^5+$L$4*B115^4+$M$4*B115^3+$N$4*B115^2+$O$4*B115","v":101.61124072282308},1,708.43373493975901,78.510016892595075,0.77265090293263983,980,101.61124072282308,1,"","","","","","",null,null,null,null,null,null,null,null,null,null,102.00000000000001,0,16,20.399999999999999,980,1.9,26,45,1.02,1.02,22.8,54,200,0.8,19.399999999999999,8,null,87,null,16,19.7,980,2.6,26,45,0.87,0.87,23.28,52.4,200,0.8,15.7,14,null,102.00000000000001,null,16,20.399999999999999,980,1.9,26,45,1.02,1.02,22.8,54,200,0.8,19.399999999999999,8,null,112.00000000000001,null,16,20.8,980,1.5,26,45,1.1200000000000001,1.1200000000000001,22.48,55.2,200,0.8,22.7,5,null,121,null,16,21.2,980,1.3,26,45,1.21,1.21,22.2,56.2,200,0.8,25.9,4]
[null,990,{"$f":"$J$4*B116^6+$K$4*B116^5+$L$4*B116^4+$M$4*B116^3+$N$4*B116^2+$O$4*B116","v":101.95555118301257},0.99999999999999989,715.6626506024096,78.773307700196597,0.77262401886089238,990,101.95555118301257,0.99999999999999989,"","","","","","",null,null,null,null,null,null,null,null,null,null,102.00000000000001,0,16,20.399999999999999,990,1.9,26,45,1.02,1.02,22.83,53.9,200,0.8,19.399999999999999,8,null,87,null,16,19.7,990,2.6,26,45,0.87,0.87,23.3,52.3,200,0.8,15.7,14,null,102.00000000000001,null,16,20.399999999999999,990,1.9,26,45,1.02,1.02,22.83,53.9,200,0.8,19.399999999999999,8,null,112.99999999999999,null,16,20.8,990,1.5,26,45,1.1299999999999999,1.1299999999999999,22.5,55,200,0.8,22.7,5,null,121,null,16,21.2,990,1.3,26,45,1.21,1.21,22.22,56,200,0.8,25.9,4]
[null,1000,{"$f":"$J$4*B117^6+$K$4*B117^5+$L$4*B117^4+$M$4*B117^3+$N$4*B117^2+$O$4*B117","v":102.31016648092628},1,722.89156626506019,79.033233499081348,0.77248660829630789,1000,102.31016648092628,1,"","","","","","",null,null,null,null,null,null,null,null,null,null,102.00000000000001,0,16,20.399999999999999,1000,1.9,26,45,1.02,1.02,22.85,53.9,200,0.8,19.399999999999999,8,null,87,null,16,19.8,1000,2.6,26,45,0.87,0.87,23.32,52.2,200,0.8,15.7,14,null,102.00000000000001,null,16,20.399999999999999,1000,1.9,26,45,1.02,1.02,22.85,53.9,200,0.8,19.399999999999999,8,null,112.99999999999999,null,16,20.9,1000,1.5,26,45,1.1299999999999999,1.1299999999999999,22.52,54.9,200,0.8,22.7,6,null,{"$f":"AJ441/(AG441-AC441)*1000","v":{"$error":"#DIV/0!"}}]
[]
[]
[]
[]
[]
[]
[]
[]
[]
[]
[]
[]
[]
[]
[]
[]
[]
[]
[]
[]
[]
[]
[]
[]
[]
[]
[]
[]
[]
[]
[]
[]
[]
[]
[]
[]
[]
[]
[]
[]
[]
[]
[]
[]
[]
[]
[]
[]
[]
[]
[]
[]
[]
[]
[]
[]
[]
[]
[]
[]
[]
[]
[]
[]
[]
[]
[]
[]
[]
[]
[]
[]
[]
[]
[]
[]
[]
[]
[]
[]
[]
[]
[]
[]
[]
[]
[]
[]
[]
[]
[]
[]
[]
[]
[]
[]
[]
[]
[]
[]
[]
[]
[]
[]
[]
[]
[]
[]
[]
[]
[]
[]
[]
[null,null,null,null,null,null,null,null,null,null,null,null,null,null,null,null,null,null,null,null,null,null,null,null,null,null,null,null,null,null,null,null,null,null,null,null,null,null,null,null,null,null,null,null,null,null,null,null,null,null,null,null,null,null,null,null,null,null,null,null,"q sensibel"]
[null,null,null,null,null,null,null,null,null,null,null,null,null,null,null,null,null,null,null,null,null,null,null,null,null,null,null,null,null,null,null,null,null,null,null,null,null,null,null,null,null,null,null,null,null,null,null,null,null,null,null,null,null,null,null,null,null,null,null,null,"W/K"]
[]
[]
[null,null,null,null,null,null,null,null,null,null,null,null,null,null,null,null,null,null,null,null,null,null,null,null,null,null,null,null,null,null,null,null,null,null,null,null,null,null,null,null,null,null,null,null,null,null,null,null,null,null,null,null,null,null,null,null,null,null,null,null,{"$f":"DR18/(DO18-DK18)*1000","v":{"$error":"#DIV/0!"}}]
[null,null,null,null,null,null,null,null,null,null,null,null,null,null,null,null,null,null,null,null,null,null,null,null,null,null,null,null,null,null,null,null,null,null,null,null,null,null,null,null,null,null,null,null,null,null,null,null,null,null,null,null,null,null,null,null,null,null,null,null,{"$error":"#DIV/0!"}]
[null,null,null,null,null,null,null,null,null,null,null,null,null,null,null,null,null,null,null,null,null,null,null,null,null,null,null,null,null,null,null,null,null,null,null,null,null,null,null,null,null,null,null,null,null,null,null,null,null,null,null,null,null,null,null,null,null,null,null,null,{"$error":"#DIV/0!"}]
[null,null,null,null,null,null,null,null,null,null,null,null,null,null,null,null,null,null,null,null,null,null,null,null,null,null,null,null,null,null,null,null,null,null,null,null,null,null,null,null,null,null,null,null,null,null,null,null,null,null,null,null,null,null,null,null,null,null,null,null,{"$error":"#DIV/0!"}]
[null,null,null,null,null,null,null,null,null,null,null,null,null,null,null,null,null,null,null,null,null,null,null,null,null,null,null,null,null,null,null,null,null,null,null,null,null,null,null,null,null,null,null,null,null,null,null,null,null,null,null,null,null,null,null,null,null,null,null,null,{"$error":"#DIV/0!"}]
[null,null,null,null,null,null,null,null,null,null,null,null,null,null,null,null,null,null,null,null,null,null,null,null,null,null,null,null,null,null,null,null,null,null,null,null,null,null,null,null,null,null,null,null,null,null,null,null,null,null,null,null,null,null,null,null,null,null,null,null,{"$error":"#DIV/0!"}]
[null,null,null,null,null,null,null,null,null,null,null,null,null,null,null,null,null,null,null,null,null,null,null,null,null,null,null,null,null,null,null,null,null,null,null,null,null,null,null,null,null,null,null,null,null,null,null,null,null,null,null,null,null,null,null,null,null,null,null,null,{"$error":"#DIV/0!"}]
[null,null,null,null,null,null,null,null,null,null,null,null,null,null,null,null,null,null,null,null,null,null,null,null,null,null,null,null,null,null,null,null,null,null,null,null,null,null,null,null,null,null,null,null,null,null,null,null,null,null,null,null,null,null,null,null,null,null,null,null,{"$error":"#DIV/0!"}]
[null,null,null,null,null,null,null,null,null,null,null,null,null,null,null,null,null,null,null,null,null,null,null,null,null,null,null,null,null,null,null,null,null,null,null,null,null,null,null,null,null,null,null,null,null,null,null,null,null,null,null,null,null,null,null,null,null,null,null,null,{"$error":"#DIV/0!"}]
[null,null,null,null,null,null,null,null,null,null,null,null,null,null,null,null,null,null,null,null,null,null,null,null,null,null,null,null,null,null,null,null,null,null,null,null,null,null,null,null,null,null,null,null,null,null,null,null,null,null,null,null,null,null,null,null,null,null,null,null,{"$error":"#DIV/0!"}]
[null,null,null,null,null,null,null,null,null,null,null,null,null,null,null,null,null,null,null,null,null,null,null,null,null,null,null,null,null,null,null,null,null,null,null,null,null,null,null,null,null,null,null,null,null,null,null,null,null,null,null,null,null,null,null,null,null,null,null,null,{"$error":"#DIV/0!"}]
[null,null,null,null,null,null,null,null,null,null,null,null,null,null,null,null,null,null,null,null,null,null,null,null,null,null,null,null,null,null,null,null,null,null,null,null,null,null,null,null,null,null,null,null,null,null,null,null,null,null,null,null,null,null,null,null,null,null,null,null,{"$error":"#DIV/0!"}]
[null,null,null,null,null,null,null,null,null,null,null,null,null,null,null,null,null,null,null,null,null,null,null,null,null,null,null,null,null,null,null,null,null,null,null,null,null,null,null,null,null,null,null,null,null,null,null,null,null,null,null,null,null,null,null,null,null,null,null,null,{"$error":"#DIV/0!"}]
[null,null,null,null,null,null,null,null,null,null,null,null,null,null,null,null,null,null,null,null,null,null,null,null,null,null,null,null,null,null,null,null,null,null,null,null,null,null,null,null,null,null,null,null,null,null,null,null,null,null,null,null,null,null,null,null,null,null,null,null,{"$error":"#DIV/0!"}]
[null,null,null,null,null,null,null,null,null,null,null,null,null,null,null,null,null,null,null,null,null,null,null,null,null,null,null,null,null,null,null,null,null,null,null,null,null,null,null,null,null,null,null,null,null,null,null,null,null,null,null,null,null,null,null,null,null,null,null,null,{"$error":"#DIV/0!"}]
[null,null,null,null,null,null,null,null,null,null,null,null,null,null,null,null,null,null,null,null,null,null,null,null,null,null,null,null,null,null,null,null,null,null,null,null,null,null,null,null,null,null,null,null,null,null,null,null,null,null,null,null,null,null,null,null,null,null,null,null,{"$error":"#DIV/0!"}]
[null,null,null,null,null,null,null,null,null,null,null,null,null,null,null,null,null,null,null,null,null,null,null,null,null,null,null,null,null,null,null,null,null,null,null,null,null,null,null,null,null,null,null,null,null,null,null,null,null,null,null,null,null,null,null,null,null,null,null,null,{"$error":"#DIV/0!"}]
[null,null,null,null,null,null,null,null,null,null,null,null,null,null,null,null,null,null,null,null,null,null,null,null,null,null,null,null,null,null,null,null,null,null,null,null,null,null,null,null,null,null,null,null,null,null,null,null,null,null,null,null,null,null,null,null,null,null,null,null,{"$error":"#DIV/0!"}]
[null,null,null,null,null,null,null,null,null,null,null,null,null,null,null,null,null,null,null,null,null,null,null,null,null,null,null,null,null,null,null,null,null,null,null,null,null,null,null,null,null,null,null,null,null,null,null,null,null,null,null,null,null,null,null,null,null,null,null,null,{"$error":"#DIV/0!"}]
[null,null,null,null,null,null,null,null,null,null,null,null,null,null,null,null,null,null,null,null,null,null,null,null,null,null,null,null,null,null,null,null,null,null,null,null,null,null,null,null,null,null,null,null,null,null,null,null,null,null,null,null,null,null,null,null,null,null,null,null,{"$error":"#DIV/0!"}]
[null,null,null,null,null,null,null,null,null,null,null,null,null,null,null,null,null,null,null,null,null,null,null,null,null,null,null,null,null,null,null,null,null,null,null,null,null,null,null,null,null,null,null,null,null,null,null,null,null,null,null,null,null,null,null,null,null,null,null,null,{"$error":"#DIV/0!"}]
[null,null,null,null,null,null,null,null,null,null,null,null,null,null,null,null,null,null,null,null,null,null,null,null,null,null,null,null,null,null,null,null,null,null,null,null,null,null,null,null,null,null,null,null,null,null,null,null,null,null,null,null,null,null,null,null,null,null,null,null,{"$error":"#DIV/0!"}]
[null,null,null,null,null,null,null,null,null,null,null,null,null,null,null,null,null,null,null,null,null,null,null,null,null,null,null,null,null,null,null,null,null,null,null,null,null,null,null,null,null,null,null,null,null,null,null,null,null,null,null,null,null,null,null,null,null,null,null,null,{"$error":"#DIV/0!"}]
[null,null,null,null,null,null,null,null,null,null,null,null,null,null,null,null,null,null,null,null,null,null,null,null,null,null,null,null,null,null,null,null,null,null,null,null,null,null,null,null,null,null,null,null,null,null,null,null,null,null,null,null,null,null,null,null,null,null,null,null,{"$error":"#DIV/0!"}]
[null,null,null,null,null,null,null,null,null,null,null,null,null,null,null,null,null,null,null,null,null,null,null,null,null,null,null,null,null,null,null,null,null,null,null,null,null,null,null,null,null,null,null,null,null,null,null,null,null,null,null,null,null,null,null,null,null,null,null,null,{"$error":"#DIV/0!"}]
[null,null,null,null,null,null,null,null,null,null,null,null,null,null,null,null,null,null,null,null,null,null,null,null,null,null,null,null,null,null,null,null,null,null,null,null,null,null,null,null,null,null,null,null,null,null,null,null,null,null,null,null,null,null,null,null,null,null,null,null,{"$error":"#DIV/0!"}]
[null,null,null,null,null,null,null,null,null,null,null,null,null,null,null,null,null,null,null,null,null,null,null,null,null,null,null,null,null,null,null,null,null,null,null,null,null,null,null,null,null,null,null,null,null,null,null,null,null,null,null,null,null,null,null,null,null,null,null,null,{"$error":"#DIV/0!"}]
[null,null,null,null,null,null,null,null,null,null,null,null,null,null,null,null,null,null,null,null,null,null,null,null,null,null,null,null,null,null,null,null,null,null,null,null,null,null,null,null,null,null,null,null,null,null,null,null,null,null,null,null,null,null,null,null,null,null,null,null,{"$error":"#DIV/0!"}]
[null,null,null,null,null,null,null,null,null,null,null,null,null,null,null,null,null,null,null,null,null,null,null,null,null,null,null,null,null,null,null,null,null,null,null,null,null,null,null,null,null,null,null,null,null,null,null,null,null,null,null,null,null,null,null,null,null,null,null,null,{"$error":"#DIV/0!"}]
[null,null,null,null,null,null,null,null,null,null,null,null,null,null,null,null,null,null,null,null,null,null,null,null,null,null,null,null,null,null,null,null,null,null,null,null,null,null,null,null,null,null,null,null,null,null,null,null,null,null,null,null,null,null,null,null,null,null,null,null,{"$error":"#DIV/0!"}]
[null,null,null,null,null,null,null,null,null,null,null,null,null,null,null,null,null,null,null,null,null,null,null,null,null,null,null,null,null,null,null,null,null,null,null,null,null,null,null,null,null,null,null,null,null,null,null,null,null,null,null,null,null,null,null,null,null,null,null,null,{"$error":"#DIV/0!"}]
[null,null,null,null,null,null,null,null,null,null,null,null,null,null,null,null,null,null,null,null,null,null,null,null,null,null,null,null,null,null,null,null,null,null,null,null,null,null,null,null,null,null,null,null,null,null,null,null,null,null,null,null,null,null,null,null,null,null,null,null,{"$error":"#DIV/0!"}]
[null,null,null,null,null,null,null,null,null,null,null,null,null,null,null,null,null,null,null,null,null,null,null,null,null,null,null,null,null,null,null,null,null,null,null,null,null,null,null,null,null,null,null,null,null,null,null,null,null,null,null,null,null,null,null,null,null,null,null,null,{"$f":"DR50/(DO50-DK50)*1000","v":{"$error":"#DIV/0!"}}]
[null,null,null,null,null,null,null,null,null,null,null,null,null,null,null,null,null,null,null,null,null,null,null,null,null,null,null,null,null,null,null,null,null,null,null,null,null,null,null,null,null,null,null,null,null,null,null,null,null,null,null,null,null,null,null,null,null,null,null,null,{"$error":"#DIV/0!"}]
[null,null,null,null,null,null,null,null,null,null,null,null,null,null,null,null,null,null,null,null,null,null,null,null,null,null,null,null,null,null,null,null,null,null,null,null,null,null,null,null,null,null,null,null,null,null,null,null,null,null,null,null,null,null,null,null,null,null,null,null,{"$error":"#DIV/0!"}]
[null,null,null,null,null,null,null,null,null,null,null,null,null,null,null,null,null,null,null,null,null,null,null,null,null,null,null,null,null,null,null,null,null,null,null,null,null,null,null,null,null,null,null,null,null,null,null,null,null,null,null,null,null,null,null,null,null,null,null,null,{"$error":"#DIV/0!"}]
[null,null,null,null,null,null,null,null,null,null,null,null,null,null,null,null,null,null,null,null,null,null,null,null,null,null,null,null,null,null,null,null,null,null,null,null,null,null,null,null,null,null,null,null,null,null,null,null,null,null,null,null,null,null,null,null,null,null,null,null,{"$error":"#DIV/0!"}]
[null,null,null,null,null,null,null,null,null,null,null,null,null,null,null,null,null,null,null,null,null,null,null,null,null,null,null,null,null,null,null,null,null,null,null,null,null,null,null,null,null,null,null,null,null,null,null,null,null,null,null,null,null,null,null,null,null,null,null,null,{"$error":"#DIV/0!"}]
[null,null,null,null,null,null,null,null,null,null,null,null,null,null,null,null,null,null,null,null,null,null,null,null,null,null,null,null,null,null,null,null,null,null,null,null,null,null,null,null,null,null,null,null,null,null,null,null,null,null,null,null,null,null,null,null,null,null,null,null,{"$error":"#DIV/0!"}]
[null,null,null,null,null,null,null,null,null,null,null,null,null,null,null,null,null,null,null,null,null,null,null,null,null,null,null,null,null,null,null,null,null,null,null,null,null,null,null,null,null,null,null,null,null,null,null,null,null,null,null,null,null,null,null,null,null,null,null,null,{"$error":"#DIV/0!"}]
[null,null,null,null,null,null,null,null,null,null,null,null,null,null,null,null,null,null,null,null,null,null,null,null,null,null,null,null,null,null,null,null,null,null,null,null,null,null,null,null,null,null,null,null,null,null,null,null,null,null,null,null,null,null,null,null,null,null,null,null,{"$error":"#DIV/0!"}]
[null,null,null,null,null,null,null,null,null,null,null,null,null,null,null,null,null,null,null,null,null,null,null,null,null,null,null,null,null,null,null,null,null,null,null,null,null,null,null,null,null,null,null,null,null,null,null,null,null,null,null,null,null,null,null,null,null,null,null,null,{"$error":"#DIV/0!"}]
[null,null,null,null,null,null,null,null,null,null,null,null,null,null,null,null,null,null,null,null,null,null,null,null,null,null,null,null,null,null,null,null,null,null,null,null,null,null,null,null,null,null,null,null,null,null,null,null,null,null,null,null,null,null,null,null,null,null,null,null,{"$error":"#DIV/0!"}]
[null,null,null,null,null,null,null,null,null,null,null,null,null,null,null,null,null,null,null,null,null,null,null,null,null,null,null,null,null,null,null,null,null,null,null,null,null,null,null,null,null,null,null,null,null,null,null,null,null,null,null,null,null,null,null,null,null,null,null,null,{"$error":"#DIV/0!"}]
[null,null,null,null,null,null,null,null,null,null,null,null,null,null,null,null,null,null,null,null,null,null,null,null,null,null,null,null,null,null,null,null,null,null,null,null,null,null,null,null,null,null,null,null,null,null,null,null,null,null,null,null,null,null,null,null,null,null,null,null,{"$error":"#DIV/0!"}]
[null,null,null,null,null,null,null,null,null,null,null,null,null,null,null,null,null,null,null,null,null,null,null,null,null,null,null,null,null,null,null,null,null,null,null,null,null,null,null,null,null,null,null,null,null,null,null,null,null,null,null,null,null,null,null,null,null,null,null,null,{"$error":"#DIV/0!"}]
[null,null,null,null,null,null,null,null,null,null,null,null,null,null,null,null,null,null,null,null,null,null,null,null,null,null,null,null,null,null,null,null,null,null,null,null,null,null,null,null,null,null,null,null,null,null,null,null,null,null,null,null,null,null,null,null,null,null,null,null,{"$error":"#DIV/0!"}]
[null,null,null,null,null,null,null,null,null,null,null,null,null,null,null,null,null,null,null,null,null,null,null,null,null,null,null,null,null,null,null,null,null,null,null,null,null,null,null,null,null,null,null,null,null,null,null,null,null,null,null,null,null,null,null,null,null,null,null,null,{"$error":"#DIV/0!"}]
[null,null,null,null,null,null,null,null,null,null,null,null,null,null,null,null,null,null,null,null,null,null,null,null,null,null,null,null,null,null,null,null,null,null,null,null,null,null,null,null,null,null,null,null,null,null,null,null,null,null,null,null,null,null,null,null,null,null,null,null,{"$error":"#DIV/0!"}]
[null,null,null,null,null,null,null,null,null,null,null,null,null,null,null,null,null,null,null,null,null,null,null,null,null,null,null,null,null,null,null,null,null,null,null,null,null,null,null,null,null,null,null,null,null,null,null,null,null,null,null,null,null,null,null,null,null,null,null,null,{"$error":"#DIV/0!"}]
[null,null,null,null,null,null,null,null,null,null,null,null,null,null,null,null,null,null,null,null,null,null,null,null,null,null,null,null,null,null,null,null,null,null,null,null,null,null,null,null,null,null,null,null,null,null,null,null,null,null,null,null,null,null,null,null,null,null,null,null,{"$error":"#DIV/0!"}]
[null,null,null,null,null,null,null,null,null,null,null,null,null,null,null,null,null,null,null,null,null,null,null,null,null,null,null,null,null,null,null,null,null,null,null,null,null,null,null,null,null,null,null,null,null,null,null,null,null,null,null,null,null,null,null,null,null,null,null,null,{"$error":"#DIV/0!"}]
[null,null,null,null,null,null,null,null,null,null,null,null,null,null,null,null,null,null,null,null,null,null,null,null,null,null,null,null,null,null,null,null,null,null,null,null,null,null,null,null,null,null,null,null,null,null,null,null,null,null,null,null,null,null,null,null,null,null,null,null,{"$error":"#DIV/0!"}]
[null,null,null,null,null,null,null,null,null,null,null,null,null,null,null,null,null,null,null,null,null,null,null,null,null,null,null,null,null,null,null,null,null,null,null,null,null,null,null,null,null,null,null,null,null,null,null,null,null,null,null,null,null,null,null,null,null,null,null,null,{"$error":"#DIV/0!"}]
[null,null,null,null,null,null,null,null,null,null,null,null,null,null,null,null,null,null,null,null,null,null,null,null,null,null,null,null,null,null,null,null,null,null,null,null,null,null,null,null,null,null,null,null,null,null,null,null,null,null,null,null,null,null,null,null,null,null,null,null,{"$error":"#DIV/0!"}]
[null,null,null,null,null,null,null,null,null,null,null,null,null,null,null,null,null,null,null,null,null,null,null,null,null,null,null,null,null,null,null,null,null,null,null,null,null,null,null,null,null,null,null,null,null,null,null,null,null,null,null,null,null,null,null,null,null,null,null,null,{"$error":"#DIV/0!"}]
[null,null,null,null,null,null,null,null,null,null,null,null,null,null,null,null,null,null,null,null,null,null,null,null,null,null,null,null,null,null,null,null,null,null,null,null,null,null,null,null,null,null,null,null,null,null,null,null,null,null,null,null,null,null,null,null,null,null,null,null,{"$error":"#DIV/0!"}]
[null,null,null,null,null,null,null,null,null,null,null,null,null,null,null,null,null,null,null,null,null,null,null,null,null,null,null,null,null,null,null,null,null,null,null,null,null,null,null,null,null,null,null,null,null,null,null,null,null,null,null,null,null,null,null,null,null,null,null,null,{"$error":"#DIV/0!"}]
[null,null,null,null,null,null,null,null,null,null,null,null,null,null,null,null,null,null,null,null,null,null,null,null,null,null,null,null,null,null,null,null,null,null,null,null,null,null,null,null,null,null,null,null,null,null,null,null,null,null,null,null,null,null,null,null,null,null,null,null,{"$error":"#DIV/0!"}]
[null,null,null,null,null,null,null,null,null,null,null,null,null,null,null,null,null,null,null,null,null,null,null,null,null,null,null,null,null,null,null,null,null,null,null,null,null,null,null,null,null,null,null,null,null,null,null,null,null,null,null,null,null,null,null,null,null,null,null,null,{"$error":"#DIV/0!"}]
[null,null,null,null,null,null,null,null,null,null,null,null,null,null,null,null,null,null,null,null,null,null,null,null,null,null,null,null,null,null,null,null,null,null,null,null,null,null,null,null,null,null,null,null,null,null,null,null,null,null,null,null,null,null,null,null,null,null,null,null,{"$error":"#DIV/0!"}]
[null,null,null,null,null,null,null,null,null,null,null,null,null,null,null,null,null,null,null,null,null,null,null,null,null,null,null,null,null,null,null,null,null,null,null,null,null,null,null,null,null,null,null,null,null,null,null,null,null,null,null,null,null,null,null,null,null,null,null,null,{"$error":"#DIV/0!"}]
[null,null,null,null,null,null,null,null,null,null,null,null,null,null,null,null,null,null,null,null,null,null,null,null,null,null,null,null,null,null,null,null,null,null,null,null,null,null,null,null,null,null,null,null,null,null,null,null,null,null,null,null,null,null,null,null,null,null,null,null,{"$error":"#DIV/0!"}]
[null,null,null,null,null,null,null,null,null,null,null,null,null,null,null,null,null,null,null,null,null,null,null,null,null,null,null,null,null,null,null,null,null,null,null,null,null,null,null,null,null,null,null,null,null,null,null,null,null,null,null,null,null,null,null,null,null,null,null,null,{"$error":"#DIV/0!"}]
[null,null,null,null,null,null,null,null,null,null,null,null,null,null,null,null,null,null,null,null,null,null,null,null,null,null,null,null,null,null,null,null,null,null,null,null,null,null,null,null,null,null,null,null,null,null,null,null,null,null,null,null,null,null,null,null,null,null,null,null,{"$f":"DR82/(DO82-DK82)*1000","v":{"$error":"#DIV/0!"}}]
[null,null,null,null,null,null,null,null,null,null,null,null,null,null,null,null,null,null,null,null,null,null,null,null,null,null,null,null,null,null,null,null,null,null,null,null,null,null,null,null,null,null,null,null,null,null,null,null,null,null,null,null,null,null,null,null,null,null,null,null,{"$error":"#DIV/0!"}]
[null,null,null,null,null,null,null,null,null,null,null,null,null,null,null,null,null,null,null,null,null,null,null,null,null,null,null,null,null,null,null,null,null,null,null,null,null,null,null,null,null,null,null,null,null,null,null,null,null,null,null,null,null,null,null,null,null,null,null,null,{"$error":"#DIV/0!"}]
[null,null,null,null,null,null,null,null,null,null,null,null,null,null,null,null,null,null,null,null,null,null,null,null,null,null,null,null,null,null,null,null,null,null,null,null,null,null,null,null,null,null,null,null,null,null,null,null,null,null,null,null,null,null,null,null,null,null,null,null,{"$error":"#DIV/0!"}]
[null,null,null,null,null,null,null,null,null,null,null,null,null,null,null,null,null,null,null,null,null,null,null,null,null,null,null,null,null,null,null,null,null,null,null,null,null,null,null,null,null,null,null,null,null,null,null,null,null,null,null,null,null,null,null,null,null,null,null,null,{"$error":"#DIV/0!"}]
[null,null,null,null,null,null,null,null,null,null,null,null,null,null,null,null,null,null,null,null,null,null,null,null,null,null,null,null,null,null,null,null,null,null,null,null,null,null,null,null,null,null,null,null,null,null,null,null,null,null,null,null,null,null,null,null,null,null,null,null,{"$error":"#DIV/0!"}]
[null,null,null,null,null,null,null,null,null,null,null,null,null,null,null,null,null,null,null,null,null,null,null,null,null,null,null,null,null,null,null,null,null,null,null,null,null,null,null,null,null,null,null,null,null,null,null,null,null,null,null,null,null,null,null,null,null,null,null,null,{"$error":"#DIV/0!"}]
[null,null,null,null,null,null,null,null,null,null,null,null,null,null,null,null,null,null,null,null,null,null,null,null,null,null,null,null,null,null,null,null,null,null,null,null,null,null,null,null,null,null,null,null,null,null,null,null,null,null,null,null,null,null,null,null,null,null,null,null,{"$error":"#DIV/0!"}]
[null,null,null,null,null,null,null,null,null,null,null,null,null,null,null,null,null,null,null,null,null,null,null,null,null,null,null,null,null,null,null,null,null,null,null,null,null,null,null,null,null,null,null,null,null,null,null,null,null,null,null,null,null,null,null,null,null,null,null,null,{"$error":"#DIV/0!"}]
[null,null,null,null,null,null,null,null,null,null,null,null,null,null,null,null,null,null,null,null,null,null,null,null,null,null,null,null,null,null,null,null,null,null,null,null,null,null,null,null,null,null,null,null,null,null,null,null,null,null,null,null,null,null,null,null,null,null,null,null,{"$error":"#DIV/0!"}]
[null,null,null,null,null,null,null,null,null,null,null,null,null,null,null,null,null,null,null,null,null,null,null,null,null,null,null,null,null,null,null,null,null,null,null,null,null,null,null,null,null,null,null,null,null,null,null,null,null,null,null,null,null,null,null,null,null,null,null,null,{"$error":"#DIV/0!"}]
[null,null,null,null,null,null,null,null,null,null,null,null,null,null,null,null,null,null,null,null,null,null,null,null,null,null,null,null,null,null,null,null,null,null,null,null,null,null,null,null,null,null,null,null,null,null,null,null,null,null,null,null,null,null,null,null,null,null,null,null,{"$error":"#DIV/0!"}]
[null,null,null,null,null,null,null,null,null,null,null,null,null,null,null,null,null,null,null,null,null,null,null,null,null,null,null,null,null,null,null,null,null,null,null,null,null,null,null,null,null,null,null,null,null,null,null,null,null,null,null,null,null,null,null,null,null,null,null,null,{"$error":"#DIV/0!"}]
[null,null,null,null,null,null,null,null,null,null,null,null,null,null,null,null,null,null,null,null,null,null,null,null,null,null,null,null,null,null,null,null,null,null,null,null,null,null,null,null,null,null,null,null,null,null,null,null,null,null,null,null,null,null,null,null,null,null,null,null,{"$error":"#DIV/0!"}]
[null,null,null,null,null,null,null,null,null,null,null,null,null,null,null,null,null,null,null,null,null,null,null,null,null,null,null,null,null,null,null,null,null,null,null,null,null,null,null,null,null,null,null,null,null,null,null,null,null,null,null,null,null,null,null,null,null,null,null,null,{"$error":"#DIV/0!"}]
[null,null,null,null,null,null,null,null,null,null,null,null,null,null,null,null,null,null,null,null,null,null,null,null,null,null,null,null,null,null,null,null,null,null,null,null,null,null,null,null,null,null,null,null,null,null,null,null,null,null,null,null,null,null,null,null,null,null,null,null,{"$error":"#DIV/0!"}]
[null,null,null,null,null,null,null,null,null,null,null,null,null,null,null,null,null,null,null,null,null,null,null,null,null,null,null,null,null,null,null,null,null,null,null,null,null,null,null,null,null,null,null,null,null,null,null,null,null,null,null,null,null,null,null,null,null,null,null,null,{"$error":"#DIV/0!"}]
[null,null,null,null,null,null,null,null,null,null,null,null,null,null,null,null,null,null,null,null,null,null,null,null,null,null,null,null,null,null,null,null,null,null,null,null,null,null,null,null,null,null,null,null,null,null,null,null,null,null,null,null,null,null,null,null,null,null,null,null,{"$error":"#DIV/0!"}]
[null,null,null,null,null,null,null,null,null,null,null,null,null,null,null,null,null,null,null,null,null,null,null,null,null,null,null,null,null,null,null,null,null,null,null,null,null,null,null,null,null,null,null,null,null,null,null,null,null,null,null,null,null,null,null,null,null,null,null,null,{"$error":"#DIV/0!"}]
[null,null,null,null,null,null,null,null,null,null,null,null,null,null,null,null,null,null,null,null,null,null,null,null,null,null,null,null,null,null,null,null,null,null,null,null,null,null,null,null,null,null,null,null,null,null,null,null,null,null,null,null,null,null,null,null,null,null,null,null,{"$error":"#DIV/0!"}]
[null,null,null,null,null,null,null,null,null,null,null,null,null,null,null,null,null,null,null,null,null,null,null,null,null,null,null,null,null,null,null,null,null,null,null,null,null,null,null,null,null,null,null,null,null,null,null,null,null,null,null,null,null,null,null,null,null,null,null,null,{"$error":"#DIV/0!"}]
[null,null,null,null,null,null,null,null,null,null,null,null,null,null,null,null,null,null,null,null,null,null,null,null,null,null,null,null,null,null,null,null,null,null,null,null,null,null,null,null,null,null,null,null,null,null,null,null,null,null,null,null,null,null,null,null,null,null,null,null,{"$error":"#DIV/0!"}]
[null,null,null,null,null,null,null,null,null,null,null,null,null,null,null,null,null,null,null,null,null,null,null,null,null,null,null,null,null,null,null,null,null,null,null,null,null,null,null,null,null,null,null,null,null,null,null,null,null,null,null,null,null,null,null,null,null,null,null,null,{"$error":"#DIV/0!"}]
[null,null,null,null,null,null,null,null,null,null,null,null,null,null,null,null,null,null,null,null,null,null,null,null,null,null,null,null,null,null,null,null,null,null,null,null,null,null,null,null,null,null,null,null,null,null,null,null,null,null,null,null,null,null,null,null,null,null,null,null,{"$error":"#DIV/0!"}]
[null,null,null,null,null,null,null,null,null,null,null,null,null,null,null,null,null,null,null,null,null,null,null,null,null,null,null,null,null,null,null,null,null,null,null,null,null,null,null,null,null,null,null,null,null,null,null,null,null,null,null,null,null,null,null,null,null,null,null,null,{"$error":"#DIV/0!"}]
[null,null,null,null,null,null,null,null,null,null,null,null,null,null,null,null,null,null,null,null,null,null,null,null,null,null,null,null,null,null,null,null,null,null,null,null,null,null,null,null,null,null,null,null,null,null,null,null,null,null,null,null,null,null,null,null,null,null,null,null,{"$error":"#DIV/0!"}]
[null,null,null,null,null,null,null,null,null,null,null,null,null,null,null,null,null,null,null,null,null,null,null,null,null,null,null,null,null,null,null,null,null,null,null,null,null,null,null,null,null,null,null,null,null,null,null,null,null,null,null,null,null,null,null,null,null,null,null,null,{"$error":"#DIV/0!"}]
[null,null,null,null,null,null,null,null,null,null,null,null,null,null,null,null,null,null,null,null,null,null,null,null,null,null,null,null,null,null,null,null,null,null,null,null,null,null,null,null,null,null,null,null,null,null,null,null,null,null,null,null,null,null,null,null,null,null,null,null,{"$error":"#DIV/0!"}]
[null,null,null,null,null,null,null,null,null,null,null,null,null,null,null,null,null,null,null,null,null,null,null,null,null,null,null,null,null,null,null,null,null,null,null,null,null,null,null,null,null,null,null,null,null,null,null,null,null,null,null,null,null,null,null,null,null,null,null,null,{"$error":"#DIV/0!"}]
[null,null,null,null,null,null,null,null,null,null,null,null,null,null,null,null,null,null,null,null,null,null,null,null,null,null,null,null,null,null,null,null,null,null,null,null,null,null,null,null,null,null,null,null,null,null,null,null,null,null,null,null,null,null,null,null,null,null,null,null,{"$error":"#DIV/0!"}]
[null,null,null,null,null,null,null,null,null,null,null,null,null,null,null,null,null,null,null,null,null,null,null,null,null,null,null,null,null,null,null,null,null,null,null,null,null,null,null,null,null,null,null,null,null,null,null,null,null,null,null,null,null,null,null,null,null,null,null,null,{"$error":"#DIV/0!"}]
[null,null,null,null,null,null,null,null,null,null,null,null,null,null,null,null,null,null,null,null,null,null,null,null,null,null,null,null,null,null,null,null,null,null,null,null,null,null,null,null,null,null,null,null,null,null,null,null,null,null,null,null,null,null,null,null,null,null,null,null,{"$error":"#DIV/0!"}]
[null,null,null,null,null,null,null,null,null,null,null,null,null,null,null,null,null,null,null,null,null,null,null,null,null,null,null,null,null,null,null,null,null,null,null,null,null,null,null,null,null,null,null,null,null,null,null,null,null,null,null,null,null,null,null,null,null,null,null,null,{"$f":"DR114/(DO114-DK114)*1000","v":{"$error":"#DIV/0!"}}]
[null,null,null,null,null,null,null,null,null,null,null,null,null,null,null,null,null,null,null,null,null,null,null,null,null,null,null,null,null,null,null,null,null,null,null,null,null,null,null,null,null,null,null,null,null,null,null,null,null,null,null,null,null,null,null,null,null,null,null,null,{"$f":"DR115/(DO115-DK115)*1000","v":{"$error":"#DIV/0!"}}]
[null,null,null,null,null,null,null,null,null,null,null,null,null,null,null,null,null,null,null,null,null,null,null,null,null,null,null,null,null,null,null,null,null,null,null,null,null,null,null,null,null,null,null,null,null,null,null,null,null,null,null,null,null,null,null,null,null,null,null,null,{"$f":"DR116/(DO116-DK116)*1000","v":{"$error":"#DIV/0!"}}]
[null,null,null,null,null,null,null,null,null,null,null,null,null,null,null,null,null,null,null,null,null,null,null,null,null,null,null,null,null,null,null,null,null,null,null,null,null,null,null,null,null,null,null,null,null,null,null,null,null,null,null,null,null,null,null,null,null,null,null,null,{"$f":"DR117/(DO117-DK117)*1000","v":{"$error":"#DIV/0!"}}]
[]
[]
[]
[null,null,null,null,null,null,null,null,null,null,null,null,null,null,null,null,null,null,null,null,null,null,null,null,null,null,null,null,null,null,null,null,null,null,null,null,null,null,null,null,null,null,null,null,null,null,null,null,null,null,null,null,null,null,null,null,null,null,null,null,"q sensibel"]
[null,null,null,null,null,null,null,null,null,null,null,null,null,null,null,null,null,null,null,null,null,null,null,null,null,null,null,null,null,null,null,null,null,null,null,null,null,null,null,null,null,null,null,null,null,null,null,null,null,null,null,null,null,null,null,null,null,null,null,null,"W/K"]
[]
[]
[null,null,null,null,null,null,null,null,null,null,null,null,null,null,null,null,null,null,null,null,null,null,null,null,null,null,null,null,null,null,null,null,null,null,null,null,null,null,null,null,null,null,null,null,null,null,null,null,null,null,null,null,null,null,null,null,null,null,null,null,{"$f":"EH18/(EE18-EA18)*1000","v":{"$error":"#DIV/0!"}}]
[null,null,null,null,null,null,null,null,null,null,null,null,null,null,null,null,null,null,null,null,null,null,null,null,null,null,null,null,null,null,null,null,null,null,null,null,null,null,null,null,null,null,null,null,null,null,null,null,null,null,null,null,null,null,null,null,null,null,null,null,{"$error":"#DIV/0!"}]
[null,null,null,null,null,null,null,null,null,null,null,null,null,null,null,null,null,null,null,null,null,null,null,null,null,null,null,null,null,null,null,null,null,null,null,null,null,null,null,null,null,null,null,null,null,null,null,null,null,null,null,null,null,null,null,null,null,null,null,null,{"$error":"#DIV/0!"}]
[null,null,null,null,null,null,null,null,null,null,null,null,null,null,null,null,null,null,null,null,null,null,null,null,null,null,null,null,null,null,null,null,null,null,null,null,null,null,null,null,null,null,null,null,null,null,null,null,null,null,null,null,null,null,null,null,null,null,null,null,{"$error":"#DIV/0!"}]
[null,null,null,null,null,null,null,null,null,null,null,null,null,null,null,null,null,null,null,null,null,null,null,null,null,null,null,null,null,null,null,null,null,null,null,null,null,null,null,null,null,null,null,null,null,null,null,null,null,null,null,null,null,null,null,null,null,null,null,null,{"$error":"#DIV/0!"}]
[null,null,null,null,null,null,null,null,null,null,null,null,null,null,null,null,null,null,null,null,null,null,null,null,null,null,null,null,null,null,null,null,null,null,null,null,null,null,null,null,null,null,null,null,null,null,null,null,null,null,null,null,null,null,null,null,null,null,null,null,{"$error":"#DIV/0!"}]
[null,null,null,null,null,null,null,null,null,null,null,null,null,null,null,null,null,null,null,null,null,null,null,null,null,null,null,null,null,null,null,null,null,null,null,null,null,null,null,null,null,null,null,null,null,null,null,null,null,null,null,null,null,null,null,null,null,null,null,null,{"$error":"#DIV/0!"}]
[null,null,null,null,null,null,null,null,null,null,null,null,null,null,null,null,null,null,null,null,null,null,null,null,null,null,null,null,null,null,null,null,null,null,null,null,null,null,null,null,null,null,null,null,null,null,null,null,null,null,null,null,null,null,null,null,null,null,null,null,{"$error":"#DIV/0!"}]
[null,null,null,null,null,null,null,null,null,null,null,null,null,null,null,null,null,null,null,null,null,null,null,null,null,null,null,null,null,null,null,null,null,null,null,null,null,null,null,null,null,null,null,null,null,null,null,null,null,null,null,null,null,null,null,null,null,null,null,null,{"$error":"#DIV/0!"}]
[null,null,null,null,null,null,null,null,null,null,null,null,null,null,null,null,null,null,null,null,null,null,null,null,null,null,null,null,null,null,null,null,null,null,null,null,null,null,null,null,null,null,null,null,null,null,null,null,null,null,null,null,null,null,null,null,null,null,null,null,{"$error":"#DIV/0!"}]
[null,null,null,null,null,null,null,null,null,null,null,null,null,null,null,null,null,null,null,null,null,null,null,null,null,null,null,null,null,null,null,null,null,null,null,null,null,null,null,null,null,null,null,null,null,null,null,null,null,null,null,null,null,null,null,null,null,null,null,null,{"$error":"#DIV/0!"}]
[null,null,null,null,null,null,null,null,null,null,null,null,null,null,null,null,null,null,null,null,null,null,null,null,null,null,null,null,null,null,null,null,null,null,null,null,null,null,null,null,null,null,null,null,null,null,null,null,null,null,null,null,null,null,null,null,null,null,null,null,{"$error":"#DIV/0!"}]
[null,null,null,null,null,null,null,null,null,null,null,null,null,null,null,null,null,null,null,null,null,null,null,null,null,null,null,null,null,null,null,null,null,null,null,null,null,null,null,null,null,null,null,null,null,null,null,null,null,null,null,null,null,null,null,null,null,null,null,null,{"$error":"#DIV/0!"}]
[null,null,null,null,null,null,null,null,null,null,null,null,null,null,null,null,null,null,null,null,null,null,null,null,null,null,null,null,null,null,null,null,null,null,null,null,null,null,null,null,null,null,null,null,null,null,null,null,null,null,null,null,null,null,null,null,null,null,null,null,{"$error":"#DIV/0!"}]
[null,null,null,null,null,null,null,null,null,null,null,null,null,null,null,null,null,null,null,null,null,null,null,null,null,null,null,null,null,null,null,null,null,null,null,null,null,null,null,null,null,null,null,null,null,null,null,null,null,null,null,null,null,null,null,null,null,null,null,null,{"$error":"#DIV/0!"}]
[null,null,null,null,null,null,null,null,null,null,null,null,null,null,null,null,null,null,null,null,null,null,null,null,null,null,null,null,null,null,null,null,null,null,null,null,null,null,null,null,null,null,null,null,null,null,null,null,null,null,null,null,null,null,null,null,null,null,null,null,{"$error":"#DIV/0!"}]
[null,null,null,null,null,null,null,null,null,null,null,null,null,null,null,null,null,null,null,null,null,null,null,null,null,null,null,null,null,null,null,null,null,null,null,null,null,null,null,null,null,null,null,null,null,null,null,null,null,null,null,null,null,null,null,null,null,null,null,null,{"$error":"#DIV/0!"}]
[null,null,null,null,null,null,null,null,null,null,null,null,null,null,null,null,null,null,null,null,null,null,null,null,null,null,null,null,null,null,null,null,null,null,null,null,null,null,null,null,null,null,null,null,null,null,null,null,null,null,null,null,null,null,null,null,null,null,null,null,{"$error":"#DIV/0!"}]
[null,null,null,null,null,null,null,null,null,null,null,null,null,null,null,null,null,null,null,null,null,null,null,null,null,null,null,null,null,null,null,null,null,null,null,null,null,null,null,null,null,null,null,null,null,null,null,null,null,null,null,null,null,null,null,null,null,null,null,null,{"$error":"#DIV/0!"}]
[null,null,null,null,null,null,null,null,null,null,null,null,null,null,null,null,null,null,null,null,null,null,null,null,null,null,null,null,null,null,null,null,null,null,null,null,null,null,null,null,null,null,null,null,null,null,null,null,null,null,null,null,null,null,null,null,null,null,null,null,{"$error":"#DIV/0!"}]
[null,null,null,null,null,null,null,null,null,null,null,null,null,null,null,null,null,null,null,null,null,null,null,null,null,null,null,null,null,null,null,null,null,null,null,null,null,null,null,null,null,null,null,null,null,null,null,null,null,null,null,null,null,null,null,null,null,null,null,null,{"$error":"#DIV/0!"}]
[null,null,null,null,null,null,null,null,null,null,null,null,null,null,null,null,null,null,null,null,null,null,null,null,null,null,null,null,null,null,null,null,null,null,null,null,null,null,null,null,null,null,null,null,null,null,null,null,null,null,null,null,null,null,null,null,null,null,null,null,{"$error":"#DIV/0!"}]
[null,null,null,null,null,null,null,null,null,null,null,null,null,null,null,null,null,null,null,null,null,null,null,null,null,null,null,null,null,null,null,null,null,null,null,null,null,null,null,null,null,null,null,null,null,null,null,null,null,null,null,null,null,null,null,null,null,null,null,null,{"$error":"#DIV/0!"}]
[null,null,null,null,null,null,null,null,null,null,null,null,null,null,null,null,null,null,null,null,null,null,null,null,null,null,null,null,null,null,null,null,null,null,null,null,null,null,null,null,null,null,null,null,null,null,null,null,null,null,null,null,null,null,null,null,null,null,null,null,{"$error":"#DIV/0!"}]
[null,null,null,null,null,null,null,null,null,null,null,null,null,null,null,null,null,null,null,null,null,null,null,null,null,null,null,null,null,null,null,null,null,null,null,null,null,null,null,null,null,null,null,null,null,null,null,null,null,null,null,null,null,null,null,null,null,null,null,null,{"$error":"#DIV/0!"}]
[null,null,null,null,null,null,null,null,null,null,null,null,null,null,null,null,null,null,null,null,null,null,null,null,null,null,null,null,null,null,null,null,null,null,null,null,null,null,null,null,null,null,null,null,null,null,null,null,null,null,null,null,null,null,null,null,null,null,null,null,{"$error":"#DIV/0!"}]
[null,null,null,null,null,null,null,null,null,null,null,null,null,null,null,null,null,null,null,null,null,null,null,null,null,null,null,null,null,null,null,null,null,null,null,null,null,null,null,null,null,null,null,null,null,null,null,null,null,null,null,null,null,null,null,null,null,null,null,null,{"$error":"#DIV/0!"}]
[null,null,null,null,null,null,null,null,null,null,null,null,null,null,null,null,null,null,null,null,null,null,null,null,null,null,null,null,null,null,null,null,null,null,null,null,null,null,null,null,null,null,null,null,null,null,null,null,null,null,null,null,null,null,null,null,null,null,null,null,{"$error":"#DIV/0!"}]
[null,null,null,null,null,null,null,null,null,null,null,null,null,null,null,null,null,null,null,null,null,null,null,null,null,null,null,null,null,null,null,null,null,null,null,null,null,null,null,null,null,null,null,null,null,null,null,null,null,null,null,null,null,null,null,null,null,null,null,null,{"$error":"#DIV/0!"}]
[null,null,null,null,null,null,null,null,null,null,null,null,null,null,null,null,null,null,null,null,null,null,null,null,null,null,null,null,null,null,null,null,null,null,null,null,null,null,null,null,null,null,null,null,null,null,null,null,null,null,null,null,null,null,null,null,null,null,null,null,{"$error":"#DIV/0!"}]
[null,null,null,null,null,null,null,null,null,null,null,null,null,null,null,null,null,null,null,null,null,null,null,null,null,null,null,null,null,null,null,null,null,null,null,null,null,null,null,null,null,null,null,null,null,null,null,null,null,null,null,null,null,null,null,null,null,null,null,null,{"$error":"#DIV/0!"}]
[null,null,null,null,null,null,null,null,null,null,null,null,null,null,null,null,null,null,null,null,null,null,null,null,null,null,null,null,null,null,null,null,null,null,null,null,null,null,null,null,null,null,null,null,null,null,null,null,null,null,null,null,null,null,null,null,null,null,null,null,{"$error":"#DIV/0!"}]
[null,null,null,null,null,null,null,null,null,null,null,null,null,null,null,null,null,null,null,null,null,null,null,null,null,null,null,null,null,null,null,null,null,null,null,null,null,null,null,null,null,null,null,null,null,null,null,null,null,null,null,null,null,null,null,null,null,null,null,null,{"$f":"EH50/(EE50-EA50)*1000","v":{"$error":"#DIV/0!"}}]
[null,null,null,null,null,null,null,null,null,null,null,null,null,null,null,null,null,null,null,null,null,null,null,null,null,null,null,null,null,null,null,null,null,null,null,null,null,null,null,null,null,null,null,null,null,null,null,null,null,null,null,null,null,null,null,null,null,null,null,null,{"$error":"#DIV/0!"}]
[null,null,null,null,null,null,null,null,null,null,null,null,null,null,null,null,null,null,null,null,null,null,null,null,null,null,null,null,null,null,null,null,null,null,null,null,null,null,null,null,null,null,null,null,null,null,null,null,null,null,null,null,null,null,null,null,null,null,null,null,{"$error":"#DIV/0!"}]
[null,null,null,null,null,null,null,null,null,null,null,null,null,null,null,null,null,null,null,null,null,null,null,null,null,null,null,null,null,null,null,null,null,null,null,null,null,null,null,null,null,null,null,null,null,null,null,null,null,null,null,null,null,null,null,null,null,null,null,null,{"$error":"#DIV/0!"}]
[null,null,null,null,null,null,null,null,null,null,null,null,null,null,null,null,null,null,null,null,null,null,null,null,null,null,null,null,null,null,null,null,null,null,null,null,null,null,null,null,null,null,null,null,null,null,null,null,null,null,null,null,null,null,null,null,null,null,null,null,{"$error":"#DIV/0!"}]
[null,null,null,null,null,null,null,null,null,null,null,null,null,null,null,null,null,null,null,null,null,null,null,null,null,null,null,null,null,null,null,null,null,null,null,null,null,null,null,null,null,null,null,null,null,null,null,null,null,null,null,null,null,null,null,null,null,null,null,null,{"$error":"#DIV/0!"}]
[null,null,null,null,null,null,null,null,null,null,null,null,null,null,null,null,null,null,null,null,null,null,null,null,null,null,null,null,null,null,null,null,null,null,null,null,null,null,null,null,null,null,null,null,null,null,null,null,null,null,null,null,null,null,null,null,null,null,null,null,{"$error":"#DIV/0!"}]
[null,null,null,null,null,null,null,null,null,null,null,null,null,null,null,null,null,null,null,null,null,null,null,null,null,null,null,null,null,null,null,null,null,null,null,null,null,null,null,null,null,null,null,null,null,null,null,null,null,null,null,null,null,null,null,null,null,null,null,null,{"$error":"#DIV/0!"}]
[null,null,null,null,null,null,null,null,null,null,null,null,null,null,null,null,null,null,null,null,null,null,null,null,null,null,null,null,null,null,null,null,null,null,null,null,null,null,null,null,null,null,null,null,null,null,null,null,null,null,null,null,null,null,null,null,null,null,null,null,{"$error":"#DIV/0!"}]
[null,null,null,null,null,null,null,null,null,null,null,null,null,null,null,null,null,null,null,null,null,null,null,null,null,null,null,null,null,null,null,null,null,null,null,null,null,null,null,null,null,null,null,null,null,null,null,null,null,null,null,null,null,null,null,null,null,null,null,null,{"$error":"#DIV/0!"}]
[null,null,null,null,null,null,null,null,null,null,null,null,null,null,null,null,null,null,null,null,null,null,null,null,null,null,null,null,null,null,null,null,null,null,null,null,null,null,null,null,null,null,null,null,null,null,null,null,null,null,null,null,null,null,null,null,null,null,null,null,{"$error":"#DIV/0!"}]
[null,null,null,null,null,null,null,null,null,null,null,null,null,null,null,null,null,null,null,null,null,null,null,null,null,null,null,null,null,null,null,null,null,null,null,null,null,null,null,null,null,null,null,null,null,null,null,null,null,null,null,null,null,null,null,null,null,null,null,null,{"$error":"#DIV/0!"}]
[null,null,null,null,null,null,null,null,null,null,null,null,null,null,null,null,null,null,null,null,null,null,null,null,null,null,null,null,null,null,null,null,null,null,null,null,null,null,null,null,null,null,null,null,null,null,null,null,null,null,null,null,null,null,null,null,null,null,null,null,{"$error":"#DIV/0!"}]
[null,null,null,null,null,null,null,null,null,null,null,null,null,null,null,null,null,null,null,null,null,null,null,null,null,null,null,null,null,null,null,null,null,null,null,null,null,null,null,null,null,null,null,null,null,null,null,null,null,null,null,null,null,null,null,null,null,null,null,null,{"$error":"#DIV/0!"}]
[null,null,null,null,null,null,null,null,null,null,null,null,null,null,null,null,null,null,null,null,null,null,null,null,null,null,null,null,null,null,null,null,null,null,null,null,null,null,null,null,null,null,null,null,null,null,null,null,null,null,null,null,null,null,null,null,null,null,null,null,{"$error":"#DIV/0!"}]
[null,null,null,null,null,null,null,null,null,null,null,null,null,null,null,null,null,null,null,null,null,null,null,null,null,null,null,null,null,null,null,null,null,null,null,null,null,null,null,null,null,null,null,null,null,null,null,null,null,null,null,null,null,null,null,null,null,null,null,null,{"$error":"#DIV/0!"}]
[null,null,null,null,null,null,null,null,null,null,null,null,null,null,null,null,null,null,null,null,null,null,null,null,null,null,null,null,null,null,null,null,null,null,null,null,null,null,null,null,null,null,null,null,null,null,null,null,null,null,null,null,null,null,null,null,null,null,null,null,{"$error":"#DIV/0!"}]
[null,null,null,null,null,null,null,null,null,null,null,null,null,null,null,null,null,null,null,null,null,null,null,null,null,null,null,null,null,null,null,null,null,null,null,null,null,null,null,null,null,null,null,null,null,null,null,null,null,null,null,null,null,null,null,null,null,null,null,null,{"$error":"#DIV/0!"}]
[null,null,null,null,null,null,null,null,null,null,null,null,null,null,null,null,null,null,null,null,null,null,null,null,null,null,null,null,null,null,null,null,null,null,null,null,null,null,null,null,null,null,null,null,null,null,null,null,null,null,null,null,null,null,null,null,null,null,null,null,{"$error":"#DIV/0!"}]
[null,null,null,null,null,null,null,null,null,null,null,null,null,null,null,null,null,null,null,null,null,null,null,null,null,null,null,null,null,null,null,null,null,null,null,null,null,null,null,null,null,null,null,null,null,null,null,null,null,null,null,null,null,null,null,null,null,null,null,null,{"$error":"#DIV/0!"}]
[null,null,null,null,null,null,null,null,null,null,null,null,null,null,null,null,null,null,null,null,null,null,null,null,null,null,null,null,null,null,null,null,null,null,null,null,null,null,null,null,null,null,null,null,null,null,null,null,null,null,null,null,null,null,null,null,null,null,null,null,{"$error":"#DIV/0!"}]
[null,null,null,null,null,null,null,null,null,null,null,null,null,null,null,null,null,null,null,null,null,null,null,null,null,null,null,null,null,null,null,null,null,null,null,null,null,null,null,null,null,null,null,null,null,null,null,null,null,null,null,null,null,null,null,null,null,null,null,null,{"$error":"#DIV/0!"}]
[null,null,null,null,null,null,null,null,null,null,null,null,null,null,null,null,null,null,null,null,null,null,null,null,null,null,null,null,null,null,null,null,null,null,null,null,null,null,null,null,null,null,null,null,null,null,null,null,null,null,null,null,null,null,null,null,null,null,null,null,{"$error":"#DIV/0!"}]
[null,null,null,null,null,null,null,null,null,null,null,null,null,null,null,null,null,null,null,null,null,null,null,null,null,null,null,null,null,null,null,null,null,null,null,null,null,null,null,null,null,null,null,null,null,null,null,null,null,null,null,null,null,null,null,null,null,null,null,null,{"$error":"#DIV/0!"}]
[null,null,null,null,null,null,null,null,null,null,null,null,null,null,null,null,null,null,null,null,null,null,null,null,null,null,null,null,null,null,null,null,null,null,null,null,null,null,null,null,null,null,null,null,null,null,null,null,null,null,null,null,null,null,null,null,null,null,null,null,{"$error":"#DIV/0!"}]
[null,null,null,null,null,null,null,null,null,null,null,null,null,null,null,null,null,null,null,null,null,null,null,null,null,null,null,null,null,null,null,null,null,null,null,null,null,null,null,null,null,null,null,null,null,null,null,null,null,null,null,null,null,null,null,null,null,null,null,null,{"$error":"#DIV/0!"}]
[null,null,null,null,null,null,null,null,null,null,null,null,null,null,null,null,null,null,null,null,null,null,null,null,null,null,null,null,null,null,null,null,null,null,null,null,null,null,null,null,null,null,null,null,null,null,null,null,null,null,null,null,null,null,null,null,null,null,null,null,{"$error":"#DIV/0!"}]
[null,null,null,null,null,null,null,null,null,null,null,null,null,null,null,null,null,null,null,null,null,null,null,null,null,null,null,null,null,null,null,null,null,null,null,null,null,null,null,null,null,null,null,null,null,null,null,null,null,null,null,null,null,null,null,null,null,null,null,null,{"$error":"#DIV/0!"}]
[null,null,null,null,null,null,null,null,null,null,null,null,null,null,null,null,null,null,null,null,null,null,null,null,null,null,null,null,null,null,null,null,null,null,null,null,null,null,null,null,null,null,null,null,null,null,null,null,null,null,null,null,null,null,null,null,null,null,null,null,{"$error":"#DIV/0!"}]
[null,null,null,null,null,null,null,null,null,null,null,null,null,null,null,null,null,null,null,null,null,null,null,null,null,null,null,null,null,null,null,null,null,null,null,null,null,null,null,null,null,null,null,null,null,null,null,null,null,null,null,null,null,null,null,null,null,null,null,null,{"$error":"#DIV/0!"}]
[null,null,null,null,null,null,null,null,null,null,null,null,null,null,null,null,null,null,null,null,null,null,null,null,null,null,null,null,null,null,null,null,null,null,null,null,null,null,null,null,null,null,null,null,null,null,null,null,null,null,null,null,null,null,null,null,null,null,null,null,{"$error":"#DIV/0!"}]
[null,null,null,null,null,null,null,null,null,null,null,null,null,null,null,null,null,null,null,null,null,null,null,null,null,null,null,null,null,null,null,null,null,null,null,null,null,null,null,null,null,null,null,null,null,null,null,null,null,null,null,null,null,null,null,null,null,null,null,null,{"$error":"#DIV/0!"}]
[null,null,null,null,null,null,null,null,null,null,null,null,null,null,null,null,null,null,null,null,null,null,null,null,null,null,null,null,null,null,null,null,null,null,null,null,null,null,null,null,null,null,null,null,null,null,null,null,null,null,null,null,null,null,null,null,null,null,null,null,{"$f":"EH82/(EE82-EA82)*1000","v":{"$error":"#DIV/0!"}}]
[null,null,null,null,null,null,null,null,null,null,null,null,null,null,null,null,null,null,null,null,null,null,null,null,null,null,null,null,null,null,null,null,null,null,null,null,null,null,null,null,null,null,null,null,null,null,null,null,null,null,null,null,null,null,null,null,null,null,null,null,{"$error":"#DIV/0!"}]
[null,null,null,null,null,null,null,null,null,null,null,null,null,null,null,null,null,null,null,null,null,null,null,null,null,null,null,null,null,null,null,null,null,null,null,null,null,null,null,null,null,null,null,null,null,null,null,null,null,null,null,null,null,null,null,null,null,null,null,null,{"$error":"#DIV/0!"}]
[null,null,null,null,null,null,null,null,null,null,null,null,null,null,null,null,null,null,null,null,null,null,null,null,null,null,null,null,null,null,null,null,null,null,null,null,null,null,null,null,null,null,null,null,null,null,null,null,null,null,null,null,null,null,null,null,null,null,null,null,{"$error":"#DIV/0!"}]
[null,null,null,null,null,null,null,null,null,null,null,null,null,null,null,null,null,null,null,null,null,null,null,null,null,null,null,null,null,null,null,null,null,null,null,null,null,null,null,null,null,null,null,null,null,null,null,null,null,null,null,null,null,null,null,null,null,null,null,null,{"$error":"#DIV/0!"}]
[null,null,null,null,null,null,null,null,null,null,null,null,null,null,null,null,null,null,null,null,null,null,null,null,null,null,null,null,null,null,null,null,null,null,null,null,null,null,null,null,null,null,null,null,null,null,null,null,null,null,null,null,null,null,null,null,null,null,null,null,{"$error":"#DIV/0!"}]
[null,null,null,null,null,null,null,null,null,null,null,null,null,null,null,null,null,null,null,null,null,null,null,null,null,null,null,null,null,null,null,null,null,null,null,null,null,null,null,null,null,null,null,null,null,null,null,null,null,null,null,null,null,null,null,null,null,null,null,null,{"$error":"#DIV/0!"}]
[null,null,null,null,null,null,null,null,null,null,null,null,null,null,null,null,null,null,null,null,null,null,null,null,null,null,null,null,null,null,null,null,null,null,null,null,null,null,null,null,null,null,null,null,null,null,null,null,null,null,null,null,null,null,null,null,null,null,null,null,{"$error":"#DIV/0!"}]
[null,null,null,null,null,null,null,null,null,null,null,null,null,null,null,null,null,null,null,null,null,null,null,null,null,null,null,null,null,null,null,null,null,null,null,null,null,null,null,null,null,null,null,null,null,null,null,null,null,null,null,null,null,null,null,null,null,null,null,null,{"$error":"#DIV/0!"}]
[null,null,null,null,null,null,null,null,null,null,null,null,null,null,null,null,null,null,null,null,null,null,null,null,null,null,null,null,null,null,null,null,null,null,null,null,null,null,null,null,null,null,null,null,null,null,null,null,null,null,null,null,null,null,null,null,null,null,null,null,{"$error":"#DIV/0!"}]
[null,null,null,null,null,null,null,null,null,null,null,null,null,null,null,null,null,null,null,null,null,null,null,null,null,null,null,null,null,null,null,null,null,null,null,null,null,null,null,null,null,null,null,null,null,null,null,null,null,null,null,null,null,null,null,null,null,null,null,null,{"$error":"#DIV/0!"}]
[null,null,null,null,null,null,null,null,null,null,null,null,null,null,null,null,null,null,null,null,null,null,null,null,null,null,null,null,null,null,null,null,null,null,null,null,null,null,null,null,null,null,null,null,null,null,null,null,null,null,null,null,null,null,null,null,null,null,null,null,{"$error":"#DIV/0!"}]
[null,null,null,null,null,null,null,null,null,null,null,null,null,null,null,null,null,null,null,null,null,null,null,null,null,null,null,null,null,null,null,null,null,null,null,null,null,null,null,null,null,null,null,null,null,null,null,null,null,null,null,null,null,null,null,null,null,null,null,null,{"$error":"#DIV/0!"}]
[null,null,null,null,null,null,null,null,null,null,null,null,null,null,null,null,null,null,null,null,null,null,null,null,null,null,null,null,null,null,null,null,null,null,null,null,null,null,null,null,null,null,null,null,null,null,null,null,null,null,null,null,null,null,null,null,null,null,null,null,{"$error":"#DIV/0!"}]
[null,null,null,null,null,null,null,null,null,null,null,null,null,null,null,null,null,null,null,null,null,null,null,null,null,null,null,null,null,null,null,null,null,null,null,null,null,null,null,null,null,null,null,null,null,null,null,null,null,null,null,null,null,null,null,null,null,null,null,null,{"$error":"#DIV/0!"}]
[null,null,null,null,null,null,null,null,null,null,null,null,null,null,null,null,null,null,null,null,null,null,null,null,null,null,null,null,null,null,null,null,null,null,null,null,null,null,null,null,null,null,null,null,null,null,null,null,null,null,null,null,null,null,null,null,null,null,null,null,{"$error":"#DIV/0!"}]
[null,null,null,null,null,null,null,null,null,null,null,null,null,null,null,null,null,null,null,null,null,null,null,null,null,null,null,null,null,null,null,null,null,null,null,null,null,null,null,null,null,null,null,null,null,null,null,null,null,null,null,null,null,null,null,null,null,null,null,null,{"$error":"#DIV/0!"}]
[null,null,null,null,null,null,null,null,null,null,null,null,null,null,null,null,null,null,null,null,null,null,null,null,null,null,null,null,null,null,null,null,null,null,null,null,null,null,null,null,null,null,null,null,null,null,null,null,null,null,null,null,null,null,null,null,null,null,null,null,{"$error":"#DIV/0!"}]
[null,null,null,null,null,null,null,null,null,null,null,null,null,null,null,null,null,null,null,null,null,null,null,null,null,null,null,null,null,null,null,null,null,null,null,null,null,null,null,null,null,null,null,null,null,null,null,null,null,null,null,null,null,null,null,null,null,null,null,null,{"$error":"#DIV/0!"}]
[null,null,null,null,null,null,null,null,null,null,null,null,null,null,null,null,null,null,null,null,null,null,null,null,null,null,null,null,null,null,null,null,null,null,null,null,null,null,null,null,null,null,null,null,null,null,null,null,null,null,null,null,null,null,null,null,null,null,null,null,{"$error":"#DIV/0!"}]
[null,null,null,null,null,null,null,null,null,null,null,null,null,null,null,null,null,null,null,null,null,null,null,null,null,null,null,null,null,null,null,null,null,null,null,null,null,null,null,null,null,null,null,null,null,null,null,null,null,null,null,null,null,null,null,null,null,null,null,null,{"$error":"#DIV/0!"}]
[null,null,null,null,null,null,null,null,null,null,null,null,null,null,null,null,null,null,null,null,null,null,null,null,null,null,null,null,null,null,null,null,null,null,null,null,null,null,null,null,null,null,null,null,null,null,null,null,null,null,null,null,null,null,null,null,null,null,null,null,{"$error":"#DIV/0!"}]
[null,null,null,null,null,null,null,null,null,null,null,null,null,null,null,null,null,null,null,null,null,null,null,null,null,null,null,null,null,null,null,null,null,null,null,null,null,null,null,null,null,null,null,null,null,null,null,null,null,null,null,null,null,null,null,null,null,null,null,null,{"$error":"#DIV/0!"}]
[null,null,null,null,null,null,null,null,null,null,null,null,null,null,null,null,null,null,null,null,null,null,null,null,null,null,null,null,null,null,null,null,null,null,null,null,null,null,null,null,null,null,null,null,null,null,null,null,null,null,null,null,null,null,null,null,null,null,null,null,{"$error":"#DIV/0!"}]
[null,null,null,null,null,null,null,null,null,null,null,null,null,null,null,null,null,null,null,null,null,null,null,null,null,null,null,null,null,null,null,null,null,null,null,null,null,null,null,null,null,null,null,null,null,null,null,null,null,null,null,null,null,null,null,null,null,null,null,null,{"$error":"#DIV/0!"}]
[null,null,null,null,null,null,null,null,null,null,null,null,null,null,null,null,null,null,null,null,null,null,null,null,null,null,null,null,null,null,null,null,null,null,null,null,null,null,null,null,null,null,null,null,null,null,null,null,null,null,null,null,null,null,null,null,null,null,null,null,{"$error":"#DIV/0!"}]
[null,null,null,null,null,null,null,null,null,null,null,null,null,null,null,null,null,null,null,null,null,null,null,null,null,null,null,null,null,null,null,null,null,null,null,null,null,null,null,null,null,null,null,null,null,null,null,null,null,null,null,null,null,null,null,null,null,null,null,null,{"$error":"#DIV/0!"}]
[null,null,null,null,null,null,null,null,null,null,null,null,null,null,null,null,null,null,null,null,null,null,null,null,null,null,null,null,null,null,null,null,null,null,null,null,null,null,null,null,null,null,null,null,null,null,null,null,null,null,null,null,null,null,null,null,null,null,null,null,{"$error":"#DIV/0!"}]
[null,null,null,null,null,null,null,null,null,null,null,null,null,null,null,null,null,null,null,null,null,null,null,null,null,null,null,null,null,null,null,null,null,null,null,null,null,null,null,null,null,null,null,null,null,null,null,null,null,null,null,null,null,null,null,null,null,null,null,null,{"$error":"#DIV/0!"}]
[null,null,null,null,null,null,null,null,null,null,null,null,null,null,null,null,null,null,null,null,null,null,null,null,null,null,null,null,null,null,null,null,null,null,null,null,null,null,null,null,null,null,null,null,null,null,null,null,null,null,null,null,null,null,null,null,null,null,null,null,{"$error":"#DIV/0!"}]
[null,null,null,null,null,null,null,null,null,null,null,null,null,null,null,null,null,null,null,null,null,null,null,null,null,null,null,null,null,null,null,null,null,null,null,null,null,null,null,null,null,null,null,null,null,null,null,null,null,null,null,null,null,null,null,null,null,null,null,null,{"$error":"#DIV/0!"}]
[null,null,null,null,null,null,null,null,null,null,null,null,null,null,null,null,null,null,null,null,null,null,null,null,null,null,null,null,null,null,null,null,null,null,null,null,null,null,null,null,null,null,null,null,null,null,null,null,null,null,null,null,null,null,null,null,null,null,null,null,{"$error":"#DIV/0!"}]
[null,null,null,null,null,null,null,null,null,null,null,null,null,null,null,null,null,null,null,null,null,null,null,null,null,null,null,null,null,null,null,null,null,null,null,null,null,null,null,null,null,null,null,null,null,null,null,null,null,null,null,null,null,null,null,null,null,null,null,null,{"$f":"EH114/(EE114-EA114)*1000","v":{"$error":"#DIV/0!"}}]
[null,null,null,null,null,null,null,null,null,null,null,null,null,null,null,null,null,null,null,null,null,null,null,null,null,null,null,null,null,null,null,null,null,null,null,null,null,null,null,null,null,null,null,null,null,null,null,null,null,null,null,null,null,null,null,null,null,null,null,null,{"$f":"EH115/(EE115-EA115)*1000","v":{"$error":"#DIV/0!"}}]
[null,null,null,null,null,null,null,null,null,null,null,null,null,null,null,null,null,null,null,null,null,null,null,null,null,null,null,null,null,null,null,null,null,null,null,null,null,null,null,null,null,null,null,null,null,null,null,null,null,null,null,null,null,null,null,null,null,null,null,null,{"$f":"EH116/(EE116-EA116)*1000","v":{"$error":"#DIV/0!"}}]
[null,null,null,null,null,null,null,null,null,null,null,null,null,null,null,null,null,null,null,null,null,null,null,null,null,null,null,null,null,null,null,null,null,null,null,null,null,null,null,null,null,null,null,null,null,null,null,null,null,null,null,null,null,null,null,null,null,null,null,null,{"$f":"BR441/(BO441-BK441)*1000","v":{"$error":"#DIV/0!"}}]

{"sheet":"Heizen_Auslegung_V78-V85","index":7,"n_rows":169,"n_cols":46,"rows_kept":169,"cut":false,"hidden":true,"merged":[]}
[null,"VKL800","ISH-Prototyp; heizen","4L","3 - 3,5 cm Schalldämmung","mit Filter","2. Variable","Drehzahl [1/min]","Drehzahl","1/min",{"$f":"CONCATENATE(B1,\"; \", C1, \"; \", D1, \"; \", F1)","v":"VKL800; ISH-Prototyp; heizen; 4L; mit Filter"},null,null,null,null,null,null,null,null,null,null,null,null,null,null,null,null,null,null,null,null,null,null,null,null,null,null,null,null,null,null,null,null,null,1,"kühlen"]
[null,"heizen",null,null,null,null,null,null,null,null,null,null,null,null,null,null,null,null,null,null,null,null,null,null,null,null,null,null,null,null,null,null,null,null,null,null,null,null,null,null,null,null,null,null,2,"heizen"]
[null,"w_soll für Auslegung 1 und 2",{"$f":"VKL!N13","v":120},"kg/h",null,null,null,null,null,null,null,null,null,"Messung","Messung - Kontrolle","Drehzahl","q Sek ","Wasser-Massenstrom [kg/h]",{"$f":"H7","v":"Sekundärvolumenstrom - Kalorik [m³/h]"},"Abweichung zu Auslegung 1","Vergleichstext 1","Abweichung zu Auslegung 2","Vergleichstext 2","Druckverlust Kasten [Pa]","Bemerkung","Bemerkung",null,"Messung","Messung - Kontrolle","Drehzahl","q Sek ","Wasser-Massenstrom [kg/h]",{"$f":"$H$7","v":"Sekundärvolumenstrom - Kalorik [m³/h]"},"q_1 (Volumenstrom)","Abweichung zu Auslegung 1","Vergleichstext 1","q_2 (Drehzahl)","Abweichung zu Auslegung 2","Vergleichstext 2","Druckverlust Kasten [Pa]","Bemerkung","Bemerkung",null,null,"Abfrage",{"$f":"IF(B2=\"heizen\",2,1)","v":2}]
[null,"Nennwassermenge",120,"kg/h",null,null,null,null,null,null,null,null,null,null,null,"[1/min]","[W/K]",null,null,null,null,null,null,null,null,"[-]",null,null,null,"[1/min]","[W/K]",null,null,null,null,null,null,null,null,null,null,"[-]"]
[null,null,null,null,null,null,null,null,null,null,null,null,null,"V72",{"$f":"VLOOKUP($N5,Matrix_Rohdaten,1,0)","v":"V72"},{"$f":"VLOOKUP($N5,Matrix_Rohdaten,4,0)","v":1039},{"$f":"VLOOKUP($N5,Matrix_Rohdaten,17,0)","v":60.463885666666663},{"$f":"VLOOKUP($N5,Matrix_Rohdaten,12,0)","v":201.13361333333333},{"$f":"VLOOKUP($N5,Matrix_Rohdaten,18,0)","v":287.06149800000003},{"$f":"Q5/$D$9-1","v":0.3308765815557051},{"$f":"IF(T5>0,CONCATENATE(\"+\", ROUND(AVERAGE(T5)*100,0), \" % Kühlleistung \", \" im Vergleich zur Auslegung 1\"), CONCATENATE(ROUND(AVERAGE(T5)*100,0), \" % Kühlleistung \", \" im Vergleich zur Auslegung 1\"))","v":"+33 % Kühlleistung  im Vergleich zur Auslegung 1"},{"$f":"Q5/$I$9-1","v":0.3046936216238838},{"$f":"IF(V5>0,CONCATENATE(\"+\", ROUND(AVERAGE(V5)*100,0), \" % Kühlleistung \", \" im Vergleich zur Auslegung 2\"), CONCATENATE(ROUND(AVERAGE(V5)*100,0), \" % Kühlleistung \", \" im Vergleich zur Auslegung 2\"))","v":"+30 % Kühlleistung  im Vergleich zur Auslegung 2"},{"$f":"VLOOKUP($N5,Matrix_Rohdaten,5,0)","v":12},{"$f":"VLOOKUP($N5,Matrix_Rohdaten,2,0)","v":"VKL800; ISH Prototyp; mit Filter, 2MR,  mit 3-3,5cm Schalldämm., mit 3D-Strömung"},{"$f":"CONCATENATE(O5, \": \",Y5, \"; q Sek bei wok \",ROUND(R5,0), \" kg/h; \",ROUND(P5,0), \" 1/min; \", ROUND(S5,0), \" m³/h\")","v":"V72: VKL800; ISH Prototyp; mit Filter, 2MR,  mit 3-3,5cm Schalldämm., mit 3D-Strömung; q Sek bei wok 201 kg/h; 1039 1/min; 287 m³/h"},null,"V90",{"$f":"VLOOKUP($AB5,Matrix_Rohdaten,1,0)","v":"V90"},{"$f":"VLOOKUP($AB5,Matrix_Rohdaten,4,0)","v":504},{"$f":"VLOOKUP($AB5,Matrix_Rohdaten,17,0)","v":28.179728666666666},{"$f":"VLOOKUP($AB5,Matrix_Rohdaten,12,0)","v":119.88093600000001},{"$f":"VLOOKUP($AB5,Matrix_Rohdaten,18,0)","v":127.06816533333334},28.51059411673215,{"$f":"AE5/AH5-1","v":-1.160500018732713E-2},{"$f":"IF(AI5>0,CONCATENATE(\"+\", ROUND(AVERAGE(AI5)*100,0), \" % Kühlleistung \", \" im Vergleich zur Auslegung 1\"), CONCATENATE(ROUND(AVERAGE(AI5)*100,0), \" % Kühlleistung \", \" im Vergleich zur Auslegung 1\"))","v":"-1 % Kühlleistung  im Vergleich zur Auslegung 1"},26.980701147109599,{"$f":"AE5/AK5-1","v":4.4440191269288665E-2},{"$f":"IF(AL5>0,CONCATENATE(\"+\", ROUND(AVERAGE(AL5)*100,0), \" % Kühlleistung \", \" im Vergleich zur Auslegung 2\"), CONCATENATE(ROUND(AVERAGE(AL5)*100,0), \" % Kühlleistung \", \" im Vergleich zur Auslegung 2\"))","v":"+4 % Kühlleistung  im Vergleich zur Auslegung 2"},{"$f":"VLOOKUP($AB5,Matrix_Rohdaten,5,0)","v":1.8},{"$f":"VLOOKUP($AB5,Matrix_Rohdaten,2,0)","v":"VKL800; ISH Prototyp; mit Filter, mit 3-3,5cm Schalldämm."},{"$f":"CONCATENATE(AC5, \": \",AO5, \"; q Sek bei wok \",ROUND(AF5,0), \" kg/h; \",ROUND(AD5,0), \" 1/min; \", ROUND(AG5,0), \" m³/h\")","v":"V90: VKL800; ISH Prototyp; mit Filter, mit 3-3,5cm Schalldämm.; q Sek bei wok 120 kg/h; 504 1/min; 127 m³/h"}]
[null,"Auslegung 1 - Volumenstrom einstellbar",null,{"$f":"CONCATENATE(\"Auslegung 2; \", 'Heizen_Auswertung_V78-V85'!$F$1, \" \", ROUND($C$3,0), \" kg/h ;\",ROUND(B9,0), \" \", B8)","v":"Auslegung 2; ISH-Prototyp; heizen 120 kg/h ;287 m³/h"},null,null,{"$f":"CONCATENATE(\"Auslegung 2 - \", 'Heizen_Auslegung_V78-V85'!C7,\" einstellbar\")","v":"Auslegung 2 - Drehzahl einstellbar"},null,{"$f":"CONCATENATE(\"Auslegung 2; \", 'Heizen_Auswertung_V78-V85'!$F$1, \" \", ROUND($C$3,0), \" kg/h ;\", G9, \" \", G8)","v":"Auslegung 2; ISH-Prototyp; heizen 120 kg/h ;1039 1/min"},null,null,null,null,null,null,null,null,null,null,null,null,null,null,null,null,null,null,"V89",{"$f":"VLOOKUP($AB6,Matrix_Rohdaten,1,0)","v":"V89"},{"$f":"VLOOKUP($AB6,Matrix_Rohdaten,4,0)","v":749},{"$f":"VLOOKUP($AB6,Matrix_Rohdaten,17,0)","v":37.985166999999997},{"$f":"VLOOKUP($AB6,Matrix_Rohdaten,12,0)","v":119.99811333333334},{"$f":"VLOOKUP($AB6,Matrix_Rohdaten,18,0)","v":202.57796633333331},38.776944505684767,{"$f":"AE6/AH6-1","v":-2.0418769858689956E-2},{"$f":"IF(AI6>0,CONCATENATE(\"+\", ROUND(AVERAGE(AI6)*100,0), \" % Kühlleistung \", \" im Vergleich zur Auslegung 1\"), CONCATENATE(ROUND(AVERAGE(AI6)*100,0), \" % Kühlleistung \", \" im Vergleich zur Auslegung 1\"))","v":"-2 % Kühlleistung  im Vergleich zur Auslegung 1"},36.320424619887952,{"$f":"AE6/AK6-1","v":4.5834882095527218E-2},{"$f":"IF(AL6>0,CONCATENATE(\"+\", ROUND(AVERAGE(AL6)*100,0), \" % Kühlleistung \", \" im Vergleich zur Auslegung 2\"), CONCATENATE(ROUND(AVERAGE(AL6)*100,0), \" % Kühlleistung \", \" im Vergleich zur Auslegung 2\"))","v":"+5 % Kühlleistung  im Vergleich zur Auslegung 2"},{"$f":"VLOOKUP($AB6,Matrix_Rohdaten,5,0)","v":5},{"$f":"VLOOKUP($AB6,Matrix_Rohdaten,2,0)","v":"VKL800; ISH Prototyp; mit Filter, mit 3-3,5cm Schalldämm."},{"$f":"CONCATENATE(AC6, \": \",AO6, \"; q Sek bei wok \",ROUND(AF6,0), \" kg/h; \",ROUND(AD6,0), \" 1/min; \", ROUND(AG6,0), \" m³/h\")","v":"V89: VKL800; ISH Prototyp; mit Filter, mit 3-3,5cm Schalldämm.; q Sek bei wok 120 kg/h; 749 1/min; 203 m³/h"}]
[null,"V_Soll",{"$f":"'Heizen_Auswertung_V78-V85'!E2","v":"Drehzahl"},"q Sek ",null,null,{"$f":"'Heizen_Auswertung_V78-V85'!E2","v":"Drehzahl"},{"$f":"'Heizen_Auswertung_V78-V85'!K6","v":"Sekundärvolumenstrom - Kalorik [m³/h]"},"q Sek ",null,null,null,null,null,null,null,null,null,null,null,null,null,null,null,null,null,null,"V91",{"$f":"VLOOKUP($AB7,Matrix_Rohdaten,1,0)","v":"V91"},{"$f":"VLOOKUP($AB7,Matrix_Rohdaten,4,0)","v":1050},{"$f":"VLOOKUP($AB7,Matrix_Rohdaten,17,0)","v":46.449303000000008},{"$f":"VLOOKUP($AB7,Matrix_Rohdaten,12,0)","v":118.97463399999999},{"$f":"VLOOKUP($AB7,Matrix_Rohdaten,18,0)","v":301.98992166666665},47.631976539856147,{"$f":"AE7/AH7-1","v":-2.4829402971899284E-2},{"$f":"IF(AI7>0,CONCATENATE(\"+\", ROUND(AVERAGE(AI7)*100,0), \" % Kühlleistung \", \" im Vergleich zur Auslegung 1\"), CONCATENATE(ROUND(AVERAGE(AI7)*100,0), \" % Kühlleistung \", \" im Vergleich zur Auslegung 1\"))","v":"-2 % Kühlleistung  im Vergleich zur Auslegung 1"},44.720798883339206,{"$f":"AE7/AK7-1","v":3.8651011605804753E-2},{"$f":"IF(AL7>0,CONCATENATE(\"+\", ROUND(AVERAGE(AL7)*100,0), \" % Kühlleistung \", \" im Vergleich zur Auslegung 2\"), CONCATENATE(ROUND(AVERAGE(AL7)*100,0), \" % Kühlleistung \", \" im Vergleich zur Auslegung 2\"))","v":"+4 % Kühlleistung  im Vergleich zur Auslegung 2"},{"$f":"VLOOKUP($AB7,Matrix_Rohdaten,5,0)","v":12.5},{"$f":"VLOOKUP($AB7,Matrix_Rohdaten,2,0)","v":"VKL800; ISH Prototyp; mit Filter, mit 3-3,5cm Schalldämm."},{"$f":"CONCATENATE(AC7, \": \",AO7, \"; q Sek bei wok \",ROUND(AF7,0), \" kg/h; \",ROUND(AD7,0), \" 1/min; \", ROUND(AG7,0), \" m³/h\")","v":"V91: VKL800; ISH Prototyp; mit Filter, mit 3-3,5cm Schalldämm.; q Sek bei wok 119 kg/h; 1050 1/min; 302 m³/h"}]
[null,"m³/h",{"$f":"'Heizen_Auswertung_V78-V85'!C2","v":"1/min"},"W/K",null,null,{"$f":"'Heizen_Auswertung_V78-V85'!C2","v":"1/min"},"m³/h","W/K",null,null,null,null,null,null,null,null,null,null,null,null,null,null,null,null,null,null,"V92",{"$f":"VLOOKUP($AB8,Matrix_Rohdaten,1,0)","v":"V92"},{"$f":"VLOOKUP($AB8,Matrix_Rohdaten,4,0)","v":1144},{"$f":"VLOOKUP($AB8,Matrix_Rohdaten,17,0)","v":48.520722000000006},{"$f":"VLOOKUP($AB8,Matrix_Rohdaten,12,0)","v":118.02393366666666},{"$f":"VLOOKUP($AB8,Matrix_Rohdaten,18,0)","v":333.39040599999998},49.774436062355065,{"$f":"AE8/AH8-1","v":-2.5187910934529989E-2},{"$f":"IF(AI8>0,CONCATENATE(\"+\", ROUND(AVERAGE(AI8)*100,0), \" % Kühlleistung \", \" im Vergleich zur Auslegung 1\"), CONCATENATE(ROUND(AVERAGE(AI8)*100,0), \" % Kühlleistung \", \" im Vergleich zur Auslegung 1\"))","v":"-3 % Kühlleistung  im Vergleich zur Auslegung 1"},46.663227570497028,{"$f":"AE8/AK8-1","v":3.9806385589096882E-2},{"$f":"IF(AL8>0,CONCATENATE(\"+\", ROUND(AVERAGE(AL8)*100,0), \" % Kühlleistung \", \" im Vergleich zur Auslegung 2\"), CONCATENATE(ROUND(AVERAGE(AL8)*100,0), \" % Kühlleistung \", \" im Vergleich zur Auslegung 2\"))","v":"+4 % Kühlleistung  im Vergleich zur Auslegung 2"},{"$f":"VLOOKUP($AB8,Matrix_Rohdaten,5,0)","v":16},{"$f":"VLOOKUP($AB8,Matrix_Rohdaten,2,0)","v":"VKL800; ISH Prototyp; mit Filter, mit 3-3,5cm Schalldämm."},{"$f":"CONCATENATE(AC8, \": \",AO8, \"; q Sek bei wok \",ROUND(AF8,0), \" kg/h; \",ROUND(AD8,0), \" 1/min; \", ROUND(AG8,0), \" m³/h\")","v":"V92: VKL800; ISH Prototyp; mit Filter, mit 3-3,5cm Schalldämm.; q Sek bei wok 118 kg/h; 1144 1/min; 333 m³/h"}]
[null,287.06149800000003,{"$f":"'Heizen_Auswertung_V78-V85'!I33","v":1006.7472073422887},{"$f":"'Heizen_Auswertung_V78-V85'!C56","v":45.431624918960139},null,null,1039,{"$f":"'Heizen_Auswertung_V78-V85'!M33","v":297.92403815910785},{"$f":"'Heizen_Auswertung_V78-V85'!C77","v":46.343359593810561},null,null,{"$f":"I9*20*0.916","v":849.01034775860956}]
[]
[]
[null,null,null,null,null,null,null,null,null,null,null,null,null,null,null,null,null,null,null,null,null,null,null,null,null,"Text für Diagramme"]
[]
[]
[null,null,null,null,null,null,null,null,null,null,null,null,null,null,null,null,null,null,null,null,null,null,null,null,null,{"$f":"CONCATENATE('Heizen_Auswertung_V78-V85'!B1, \"; \", ROUND($C$3,0), \" \", $D$3)","v":"VKL800; ISH-Prototyp; heizen; 4L; 3 - 3,5 cm Schalldämmung; mit Filter; 120 kg/h"}]
[null,null,null,null,null,null,null,null,null,null,null,null,null,null,null,null,null,null,null,null,null,null,null,null,null,{"$f":"CONCATENATE(\"A1; \",'Heizen_Auswertung_V78-V85'!B1, \"; \", ROUND($C$3,0), \" \", $D$3, \"; \", ROUND(C9,0), \" \",C8, \"; \",ROUND(B9,0), \" \", B8)","v":"A1; VKL800; ISH-Prototyp; heizen; 4L; 3 - 3,5 cm Schalldämmung; mit Filter; 120 kg/h; 1007 1/min; 287 m³/h"}]
[null,null,null,null,null,null,null,null,null,null,null,null,null,null,null,null,null,null,null,null,null,null,null,null,null,{"$f":"CONCATENATE(\"A2; \",'Heizen_Auswertung_V78-V85'!B1, \"; \", ROUND($C$3,0), \" \", $D$3, \"; \", ROUND(G9,0), \" \",G8, \"; \",ROUND(H9,0), \" \", H8)","v":"A2; VKL800; ISH-Prototyp; heizen; 4L; 3 - 3,5 cm Schalldämmung; mit Filter; 120 kg/h; 1039 1/min; 298 m³/h"}]
[]
[null,null,null,null,null,null,null,null,null,null,null,null,null,null,null,null," "]
[]
[]
[]
[]
[]
[]
[]
[]
[]
[]
[]
[]
[]
[null,"Basis der Auslegung"]
[null,null,1,4,18,12,17,3,5]
[null,{"$f":"CONCATENATE($C$7,\"variation (bei ca. \", ROUND(AVERAGE(F37:F40),0), \" kg/h)\")","v":"Drehzahlvariation (bei ca. 119 kg/h)"},null,null,null,null,null,null,null,null,null,null,null,"Grenzen der Auslegung"]
[null,"Messung","Messung - Kontrolle",{"$f":"'Heizen_Auswertung_V78-V85'!$B$2","v":"Drehzahl [1/min]"},"Sekundärvolumenstrom [m³/h]","Wasser-Massenstrom [kg/h]","spez. Kühlleistung [W/K]","Druckverlust wassers. [kPa]","Druckverlust Kasten [Pa]",null,null,null,null,{"$f":"'Heizen_Auswertung_V78-V85'!$B$2","v":"Drehzahl [1/min]"},"Volumenstrom [m³/h]"]
[null,"V90",{"$f":"VLOOKUP($B37,Matrix_Rohdaten,1,0)","v":"V90"},{"$f":"VLOOKUP($B37,Matrix_Rohdaten,4,0)","v":504},{"$f":"VLOOKUP($B37,Matrix_Rohdaten,18,0)","v":127.06816533333334},{"$f":"VLOOKUP($B37,Matrix_Rohdaten,12,0)","v":119.88093600000001},{"$f":"VLOOKUP($B37,Matrix_Rohdaten,17,0)","v":28.179728666666666},{"$f":"VLOOKUP($B37,Matrix_Rohdaten,3,0)","v":4.8},{"$f":"VLOOKUP($B37,Matrix_Rohdaten,5,0)","v":1.8},null,null,null,null,{"$f":"MIN(D37:D40)","v":504},{"$f":"MIN(E37:E40)","v":127.06816533333334}]
[null,"V89",{"$f":"VLOOKUP($B38,Matrix_Rohdaten,1,0)","v":"V89"},{"$f":"VLOOKUP($B38,Matrix_Rohdaten,4,0)","v":749},{"$f":"VLOOKUP($B38,Matrix_Rohdaten,18,0)","v":202.57796633333331},{"$f":"VLOOKUP($B38,Matrix_Rohdaten,12,0)","v":119.99811333333334},{"$f":"VLOOKUP($B38,Matrix_Rohdaten,17,0)","v":37.985166999999997},{"$f":"VLOOKUP($B38,Matrix_Rohdaten,3,0)","v":4.8},{"$f":"VLOOKUP($B38,Matrix_Rohdaten,5,0)","v":5},null,null,null,null,{"$f":"MAX(D37:D40)","v":1144},{"$f":"MAX(E37:E40)","v":333.39040599999998}]
[null,"V91",{"$f":"VLOOKUP($B39,Matrix_Rohdaten,1,0)","v":"V91"},{"$f":"VLOOKUP($B39,Matrix_Rohdaten,4,0)","v":1050},{"$f":"VLOOKUP($B39,Matrix_Rohdaten,18,0)","v":301.98992166666665},{"$f":"VLOOKUP($B39,Matrix_Rohdaten,12,0)","v":118.97463399999999},{"$f":"VLOOKUP($B39,Matrix_Rohdaten,17,0)","v":46.449303000000008},{"$f":"VLOOKUP($B39,Matrix_Rohdaten,3,0)","v":4.8},{"$f":"VLOOKUP($B39,Matrix_Rohdaten,5,0)","v":12.5}]
[null,"V92",{"$f":"VLOOKUP($B40,Matrix_Rohdaten,1,0)","v":"V92"},{"$f":"VLOOKUP($B40,Matrix_Rohdaten,4,0)","v":1144},{"$f":"VLOOKUP($B40,Matrix_Rohdaten,18,0)","v":333.39040599999998},{"$f":"VLOOKUP($B40,Matrix_Rohdaten,12,0)","v":118.02393366666666},{"$f":"VLOOKUP($B40,Matrix_Rohdaten,17,0)","v":48.520722000000006},{"$f":"VLOOKUP($B40,Matrix_Rohdaten,3,0)","v":4.8},{"$f":"VLOOKUP($B40,Matrix_Rohdaten,5,0)","v":16}]
[]
[null,{"$f":"CONCATENATE(\"Wassermassenstromvariation (bei Primärdruck von \", ROUND(AVERAGE(D44:D47),0), \" Pa)\")","v":"Wassermassenstromvariation (bei Primärdruck von 760 Pa)"},null,null,null,null,null,null,null,null,null,null,null,"Grenzen der Auslegung"]
[null,"Messung","Messung - Kontrolle",{"$f":"'Heizen_Auswertung_V78-V85'!$B$2","v":"Drehzahl [1/min]"},"Sekundärvolumenstrom [m³/h]","Wasser-Massenstrom [kg/h]","spez. Kühlleistung [W/K]","Druckverlust wassers. [kPa]",null,null,null,null,null,"Wasser-Massenstrom [kg/h]"]
[null,"V82",{"$f":"VLOOKUP($B44,Matrix_Rohdaten,1,0)","v":"V82"},{"$f":"VLOOKUP($B44,Matrix_Rohdaten,4,0)","v":760},{"$f":"VLOOKUP($B44,Matrix_Rohdaten,18,0)","v":183.61665200000002},{"$f":"VLOOKUP($B44,Matrix_Rohdaten,12,0)","v":61.562867333333337},{"$f":"VLOOKUP($B44,Matrix_Rohdaten,17,0)","v":30.216217},{"$f":"VLOOKUP($B44,Matrix_Rohdaten,3,0)","v":1.6000000000000003},null,null,null,null,null,{"$f":"MIN(F44:F47)","v":61.562867333333337}]
[null,"V83",{"$f":"VLOOKUP($B45,Matrix_Rohdaten,1,0)","v":"V83"},{"$f":"VLOOKUP($B45,Matrix_Rohdaten,4,0)","v":760},{"$f":"VLOOKUP($B45,Matrix_Rohdaten,18,0)","v":188.56985933333331},{"$f":"VLOOKUP($B45,Matrix_Rohdaten,12,0)","v":116.66373833333334},{"$f":"VLOOKUP($B45,Matrix_Rohdaten,17,0)","v":36.893515666666666},{"$f":"VLOOKUP($B45,Matrix_Rohdaten,3,0)","v":4.5999999999999996},null,null,null,null,null,{"$f":"MAX(F44:F47)","v":231.00826900000001}]
[null,"V84",{"$f":"VLOOKUP($B46,Matrix_Rohdaten,1,0)","v":"V84"},{"$f":"VLOOKUP($B46,Matrix_Rohdaten,4,0)","v":760},{"$f":"VLOOKUP($B46,Matrix_Rohdaten,18,0)","v":188.11942033333335},{"$f":"VLOOKUP($B46,Matrix_Rohdaten,12,0)","v":192.12808200000003},{"$f":"VLOOKUP($B46,Matrix_Rohdaten,17,0)","v":40.029868999999998},{"$f":"VLOOKUP($B46,Matrix_Rohdaten,3,0)","v":11.800000000000002}]
[null,"V85",{"$f":"VLOOKUP($B47,Matrix_Rohdaten,1,0)","v":"V85"},{"$f":"VLOOKUP($B47,Matrix_Rohdaten,4,0)","v":760},{"$f":"VLOOKUP($B47,Matrix_Rohdaten,18,0)","v":186.58214166666664},{"$f":"VLOOKUP($B47,Matrix_Rohdaten,12,0)","v":231.00826900000001},{"$f":"VLOOKUP($B47,Matrix_Rohdaten,17,0)","v":40.703091000000001},{"$f":"VLOOKUP($B47,Matrix_Rohdaten,3,0)","v":17}]
[]
[]
[]
[]
[null,{"$f":"CONCATENATE(\"Wassermassenstromvariation (bei \",$C$7, \" von \", ROUND(AVERAGE(D54:D57),0), \" Pa)\")","v":{"$error":"#N/A"}}]
[null,"Messung","Messung - Kontrolle",{"$f":"'Heizen_Auswertung_V78-V85'!$B$2","v":"Drehzahl [1/min]"},"Sekundärvolumenstrom [m³/h]","Wasser-Massenstrom [kg/h]","spez. Kühlleistung [W/K]","Druckverlust wassers. [kPa]"]
[null,null,{"$f":"VLOOKUP($B54,Matrix_Rohdaten,1,0)","v":{"$error":"#N/A"}},{"$f":"VLOOKUP($B54,Matrix_Rohdaten,4,0)","v":{"$error":"#N/A"}},{"$f":"VLOOKUP($B54,Matrix_Rohdaten,18,0)","v":{"$error":"#N/A"}},{"$f":"VLOOKUP($B54,Matrix_Rohdaten,12,0)","v":{"$error":"#N/A"}},{"$f":"VLOOKUP($B54,Matrix_Rohdaten,17,0)","v":{"$error":"#N/A"}},{"$f":"VLOOKUP($B54,Matrix_Rohdaten,3,0)","v":{"$error":"#N/A"}}]
[null,null,{"$f":"VLOOKUP($B55,Matrix_Rohdaten,1,0)","v":{"$error":"#N/A"}},{"$f":"VLOOKUP($B55,Matrix_Rohdaten,4,0)","v":{"$error":"#N/A"}},{"$f":"VLOOKUP($B55,Matrix_Rohdaten,18,0)","v":{"$error":"#N/A"}},{"$f":"VLOOKUP($B55,Matrix_Rohdaten,12,0)","v":{"$error":"#N/A"}},{"$f":"VLOOKUP($B55,Matrix_Rohdaten,17,0)","v":{"$error":"#N/A"}},{"$f":"VLOOKUP($B55,Matrix_Rohdaten,3,0)","v":{"$error":"#N/A"}}]
[null,null,{"$f":"VLOOKUP($B56,Matrix_Rohdaten,1,0)","v":{"$error":"#N/A"}},{"$f":"VLOOKUP($B56,Matrix_Rohdaten,4,0)","v":{"$error":"#N/A"}},{"$f":"VLOOKUP($B56,Matrix_Rohdaten,18,0)","v":{"$error":"#N/A"}},{"$f":"VLOOKUP($B56,Matrix_Rohdaten,12,0)","v":{"$error":"#N/A"}},{"$f":"VLOOKUP($B56,Matrix_Rohdaten,17,0)","v":{"$error":"#N/A"}},{"$f":"VLOOKUP($B56,Matrix_Rohdaten,3,0)","v":{"$error":"#N/A"}}]
[null,null,{"$f":"VLOOKUP($B57,Matrix_Rohdaten,1,0)","v":{"$error":"#N/A"}},{"$f":"VLOOKUP($B57,Matrix_Rohdaten,4,0)","v":{"$error":"#N/A"}},{"$f":"VLOOKUP($B57,Matrix_Rohdaten,18,0)","v":{"$error":"#N/A"}},{"$f":"VLOOKUP($B57,Matrix_Rohdaten,12,0)","v":{"$error":"#N/A"}},{"$f":"VLOOKUP($B57,Matrix_Rohdaten,17,0)","v":{"$error":"#N/A"}},{"$f":"VLOOKUP($B57,Matrix_Rohdaten,3,0)","v":{"$error":"#N/A"}}]
[]
[]
[null,{"$f":"CONCATENATE(\"Wassermassenstromvariation (bei \",$C$7, \" von \", ROUND(AVERAGE(D62:D65),0), \" Pa)\")","v":{"$error":"#N/A"}}]
[null,"Messung","Messung - Kontrolle",{"$f":"'Heizen_Auswertung_V78-V85'!$B$2","v":"Drehzahl [1/min]"},"Sekundärvolumenstrom [m³/h]","Wasser-Massenstrom [kg/h]","spez. Kühlleistung [W/K]","Druckverlust wassers. [kPa]"]
[null,null,{"$f":"VLOOKUP($B62,Matrix_Rohdaten,1,0)","v":{"$error":"#N/A"}},{"$f":"VLOOKUP($B62,Matrix_Rohdaten,4,0)","v":{"$error":"#N/A"}},{"$f":"VLOOKUP($B62,Matrix_Rohdaten,18,0)","v":{"$error":"#N/A"}},{"$f":"VLOOKUP($B62,Matrix_Rohdaten,12,0)","v":{"$error":"#N/A"}},{"$f":"VLOOKUP($B62,Matrix_Rohdaten,17,0)","v":{"$error":"#N/A"}},{"$f":"VLOOKUP($B62,Matrix_Rohdaten,3,0)","v":{"$error":"#N/A"}}]
[null,null,{"$f":"VLOOKUP($B63,Matrix_Rohdaten,1,0)","v":{"$error":"#N/A"}},{"$f":"VLOOKUP($B63,Matrix_Rohdaten,4,0)","v":{"$error":"#N/A"}},{"$f":"VLOOKUP($B63,Matrix_Rohdaten,18,0)","v":{"$error":"#N/A"}},{"$f":"VLOOKUP($B63,Matrix_Rohdaten,12,0)","v":{"$error":"#N/A"}},{"$f":"VLOOKUP($B63,Matrix_Rohdaten,17,0)","v":{"$error":"#N/A"}},{"$f":"VLOOKUP($B63,Matrix_Rohdaten,3,0)","v":{"$error":"#N/A"}}]
[null,null,{"$f":"VLOOKUP($B64,Matrix_Rohdaten,1,0)","v":{"$error":"#N/A"}},{"$f":"VLOOKUP($B64,Matrix_Rohdaten,4,0)","v":{"$error":"#N/A"}},{"$f":"VLOOKUP($B64,Matrix_Rohdaten,18,0)","v":{"$error":"#N/A"}},{"$f":"VLOOKUP($B64,Matrix_Rohdaten,12,0)","v":{"$error":"#N/A"}},{"$f":"VLOOKUP($B64,Matrix_Rohdaten,17,0)","v":{"$error":"#N/A"}},{"$f":"VLOOKUP($B64,Matrix_Rohdaten,3,0)","v":{"$error":"#N/A"}}]
[null,null,{"$f":"VLOOKUP($B65,Matrix_Rohdaten,1,0)","v":{"$error":"#N/A"}},{"$f":"VLOOKUP($B65,Matrix_Rohdaten,4,0)","v":{"$error":"#N/A"}},{"$f":"VLOOKUP($B65,Matrix_Rohdaten,18,0)","v":{"$error":"#N/A"}},{"$f":"VLOOKUP($B65,Matrix_Rohdaten,12,0)","v":{"$error":"#N/A"}},{"$f":"VLOOKUP($B65,Matrix_Rohdaten,17,0)","v":{"$error":"#N/A"}},{"$f":"VLOOKUP($B65,Matrix_Rohdaten,3,0)","v":{"$error":"#N/A"}}]
[]
[]
[null,null,null,null,null,null,null,null,null,null,null,null,null,null,null,null,"y =","mxb"]
[null,null,null,null,null,null,null,null,null,null,null,null,null,null,null,null,{"$f":"INDEX(LOGEST(I37:I40,LN(D37:D40),,TRUE),1,2)","v":1.1386779183104359E-7},{"$f":"LN(INDEX(LOGEST(I37:I40,LN(D37:D40),,TRUE),1,1))","v":2.6619993336138319}]
[null,null,null,null,null,null,null,null,null,null,null,null,null,null,null,null,{"$f":"G7","v":"Drehzahl"},{"$f":"I36","v":"Druckverlust Kasten [Pa]"}]
[null,null,null,null,null,null,null,null,null,null,null,null,null,null,null,null,{"$f":"P5","v":1039},{"$f":"Q69*Q71^R69","v":12.207577106427696}]
[]
[]
[]
[]
[]
[]
[null,null,null,null,null,null,null,null,"Bei L_WA 45dB(A)"]
[null,null,null,null,null,null,null,"Sek Vol",215,"m³/h"]
[null,null,null,null,null,null,null,"Drehzahl",750,"1/min"]
[null,null,null,null,null,null,null,"spez. Leistung trocken",48.403245732128077,"W/K"]
[]
[null,null,null,null,null,null,null,"sens. Leistung bei dT 20 K, 50 %rF",{"$f":"20*I81*I87","v":874.07802972580805},"Watt","mit Filter"]
[null,null,null,null,null,null,null,"sens. Leistung bei dT 20 K, 50 %rF",{"$f":"I83*1.1","v":961.48583269838889},"Watt","ohne Filter"]
[]
[]
[null,null,null,null,null,null,null,"Sens Faktor",{"$f":"J96/J95","v":0.90291262135922334}]
[null,null,null,null,null,null,null,"Total Faktor",{"$f":"I96/I95","v":1.349514563106796}]
[]
[null,"2017-02-20"]
[null,"Auslegung euCalc"]
[]
[null,"QA","VA","DPA","TAI","RH","TAO","RH","QTOT","QSEN","QW","VW","TWI","TWO","GLI","DPW"]
[null,"m3/h","m/s","Pa","°C","%","°C","%","kW","kW","l/h","m/s","°C","°C","%","kPa"]
[null,214,0.42,1,26,1,11,2,1.03,1.03,200,0.8,6,10.4,0,20]
[null,214,0.42,1,26,50,12,87,1.39,0.93,200,0.8,6,12,0,20]
[]
[]
[]
[]
[]
[]
[]
[]
[]
[]
[]
[]
[]
[]
[]
[]
[]
[]
[]
[]
[]
[]
[]
[]
[]
[]
[]
[]
[]
[]
[]
[]
[]
[]
[]
[]
[]
[]
[]
[]
[]
[]
[]
[]
[]
[]
[]
[]
[null,null,null,null,null,null,null,null,"Bei L_WA 40dB(A)"]
[null,null,null,null,null,null,null,"Sek Vol",175,"m³/h"]
[null,null,null,null,null,null,null,"Drehzahl",622,"1/min"]
[null,null,null,null,null,null,null,"spez. Leistung trocken",41.051299012368112,"W/K"]
[]
[null,null,null,null,null,null,null,"sens. Leistung bei dT 20 K, 50 %rF",{"$f":"20*I148*I154","v":748.84787209374792},"Watt","mit Filter"]
[null,null,null,null,null,null,null,"sens. Leistung bei dT 20 K, 50 %rF",{"$f":"I150*1.1","v":823.73265930312277},"Watt","ohne Filter"]
[]
[]
[null,null,null,null,null,null,null,"Sens Faktor",{"$f":"J163/J162","v":0.91208791208791207}]
[null,null,null,null,null,null,null,"Total Faktor",{"$f":"I163/I162","v":1.3846153846153846}]
[]
[null,"2017-02-20"]
[null,"Auslegung euCalc"]
[]
[null,"QA","VA","DPA","TAI","RH","TAO","RH","QTOT","QSEN","QW","VW","TWI","TWO","GLI","DPW"]
[null,"m3/h","m/s","Pa","°C","%","°C","%","kW","kW","l/h","m/s","°C","°C","%","kPa"]
[null,175,0.35,1,26,1,10,2,0.91,0.91,200,0.8,6,9.9,0,20]
[null,175,0.35,1,26,50,11,90,1.26,0.83,200,0.8,6,11.4,0,20]
[]
[]
[]
[null,"QA","VA","DPA","TAI","RH","TAO","RH","QTOT","QSEN","QW","VW","TWI","TWO","GLI","DPW"]
[null,"m3/h","m/s","Pa","°C","%","°C","%","kW","kW","l/h","m/s","°C","°C","%","kPa"]
[null,175,0.35,1,26,50,11,90,1.26,0.83,200,0.8,6,11.4,0,20]

{"sheet":"Heizen_Auswertung_V78-V85","index":8,"n_rows":376,"n_cols":32,"rows_kept":376,"cut":false,"hidden":true,"merged":[[173,8,174,12]]}
[null,{"$f":"CONCATENATE('Heizen_Auslegung_V78-V85'!B1, \"; \", 'Heizen_Auslegung_V78-V85'!C1, \"; \", 'Heizen_Auslegung_V78-V85'!D1, \"; \",'Heizen_Auslegung_V78-V85'!E1, \"; \", 'Heizen_Auslegung_V78-V85'!F1)","v":"VKL800; ISH-Prototyp; heizen; 4L; 3 - 3,5 cm Schalldämmung; mit Filter"},null,"4L; 3D-Strömung","3 - 3,5 cm Schalldämmung",{"$f":"'Heizen_Auslegung_V78-V85'!C1","v":"ISH-Prototyp; heizen"},null,null,1,4,26,12,17,3,6]
[null,{"$f":"'Heizen_Auslegung_V78-V85'!H1","v":"Drehzahl [1/min]"},{"$f":"'Heizen_Auslegung_V78-V85'!J1","v":"1/min"}," -> 2. Variable",{"$f":"'Heizen_Auslegung_V78-V85'!I1","v":"Drehzahl"}]
[null,null,null,null,null,null,null,"Aus Kalorikmessung vom",null,{"$f":"VLOOKUP($H8,Matrix_Rohdaten,8,0)","v":"2017-02-24"}]
[null,"w_soll \n(Kühlwasser)","Volumenstrom \nAuslegung 1 ","q Auslegung 1",{"$f":"CONCATENATE(B2, \"; Auslegung 2\")","v":"Drehzahl [1/min]; Auslegung 2"},"q Auslegung 2",null,"Gemessen von",null,{"$f":"VLOOKUP($H8,Matrix_Rohdaten,10,0)","v":"TT"}]
[null,"[kg/h]","[m³/h]","[W/K]","[Pa]","[W/K]",null,{"$f":"CONCATENATE(E2,\"variation (bei ca. \", ROUND(AVERAGE(L7:L10),0), \" kg/h)\")","v":"Drehzahlvariation (bei ca. 120 kg/h)"}]
[null,{"$f":"'Heizen_Auslegung_V78-V85'!C3","v":120},{"$f":"'Heizen_Auslegung_V78-V85'!B9","v":287.06149800000003},{"$f":"C56","v":45.431624918960139},{"$f":"'Heizen_Auslegung_V78-V85'!G9","v":1039},{"$f":"C77","v":46.343359593810561},null,"Messung","Messung",{"$f":"B2","v":"Drehzahl [1/min]"},"Sekundärvolumenstrom - Kalorik [m³/h]","Wasser-Massenstrom","spez. Kühlleistung [W/K]","Druckverlust wassers.","Steuerspannung [V]"]
[null,null,null,null,null,null,null,null,null,{"$f":"C2","v":"1/min"},"m³/h","kg/h","W/K","kPa","V"]
[null,{"$f":"CONCATENATE(\"w_soll = \", ROUND(B11,0),\" kg/h\")","v":"w_soll = 120 kg/h"},null,null,null,null,null,{"$f":"'Heizen_Auslegung_V78-V85'!B37","v":"V90"},{"$f":"VLOOKUP($H8,Matrix_Rohdaten,1,0)","v":"V90"},{"$f":"VLOOKUP($H8,Matrix_Rohdaten,4,0)","v":504},{"$f":"VLOOKUP($H8,Matrix_Rohdaten,18,0)","v":127.06816533333334},{"$f":"VLOOKUP($H8,Matrix_Rohdaten,12,0)","v":119.88093600000001},{"$f":"VLOOKUP($H8,Matrix_Rohdaten,17,0)","v":28.179728666666666},{"$f":"VLOOKUP($H8,Matrix_Rohdaten,3,0)","v":4.8},{"$f":"VLOOKUP($H8,Matrix_Rohdaten,6,0)","v":3.5}]
[null,"wsoll","Faktor: Wassermenge zu Nennwassermenge ","Kühlleistung Korrekturfaktor für \nw_soll ≠ w_ok",{"$f":"B2","v":"Drehzahl [1/min]"},{"$f":"$N$88","v":"Sekundärvolumenstrom - Kalorik"},null,{"$f":"'Heizen_Auslegung_V78-V85'!B38","v":"V89"},{"$f":"VLOOKUP($H9,Matrix_Rohdaten,1,0)","v":"V89"},{"$f":"VLOOKUP($H9,Matrix_Rohdaten,4,0)","v":749},{"$f":"VLOOKUP($H9,Matrix_Rohdaten,18,0)","v":202.57796633333331},{"$f":"VLOOKUP($H9,Matrix_Rohdaten,12,0)","v":119.99811333333334},{"$f":"VLOOKUP($H9,Matrix_Rohdaten,17,0)","v":37.985166999999997},{"$f":"VLOOKUP($H9,Matrix_Rohdaten,3,0)","v":4.8},{"$f":"VLOOKUP($H9,Matrix_Rohdaten,6,0)","v":5.5999999999999988}]
[null,"[kg/h]","[-]","[-]",null,null,null,{"$f":"'Heizen_Auslegung_V78-V85'!B39","v":"V91"},{"$f":"VLOOKUP($H10,Matrix_Rohdaten,1,0)","v":"V91"},{"$f":"VLOOKUP($H10,Matrix_Rohdaten,4,0)","v":1050},{"$f":"VLOOKUP($H10,Matrix_Rohdaten,18,0)","v":301.98992166666665},{"$f":"VLOOKUP($H10,Matrix_Rohdaten,12,0)","v":118.97463399999999},{"$f":"VLOOKUP($H10,Matrix_Rohdaten,17,0)","v":46.449303000000008},{"$f":"VLOOKUP($H10,Matrix_Rohdaten,3,0)","v":4.8},{"$f":"VLOOKUP($H10,Matrix_Rohdaten,6,0)","v":8}]
[null,{"$f":"$B$6","v":120},{"$f":"B11/$H$84","v":1},{"$f":"$H$123*C11^$H$122+$I$123*C11^$I$122+$J$123*C11^$J$122+$K$123*C11^$K$122+$L$123","v":0.99999999999999956},{"$f":"$M$90","v":760},{"$f":"AVERAGE($N$90:$N$93)","v":186.72201833333332},{"$f":"$L$31*E11^$M$31","v":206.1337596792591},{"$f":"'Heizen_Auslegung_V78-V85'!B40","v":"V92"},{"$f":"VLOOKUP($H11,Matrix_Rohdaten,1,0)","v":"V92"},{"$f":"VLOOKUP($H11,Matrix_Rohdaten,4,0)","v":1144},{"$f":"VLOOKUP($H11,Matrix_Rohdaten,18,0)","v":333.39040599999998},{"$f":"VLOOKUP($H11,Matrix_Rohdaten,12,0)","v":118.02393366666666},{"$f":"VLOOKUP($H11,Matrix_Rohdaten,17,0)","v":48.520722000000006},{"$f":"VLOOKUP($H11,Matrix_Rohdaten,3,0)","v":4.8},{"$f":"VLOOKUP($H11,Matrix_Rohdaten,6,0)","v":10},null,null,null,null,"y =","mxb"]
[null,{"$f":"$B$6","v":120},{"$f":"B12/$H$84","v":1},{"$f":"IFERROR($Q$123*C12^$Q$122+$R$123*C12^$R$122+$S$123*C12^$S$122+$T$123*C12^$T$122+$U$123,D11)","v":0.99999999999999956},{"$f":"IFERROR(IF($V$90=0,E11,$V$90),E11)","v":760},{"$f":"IFERROR(IF($W$90=0,F11,$W$90),F11)","v":186.72201833333332},{"$f":"$L$31*E12^$M$31","v":206.1337596792591},null,null,null,null,null,null,null,null,null,null,null,null,{"$f":"INDEX(LOGEST(J8:J11,LN(O8:O11),,TRUE),1,2)","v":185.2549495703276},{"$f":"LN(INDEX(LOGEST(J8:J11,LN(O8:O11),,TRUE),1,1))","v":0.80912938692236147}]
[null,{"$f":"$B$6","v":120},{"$f":"B13/$H$84","v":1},{"$f":"IFERROR($Z$123*C13^$Z$122+$AA$123*C13^$AA$122+$AB$123*C13^$AB$122+$AC$123*C13^$AC$122+$AD$123,D11)","v":0.99999999999999956},{"$f":"IFERROR(IF($AE$90=0,E11,$AE$90),E11)","v":760},{"$f":"IFERROR(IF($AF$90=0,F11,$AF$90),F11)","v":186.72201833333332},{"$f":"$L$31*E13^$M$31","v":206.1337596792591},null,null,null,null,null,null,null,null,null,null,null,null,"x = Drehzahl","y = Steuerspannung"]
[null,null,null,null,null,null,null,null,null,null,null,null,null,null,null,null,null,null,null,2,{"$f":"T12*T14^U12","v":324.59515710818209}]
[null,"y =","axn+bx(n-1)+...+nx+m",null,null,"Korrektur\nWassermenge",null,null,null,null,null,null,null,null,null,null,null,null,null,10,{"$f":"T12*T15^U12","v":1193.7110306476618}]
[null,"Polynom",3,"Ordnung","Auslegung 1",{"$f":"B19*H33^2+C19*H33+D19","v":2.3635175279410312}]
[null,"a =","b =","m =","Auslegung 2",{"$f":"B19*M33^2+C19*M33+D19","v":2.5457750481591139}]
[null,2,1,0]
[null,{"$f":"LINEST(D11:D13,F11:F13^{0,1,2},0,0)","v":2.8681967126844682E-5},0,0]
[]
[]
[]
[]
[]
[]
[]
[]
[]
[null,null,null,null,null,null,null,null,null,null,null,null,null,null,null,null,"Aus Drehzahl"]
[null,null,null,null,null,null,null,"y =","mxb",null,null,"y =","mxb",null,null,null,"y =","mxb",null,"y =","mxb"]
[null,null,null,null,null,null,null,{"$f":"INDEX(LOGEST('Heizen_Auswertung_V78-V85'!J8:J11,LN('Heizen_Auswertung_V78-V85'!K8:K11),,TRUE),1,2)","v":8.2437307358307059},{"$f":"LN(INDEX(LOGEST(J8:J11,LN(K8:K11),,TRUE),1,1))","v":0.84899019749336169},null,null,{"$f":"INDEX(LOGEST('Heizen_Auswertung_V78-V85'!K8:K11,LN('Heizen_Auswertung_V78-V85'!J8:J11),,TRUE),1,2)","v":8.3356319738488796E-2},{"$f":"LN(INDEX(LOGEST(K8:K11,LN(J8:J11),,TRUE),1,1))","v":1.1778653786115554},null,null,null,{"$f":"INDEX(LOGEST(O8:O11,LN(J8:J11),,TRUE),1,2)","v":1.7297638483787633E-3},{"$f":"LN(INDEX(LOGEST(O8:O11,LN(J8:J11),,TRUE),1,1))","v":1.2219246749388692},null,{"$f":"INDEX(LOGEST(K8:K11,LN(O8:O11),,TRUE),1,2)","v":39.103951503039518},{"$f":"LN(INDEX(LOGEST(O8:O11,LN(M8:M11),,TRUE),1,1))","v":1.8294567496269825}]
[null,null,null,null,null,null,null,"V soll [m³/h]",{"$f":"B2","v":"Drehzahl [1/min]"},null,null,{"$f":"B76","v":"Drehzahl Soll 1/min"},"Volumenstrom [m³/h]",null,null,null,"x = Drehzahl","y = Steuerspannung",null,"x = Volumenstrom","y = Steuerspannung"]
[null,null,null,null,null,null,null,{"$f":"'Heizen_Auslegung_V78-V85'!B9","v":287.06149800000003},{"$f":"H31*H33^I31","v":1006.7472073422887},null,null,{"$f":"'Heizen_Auslegung_V78-V85'!G9","v":1039},{"$f":"L31*L33^M31","v":297.92403815910785},null,null,null,313.26916828118112,{"$f":"Q31*Q33^R31","v":1.9400377662363459},null,2,{"$f":"T31*T33^U31","v":138.97670251873743}]
[null,null,null,null,null,null,null,null,null,null,null,null,null,null,null,null,1218.4239934330758,{"$f":"Q31*Q34^R31","v":10.199997730914037},null,10,{"$f":"T31*T34^U31","v":2640.4466391109149}]
[null,null,null,null,null,null,null,null,null,null,null,null,null,null,null,null,"Aus Volumenstrom"]
[null,null,null,null,null,null,null,{"$f":"CONCATENATE(\"w_mess = \", ROUND(H39,0),\" kg/h\")","v":"w_mess = 119 kg/h"},null,null,null,null,null,null,null,null,"y =","mxb"]
[null,null,null,null,null,null,null,"wsoll","Faktor: Wassermenge zu Nennwassermenge ","Kühlleistung Korrekturfaktor für \nw_soll ≠ w_ok",{"$f":"B2","v":"Drehzahl [1/min]"},{"$f":"$N$88","v":"Sekundärvolumenstrom - Kalorik"},null,null,null,null,{"$f":"INDEX(LOGEST(O8:O11,LN(K8:K11),,TRUE),1,2)","v":2.2799048289863504E-2},{"$f":"LN(INDEX(LOGEST(O8:O11,LN(K8:K11),,TRUE),1,1))","v":1.0371914696441638}]
[null,null,null,null,null,null,null,"[kg/h]","[-]","[-]",null,null,null,null,null,null,"x = Volumenstrom","y = Steuerspannung"]
[null,null,null,null,null,null,null,{"$f":"AVERAGE($L$8:$L$11)","v":119.21940425},{"$f":"H39/$H$84","v":0.99349503541666662},{"$f":"$H$123*I39^$H$122+$I$123*I39^$I$122+$J$123*I39^$J$122+$K$123*I39^$K$122+$L$123","v":0.9984448119995899},{"$f":"$M$90","v":760},{"$f":"AVERAGE($N$90:$N$93)","v":186.72201833333332},null,null,null,null,72.557838810287038,{"$f":"Q37*Q39^R37","v":1.9400040742003597}]
[null,null,null,null,null,null,null,{"$f":"AVERAGE($L$8:$L$11)","v":119.21940425},{"$f":"H40/$H$84","v":0.99349503541666662},{"$f":"IFERROR($Q$123*I40^$Q$122+$R$123*I40^$R$122+$S$123*I40^$S$122+$T$123*I40^$T$122+$U$123,J39)","v":0.9984448119995899},{"$f":"IFERROR(IF($V$90=0,K39,$V$90),K39)","v":760},{"$f":"IFERROR(IF($W$90=0,L39,$W$90),L39)","v":186.72201833333332},null,null,null,null,359.46032584537841,{"$f":"Q37*Q40^R37","v":10.200374040738275}]
[null,null,null,null,null,null,null,{"$f":"AVERAGE($L$8:$L$11)","v":119.21940425},{"$f":"H41/$H$84","v":0.99349503541666662},{"$f":"IFERROR($Z$123*I41^$Z$122+$AA$123*I41^$AA$122+$AB$123*I41^$AB$122+$AC$123*I41^$AC$122+$AD$123,J39)","v":0.9984448119995899},{"$f":"IFERROR(IF($AE$90=0,K39,$AE$90),K39)","v":760},{"$f":"IFERROR(IF($AF$90=0,L39,$AF$90),L39)","v":186.72201833333332}]
[]
[null,null,null,null,null,null,null,"y =","axn+bx(n-1)+...+nx+m"]
[null,null,null,null,null,null,null,"Polynom",3,"Ordnung"]
[null,null,null,null,null,null,null,"a =","b =","m ="]
[null,null,null,null,null,null,null,2,1,0]
[null,null,null,null,null,null,null,{"$f":"LINEST(J39:J41,L39:L41^{0,1,2},0,0)","v":2.8637361275740867E-5},0,0]
[]
[null,null,null,null,null,null,null,null,null,null,{"$f":"H47*J52^2+I47*J52^1+J47*J52^0","v":0.46238796020068207}]
[null,"y =","axn+bx(n-1)+...+nx+m",null,null,null,null,null,null,null,null,{"$f":"CONCATENATE($B$1, \" ; \",L51)","v":"VKL800; ISH-Prototyp; heizen; 4L; 3 - 3,5 cm Schalldämmung; mit Filter ; q Sek [W/K] bei wok 120 kg/h"},null,{"$f":"CONCATENATE($B$1, \" ; \",N51)","v":"VKL800; ISH-Prototyp; heizen; 4L; 3 - 3,5 cm Schalldämmung; mit Filter ; q Sek [W/K] bei w_soll 120 kg/h"},{"$f":"CONCATENATE(\"im Mittel \", ROUND(AVERAGE(O52:O55)*100,0), \" % Kühlleistung bei \", ROUND(H$87,0), \" kg/h\")","v":"im Mittel 0 % Kühlleistung bei 120 kg/h"}]
[null,"Polynom",2,"Ordnung",null,null,null,"Wasser-\nmenge [kg/h]","q Sek [W/K]",{"$f":"K6","v":"Sekundärvolumenstrom - Kalorik [m³/h]"},{"$f":"CONCATENATE(\"Korrektur bei \", ROUND(AVERAGE(H52:H55),0), \" kg/h (Mittelwert)\")","v":"Korrektur bei 119 kg/h (Mittelwert)"},{"$f":"CONCATENATE(\"q Sek [W/K] bei wok \", H$84, \" kg/h\")","v":"q Sek [W/K] bei wok 120 kg/h"},{"$f":"CONCATENATE(\"Korrektur bei \", ROUND(AVERAGE(B6),0), \" kg/h (Mittelwert)\")","v":"Korrektur bei 120 kg/h (Mittelwert)"},{"$f":"CONCATENATE(\"q Sek [W/K] bei w_soll \", ROUND(H$87,0), \" kg/h\")","v":"q Sek [W/K] bei w_soll 120 kg/h"},{"$f":"CONCATENATE(\"q Sek Abweichung von Nennwassermenge bei \", H$87, \" kg/h\")","v":"q Sek Abweichung von Nennwassermenge bei 120 kg/h"}]
[null,"a =","b =","c =","m =",null,null,{"$f":"L8","v":119.88093600000001},28.179728666666666,{"$f":"K8","v":127.06816533333334},{"$f":"IF($J$39=$J$40,$J$39,$H$47*J52^$H$46+$I$47*J52^$I$46+$J$47*J52^$J$46)","v":0.9984448119995899},{"$f":"I52/K52","v":28.223621704469572},{"$f":"IF($D$11=$D$12,$D$11,$B$19*J52^$B$18+$C$19*J52^$C$18+$D$19*J52^$D$18)","v":0.99999999999999956},{"$f":"L52*M52","v":28.223621704469558},{"$f":"1/L52*N52-1","v":0}]
[null,3,2,1,0,null,null,119.99811333333334,37.985166999999997,{"$f":"K9","v":202.57796633333331},{"$f":"IF($J$39=$J$40,$J$39,$H$47*J53^$H$46+$I$47*J53^$I$46+$J$47*J53^$J$46)","v":0.9984448119995899},{"$f":"I53/K53","v":38.044333090305642},{"$f":"IF($D$11=$D$12,$D$11,$B$19*J53^$B$18+$C$19*J53^$C$18+$D$19*J53^$D$18)","v":0.99999999999999956},{"$f":"L53*M53","v":38.044333090305628},{"$f":"1/L53*N53-1","v":0}]
[null,{"$f":"LINEST(N52:N55,K8:K11^{1,2,3},0,0)","v":6.284249884408059E-7},-6.5867028443713225E-4,0.29555838694134312,0,null,null,118.97463399999999,46.449303000000008,{"$f":"K10","v":301.98992166666665},{"$f":"IF($J$39=$J$40,$J$39,$H$47*J54^$H$46+$I$47*J54^$I$46+$J$47*J54^$J$46)","v":0.9984448119995899},{"$f":"I54/K54","v":46.521652916374798},{"$f":"IF($D$11=$D$12,$D$11,$B$19*J54^$B$18+$C$19*J54^$C$18+$D$19*J54^$D$18)","v":0.99999999999999956},{"$f":"L54*M54","v":46.521652916374777},{"$f":"1/L54*N54-1","v":0}]
[null,"V soll [m³/h]","q sek [W/K]",null,null,null,null,118.02393366666666,48.520722000000006,{"$f":"K11","v":333.39040599999998},{"$f":"IF($J$39=$J$40,$J$39,$H$47*J55^$H$46+$I$47*J55^$I$46+$J$47*J55^$J$46)","v":0.9984448119995899},{"$f":"I55/K55","v":48.596298380105097},{"$f":"IF($D$11=$D$12,$D$11,$B$19*J55^$B$18+$C$19*J55^$C$18+$D$19*J55^$D$18)","v":0.99999999999999956},{"$f":"L55*M55","v":48.596298380105075},{"$f":"1/L55*N55-1","v":0}]
[null,{"$f":"C6","v":287.06149800000003},{"$f":"B54*B56^B53+C54*B56^C53+D54*B56^D53+E54*B56^E53","v":45.431624918960139}]
[null,null,null,null,null,null,null,null,null,null,null,null,"Auslegung 1"]
[null,null,null,null,null,null,null,null,null,null,null,"Sekundärvolumenstrom [m³/h]",{"$f":"H33","v":287.06149800000003}]
[null,null,null,null,null,null,null,null,null,null,null,"Abweichung",{"$f":"L68*M58^L67+M68*M58^M67+N68*M58^N67","v":0},{"$f":"IF(M59>=0, CONCATENATE(\"+\", ROUND(AVERAGE(M59)*100,0), \" % Kühlleistung bei \", ROUND(H$87,0), \" kg/h\"),CONCATENATE(ROUND(AVERAGE(M59)*100,0), \" % Kühlleistung bei \", ROUND(H$87,0), \" kg/h\"))","v":"+0 % Kühlleistung bei 120 kg/h"}]
[null,null,null,null,null,null,null,null,null,null,null,null,"Auslegung 2"]
[null,null,null,null,null,null,null,null,null,null,null,"Sekundärvolumenstrom [m³/h]",{"$f":"M33","v":297.92403815910785}]
[null,null,null,null,null,null,null,null,null,null,null,"Abweichung",{"$f":"L68*M61^L67+M68*M61^M67+N68*M61^N67","v":0},{"$f":"IF(M62>=0, CONCATENATE(\"+\", ROUND(AVERAGE(M62)*100,0), \" % Kühlleistung bei \", ROUND(H$87,0), \" kg/h\"),CONCATENATE(ROUND(AVERAGE(M62)*100,0), \" % Kühlleistung bei \", ROUND(H$87,0), \" kg/h\"))","v":"+0 % Kühlleistung bei 120 kg/h"}]
[]
[null,null,null,null,null,null,null,null,null,null,null,"y =","axn+bx(n-1)+...+nx+m"]
[null,null,null,null,null,null,null,null,null,null,null,"Polynom",3,"Ordnung"]
[null,null,null,null,null,null,null,null,null,null,null,"a =","b =","m ="]
[null,null,null,null,null,null,null,null,null,null,null,2,1,0]
[null,null,null,null,null,null,null,null,null,null,null,{"$f":"LINEST(O52:O55,J52:J55^{0,1,2},0,0)","v":0},0,0]
[]
[]
[null,"y =","axn+bx(n-1)+...+nx+m",null,null,null,null,{"$f":"CONCATENATE(\"Wassermassenstromvariation (bei \",$E$2, \" von \", ROUND(AVERAGE(J74:J77),0), \" Pa)\")","v":"Wassermassenstromvariation (bei Drehzahl von 760 Pa)"},null,null,null,null,null,null,null,null,{"$f":"CONCATENATE(\"Wassermassenstromvariation (bei \",$E$2, \" von \", ROUND(AVERAGE(S74:S77),0), \" Pa)\")","v":{"$error":"#N/A"}},null,null,null,null,null,null,null,null,{"$f":"CONCATENATE(\"Wassermassenstromvariation (bei \",$E$2, \" von \", ROUND(AVERAGE(AB74:AB77),0), \" Pa)\")","v":{"$error":"#N/A"}}]
[null,"Polynom",2,"Ordnung",null,null,null,"Messung","Messung",{"$f":"B2","v":"Drehzahl [1/min]"},"Sekundärvolumenstrom - Kalorik","Wasser-Massenstrom","spez. Kühlleistung","Druckverlust wassers.",null,null,"Messung","Messung",{"$f":"L4","v":0},"Sekundärvolumenstrom - Kalorik","Wasser-Massenstrom","spez. Kühlleistung","Druckverlust wassers.",null,null,"Messung","Messung",{"$f":"U4","v":0},"Sekundärvolumenstrom - Kalorik","Wasser-Massenstrom","spez. Kühlleistung","Druckverlust wassers."]
[null,"a =","b =","c =","m =",null,null,null,null,"Pa","m³/h","kg/h","W/K","kPa",null,null,null,null,"Pa","m³/h","kg/h","W/K","kPa",null,null,null,null,"Pa","m³/h","kg/h","W/K","kPa"]
[null,3,2,1,0,null,null,{"$f":"'Heizen_Auslegung_V78-V85'!B44","v":"V82"},{"$f":"VLOOKUP($H74,Matrix_Rohdaten,1,0)","v":"V82"},{"$f":"VLOOKUP($H74,Matrix_Rohdaten,4,0)","v":760},{"$f":"VLOOKUP($H74,Matrix_Rohdaten,18,0)","v":183.61665200000002},{"$f":"VLOOKUP($H74,Matrix_Rohdaten,12,0)","v":61.562867333333337},{"$f":"VLOOKUP($H74,Matrix_Rohdaten,17,0)","v":30.216217},{"$f":"VLOOKUP($H74,Matrix_Rohdaten,3,0)","v":1.6000000000000003},null,null,{"$f":"'Heizen_Auslegung_V78-V85'!B54","v":0},{"$f":"VLOOKUP($Q74,Matrix_Rohdaten,1,0)","v":{"$error":"#N/A"}},{"$f":"VLOOKUP($Q74,Matrix_Rohdaten,4,0)","v":{"$error":"#N/A"}},{"$f":"VLOOKUP($Q74,Matrix_Rohdaten,18,0)","v":{"$error":"#N/A"}},{"$f":"VLOOKUP($Q74,Matrix_Rohdaten,12,0)","v":{"$error":"#N/A"}},{"$f":"VLOOKUP($Q74,Matrix_Rohdaten,17,0)","v":{"$error":"#N/A"}},{"$f":"VLOOKUP($Q74,Matrix_Rohdaten,3,0)","v":{"$error":"#N/A"}},null,null,{"$f":"'Heizen_Auslegung_V78-V85'!B62","v":0},{"$f":"VLOOKUP($Z74,Matrix_Rohdaten,1,0)","v":{"$error":"#N/A"}},{"$f":"VLOOKUP($Z74,Matrix_Rohdaten,4,0)","v":{"$error":"#N/A"}},{"$f":"VLOOKUP($Z74,Matrix_Rohdaten,18,0)","v":{"$error":"#N/A"}},{"$f":"VLOOKUP($Z74,Matrix_Rohdaten,12,0)","v":{"$error":"#N/A"}},{"$f":"VLOOKUP($Z74,Matrix_Rohdaten,17,0)","v":{"$error":"#N/A"}},{"$f":"VLOOKUP($Z74,Matrix_Rohdaten,3,0)","v":{"$error":"#N/A"}}]
[null,{"$f":"LINEST(N52:N55,J8:J11^{1,2,3},0,0)","v":1.257974078995314E-9},-2.3342842025880507E-5,6.7499014395290172E-2,0,null,null,{"$f":"'Heizen_Auslegung_V78-V85'!B45","v":"V83"},{"$f":"VLOOKUP($H75,Matrix_Rohdaten,1,0)","v":"V83"},{"$f":"VLOOKUP($H75,Matrix_Rohdaten,4,0)","v":760},{"$f":"VLOOKUP($H75,Matrix_Rohdaten,18,0)","v":188.56985933333331},{"$f":"VLOOKUP($H75,Matrix_Rohdaten,12,0)","v":116.66373833333334},{"$f":"VLOOKUP($H75,Matrix_Rohdaten,17,0)","v":36.893515666666666},{"$f":"VLOOKUP($H75,Matrix_Rohdaten,3,0)","v":4.5999999999999996},null,null,{"$f":"'Heizen_Auslegung_V78-V85'!B55","v":0},{"$f":"VLOOKUP($Q75,Matrix_Rohdaten,1,0)","v":{"$error":"#N/A"}},{"$f":"VLOOKUP($Q75,Matrix_Rohdaten,4,0)","v":{"$error":"#N/A"}},{"$f":"VLOOKUP($Q75,Matrix_Rohdaten,18,0)","v":{"$error":"#N/A"}},{"$f":"VLOOKUP($Q75,Matrix_Rohdaten,12,0)","v":{"$error":"#N/A"}},{"$f":"VLOOKUP($Q75,Matrix_Rohdaten,17,0)","v":{"$error":"#N/A"}},{"$f":"VLOOKUP($Q75,Matrix_Rohdaten,3,0)","v":{"$error":"#N/A"}},null,null,{"$f":"'Heizen_Auslegung_V78-V85'!B63","v":0},{"$f":"VLOOKUP($Z75,Matrix_Rohdaten,1,0)","v":{"$error":"#N/A"}},{"$f":"VLOOKUP($Z75,Matrix_Rohdaten,4,0)","v":{"$error":"#N/A"}},{"$f":"VLOOKUP($Z75,Matrix_Rohdaten,18,0)","v":{"$error":"#N/A"}},{"$f":"VLOOKUP($Z75,Matrix_Rohdaten,12,0)","v":{"$error":"#N/A"}},{"$f":"VLOOKUP($Z75,Matrix_Rohdaten,17,0)","v":{"$error":"#N/A"}},{"$f":"VLOOKUP($Z75,Matrix_Rohdaten,3,0)","v":{"$error":"#N/A"}}]
[null,{"$f":"CONCATENATE(E2,\" Soll \",C2)","v":"Drehzahl Soll 1/min"},"q sek [W/K]",null,null,null,null,{"$f":"'Heizen_Auslegung_V78-V85'!B46","v":"V84"},{"$f":"VLOOKUP($H76,Matrix_Rohdaten,1,0)","v":"V84"},{"$f":"VLOOKUP($H76,Matrix_Rohdaten,4,0)","v":760},{"$f":"VLOOKUP($H76,Matrix_Rohdaten,18,0)","v":188.11942033333335},{"$f":"VLOOKUP($H76,Matrix_Rohdaten,12,0)","v":192.12808200000003},{"$f":"VLOOKUP($H76,Matrix_Rohdaten,17,0)","v":40.029868999999998},{"$f":"VLOOKUP($H76,Matrix_Rohdaten,3,0)","v":11.800000000000002},null,null,{"$f":"'Heizen_Auslegung_V78-V85'!B56","v":0},{"$f":"VLOOKUP($Q76,Matrix_Rohdaten,1,0)","v":{"$error":"#N/A"}},{"$f":"VLOOKUP($Q76,Matrix_Rohdaten,4,0)","v":{"$error":"#N/A"}},{"$f":"VLOOKUP($Q76,Matrix_Rohdaten,18,0)","v":{"$error":"#N/A"}},{"$f":"VLOOKUP($Q76,Matrix_Rohdaten,12,0)","v":{"$error":"#N/A"}},{"$f":"VLOOKUP($Q76,Matrix_Rohdaten,17,0)","v":{"$error":"#N/A"}},{"$f":"VLOOKUP($Q76,Matrix_Rohdaten,3,0)","v":{"$error":"#N/A"}},null,null,{"$f":"'Heizen_Auslegung_V78-V85'!B64","v":0},{"$f":"VLOOKUP($Z76,Matrix_Rohdaten,1,0)","v":{"$error":"#N/A"}},{"$f":"VLOOKUP($Z76,Matrix_Rohdaten,4,0)","v":{"$error":"#N/A"}},{"$f":"VLOOKUP($Z76,Matrix_Rohdaten,18,0)","v":{"$error":"#N/A"}},{"$f":"VLOOKUP($Z76,Matrix_Rohdaten,12,0)","v":{"$error":"#N/A"}},{"$f":"VLOOKUP($Z76,Matrix_Rohdaten,17,0)","v":{"$error":"#N/A"}},{"$f":"VLOOKUP($Z76,Matrix_Rohdaten,3,0)","v":{"$error":"#N/A"}}]
[null,{"$f":"E6","v":1039},{"$f":"B75*B77^B74+C75*B77^C74+D75*B77^D74+E75*B77^E74","v":46.343359593810561},null,null,null,null,{"$f":"'Heizen_Auslegung_V78-V85'!B47","v":"V85"},{"$f":"VLOOKUP($H77,Matrix_Rohdaten,1,0)","v":"V85"},{"$f":"VLOOKUP($H77,Matrix_Rohdaten,4,0)","v":760},{"$f":"VLOOKUP($H77,Matrix_Rohdaten,18,0)","v":186.58214166666664},{"$f":"VLOOKUP($H77,Matrix_Rohdaten,12,0)","v":231.00826900000001},{"$f":"VLOOKUP($H77,Matrix_Rohdaten,17,0)","v":40.703091000000001},{"$f":"VLOOKUP($H77,Matrix_Rohdaten,3,0)","v":17},null,null,{"$f":"'Heizen_Auslegung_V78-V85'!B57","v":0},{"$f":"VLOOKUP($Q77,Matrix_Rohdaten,1,0)","v":{"$error":"#N/A"}},{"$f":"VLOOKUP($Q77,Matrix_Rohdaten,4,0)","v":{"$error":"#N/A"}},{"$f":"VLOOKUP($Q77,Matrix_Rohdaten,18,0)","v":{"$error":"#N/A"}},{"$f":"VLOOKUP($Q77,Matrix_Rohdaten,12,0)","v":{"$error":"#N/A"}},{"$f":"VLOOKUP($Q77,Matrix_Rohdaten,17,0)","v":{"$error":"#N/A"}},{"$f":"VLOOKUP($Q77,Matrix_Rohdaten,3,0)","v":{"$error":"#N/A"}},null,null,{"$f":"'Heizen_Auslegung_V78-V85'!B65","v":0},{"$f":"VLOOKUP($Z77,Matrix_Rohdaten,1,0)","v":{"$error":"#N/A"}},{"$f":"VLOOKUP($Z77,Matrix_Rohdaten,4,0)","v":{"$error":"#N/A"}},{"$f":"VLOOKUP($Z77,Matrix_Rohdaten,18,0)","v":{"$error":"#N/A"}},{"$f":"VLOOKUP($Z77,Matrix_Rohdaten,12,0)","v":{"$error":"#N/A"}},{"$f":"VLOOKUP($Z77,Matrix_Rohdaten,17,0)","v":{"$error":"#N/A"}},{"$f":"VLOOKUP($Z77,Matrix_Rohdaten,3,0)","v":{"$error":"#N/A"}}]
[]
[]
[null,null,null,null,null,null,null,"Wassermengenvariation",null,null,null,null,null,null,null,null,"Wassermengenvariation",null,null,null,null,null,null,null,null,"Wassermengenvariation"]
[null,null,null,null,null,null,null,{"$f":"CONCATENATE($B$1,\"; \", $E$2, \" = \",M90, \" \", M89,\"; m_w=\", ROUND(H87,0), \" kg/h\")","v":"VKL800; ISH-Prototyp; heizen; 4L; 3 - 3,5 cm Schalldämmung; mit Filter; Drehzahl = 760 1/min; m_w=120 kg/h"},null,null,null,null,null,null,null,null,{"$f":"CONCATENATE($B$1,\"; \", $E$2, \" = \",V90, \" \", V89,\"; m_w=\", ROUND(Q87,0), \" kg/h\")","v":{"$error":"#N/A"}},null,null,null,null,null,null,null,null,{"$f":"CONCATENATE($B$1,\"; \", $E$2, \" = \",AE90, \" \", AE89,\"; m_w=\", ROUND(Z87,0), \" kg/h\")","v":{"$error":"#N/A"}}]
[]
[null,null,null,null,null,null,null,"wok","spez. Leistung bei wok",null,null,"Druckverlust bei wok",null,null,null,null,"wok","spez. Leistung bei wok",null,null,"Druckverlust bei wok",null,null,null,null,"wok","spez. Leistung bei wok",null,null,"Druckverlust bei wok"]
[null,null,null,null,null,null,null,{"$f":"'Heizen_Auslegung_V78-V85'!C4","v":120},{"$f":"H106*H84^H105+I106*H84^I105+J106*H84^J105+K106*H84^K105+L106","v":37.145908783242369},null,null,{"$f":"I$114*H84^J$114","v":5.115948328583376},null,null,null,null,{"$f":"H84","v":120},{"$f":"Q106*Q84^Q105+R106*Q84^R105+S106*Q84^S105+T106*Q84^T105+U106","v":{"$error":"#VALUE!"}},null,null,{"$f":"R$114*Q84^S$114","v":{"$error":"#VALUE!"}},null,null,null,null,{"$f":"H84","v":120},{"$f":"Z106*Z84^Z105+AA106*Z84^AA105+AB106*Z84^AB105+AC106*Z84^AC105+AD106","v":{"$error":"#VALUE!"}},null,null,{"$f":"AA$114*Z84^AB$114","v":{"$error":"#VALUE!"}}]
[]
[null,null,null,null,null,null,null,"w_soll",null,null,null,null,null,null,null,null,"w_soll",null,null,null,null,null,null,null,null,"w_soll"]
[null,null,null,null,null,null,null,{"$f":"$B$6","v":120},null,{"$f":"H87/H84","v":1},{"$f":"H$123*J87^H$122+I$123*J87^I$122+J$123*J87^J$122+K$123*J87^K$122+L$123","v":0.99999999999999956},{"$f":"I$114*H87^J$114","v":5.115948328583376},null,null,null,null,{"$f":"$B$6","v":120},null,{"$f":"Q87/Q84","v":1},{"$f":"Q$123*S87^Q$122+R$123*S87^R$122+S$123*S87^S$122+T$123*S87^T$122+U$123","v":{"$error":"#VALUE!"}},{"$f":"R$114*Q87^S$114","v":{"$error":"#VALUE!"}},null,null,null,null,{"$f":"$B$6","v":120},null,{"$f":"Z87/Z84","v":1},{"$f":"Z$123*AB87^Z$122+AA$123*AB87^AA$122+AB$123*AB87^AB$122+AC$123*AB87^AC$122+AD$123","v":{"$error":"#VALUE!"}},{"$f":"AA$114*Z87^AB$114","v":{"$error":"#VALUE!"}}]
[null,null,null,null,null,null,null,"Wassermenge","spez. Leistung","Faktor: Wassermenge zu Nennwassermenge ","Kühlleistung Korrekturfaktor für \nw_soll ≠ w_ok","wasserseit. Druckverlust - kühlen",{"$f":"$B$2","v":"Drehzahl [1/min]"},{"$f":"K72","v":"Sekundärvolumenstrom - Kalorik"},null,null,"Wassermenge","spez. Leistung","Faktor: Wassermenge zu Nennwassermenge ","Kühlleistung Korrekturfaktor für \nw_soll ≠ w_ok","wasserseit. Druckverlust - kühlen",{"$f":"$B$2","v":"Drehzahl [1/min]"},{"$f":"T72","v":"Sekundärvolumenstrom - Kalorik"},null,null,"Wassermenge","spez. Leistung","Faktor: Wassermenge zu Nennwassermenge ","Kühlleistung Korrekturfaktor für \nw_soll ≠ w_ok","wasserseit. Druckverlust - kühlen",{"$f":"$B$2","v":"Drehzahl [1/min]"},{"$f":"AC72","v":"Sekundärvolumenstrom - Kalorik"}]
[null,null,null,null,null,null,null,"[kg/h]","[W/K]","[-]","[-]","[kPa]",{"$f":"$C$2","v":"1/min"},"m³/h",null,null,"[kg/h]","[W/K]","[-]","[-]","[kPa]",{"$f":"$C$2","v":"1/min"},"m³/h",null,null,"[kg/h]","[W/K]","[-]","[-]","[kPa]",{"$f":"$C$2","v":"1/min"},"m³/h"]
[null,null,null,null,null,null,null,{"$f":"L74","v":61.562867333333337},30.216217,{"$f":"H90/H$84","v":0.51302389444444452},0.81344670220133208,{"$f":"N74","v":1.6000000000000003},{"$f":"J74","v":760},183.61665200000002,null,null,{"$f":"U74","v":{"$error":"#N/A"}},{"$error":"#N/A"},{"$f":"Q90/Q$84","v":{"$error":"#N/A"}},{"$error":"#N/A"},{"$f":"W74","v":{"$error":"#N/A"}},{"$f":"S74","v":{"$error":"#N/A"}},{"$error":"#N/A"},null,null,{"$f":"AD74","v":{"$error":"#N/A"}},{"$error":"#N/A"},{"$f":"Z90/Z$84","v":{"$error":"#N/A"}},{"$error":"#N/A"},{"$f":"AF74","v":{"$error":"#N/A"}},{"$f":"AB74","v":{"$error":"#N/A"}},{"$error":"#N/A"}]
[null,null,null,null,null,null,null,116.66373833333334,36.893515666666666,0.9721978194444445,0.99320535895222017,{"$f":"N75","v":4.5999999999999996},{"$f":"J75","v":760},188.56985933333331,null,null,{"$error":"#N/A"},{"$error":"#N/A"},{"$error":"#N/A"},{"$error":"#N/A"},{"$f":"W75","v":{"$error":"#N/A"}},{"$f":"S75","v":{"$error":"#N/A"}},{"$error":"#N/A"},null,null,{"$error":"#N/A"},{"$error":"#N/A"},{"$error":"#N/A"},{"$error":"#N/A"},{"$f":"AF75","v":{"$error":"#N/A"}},{"$f":"AB75","v":{"$error":"#N/A"}},{"$error":"#N/A"}]
[null,null,null,null,null,null,null,192.12808200000003,40.029868999999998,1.6010673500000003,1.0776387039979667,{"$f":"N76","v":11.800000000000002},{"$f":"J76","v":760},188.11942033333335,null,null,{"$error":"#N/A"},{"$error":"#N/A"},{"$error":"#N/A"},{"$error":"#N/A"},{"$f":"W76","v":{"$error":"#N/A"}},{"$f":"S76","v":{"$error":"#N/A"}},{"$error":"#N/A"},null,null,{"$error":"#N/A"},{"$error":"#N/A"},{"$error":"#N/A"},{"$error":"#N/A"},{"$f":"AF76","v":{"$error":"#N/A"}},{"$f":"AB76","v":{"$error":"#N/A"}},{"$error":"#N/A"}]
[null,null,null,null,null,null,null,231.00826900000001,40.703091000000001,1.9250689083333334,1.0957624226537266,{"$f":"N77","v":17},{"$f":"J77","v":760},186.58214166666664,null,null,{"$error":"#N/A"},{"$error":"#N/A"},{"$error":"#N/A"},{"$error":"#N/A"},{"$f":"W77","v":{"$error":"#N/A"}},{"$f":"S77","v":{"$error":"#N/A"}},{"$error":"#N/A"},null,null,{"$error":"#N/A"},{"$error":"#N/A"},{"$error":"#N/A"},{"$error":"#N/A"},{"$f":"AF77","v":{"$error":"#N/A"}},{"$f":"AB77","v":{"$error":"#N/A"}},{"$error":"#N/A"}]
[]
[]
[]
[]
[]
[]
[null,null,null,null,null,null,null,"y = qk\nx = wk",null,null,null,null,null,null,null,null,"y = qk\nx = wk",null,null,null,null,null,null,null,null,"y = qk\nx = wk"]
[]
[null,null,null,null,null,null,null,"y =","axn+bx(n-1)+...+nx+m",null,null,null,null,null,null,null,"y =","axn+bx(n-1)+...+nx+m",null,null,null,null,null,null,null,"y =","axn+bx(n-1)+...+nx+m"]
[null,null,null,null,null,null,null,"Polynom",{"$f":"H105","v":3},"Ordnung",null,null,null,null,null,null,"Polynom",{"$f":"Q105","v":3},"Ordnung",null,null,null,null,null,null,"Polynom",{"$f":"Z105","v":3},"Ordnung"]
[null,null,null,null,null,null,null,"a =","b =","c =","m =",null,null,null,null,null,"a =","b =","c =","m =",null,null,null,null,null,"a =","b =","c =","m ="]
[null,null,null,null,null,null,null,3,2,1,0,null,null,null,null,null,3,2,1,0,null,null,null,null,null,3,2,1,0]
[null,null,null,null,null,null,null,{"$f":"LINEST(I90:I93,H90:H93^{0,1,2,3},0,0)","v":2.3476028933840812E-6},-1.4792746769488388E-3,0.32711917321402301,15.136505545855197,null,null,null,null,null,{"$f":"LINEST(R90:R93,Q90:Q93^{0,1,2,3},0,0)","v":{"$error":"#VALUE!"}},{"$error":"#VALUE!"},{"$error":"#VALUE!"},{"$error":"#VALUE!"},null,null,null,null,null,{"$f":"LINEST(AA90:AA93,Z90:Z93^{0,1,2,3},0,0)","v":{"$error":"#VALUE!"}},{"$error":"#VALUE!"},{"$error":"#VALUE!"},{"$error":"#VALUE!"}]
[]
[]
[]
[null,null,null,null,null,null,null,"y = Druck dp [kPa] \nx = Wasserm. wk",null,null,null,null,null,null,null,null,"y = Druck dp [kPa] \nx = Wasserm. wk",null,null,null,null,null,null,null,null,"y = Druck dp [kPa] \nx = Wasserm. wk"]
[]
[null,null,null,null,null,null,null,"y =","mxb",null,null,null,null,null,null,null,"y =","mxb",null,null,null,null,null,null,null,"y =","mxb"]
[null,null,null,null,null,null,null,null,"m","b","R2",null,"y=",null,null,null,null,"m","b","R2",null,null,null,null,null,null,"m","b","R2"]
[null,null,null,null,null,null,null,null,{"$f":"INDEX(LOGEST(L90:L93,LN(H90:H93),,TRUE),1,2)","v":9.9042156591377375E-4},{"$f":"LN(INDEX(LOGEST(L90:L93,LN(H90:H93),,TRUE),1,1))","v":1.7858501119943042},{"$f":"INDEX(LOGEST(L90:L93,LN(H90:H93),,TRUE),3,1)","v":0.9985095285526977},null,{"$f":"I114*B6^J114","v":5.115948328583376},null,null,null,null,{"$f":"INDEX(LOGEST(U90:U93,LN(Q90:Q93),,TRUE),1,2)","v":{"$error":"#VALUE!"}},{"$f":"LN(INDEX(LOGEST(U90:U93,LN(Q90:Q93),,TRUE),1,1))","v":{"$error":"#VALUE!"}},{"$f":"INDEX(LOGEST(U90:U93,LN(Q90:Q93),,TRUE),3,1)","v":{"$error":"#VALUE!"}},null,null,null,null,null,null,{"$f":"INDEX(LOGEST(AD90:AD93,LN(Z90:Z93),,TRUE),1,2)","v":{"$error":"#VALUE!"}},{"$f":"LN(INDEX(LOGEST(AD90:AD93,LN(Z90:Z93),,TRUE),1,1))","v":{"$error":"#VALUE!"}},{"$f":"INDEX(LOGEST(AD90:AD93,LN(Z90:Z93),,TRUE),3,1)","v":{"$error":"#VALUE!"}}]
[]
[]
[null,null,null,null,null,null,null,"y = qk in %\nx = wk in %",null,null,null,null,null,null,null,null,"y = qk in %\nx = wk in %",null,null,null,null,null,null,null,null,"y = qk in %\nx = wk in %"]
[]
[null,null,null,null,null,null,null,"y =","axn+bx(n-1)+...+nx+m",null,null,null,null,null,null,null,"y =","axn+bx(n-1)+...+nx+m",null,null,null,null,null,null,null,"y =","axn+bx(n-1)+...+nx+m"]
[null,null,null,null,null,null,null,"Polynom",{"$f":"H122","v":3},"Ordnung",null,null,null,null,null,null,"Polynom",{"$f":"Q122","v":3},"Ordnung",null,null,null,null,null,null,"Polynom",{"$f":"Z122","v":3},"Ordnung"]
[null,null,null,null,null,null,null,"a =","b =","c =","m =",null,null,null,null,null,"a =","b =","c =","m =",null,null,null,null,null,"a =","b =","c =","m ="]
[null,null,null,null,null,null,null,3,2,1,0,null,null,null,null,null,3,2,1,0,null,null,null,null,null,3,2,1,0]
[null,null,null,null,null,null,null,{"$f":"LINEST(K90:K93,J90:J93^{0,1,2,3},0,0)","v":0.10920873745314702},-0.57345629830633915,1.0567597367113351,0.40748782414185669,null,null,null,null,null,{"$f":"LINEST(T90:T93,S90:S93^{0,1,2,3},0,0)","v":{"$error":"#VALUE!"}},{"$error":"#VALUE!"},{"$error":"#VALUE!"},{"$error":"#VALUE!"},null,null,null,null,null,{"$f":"LINEST(AC90:AC93,AB90:AB93^{0,1,2,3},0,0)","v":{"$error":"#VALUE!"}},{"$error":"#VALUE!"},{"$error":"#VALUE!"},{"$error":"#VALUE!"}]
[]
[]
[]
[]
[]
[]
[]
[]
[]
[]
[]
[]
["BG","WT bzw. Laufradlänge","Verhältnis"]
["Baugröße 800",{"$f":"VLOOKUP(A137,A139:C142,2,0)","v":820},{"$f":"VLOOKUP(A137,A139:C142,3,0)","v":1}]
[]
["Baugröße 630",590,{"$f":"B139/$B$137","v":0.71951219512195119}]
["Baugröße 800",820,{"$f":"B140/$B$137","v":1}]
["Baugröße 1000",1020,{"$f":"B141/$B$137","v":1.2439024390243902}]
["Baugröße 1200",1200,{"$f":"B142/$B$137","v":1.4634146341463414}]
["AUS MASTERAUSWERTUNG - KÜHLEN"]
[null,{"$f":"$A$137","v":"Baugröße 800"},{"$f":"A139","v":"Baugröße 630"},{"$f":"A140","v":"Baugröße 800"},{"$f":"A141","v":"Baugröße 1000"},{"$f":"A142","v":"Baugröße 1200"}]
[{"$f":"$J$6","v":"Drehzahl [1/min]"},{"$f":"$K$6","v":"Sekundärvolumenstrom - Kalorik [m³/h]"},{"$f":"$K$6","v":"Sekundärvolumenstrom - Kalorik [m³/h]"},{"$f":"$K$6","v":"Sekundärvolumenstrom - Kalorik [m³/h]"},{"$f":"$K$6","v":"Sekundärvolumenstrom - Kalorik [m³/h]"},{"$f":"$K$6","v":"Sekundärvolumenstrom - Kalorik [m³/h]"}]
[{"$f":"$J$7","v":"1/min"},{"$f":"$K$7","v":"m³/h"},{"$f":"$K$7","v":"m³/h"},{"$f":"$K$7","v":"m³/h"},{"$f":"$K$7","v":"m³/h"},{"$f":"$K$7","v":"m³/h"}]
[{"$f":"'Master-Auswertung_V52-V67'!A147","v":493},{"$f":"'Master-Auswertung_V52-V67'!B147","v":131.91539700000001},{"$f":"B147*$C$139","v":94.914736865853669},{"$f":"B147*$C$140","v":131.91539700000001},{"$f":"B147*$C$141","v":164.08988407317074},{"$f":"B147*$C$142","v":193.0469224390244}]
[{"$f":"'Master-Auswertung_V52-V67'!A148","v":744},{"$f":"'Master-Auswertung_V52-V67'!B148","v":214.42879266666668},{"$f":"B148*$C$139","v":154.2841313089431},{"$f":"B148*$C$140","v":214.42879266666668},{"$f":"B148*$C$141","v":266.72849819512197},{"$f":"B148*$C$142","v":313.79823317073175}]
[{"$f":"'Master-Auswertung_V52-V67'!A149","v":1038},{"$f":"'Master-Auswertung_V52-V67'!B149","v":316.40559966666666},{"$f":"B149*$C$139","v":227.65768756504065},{"$f":"B149*$C$140","v":316.40559966666666},{"$f":"B149*$C$141","v":393.57769714634145},{"$f":"B149*$C$142","v":463.03258487804874}]
[{"$f":"'Master-Auswertung_V52-V67'!A150","v":1146},{"$f":"'Master-Auswertung_V52-V67'!B150","v":357.29180200000002},{"$f":"B150*$C$139","v":257.07580875609756},{"$f":"B150*$C$140","v":357.29180200000002},{"$f":"B150*$C$141","v":444.43614395121955},{"$f":"B150*$C$142","v":522.86605170731707}]
[]
["Abfrage",{"$f":"VKL!AF7","v":1}]
[]
["Drehzahl/Volumenstrom"]
[null,null,"y =","mxb"]
[{"$f":"A137","v":"Baugröße 800"}]
["Volumenstrom vorgegeben",1,{"$f":"INDEX(LOGEST(A147:A150,LN(B147:B150),,TRUE),1,2)","v":7.8348243502652721},{"$f":"LN(INDEX(LOGEST(A147:A150,LN(B147:B150),,TRUE),1,1))","v":0.84837617954411648}]
["Drehzahl vorgegeben",2,{"$f":"INDEX(LOGEST(B147:B150,LN(A147:A150),,TRUE),1,2)","v":8.836060411696231E-2},{"$f":"LN(INDEX(LOGEST(B147:B150,LN(A147:A150),,TRUE),1,1))","v":1.1786979968264459}]
["aus Abfrage",{"$f":"$B$152","v":1},{"$f":"IF(B159=1,C157,C158)","v":7.8348243502652721},{"$f":"IF(B159=1,D157,D158)","v":0.84837617954411648}]
[]
[{"$f":"A139","v":"Baugröße 630"}]
["Volumenstrom vorgegeben",1,{"$f":"INDEX(LOGEST(A147:A150,LN(C147:C150),,TRUE),1,2)","v":10.358924903623633},{"$f":"LN(INDEX(LOGEST(A147:A150,LN(C147:C150),,TRUE),1,1))","v":0.84837617954411648}]
["Drehzahl vorgegeben",2,{"$f":"INDEX(LOGEST(C147:C150,LN(A147:A150),,TRUE),1,2)","v":6.3576532230497279E-2},{"$f":"LN(INDEX(LOGEST(C147:C150,LN(A147:A150),,TRUE),1,1))","v":1.1786979968264459}]
["aus Abfrage",{"$f":"$B$152","v":1},{"$f":"IF(B164=1,C162,C163)","v":10.358924903623633},{"$f":"IF(B164=1,D162,D163)","v":0.84837617954411648}]
[]
[{"$f":"A140","v":"Baugröße 800"}]
["Volumenstrom vorgegeben",1,{"$f":"INDEX(LOGEST(A147:A150,LN(D147:D150),,TRUE),1,2)","v":7.8348243502652721},{"$f":"LN(INDEX(LOGEST(A147:A150,LN(D147:D150),,TRUE),1,1))","v":0.84837617954411648}]
["Drehzahl vorgegeben",2,{"$f":"INDEX(LOGEST(D147:D150,LN(A147:A150),,TRUE),1,2)","v":8.836060411696231E-2},{"$f":"LN(INDEX(LOGEST(D147:D150,LN(A147:A150),,TRUE),1,1))","v":1.1786979968264459}]
["aus Abfrage",{"$f":"$B$152","v":1},{"$f":"IF(B169=1,C167,C168)","v":7.8348243502652721},{"$f":"IF(B169=1,D167,D168)","v":0.84837617954411648}]
[]
[{"$f":"A141","v":"Baugröße 1000"}]
["Volumenstrom vorgegeben",1,{"$f":"INDEX(LOGEST(A147:A150,LN(E147:E150),,TRUE),1,2)","v":6.5105069809369578},{"$f":"LN(INDEX(LOGEST(A147:A150,LN(E147:E150),,TRUE),1,1))","v":0.84837617954411693}]
["Drehzahl vorgegeben",2,{"$f":"INDEX(LOGEST(E147:E150,LN(A147:A150),,TRUE),1,2)","v":0.10991197097475841},{"$f":"LN(INDEX(LOGEST(E147:E150,LN(A147:A150),,TRUE),1,1))","v":1.1786979968264453},null,null,null,null,"Korrektur Leistung (Heizen):"]
["aus Abfrage",{"$f":"$B$152","v":1},{"$f":"IF(B174=1,C172,C173)","v":6.5105069809369578},{"$f":"IF(B174=1,D172,D173)","v":0.84837617954411693},null,null,null,null,"Leistung (Heizfall) wird aus gemessener Leistungs zu Volumenstromkurve ermittelt. Volumenstrom zu Drehzahl wird aus der \"Mastermessung\" (Kühlfall) genommen. Volumenstrom im Verhältniss zu Drehzahl für kühlen und heizen sind bei gleichem Aufbau nur theoretisch identisch (bei gleicher Drehzahl V_kühl > V_heiz. Wenn nun V_kühl für die Leistungsberechnung verwendet wird, errechnet sich mehr Leistung als tatslächlich gemessen. --> Korrektur notwendig. Grund der Abweichung sind Messungenauigkeit (Volumenstrom aus Kalorik) sowie Dichtevernachlässigung"]
[]
[{"$f":"A142","v":"Baugröße 1200"}]
["Volumenstrom vorgegeben",1,{"$f":"INDEX(LOGEST(A147:A150,LN(F147:F150),,TRUE),1,2)","v":5.6719906565420457},{"$f":"LN(INDEX(LOGEST(A147:A150,LN(F147:F150),,TRUE),1,1))","v":0.84837617954411648},null,null,null,null,null,null,null,"aus Masterauswertung (x=Drehzahl, y=Volumenstrom)"]
["Drehzahl vorgegeben",2,{"$f":"INDEX(LOGEST(F147:F150,LN(A147:A150),,TRUE),1,2)","v":0.12930820114677405},{"$f":"LN(INDEX(LOGEST(F147:F150,LN(A147:A150),,TRUE),1,1))","v":1.1786979968264459},null,null,null,null,null,null,null,"y =","mxb"]
["aus Abfrage",{"$f":"$B$152","v":1},{"$f":"IF(B179=1,C177,C178)","v":5.6719906565420457},{"$f":"IF(B179=1,D177,D178)","v":0.84837617954411648},null,null,null,null,null,null,null,{"$f":"INDEX(LOGEST('Master-Auswertung_V52-V67'!K8:K11,LN('Master-Auswertung_V52-V67'!J8:J11),,TRUE),1,2)","v":8.836060411696231E-2},{"$f":"LN(INDEX(LOGEST('Master-Auswertung_V52-V67'!K8:K11,LN('Master-Auswertung_V52-V67'!J8:J11),,TRUE),1,1))","v":1.1786979968264459}]
[]
[null,null,null,null,null,null,null,null,"gemessen","gemessen","Master"]
[null,null,null,null,null,null,null,null,null,{"$f":"$A$137","v":"Baugröße 800"},{"$f":"$A$137","v":"Baugröße 800"},{"$f":"$A$137","v":"Baugröße 800"}]
[{"$f":"CONCATENATE(\"Leistung - \", A137)","v":"Leistung - Baugröße 800"},null,"a =","b =","c =","m =",null,null,{"$f":"$J$6","v":"Drehzahl [1/min]"},{"$f":"$K$6","v":"Sekundärvolumenstrom - Kalorik [m³/h]"},"Messung",{"$f":"$K$6","v":"Sekundärvolumenstrom - Kalorik [m³/h]"},"Korrekturfaktor für Leistungsberechnung"]
["Volumenstrom vorgegeben",1,{"$f":"B53","v":3},2,1,0,null,null,{"$f":"$J$7","v":"1/min"},{"$f":"$K$7","v":"m³/h"},null,{"$f":"$K$7","v":"m³/h"}]
[null,1,6.284249884408059E-7,-6.5867028443713225E-4,0.29555838694134312,0,null,null,{"$f":"$J$8","v":504},{"$f":"$K$8","v":127.06816533333334},{"$f":"'Master-Auswertung_V52-V67'!H8","v":"V53"},{"$f":"$L$179*I185^$M$179","v":135.39671771897798},{"$f":"J185/L185","v":0.93848778223020934}]
[{"$f":"A158","v":"Drehzahl vorgegeben"},2,{"$f":"B74","v":3},2,1,0,null,null,{"$f":"$J$9","v":749},{"$f":"$K$9","v":202.57796633333331},{"$f":"'Master-Auswertung_V52-V67'!H9","v":"V52"},{"$f":"$L$179*I186^$M$179","v":215.97557399455366},{"$f":"J186/L186","v":0.93796702370816154}]
[null,2,1.257974078995314E-9,-2.3342842025880507E-5,6.7499014395290172E-2,0,null,null,{"$f":"$J$10","v":1050},{"$f":"$K$10","v":301.98992166666665},{"$f":"'Master-Auswertung_V52-V67'!H10","v":"V54"},{"$f":"$L$179*I187^$M$179","v":321.60919078796746},{"$f":"J187/L187","v":0.93899655332227261}]
[null,{"$f":"$B$152","v":1},{"$f":"IF($B$188=1,C184,C186)","v":3},{"$f":"IF($B$188=1,D184,D186)","v":2},{"$f":"IF($B$188=1,E184,E186)","v":1},{"$f":"IF($B$188=1,F184,F186)","v":0},null,null,{"$f":"$J$11","v":1144},{"$f":"$K$11","v":333.39040599999998},{"$f":"'Master-Auswertung_V52-V67'!H11","v":"V55"},{"$f":"$L$179*I188^$M$179","v":355.81094644596379},{"$f":"J188/L188","v":0.9369874910541327}]
["aus Abfrage",{"$f":"$B$152","v":1},{"$f":"IF($B$189=1,C185,C187)","v":6.284249884408059E-7},{"$f":"IF($B$189=1,D185,D187)","v":-6.5867028443713225E-4},{"$f":"IF($B$189=1,E185,E187)","v":0.29555838694134312},{"$f":"IF($B$189=1,F185,F187)","v":0},null,null,null,null,null,null,{"$f":"AVERAGE(M185:M188)","v":0.93810971257869413}]
[]
["Einheiten"]
[null,1,"Volumenstrom","[m³/h]"]
[null,2,"Drehzahl","[1/min]"]
[null,{"$f":"B152","v":1},{"$f":"IF($B$152=1,C192,C193)","v":"Volumenstrom"},{"$f":"IF($B$152=1,D192,D193)","v":"[m³/h]"}]
[null,{"$f":"IF(B152=1,2,1)","v":2},{"$f":"IF($B$152=2,C192,C193)","v":"Drehzahl"},{"$f":"IF($B$152=2,D192,D193)","v":"[1/min]"}]
[]
[]
[]
[]
[]
["Grenzwerte für Auslegung"]
[]
[]
[]
[]
["Grenzen der Messung",null,null,"Grenzenerweiterung der Auslegung (bei 2 bzw. 10 V)"]
[]
[{"$f":"'Heizen_Auslegung_V78-V85'!N36","v":"Drehzahl [1/min]"},{"$f":"'Heizen_Auslegung_V78-V85'!O36","v":"Volumenstrom [m³/h]"},{"$f":"'Heizen_Auslegung_V78-V85'!N43","v":"Wasser-Massenstrom [kg/h]"},{"$f":"$J$6","v":"Drehzahl [1/min]"},{"$f":"$K$6","v":"Sekundärvolumenstrom - Kalorik [m³/h]"}]
[{"$f":"'Heizen_Auslegung_V78-V85'!N37","v":504},{"$f":"'Heizen_Auslegung_V78-V85'!O37","v":127.06816533333334},{"$f":"'Heizen_Auslegung_V78-V85'!N44","v":61.562867333333337},{"$f":"Q33","v":313.26916828118112},{"$f":"Q39","v":72.557838810287038},null,null,"Polynom 6 Ordnung",{"$f":"'BG;WT3,2;h'!J1","v":6},{"$f":"'BG;WT3,2;h'!K1","v":5},{"$f":"'BG;WT3,2;h'!L1","v":4},{"$f":"'BG;WT3,2;h'!M1","v":3},{"$f":"'BG;WT3,2;h'!N1","v":2},{"$f":"'BG;WT3,2;h'!O1","v":1},{"$f":"'BG;WT3,2;h'!P1","v":0}]
[{"$f":"'Heizen_Auslegung_V78-V85'!N38","v":1144},{"$f":"'Heizen_Auslegung_V78-V85'!O38","v":333.39040599999998},{"$f":"'Heizen_Auslegung_V78-V85'!N45","v":231.00826900000001},{"$f":"Q34","v":1218.4239934330758},{"$f":"Q40","v":359.46032584537841},null,null,{"$f":"'BG;WT3,2;h'!I3","v":"BG 630"},{"$f":"'BG;WT3,2;h'!J3","v":-1.3325794964866237E-15},{"$f":"'BG;WT3,2;h'!K3","v":4.5050978582309017E-12},{"$f":"'BG;WT3,2;h'!L3","v":-6.024361198392731E-9},{"$f":"'BG;WT3,2;h'!M3","v":4.0699736546556979E-6},{"$f":"'BG;WT3,2;h'!N3","v":-1.4893235427454361E-3},{"$f":"'BG;WT3,2;h'!O3","v":0.31433115333179062},{"$f":"'BG;WT3,2;h'!P3","v":0}]
[null,null,null,null,null,null,null,{"$f":"'BG;WT3,2;h'!I4","v":"BG 800"},{"$f":"'BG;WT3,2;h'!J4","v":-1.1867499239469366E-15},{"$f":"'BG;WT3,2;h'!K4","v":4.0725872617858585E-12},{"$f":"'BG;WT3,2;h'!L4","v":-5.5605123894654473E-9},{"$f":"'BG;WT3,2;h'!M4","v":3.8744103989767742E-6},{"$f":"'BG;WT3,2;h'!N4","v":-1.4897065623781466E-3},{"$f":"'BG;WT3,2;h'!O4","v":0.34137826580453867},{"$f":"'BG;WT3,2;h'!P4","v":0}]
[null,null,null,null,null,null,null,{"$f":"'BG;WT3,2;h'!I5","v":"BG 1000"},{"$f":"'BG;WT3,2;h'!J5","v":-1.0178990512369288E-15},{"$f":"'BG;WT3,2;h'!K5","v":3.5507696441815054E-12},{"$f":"'BG;WT3,2;h'!L5","v":-4.9627108677628698E-9},{"$f":"'BG;WT3,2;h'!M5","v":3.5772296479297244E-6},{"$f":"'BG;WT3,2;h'!N5","v":-1.4461216183088697E-3},{"$f":"'BG;WT3,2;h'!O5","v":0.35597699437689417},{"$f":"'BG;WT3,2;h'!P5","v":0}]
[null,null,null,null,null,null,null,{"$f":"'BG;WT3,2;h'!I6","v":"BG 1200"},{"$f":"'BG;WT3,2;h'!J6","v":-9.1403316607176615E-16},{"$f":"'BG;WT3,2;h'!K6","v":3.1979422911149866E-12},{"$f":"'BG;WT3,2;h'!L6","v":-4.5105020886803228E-9},{"$f":"'BG;WT3,2;h'!M6","v":3.3159999436542224E-6},{"$f":"'BG;WT3,2;h'!N6","v":-1.3921218779175024E-3},{"$f":"'BG;WT3,2;h'!O6","v":0.36474263048935257},{"$f":"'BG;WT3,2;h'!P6","v":0}]
[]
[null,null,null,null,null,null,null,"Korrekturfaktoren",{"$f":"'BG;WT3,2;h'!J8","v":6},{"$f":"'BG;WT3,2;h'!K8","v":5},{"$f":"'BG;WT3,2;h'!L8","v":4},{"$f":"'BG;WT3,2;h'!M8","v":3},{"$f":"'BG;WT3,2;h'!N8","v":2},{"$f":"'BG;WT3,2;h'!O8","v":1},{"$f":"'BG;WT3,2;h'!P8","v":0}]
[null,null,null,null,null,null,null,{"$f":"'BG;WT3,2;h'!I9","v":"BG 630"},{"$f":"'BG;WT3,2;h'!J9","v":-4.4789249334165237E-10},{"$f":"'BG;WT3,2;h'!K9","v":7.7307959879892363E-8},{"$f":"'BG;WT3,2;h'!L9","v":-5.0057910891862191E-6},{"$f":"'BG;WT3,2;h'!M9","v":1.4828640882510463E-4},{"$f":"'BG;WT3,2;h'!N9","v":-1.944676433179169E-3},{"$f":"'BG;WT3,2;h'!O9","v":1.1469578622781114E-2},{"$f":"'BG;WT3,2;h'!P9","v":0.6579769405977699}]
[null,null,null,null,null,null,null,{"$f":"'BG;WT3,2;h'!I10","v":"BG 800"},{"$f":"'BG;WT3,2;h'!J10","v":1.4817865051145456E-24},{"$f":"'BG;WT3,2;h'!K10","v":-2.63518319344655E-22},{"$f":"'BG;WT3,2;h'!L10","v":1.8659988691625902E-20},{"$f":"'BG;WT3,2;h'!M10","v":-6.5386021427700244E-19},{"$f":"'BG;WT3,2;h'!N10","v":1.1317185687824311E-17},{"$f":"'BG;WT3,2;h'!O10","v":-8.2885488430403642E-17},{"$f":"'BG;WT3,2;h'!P10","v":1.0000000000000002}]
[null,null,null,null,null,null,null,{"$f":"'BG;WT3,2;h'!I11","v":"BG 1000"},{"$f":"'BG;WT3,2;h'!J11","v":6.4851351590776632E-10},{"$f":"'BG;WT3,2;h'!K11","v":-9.9246439291949405E-8},{"$f":"'BG;WT3,2;h'!L11","v":5.6955503333860322E-6},{"$f":"'BG;WT3,2;h'!M11","v":-1.4956743206329958E-4},{"$f":"'BG;WT3,2;h'!N11","v":1.7493792414359545E-3},{"$f":"'BG;WT3,2;h'!O11","v":-1.0318943066171803E-2},{"$f":"'BG;WT3,2;h'!P11","v":1.2993593189248951}]
[null,null,null,null,null,null,null,{"$f":"'BG;WT3,2;h'!I12","v":"BG 1200"},{"$f":"'BG;WT3,2;h'!J12","v":8.7127707710673132E-10},{"$f":"'BG;WT3,2;h'!K12","v":-1.3365957100629044E-7},{"$f":"'BG;WT3,2;h'!L12","v":7.6103188949829283E-6},{"$f":"'BG;WT3,2;h'!M12","v":-1.9549436785488029E-4},{"$f":"'BG;WT3,2;h'!N12","v":2.2092076620907944E-3},{"$f":"'BG;WT3,2;h'!O12","v":-1.5481392630616988E-2},{"$f":"'BG;WT3,2;h'!P12","v":1.5895337142496606}]
[]
[]
[]
[]
[]
[]
[]
[]
[{"$f":"'Heizen_Auslegung_V78-V85'!B2","v":"heizen"},null,null,null,null,"Korrektur Volumenstrom"]
[null,null,null,null,null,{"$f":"IF($B$152=1,1,M189)","v":1}]
[]
[]
["Gemessene Baugröße"]
[{"$f":"A137","v":"Baugröße 800"},null,"DpK =",{"$f":"M114","v":5.115948328583376},"[kPa]"]
[]
[{"$f":"IF($A$233=$A$247,A249,IF($A$233=$A$261,A263,IF($A$233=$A$275,A277,IF($A$233=$A$289,A291,\"-\"))))","v":"bei 120 kg/h Kühlwassermassenstrom"},null,null,null,null,{"$f":"IF($A$233=$A$247,F249,IF($A$233=$A$261,F263,IF($A$233=$A$275,F277,IF($A$233=$A$289,F291,\"-\"))))","v":"für kondensierende Auslegung"}]
[{"$f":"IF($A$233=$A$247,A250,IF($A$233=$A$261,A264,IF($A$233=$A$275,A278,IF($A$233=$A$289,A292,\"-\"))))","v":"Auslegung"},"Volumenstrom","Drehzahl",null,"Volumenstrom - Baugröße 800","Volumenstrom - Baugröße 800","Drehzahl","Korrektur Total \nbei Sollwassermenge","Korrektur Sensibel\nbei Sollwassermenge","qSK1)  - aus Volumenstrom der gemessenen Baugröße","qSK1)  - aus Drehzahl","Korrektur Baugröße","qSK1)  - aus Volumenstrom","qSK2)  - aus Volumenstrom","qtotal2)  - aus Volumenstrom",null,"Steuerspannung [V]","Steuerspannung [V]"]
[null,"[m³/h]","[1/min]",null,"[m³/h]","[m³/h]","[1/min]","[-]","[-]","[W/K]",0,"[-]","[W/K]","[W/K]","[W/K]",null,"[V]","[V]"]
[1,139.69402283391284,517.54370589476957,null,139.69402283391284,139.69402283391284,517.54370589476957,1,1,30.147288051238114,28.855661564871092,1,30.147288051238114,30.147288051238114,30.147288051238114,null,3.5828255303045116,3.8271621111303173]
[2,174.73952118343757,625.77829255026722,null,174.73952118343757,174.73952118343757,625.77829255026722,1,1,34.886906643616641,33.406668078070794,1,34.886906643616641,34.886906643616641,34.886906643616641,null,4.5185804531943647,4.8273154756482564]
[3,218.57527244750682,756.64304869176635,null,218.57527244750682,218.57527244750682,756.64304869176635,1,1,39.695990297398936,38.253614982490959,1,39.695990297398936,39.695990297398936,39.695990297398936,null,5.6986872418106884,6.0887893242638649]
[4,273.40845080236602,914.87648125616442,null,273.40845080236602,273.40845080236602,914.87648125616442,1,1,44.414793634972177,43.178620410483759,1,44.414793634972177,44.414793634972177,44.414793634972177,null,7.1870171566831544,7.6799301414466719]
[]
[]
[]
[]
[]
[{"$f":"A139","v":"Baugröße 630"},null,"DpK =",{"$f":"D233*F325","v":4.1354678017746851},"[kPa]"]
[]
[{"$f":"CONCATENATE(\"bei \", ROUND($B$6,0), \" kg/h Kühlwassermassenstrom\")","v":"bei 120 kg/h Kühlwassermassenstrom"},null,null,null,null,"für kondensierende Auslegung"]
["Auslegung",{"$f":"$C$194","v":"Volumenstrom"},{"$f":"$C$195","v":"Drehzahl"},null,{"$f":"CONCATENATE(\"Volumenstrom - \",A247)","v":"Volumenstrom - Baugröße 630"},{"$f":"CONCATENATE(\"Volumenstrom - \",$A$233)","v":"Volumenstrom - Baugröße 800"},"Drehzahl","Korrektur Total \nbei Sollwassermenge","Korrektur Sensibel\nbei Sollwassermenge","qSK1)  - aus Volumenstrom der gemessenen Baugröße","qSK1)  - aus Drehzahl","Korrektur Baugröße","qSK1)  - aus Volumenstrom","qSK2)  - aus Volumenstrom","qtotal2)  - aus Volumenstrom",null,"Steuerspannung [V]","Steuerspannung [V]"]
[null,{"$f":"$D$194","v":"[m³/h]"},{"$f":"$D$195","v":"[1/min]"},null,"[m³/h]","[m³/h]","[1/min]","[-]","[-]","[W/K]",null,"[-]","[W/K]","[W/K]","[W/K]",null,"[V]","[V]"]
[{"$f":"VKL!A22","v":1},{"$f":"VKL!B22","v":107.1530557757868},{"$f":"$C$164*B252^$D$164","v":546.4144783819612},null,{"$f":"IF($B$152=1,B252,C252)","v":107.1530557757868},{"$f":"E252/$C$139*$F$229","v":148.92458599346639},{"$f":"IF($B$152=2,B252,C252)","v":546.4144783819612},{"$f":"IF($A$228=\"heizen\",1,Auslegung_BG800_kondensierend!AH32)","v":1},{"$f":"IF($A$228=\"heizen\",1,Auslegung_BG800_kondensierend!AL32)","v":1},{"$f":"$C$185*F252^$C$184+$D$185*F252^$D$184+$E$185*F252^$E$184+$F$185*F252^$F$184","v":31.483213181875129},{"$f":"$C$187*G252^$C$186+$D$187*G252^$D$186+$E$187*G252^$E$186+$F$187*G252^$F$186","v":30.118223617039241},{"$f":"$I$216*J252^$I$215+$J$216*J252^$J$215+$K$216*J252^$K$215+$L$216*J252^$L$215+$M$216*J252^$M$215+$N$216*J252^$N$215+$O$216*J252^$O$215","v":0.75599538470176531},{"$f":"IF($A$247=$A$233,J252,J252*L252)","v":23.801163861079377},{"$f":"M252*I252","v":23.801163861079377},{"$f":"M252*H252","v":23.801163861079377},null,{"$f":"$Q$31*G252^$R$31","v":3.8285360302964477},{"$f":"$Q$37*F252^$R$37","v":4.0897704609982766}]
[{"$f":"VKL!A23","v":2},{"$f":"VKL!B23","v":134.03517977466791},{"$f":"$C$164*B253^$D$164","v":660.68803871282785},null,{"$f":"IF($B$152=1,B253,C253)","v":134.03517977466791},{"$f":"E253/$C$139*$F$229","v":186.28618205970795},{"$f":"IF($B$152=2,B253,C253)","v":660.68803871282785},{"$f":"IF($A$228=\"heizen\",1,Auslegung_BG800_kondensierend!AH33)","v":1},{"$f":"IF($A$228=\"heizen\",1,Auslegung_BG800_kondensierend!AL33)","v":1},{"$f":"$C$185*F253^$C$184+$D$185*F253^$D$184+$E$185*F253^$E$184+$F$185*F253^$F$184","v":36.263429201310636},{"$f":"$C$187*G253^$C$186+$D$187*G253^$D$186+$E$187*G253^$E$186+$F$187*G253^$F$186","v":34.769232947026865},{"$f":"$I$216*J253^$I$215+$J$216*J253^$J$215+$K$216*J253^$K$215+$L$216*J253^$L$215+$M$216*J253^$M$215+$N$216*J253^$N$215+$O$216*J253^$O$215","v":0.76091324968990115},{"$f":"IF($A$247=$A$233,J253,J253*L253)","v":27.593323758468934},{"$f":"M253*I253","v":27.593323758468934},{"$f":"M253*H253","v":27.593323758468934},null,{"$f":"$Q$31*G253^$R$31","v":4.828475751586021},{"$f":"$Q$37*F253^$R$37","v":5.1585627146093209}]
[{"$f":"VKL!A24","v":3},{"$f":"VKL!B24","v":167.66070839900547},{"$f":"$C$164*B254^$D$164","v":798.8573032713399},null,{"$f":"IF($B$152=1,B254,C254)","v":167.66070839900547},{"$f":"E254/$C$139*$F$229","v":233.01996760539745},{"$f":"IF($B$152=2,B254,C254)","v":798.8573032713399},{"$f":"IF($A$228=\"heizen\",1,Auslegung_BG800_kondensierend!AH34)","v":1},{"$f":"IF($A$228=\"heizen\",1,Auslegung_BG800_kondensierend!AL34)","v":1},{"$f":"$C$185*F254^$C$184+$D$185*F254^$D$184+$E$185*F254^$E$184+$F$185*F254^$F$184","v":41.057528863739279},{"$f":"$C$187*G254^$C$186+$D$187*G254^$D$186+$E$187*G254^$E$186+$F$187*G254^$F$186","v":39.666636001157507},{"$f":"$I$216*J254^$I$215+$J$216*J254^$J$215+$K$216*J254^$K$215+$L$216*J254^$L$215+$M$216*J254^$M$215+$N$216*J254^$N$215+$O$216*J254^$O$215","v":0.76321921677643101},{"$f":"IF($A$247=$A$233,J254,J254*L254)","v":31.335895022158802},{"$f":"M254*I254","v":31.335895022158802},{"$f":"M254*H254","v":31.335895022158802},null,{"$f":"$Q$31*G254^$R$31","v":6.0895550669875114},{"$f":"$Q$37*F254^$R$37","v":6.506638611002332}]
[{"$f":"VKL!A25","v":4},{"$f":"VKL!B25","v":209.72129362659112},{"$f":"$C$164*B255^$D$164","v":965.91943124904276},null,{"$f":"IF($B$152=1,B255,C255)","v":209.72129362659112},{"$f":"E255/$C$139*$F$229","v":291.47705215899106},{"$f":"IF($B$152=2,B255,C255)","v":965.91943124904276},{"$f":"IF($A$228=\"heizen\",1,Auslegung_BG800_kondensierend!AH35)","v":1},{"$f":"IF($A$228=\"heizen\",1,Auslegung_BG800_kondensierend!AL35)","v":1},{"$f":"$C$185*F255^$C$184+$D$185*F255^$D$184+$E$185*F255^$E$184+$F$185*F255^$F$184","v":45.75064390203331},{"$f":"$C$187*G255^$C$186+$D$187*G255^$D$186+$E$187*G255^$E$186+$F$187*G255^$F$186","v":44.553420090640152},{"$f":"$I$216*J255^$I$215+$J$216*J255^$J$215+$K$216*J255^$K$215+$L$216*J255^$L$215+$M$216*J255^$M$215+$N$216*J255^$N$215+$O$216*J255^$O$215","v":0.76962801772125178},{"$f":"IF($A$247=$A$233,J255,J255*L255)","v":35.210977375792773},{"$f":"M255*I255","v":35.210977375792773},{"$f":"M255*H255","v":35.210977375792773},null,{"$f":"$Q$31*G255^$R$31","v":7.6799741558685568},{"$f":"$Q$37*F255^$R$37","v":8.2069794442497539}]
[]
[]
[]
[]
[]
[{"$f":"A140","v":"Baugröße 800"},null,"DpK =",{"$f":"D233*G325","v":5.115948328583376},"[kPa]"]
[]
[{"$f":"CONCATENATE(\"bei \", ROUND($B$6,0), \" kg/h Kühlwassermassenstrom\")","v":"bei 120 kg/h Kühlwassermassenstrom"},null,null,null,null,"für kondensierende Auslegung"]
["Auslegung",{"$f":"$C$194","v":"Volumenstrom"},{"$f":"$C$195","v":"Drehzahl"},null,{"$f":"CONCATENATE(\"Volumenstrom - \",A261)","v":"Volumenstrom - Baugröße 800"},{"$f":"CONCATENATE(\"Volumenstrom - \",$A$233)","v":"Volumenstrom - Baugröße 800"},"Drehzahl","Korrektur Total \nbei Sollwassermenge","Korrektur Sensibel\nbei Sollwassermenge","qSK1)  - aus Volumenstrom der gemessenen Baugröße","qSK1)  - aus Drehzahl","Korrektur Baugröße","qSK1)  - aus Volumenstrom","qSK2)  - aus Volumenstrom","qtotal2)  - aus Volumenstrom",null,"Steuerspannung [V]","Steuerspannung [V]"]
[null,{"$f":"$D$194","v":"[m³/h]"},{"$f":"$D$195","v":"[1/min]"},null,"[m³/h]","[m³/h]","[1/min]","[-]","[-]","[W/K]",null,"[-]","[W/K]","[W/K]","[W/K]",null,"[V]","[V]"]
[{"$f":"VKL!A36","v":1},{"$f":"VKL!B36","v":139.69402283391284},{"$f":"$C$169*B266^$D$169","v":517.54370589476957},null,{"$f":"IF($B$152=1,B266,C266)","v":139.69402283391284},{"$f":"E266/$C$140*$F$229","v":139.69402283391284},{"$f":"IF($B$152=2,B266,C266)","v":517.54370589476957},{"$f":"IF($A$228=\"heizen\",1,Auslegung_BG800_kondensierend!AH36)","v":1},{"$f":"IF($A$228=\"heizen\",1,Auslegung_BG800_kondensierend!AL36)","v":1},{"$f":"$C$185*F266^$C$184+$D$185*F266^$D$184+$E$185*F266^$E$184+$F$185*F266^$F$184","v":30.147288051238114},{"$f":"$C$187*G266^$C$186+$D$187*G266^$D$186+$E$187*G266^$E$186+$F$187*G266^$F$186","v":28.855661564871092},{"$f":"$I$217*J266^$I$215+$J$217*J266^$J$215+$K$217*J266^$K$215+$L$217*J266^$L$215+$M$217*J266^$M$215+$N$217*J266^$N$215+$O$217*J266^$O$215","v":1},{"$f":"IF($A$261=$A$233,J266,J266*L266)","v":30.147288051238114},{"$f":"M266*I266","v":30.147288051238114},{"$f":"M266*H266","v":30.147288051238114},null,{"$f":"$Q$31*G266^$R$31","v":3.5828255303045116},{"$f":"$Q$37*F266^$R$37","v":3.8271621111303173}]
[{"$f":"VKL!A37","v":2},{"$f":"VKL!B37","v":174.73952118343757},{"$f":"$C$169*B267^$D$169","v":625.77829255026722},null,{"$f":"IF($B$152=1,B267,C267)","v":174.73952118343757},{"$f":"E267/$C$140*$F$229","v":174.73952118343757},{"$f":"IF($B$152=2,B267,C267)","v":625.77829255026722},{"$f":"IF($A$228=\"heizen\",1,Auslegung_BG800_kondensierend!AH37)","v":1},{"$f":"IF($A$228=\"heizen\",1,Auslegung_BG800_kondensierend!AL37)","v":1},{"$f":"$C$185*F267^$C$184+$D$185*F267^$D$184+$E$185*F267^$E$184+$F$185*F267^$F$184","v":34.886906643616641},{"$f":"$C$187*G267^$C$186+$D$187*G267^$D$186+$E$187*G267^$E$186+$F$187*G267^$F$186","v":33.406668078070794},{"$f":"$I$217*J267^$I$215+$J$217*J267^$J$215+$K$217*J267^$K$215+$L$217*J267^$L$215+$M$217*J267^$M$215+$N$217*J267^$N$215+$O$217*J267^$O$215","v":1},{"$f":"IF($A$261=$A$233,J267,J267*L267)","v":34.886906643616641},{"$f":"M267*I267","v":34.886906643616641},{"$f":"M267*H267","v":34.886906643616641},null,{"$f":"$Q$31*G267^$R$31","v":4.5185804531943647},{"$f":"$Q$37*F267^$R$37","v":4.8273154756482564}]
[{"$f":"VKL!A38","v":3},{"$f":"VKL!B38","v":218.57527244750682},{"$f":"$C$169*B268^$D$169","v":756.64304869176635},null,{"$f":"IF($B$152=1,B268,C268)","v":218.57527244750682},{"$f":"E268/$C$140*$F$229","v":218.57527244750682},{"$f":"IF($B$152=2,B268,C268)","v":756.64304869176635},{"$f":"IF($A$228=\"heizen\",1,Auslegung_BG800_kondensierend!AH38)","v":1},{"$f":"IF($A$228=\"heizen\",1,Auslegung_BG800_kondensierend!AL38)","v":1},{"$f":"$C$185*F268^$C$184+$D$185*F268^$D$184+$E$185*F268^$E$184+$F$185*F268^$F$184","v":39.695990297398936},{"$f":"$C$187*G268^$C$186+$D$187*G268^$D$186+$E$187*G268^$E$186+$F$187*G268^$F$186","v":38.253614982490959},{"$f":"$I$217*J268^$I$215+$J$217*J268^$J$215+$K$217*J268^$K$215+$L$217*J268^$L$215+$M$217*J268^$M$215+$N$217*J268^$N$215+$O$217*J268^$O$215","v":1},{"$f":"IF($A$261=$A$233,J268,J268*L268)","v":39.695990297398936},{"$f":"M268*I268","v":39.695990297398936},{"$f":"M268*H268","v":39.695990297398936},null,{"$f":"$Q$31*G268^$R$31","v":5.6986872418106884},{"$f":"$Q$37*F268^$R$37","v":6.0887893242638649}]
[{"$f":"VKL!A39","v":4},{"$f":"VKL!B39","v":273.40845080236602},{"$f":"$C$169*B269^$D$169","v":914.87648125616442},null,{"$f":"IF($B$152=1,B269,C269)","v":273.40845080236602},{"$f":"E269/$C$140*$F$229","v":273.40845080236602},{"$f":"IF($B$152=2,B269,C269)","v":914.87648125616442},{"$f":"IF($A$228=\"heizen\",1,Auslegung_BG800_kondensierend!AH39)","v":1},{"$f":"IF($A$228=\"heizen\",1,Auslegung_BG800_kondensierend!AL39)","v":1},{"$f":"$C$185*F269^$C$184+$D$185*F269^$D$184+$E$185*F269^$E$184+$F$185*F269^$F$184","v":44.414793634972177},{"$f":"$C$187*G269^$C$186+$D$187*G269^$D$186+$E$187*G269^$E$186+$F$187*G269^$F$186","v":43.178620410483759},{"$f":"$I$217*J269^$I$215+$J$217*J269^$J$215+$K$217*J269^$K$215+$L$217*J269^$L$215+$M$217*J269^$M$215+$N$217*J269^$N$215+$O$217*J269^$O$215","v":1},{"$f":"IF($A$261=$A$233,J269,J269*L269)","v":44.414793634972177},{"$f":"M269*I269","v":44.414793634972177},{"$f":"M269*H269","v":44.414793634972177},null,{"$f":"$Q$31*G269^$R$31","v":7.1870171566831544},{"$f":"$Q$37*F269^$R$37","v":7.6799301414466719}]
[]
[]
[]
[]
[]
[{"$f":"A141","v":"Baugröße 1000"},null,"DpK =",{"$f":"D233*H325","v":5.9952123404860576},"[kPa]"]
[]
[{"$f":"CONCATENATE(\"bei \", ROUND($B$6,0), \" kg/h Kühlwassermassenstrom\")","v":"bei 120 kg/h Kühlwassermassenstrom"},null,null,null,null,"für kondensierende Auslegung"]
["Auslegung",{"$f":"$C$194","v":"Volumenstrom"},{"$f":"$C$195","v":"Drehzahl"},null,{"$f":"CONCATENATE(\"Volumenstrom - \",A275)","v":"Volumenstrom - Baugröße 1000"},{"$f":"CONCATENATE(\"Volumenstrom - \",$A$233)","v":"Volumenstrom - Baugröße 800"},"Drehzahl","Korrektur Total \nbei Sollwassermenge","Korrektur Sensibel\nbei Sollwassermenge","qSK1)  - aus Volumenstrom der gemessenen Baugröße","qSK1)  - aus Drehzahl","Korrektur Baugröße","qSK1)  - aus Volumenstrom","qSK2)  - aus Volumenstrom","qtotal2)  - aus Volumenstrom",null,"Steuerspannung [V]","Steuerspannung [V]"]
[null,{"$f":"$D$194","v":"[m³/h]"},{"$f":"$D$195","v":"[1/min]"},null,"[m³/h]","[m³/h]","[1/min]","[-]","[-]","[W/K]",null,"[-]","[W/K]","[W/K]","[W/K]",null,"[V]","[V]"]
[{"$f":"VKL!A50","v":1},{"$f":"VKL!B50","v":166.54338598998621},{"$f":"$C$174*B280^$D$174","v":499.23580914657231},null,{"$f":"IF($B$152=1,B280,C280)","v":166.54338598998621},{"$f":"E280/$C$141*$F$229","v":133.88782010959676},{"$f":"IF($B$152=2,B280,C280)","v":499.23580914657231},{"$f":"IF($A$228=\"heizen\",1,Auslegung_BG800_kondensierend!AH40)","v":1},{"$f":"IF($A$228=\"heizen\",1,Auslegung_BG800_kondensierend!AL40)","v":1},{"$f":"$C$185*F280^$C$184+$D$185*F280^$D$184+$E$185*F280^$E$184+$F$185*F280^$F$184","v":29.272640171869739},{"$f":"$C$187*G280^$C$186+$D$187*G280^$D$186+$E$187*G280^$E$186+$F$187*G280^$F$186","v":28.036566178257431},{"$f":"$I$218*J280^$I$215+$J$218*J280^$J$215+$K$218*J280^$K$215+$L$218*J280^$L$215+$M$218*J280^$M$215+$N$218*J280^$N$215+$O$218*J280^$O$215","v":1.2015205818010073},{"$f":"IF($A$275=$A$233,J280,J280*L280)","v":35.17167965015647},{"$f":"M280*I280","v":35.17167965015647},{"$f":"M280*H280","v":35.17167965015647},null,{"$f":"$Q$31*G280^$R$31","v":3.42857115316483},{"$f":"$Q$37*F280^$R$37","v":3.6623042004030282}]
[{"$f":"VKL!A51","v":2},{"$f":"VKL!B51","v":208.32502063006203},{"$f":"$C$174*B281^$D$174","v":603.64249797491175},null,{"$f":"IF($B$152=1,B281,C281)","v":208.32502063006203},{"$f":"E281/$C$141*$F$229","v":167.47697736926554},{"$f":"IF($B$152=2,B281,C281)","v":603.64249797491175},{"$f":"IF($A$228=\"heizen\",1,Auslegung_BG800_kondensierend!AH41)","v":1},{"$f":"IF($A$228=\"heizen\",1,Auslegung_BG800_kondensierend!AL41)","v":1},{"$f":"$C$185*F281^$C$184+$D$185*F281^$D$184+$E$185*F281^$E$184+$F$185*F281^$F$184","v":33.976503363995675},{"$f":"$C$187*G281^$C$186+$D$187*G281^$D$186+$E$187*G281^$E$186+$F$187*G281^$F$186","v":32.516210563674321},{"$f":"$I$218*J281^$I$215+$J$218*J281^$J$215+$K$218*J281^$K$215+$L$218*J281^$L$215+$M$218*J281^$M$215+$N$218*J281^$N$215+$O$218*J281^$O$215","v":1.1959135236949956},{"$f":"IF($A$275=$A$233,J281,J281*L281)","v":40.63295986087094},{"$f":"M281*I281","v":40.63295986087094},{"$f":"M281*H281","v":40.63295986087094},null,{"$f":"$Q$31*G281^$R$31","v":4.3240457343323069},{"$f":"$Q$37*F281^$R$37","v":4.6193832120832967}]
[{"$f":"VKL!A52","v":3},{"$f":"VKL!B52","v":260.58869163782259},{"$f":"$C$174*B282^$D$174","v":729.88419825137987},null,{"$f":"IF($B$152=1,B282,C282)","v":260.58869163782259},{"$f":"E282/$C$141*$F$229","v":209.49286974805347},{"$f":"IF($B$152=2,B282,C282)","v":729.88419825137987},{"$f":"IF($A$228=\"heizen\",1,Auslegung_BG800_kondensierend!AH42)","v":1},{"$f":"IF($A$228=\"heizen\",1,Auslegung_BG800_kondensierend!AL42)","v":1},{"$f":"$C$185*F282^$C$184+$D$185*F282^$D$184+$E$185*F282^$E$184+$F$185*F282^$F$184","v":38.787921430069844},{"$f":"$C$187*G282^$C$186+$D$187*G282^$D$186+$E$187*G282^$E$186+$F$187*G282^$F$186","v":37.320150210906114},{"$f":"$I$218*J282^$I$215+$J$218*J282^$J$215+$K$218*J282^$K$215+$L$218*J282^$L$215+$M$218*J282^$M$215+$N$218*J282^$N$215+$O$218*J282^$O$215","v":1.1897661889102524},{"$f":"IF($A$275=$A$233,J282,J282*L282)","v":46.148557455604504},{"$f":"M282*I282","v":46.148557455604504},{"$f":"M282*H282","v":46.148557455604504},null,{"$f":"$Q$31*G282^$R$31","v":5.4534016134977312},{"$f":"$Q$37*F282^$R$37","v":5.8265792785828614}]
[{"$f":"VKL!A53","v":4},{"$f":"VKL!B53","v":325.96390436076189},{"$f":"$C$174*B283^$D$174","v":882.52691105732276},null,{"$f":"IF($B$152=1,B283,C283)","v":325.96390436076189},{"$f":"E283/$C$141*$F$229","v":262.04941330963209},{"$f":"IF($B$152=2,B283,C283)","v":882.52691105732276},{"$f":"IF($A$228=\"heizen\",1,Auslegung_BG800_kondensierend!AH43)","v":1},{"$f":"IF($A$228=\"heizen\",1,Auslegung_BG800_kondensierend!AL43)","v":1},{"$f":"$C$185*F283^$C$184+$D$185*F283^$D$184+$E$185*F283^$E$184+$F$185*F283^$F$184","v":43.528531021431569},{"$f":"$C$187*G283^$C$186+$D$187*G283^$D$186+$E$187*G283^$E$186+$F$187*G283^$F$186","v":42.253716954977548},{"$f":"$I$218*J283^$I$215+$J$218*J283^$J$215+$K$218*J283^$K$215+$L$218*J283^$L$215+$M$218*J283^$M$215+$N$218*J283^$N$215+$O$218*J283^$O$215","v":1.1785544815502664},{"$f":"IF($A$275=$A$233,J283,J283*L283)","v":51.300745310607972},{"$f":"M283*I283","v":51.300745310607972},{"$f":"M283*H283","v":51.300745310607972},null,{"$f":"$Q$31*G283^$R$31","v":6.8777200265260667},{"$f":"$Q$37*F283^$R$37","v":7.3492519319303655}]
[]
[]
[]
[]
[]
[{"$f":"A142","v":"Baugröße 1200"},null,"DpK =",{"$f":"D233*I325","v":6.8689128210929917},"[kPa]"]
[]
[{"$f":"CONCATENATE(\"bei \", ROUND($B$6,0), \" kg/h Kühlwassermassenstrom\")","v":"bei 120 kg/h Kühlwassermassenstrom"},null,null,null,null,"für kondensierende Auslegung"]
["Auslegung",{"$f":"$C$194","v":"Volumenstrom"},{"$f":"$C$195","v":"Drehzahl"},null,{"$f":"CONCATENATE(\"Volumenstrom - \",A289)","v":"Volumenstrom - Baugröße 1200"},{"$f":"CONCATENATE(\"Volumenstrom - \",$A$233)","v":"Volumenstrom - Baugröße 800"},"Drehzahl","Korrektur Total \nbei Sollwassermenge","Korrektur Sensibel\nbei Sollwassermenge","qSK1)  - aus Volumenstrom der gemessenen Baugröße","qSK1)  - aus Drehzahl","Korrektur Baugröße","qSK1)  - aus Volumenstrom","qSK2)  - aus Volumenstrom","qtotal2)  - aus Volumenstrom",null,"Steuerspannung [V]","Steuerspannung [V]"]
[null,{"$f":"$D$194","v":"[m³/h]"},{"$f":"$D$195","v":"[1/min]"},null,"[m³/h]","[m³/h]","[1/min]","[-]","[-]","[W/K]",null,"[-]","[W/K]","[W/K]","[W/K]",null,"[V]","[V]"]
[{"$f":"VKL!A78","v":0},{"$f":"VKL!B64","v":161.36323610164138},{"$f":"$C$174*B294^$D$174","v":486.03062630142102},null,{"$f":"IF($B$152=1,B294,C294)","v":161.36323610164138},{"$f":"E294/$C$141*$F$229","v":129.72338588563326},{"$f":"IF($B$152=2,B294,C294)","v":486.03062630142102},{"$f":"IF($A$228=\"heizen\",1,Auslegung_BG800_kondensierend!AH44)","v":1},{"$f":"IF($A$228=\"heizen\",1,Auslegung_BG800_kondensierend!AL44)","v":1},{"$f":"$C$185*F294^$C$184+$D$185*F294^$D$184+$E$185*F294^$E$184+$F$185*F294^$F$184","v":28.628483021054912},{"$f":"$C$187*G294^$C$186+$D$187*G294^$D$186+$E$187*G294^$E$186+$F$187*G294^$F$186","v":27.436839142753197},{"$f":"$I$219*J294^$I$215+$J$219*J294^$J$215+$K$219*J294^$K$215+$L$219*J294^$L$215+$M$219*J294^$M$215+$N$219*J294^$N$215+$O$219*J294^$O$215","v":1.3913543039800735},{"$f":"IF($A$289=$A$233,J294,J294*L294)","v":39.832363067765208},{"$f":"M294*I294","v":39.832363067765208},{"$f":"M294*H294","v":39.832363067765208},null,{"$f":"$Q$31*G294^$R$31","v":3.3180842324089994},{"$f":"$Q$37*F294^$R$37","v":3.5442247097813797}]
[{"$f":"VKL!A79","v":0},{"$f":"VKL!B65","v":201.84519142823666},{"$f":"$C$174*B295^$D$174","v":587.67541051744854},null,{"$f":"IF($B$152=1,B295,C295)","v":201.84519142823666},{"$f":"E295/$C$141*$F$229","v":162.26770291289614},{"$f":"IF($B$152=2,B295,C295)","v":587.67541051744854},{"$f":"IF($A$228=\"heizen\",1,Auslegung_BG800_kondensierend!AH45)","v":1},{"$f":"IF($A$228=\"heizen\",1,Auslegung_BG800_kondensierend!AL45)","v":1},{"$f":"$C$185*F295^$C$184+$D$185*F295^$D$184+$E$185*F295^$E$184+$F$185*F295^$F$184","v":33.301293632945629},{"$f":"$C$187*G295^$C$186+$D$187*G295^$D$186+$E$187*G295^$E$186+$F$187*G295^$F$186","v":31.861090982487219},{"$f":"$I$219*J295^$I$215+$J$219*J295^$J$215+$K$219*J295^$K$215+$L$219*J295^$L$215+$M$219*J295^$M$215+$N$219*J295^$N$215+$O$219*J295^$O$215","v":1.3779338042100724},{"$f":"IF($A$289=$A$233,J295,J295*L295)","v":45.886978220761435},{"$f":"M295*I295","v":45.886978220761435},{"$f":"M295*H295","v":45.886978220761435},null,{"$f":"$Q$31*G295^$R$31","v":4.1846995225180903},{"$f":"$Q$37*F295^$R$37","v":4.4704432522797015}]
[{"$f":"VKL!A80","v":0},{"$f":"VKL!B66","v":252.48319008240352},{"$f":"$C$174*B296^$D$174","v":710.57776419048889},null,{"$f":"IF($B$152=1,B296,C296)","v":252.48319008240352},{"$f":"E296/$C$141*$F$229","v":202.97668222310872},{"$f":"IF($B$152=2,B296,C296)","v":710.57776419048889},{"$f":"IF($A$228=\"heizen\",1,Auslegung_BG800_kondensierend!AH46)","v":1},{"$f":"IF($A$228=\"heizen\",1,Auslegung_BG800_kondensierend!AL46)","v":1},{"$f":"$C$185*F296^$C$184+$D$185*F296^$D$184+$E$185*F296^$E$184+$F$185*F296^$F$184","v":38.10978432698851},{"$f":"$C$187*G296^$C$186+$D$187*G296^$D$186+$E$187*G296^$E$186+$F$187*G296^$F$186","v":36.6283560356583},{"$f":"$I$219*J296^$I$215+$J$219*J296^$J$215+$K$219*J296^$K$215+$L$219*J296^$L$215+$M$219*J296^$M$215+$N$219*J296^$N$215+$O$219*J296^$O$215","v":1.3651684645161244},{"$f":"IF($A$289=$A$233,J296,J296*L296)","v":52.02627575271557},{"$f":"M296*I296","v":52.02627575271557},{"$f":"M296*H296","v":52.02627575271557},null,{"$f":"$Q$31*G296^$R$31","v":5.2776600151619446},{"$f":"$Q$37*F296^$R$37","v":5.6387154788209131}]
[{"$f":"VKL!A81","v":0},{"$f":"VKL!B67","v":315.82528283981998},{"$f":"$C$174*B297^$D$174","v":859.18367306983089},null,{"$f":"IF($B$152=1,B297,C297)","v":315.82528283981998},{"$f":"E297/$C$141*$F$229","v":253.89875679279646},{"$f":"IF($B$152=2,B297,C297)","v":859.18367306983089},{"$f":"IF($A$228=\"heizen\",1,Auslegung_BG800_kondensierend!AH47)","v":1},{"$f":"IF($A$228=\"heizen\",1,Auslegung_BG800_kondensierend!AL47)","v":1},{"$f":"$C$185*F297^$C$184+$D$185*F297^$D$184+$E$185*F297^$E$184+$F$185*F297^$F$184","v":42.866735775805623},{"$f":"$C$187*G297^$C$186+$D$187*G297^$D$186+$E$187*G297^$E$186+$F$187*G297^$F$186","v":41.560310467754583},{"$f":"$I$219*J297^$I$215+$J$219*J297^$J$215+$K$219*J297^$K$215+$L$219*J297^$L$215+$M$219*J297^$M$215+$N$219*J297^$N$215+$O$219*J297^$O$215","v":1.3430063267775529},{"$f":"IF($A$289=$A$233,J297,J297*L297)","v":57.570297355208623},{"$f":"M297*I297","v":57.570297355208623},{"$f":"M297*H297","v":57.570297355208623},null,{"$f":"$Q$31*G297^$R$31","v":6.6560858844544954},{"$f":"$Q$37*F297^$R$37","v":7.1123014163478029}]
[]
[]
[]
[]
[]
[]
[]
[]
[]
[]
[]
["Kühlen - Druckverlust Wasser",null,null,null,null,null,null,null,null,null,null,null,null,null,null,null,null,"heizen - Druckverlust Wasser"]
[]
[]
[null,null,null,null,null,null,null,null,null,null,null,null,null,null,null,null,null,600,1030,830,1230,null,null,null,null,"Korrektur 600","Korrektur 1030","Korrektur 1230"]
[]
[null,null,null,null,null,"Korrektur"]
[{"$f":"$A$247","v":"Baugröße 630"},{"$f":"$A$261","v":"Baugröße 800"},{"$f":"$A$275","v":"Baugröße 1000"},{"$f":"$A$289","v":"Baugröße 1200"},null,{"$f":"$A$247","v":"Baugröße 630"},{"$f":"$A$261","v":"Baugröße 800"},{"$f":"$A$275","v":"Baugröße 1000"},{"$f":"$A$289","v":"Baugröße 1200"}]
[{"$f":"CONCATENATE(\"WT Länge = \",$B$139)","v":"WT Länge = 590"},{"$f":"CONCATENATE(\"WT Länge = \",$B$140)","v":"WT Länge = 820"},{"$f":"CONCATENATE(\"WT Länge = \",$B$141)","v":"WT Länge = 1020"},{"$f":"CONCATENATE(\"WT Länge = \",$B$142)","v":"WT Länge = 1200"},null,{"$f":"CONCATENATE(\"WT Länge = \",$B$139)","v":"WT Länge = 590"},{"$f":"CONCATENATE(\"WT Länge = \",$B$140)","v":"WT Länge = 820"},{"$f":"CONCATENATE(\"WT Länge = \",$B$141)","v":"WT Länge = 1020"},{"$f":"CONCATENATE(\"WT Länge = \",$B$142)","v":"WT Länge = 1200"}]
[]
[{"$f":"N334","v":0.1},{"$f":"N346","v":0.1},{"$f":"N358","v":0.1},{"$f":"N371","v":0.1},null,{"$f":"1/B318*A318","v":1},{"$f":"1/B318*B318","v":1},{"$f":"1/B318*C318","v":1},{"$f":"1/B318*D318","v":1},null,null,null,null,null,null,null,null,{"$f":"AB334","v":0},{"$f":"AB358","v":0},{"$f":"AB346","v":0},{"$f":"AB371","v":0.1}]
[1.9,{"$f":"N347","v":2.4},2.8,3.2,null,0.79166666666666663,1,1.1666666666666667,1.3333333333333335,null,null,null,null,null,null,null,null,0.7,1.1000000000000001,0.9,1.2,null,null,null,null,{"$f":"1/T319*R319","v":0.77777777777777779},{"$f":"1/T319*S319","v":1.2222222222222223},{"$f":"1/T319*U319","v":1.3333333333333333}]
[5.5,6.8,8,9.1999999999999993,null,0.80882352941176472,1,1.1764705882352942,1.3529411764705881,null,null,null,null,null,null,null,null,2.1,3,2.6,3.5,null,null,null,null,{"$f":"1/T320*R320","v":0.80769230769230771},{"$f":"1/T320*S320","v":1.1538461538461537},{"$f":"1/T320*U320","v":1.346153846153846}]
[10.7,13.2,15.5,17.7,null,0.81060606060606055,1,1.1742424242424243,1.3409090909090908,null,null,null,null,null,null,null,null,4.0999999999999996,5.8,5,6.6,null,null,null,null,{"$f":"1/T321*R321","v":0.82},{"$f":"1/T321*S321","v":1.1599999999999999},{"$f":"1/T321*U321","v":1.32}]
[17.2,21.3,24.9,28.5,null,0.80751173708920176,1,1.169014084507042,1.3380281690140845,null,null,null,null,null,null,null,null,6.5,9.3000000000000007,8,10.6,null,null,null,null,{"$f":"1/T322*R322","v":0.8125},{"$f":"1/T322*S322","v":1.1625000000000001},{"$f":"1/T322*U322","v":1.325}]
[25,31,36.200000000000003,41.5,null,0.80645161290322576,1,1.167741935483871,1.3387096774193548,null,null,null,null,null,null,null,null,9.5,13.5,11.7,15.4,null,null,null,null,{"$f":"1/T323*R323","v":0.81196581196581197},{"$f":"1/T323*S323","v":1.153846153846154},{"$f":"1/T323*U323","v":1.3162393162393162}]
[]
[null,null,null,null,null,{"$f":"AVERAGE(F320:F323)","v":0.80834823500256325},{"$f":"AVERAGE(G320:G323)","v":1},{"$f":"AVERAGE(H320:H323)","v":1.1718672581171579},{"$f":"AVERAGE(I320:I323)","v":1.3426470284532794},null,null,null,null,null,null,null,null,null,null,null,null,null,null,null,null,{"$f":"AVERAGE(Z320:Z323)","v":0.81303952991452988},{"$f":"AVERAGE(AA320:AA323)","v":1.1575480769230768},{"$f":"AVERAGE(AB320:AB323)","v":1.3268482905982906}]
[]
[]
[600,null,null,null,null,null,null,null,null,null,null,null,null,null,null,null,null,600]
[]
["S","TWI","TWO","QA","VA","TAI","UR","PT","PS","TAO","UR","QW","VW","DPW","DPA",null,null,"S","TWI","TWO","QA","VA","TAI","PT","TAO","QW","VW","DPW","DPA"]
[null,"°C","°C","m3/h","m/s","°C"," % ","kW","kW","°C"," % ","l/h","m/s","kPa","Pa",null,null,null,"°C","°C","m3/h","m/s","°C","kW","°C","l/h","m/s","kPa","Pa"]
["S","TWI","TWO","QA","VA","TAI","UR","PT","PS","TAO","UR","QW","VW","DPW","DPA",null,null,"S","TWI","TWO","QA","VA","TAI","PT","TAO","QW","VW","DPW","DPA"]
[null,"°C","°C","m3/h","m/s","°C"," % ","kW","kW","°C"," % ","l/h","m/s","kPa","Pa",null,null,null,"°C","°C","m3/h","m/s","°C","kW","°C","l/h","m/s","kPa","Pa"]
[null,16,25.4,116,0.3,26,45,0.11,0.11,23.1,53,10,0,0.1,0,null,null,null,55,28.9,200,0.5,23,0.3,27.52,10,0,0,0]
[null,16,19.600000000000001,116,0.3,26,45,0.25,0.25,19.38,67,60,0.2,1.9,0,null,null,null,55,44.8,200,0.5,23,0.7,33.56,60,0.2,0.7,0]
[null,16,18.2,116,0.3,26,45,0.28999999999999998,0.28999999999999998,18.43,71.2,110,0.4,5.5,0,null,null,null,55,48.4,200,0.5,23,0.83,35.43,110,0.4,2.1,0]
[null,16,17.600000000000001,116,0.3,26,45,0.3,0.3,18.07,72.900000000000006,160,0.6,10.7,0,null,null,null,55,50.2,200,0.5,23,0.88,36.18,160,0.6,4.0999999999999996,0]
[null,16,17.3,116,0.3,26,45,0.31,0.31,17.89,73.5,210,0.8,17.2,0,null,null,null,55,51.2,200,0.5,23,0.9,36.57,210,0.8,6.5,0]
[null,16,17,116,0.3,26,45,0.31,0.31,17.78,74.2,260,1,25,0,null,null,null,55,51.9,200,0.5,23,0.92,36.81,260,1,9.5,0]
[]
[830,null,null,null,null,null,null,null,null,null,null,null,null,null,null,null,null,830]
["S","TWI","TWO","QA","VA","TAI","UR","PT","PS","TAO","UR","QW","VW","DPW","DPA",null,null,"S","TWI","TWO","QA","VA","TAI","PT","TAO","QW","VW","DPW","DPA"]
[null,"°C","°C","m3/h","m/s","°C"," % ","kW","kW","°C"," % ","l/h","m/s","kPa","Pa",null,null,null,"°C","°C","m3/h","m/s","°C","kW","°C","l/h","m/s","kPa","Pa"]
["S","TWI","TWO","QA","VA","TAI","UR","PT","PS","TAO","UR","QW","VW","DPW","DPA",null,null,"S","TWI","TWO","QA","VA","TAI","PT","TAO","QW","VW","DPW","DPA"]
[null,"°C","°C","m3/h","m/s","°C"," % ","kW","kW","°C"," % ","l/h","m/s","kPa","Pa",null,null,null,"°C","°C","m3/h","m/s","°C","kW","°C","l/h","m/s","kPa","Pa"]
[null,16,25.9,200,0.4,26,45,0.11,0.11,24.24,49.4,10,0,0.1,0,null,null,null,55,27,200,0.4,23,0.32,27.85,10,0,0,0]
[null,16,21,200,0.4,26,45,0.35,0.35,20.59,62,60,0.2,2.4,0,null,null,null,55,43.1,200,0.4,23,0.82,35.32,60,0.2,0.9,0]
[null,16,19.399999999999999,200,0.4,26,45,0.43,0.43,19.34,67.099999999999994,110,0.4,6.8,0,null,null,null,55,47.3,200,0.4,23,0.97,37.56,110,0.4,2.6,0]
[null,16,18.5,200,0.4,26,45,0.46,0.46,18.84,69.3,160,0.6,13.2,0,null,null,null,55,49.4,200,0.4,23,1.03,38.450000000000003,160,0.6,5,0]
[null,16,18,200,0.4,26,45,0.48,0.48,18.579999999999998,70.400000000000006,210,0.8,21.3,0,null,null,null,55,50.6,200,0.4,23,1.06,38.9,210,0.8,8,0]
[null,16,17.600000000000001,200,0.4,26,45,0.49,0.49,18.43,71.2,260,1,31,0,null,null,null,55,51.4,200,0.4,23,1.08,39.19,260,1,11.7,0]
[]
[1030,null,null,null,null,null,null,null,null,null,null,null,null,null,null,null,null,1030]
["S","TWI","TWO","QA","VA","TAI","UR","PT","PS","TAO","UR","QW","VW","DPW","DPA",null,null,"S","TWI","TWO","QA","VA","TAI","PT","TAO","QW","VW","DPW","DPA"]
[null,"°C","°C","m3/h","m/s","°C"," % ","kW","kW","°C"," % ","l/h","m/s","kPa","Pa",null,null,null,"°C","°C","m3/h","m/s","°C","kW","°C","l/h","m/s","kPa","Pa"]
["S","TWI","TWO","QA","VA","TAI","UR","PT","PS","TAO","UR","QW","VW","DPW","DPA",null,null,"S","TWI","TWO","QA","VA","TAI","PT","TAO","QW","VW","DPW","DPA"]
[null,"°C","°C","m3/h","m/s","°C"," % ","kW","kW","°C"," % ","l/h","m/s","kPa","Pa",null,null,null,"°C","°C","m3/h","m/s","°C","kW","°C","l/h","m/s","kPa","Pa"]
[null,16,25.9,200,0.3,26,45,0.12,0.12,24.23,49.4,10,0,0.1,0,null,null,null,55,25.9,200,0.3,23,0.34,28.03,10,0,0,0]
[null,16,21.4,200,0.3,26,45,0.38,0.38,20.2,63.6,60,0.2,2.8,0,null,null,null,55,41.9,200,0.3,23,0.9,36.54,60,0.2,1.1000000000000001,0]
[null,16,19.600000000000001,200,0.3,26,45,0.46,0.46,18.850000000000001,69.2,110,0.4,8,0,null,null,null,55,46.5,200,0.3,23,1.07,39.04,110,0.4,3,0]
[null,16,18.7,200,0.3,26,45,0.5,0.5,18.34,71.5,160,0.6,15.5,0,null,null,null,55,48.8,200,0.3,23,1.1299999999999999,40.020000000000003,160,0.6,5.8,0]
[null,16,18.100000000000001,200,0.3,26,45,0.51,0.51,18.09,72.7,210,0.8,24.9,0,null,null,null,55,50.1,200,0.3,23,1.17,40.520000000000003,210,0.8,9.3000000000000007,0]
[null,16,17.7,200,0.3,26,45,0.52,0.52,17.940000000000001,73.5,260,1,36.200000000000003,0,null,null,null,55,51,200,0.3,23,1.19,40.840000000000003,260,1,13.5,0]
[]
[]
[]
["S","TWI","TWO","QA","VA","TAI","UR","PT","PS","TAO","UR","QW","VW","DPW","DPA",null,null,"S","TWI","TWO","QA","VA","TAI","PT","TAO","QW","VW","DPW","DPA"]
[null,"°C","°C","m3/h","m/s","°C"," % ","kW","kW","°C"," % ","l/h","m/s","kPa","Pa",null,null,null,"°C","°C","m3/h","m/s","°C","kW","°C","l/h","m/s","kPa","Pa"]
["S","TWI","TWO","QA","VA","TAI","UR","PT","PS","TAO","UR","QW","VW","DPW","DPA",null,null,"S","TWI","TWO","QA","VA","TAI","PT","TAO","QW","VW","DPW","DPA"]
[null,"°C","°C","m3/h","m/s","°C"," % ","kW","kW","°C"," % ","l/h","m/s","kPa","Pa",null,null,null,"°C","°C","m3/h","m/s","°C","kW","°C","l/h","m/s","kPa","Pa"]
[null,16,26,200,0.3,26,45,0.12,0.12,24.22,49.4,10,0,0.1,0,null,null,null,55,25.2,200,0.3,23,0.34,28.15,10,0,0.1,0]
[null,16,21.7,200,0.3,26,45,0.4,0.4,19.88,64.900000000000006,60,0.2,3.2,0,null,null,null,55,40.9,200,0.3,23,0.97,37.56,60,0.2,1.2,0]
[null,16,19.8,200,0.3,26,45,0.49,0.49,18.46,71,110,0.4,9.1999999999999993,0,null,null,null,55,45.9,200,0.3,23,1.1499999999999999,40.29,110,0.4,3.5,0]
[null,16,18.8,200,0.3,26,45,0.52,0.52,17.95,73.400000000000006,160,0.6,17.7,0,null,null,null,55,48.3,200,0.3,23,1.22,41.34,160,0.6,6.6,0]
[null,16,18.2,200,0.3,26,45,0.54,0.54,17.71,74.5,210,0.8,28.5,0,null,null,null,55,49.8,200,0.3,23,1.26,41.89,210,0.8,10.6,0]
[null,16,17.8,200,0.3,26,45,0.55000000000000004,0.55000000000000004,17.559999999999999,75.3,260,1,41.5,0,null,null,null,55,50.7,200,0.3,23,1.28,42.21,260,1,15.4,0]

{"sheet":"BG;WT3,2;h","index":9,"n_rows":441,"n_cols":95,"rows_kept":441,"cut":false,"hidden":true,"merged":[]}
["TT",null,null,"Master auswählen ->","BG","WT","Verhältnis",null,"Polynom 6 Ordnung",6,5,4,3,2,1,0]
["2017-03-03",null,null,null,"BG 800",{"$f":"VLOOKUP(E2,E3:G6,2,0)","v":830},{"$f":"VLOOKUP(E2,E3:G6,3,0)","v":1},null,{"$f":"E2","v":"BG 800"},{"$f":"VLOOKUP($I2,$I$3:$P$6,2,0)","v":-1.1867499239469366E-15},{"$f":"VLOOKUP($I2,$I$3:$P$6,3,0)","v":4.0725872617858585E-12},{"$f":"VLOOKUP($I2,$I$3:$P$6,4,0)","v":-5.5605123894654473E-9},{"$f":"VLOOKUP($I2,$I$3:$P$6,5,0)","v":3.8744103989767742E-6},{"$f":"VLOOKUP($I2,$I$3:$P$6,6,0)","v":-1.4897065623781466E-3},{"$f":"VLOOKUP($I2,$I$3:$P$6,7,0)","v":0.34137826580453867},{"$f":"VLOOKUP($I2,$I$3:$P$6,8,0)","v":0},null,null,null,null,null,null,null,null,null,null,null,null,null,null,null,null,null,null,null,null,null,null,null,null,"  Datentabelle aus Eurocoil entnehmen"]
[null,null,null,null,"BG 630",600,{"$f":"F3/$F$2","v":0.72289156626506024},null,{"$f":"E3","v":"BG 630"},{"$f":"LINEST(AO18:AO117,AS18:AS117^{1,2,3,4,5,6},0,0)","v":-1.3325794964866237E-15},4.5050978582309017E-12,-6.024361198392731E-9,4.0699736546556979E-6,-1.4893235427454361E-3,0.31433115333179062,0]
[null,null,null,null,"BG 800",830,{"$f":"F4/$F$2","v":1},null,{"$f":"E4","v":"BG 800"},{"$f":"LINEST(BC18:BC117,BG18:BG117^{1,2,3,4,5,6},0,0)","v":-1.1867499239469366E-15},4.0725872617858585E-12,-5.5605123894654473E-9,3.8744103989767742E-6,-1.4897065623781466E-3,0.34137826580453867,0]
["WT 4L",3.2,"mm",null,"BG 1000",1030,{"$f":"F5/$F$2","v":1.2409638554216869},null,{"$f":"E5","v":"BG 1000"},{"$f":"LINEST(BQ18:BQ117,BU18:BU117^{1,2,3,4,5,6},0,0)","v":-1.0178990512369288E-15},3.5507696441815054E-12,-4.9627108677628698E-9,3.5772296479297244E-6,-1.4461216183088697E-3,0.35597699437689417,0]
["Länge",830,"mm",null,"BG 1200",1230,{"$f":"F6/$F$2","v":1.4819277108433735},null,{"$f":"E6","v":"BG 1200"},{"$f":"LINEST(CE18:CE116,CI18:CI116^{1,2,3,4,5,6},0,0)","v":-9.1403316607176615E-16},3.1979422911149866E-12,-4.5105020886803228E-9,3.3159999436542224E-6,-1.3921218779175024E-3,0.36474263048935257,0]
["Rohrreihen",3]
[null,null,null,null,null,null,null,null,"Korrekturfaktoren",6,5,4,3,2,1,0]
[null,null,null,null,null,null,null,null,{"$f":"E3","v":"BG 630"},{"$f":"LINEST(G18:G117,C18:C117^{0,1,2,3,4,5,6},0,0)","v":-4.4789249334165237E-10},7.7307959879892363E-8,-5.0057910891862191E-6,1.4828640882510463E-4,-1.944676433179169E-3,1.1469578622781114E-2,0.6579769405977699]
["Grenzen",null,null,null,null,null,null,null,{"$f":"E4","v":"BG 800"},{"$f":"LINEST(J18:J117,C18:C117^{0,1,2,3,4,5,6},0,0)","v":1.4817865051145456E-24},-2.63518319344655E-22,1.8659988691625902E-20,-6.5386021427700244E-19,1.1317185687824311E-17,-8.2885488430403642E-17,1.0000000000000002]
["Maximum",{"$f":"MAX(B18:B117)","v":991},"m³/h",null,null,null,null,null,{"$f":"E5","v":"BG 1000"},{"$f":"LINEST(M18:M97,C18:C97^{0,1,2,3,4,5,6},0,0)","v":6.4851351590776632E-10},-9.9246439291949405E-8,5.6955503333860322E-6,-1.4956743206329958E-4,1.7493792414359545E-3,-1.0318943066171803E-2,1.2993593189248951]
[null,null,null,null,null,null,null,null,{"$f":"E6","v":"BG 1200"},{"$f":"LINEST(P18:P84,C18:C84^{0,1,2,3,4,5,6},0,0)","v":8.7127707710673132E-10},-1.3365957100629044E-7,7.6103188949829283E-6,-1.9549436785488029E-4,2.2092076620907944E-3,-1.5481392630616988E-2,1.5895337142496606]
[null,{"$f":"CONCATENATE(\"Master - \",AA13)","v":"Master - BG 800"},null,null,{"$f":"AO13","v":"BG630"},null,null,{"$f":"BC13","v":"BG 800"},null,null,{"$f":"BQ13","v":"BG1000"},null,null,{"$f":"CE13","v":"BG1200"},null,null,null,null,null,null,null,null,null,null,null,null,{"$f":"E2","v":"BG 800"},null,null,null,null,null,null,null,null,null,null,null,null,null,"BG630",null,null,null,null,null,null,null,null,null,null,null,null,null,"BG 800",null,null,null,null,null,null,null,null,null,null,null,null,null,"BG1000",null,null,null,null,null,null,null,null,null,null,null,null,null,"BG1200"]
[null,"Volumen-nstrom","spez. \nLeistung","Korrektur-faktor","Volumen-nstrom","spez. \nLeistung","Korrektur-faktor","Volumen-nstrom","spez. \nLeistung","Korrektur-faktor","Volumen-nstrom","spez. \nLeistung","Korrektur-faktor","Volumen-nstrom","spez. \nLeistung","Korrektur-faktor",null,null,null,null,null,null,null,null,null,null,{"$f":"IF($AA$13=$AO$13,AO14,IF($AA$13=$BC$13,BC14,IF($AA$13=$BQ$13,BQ14,IF($AA$13=$CE$13,CE14,\"-\"))))","v":"q sensibel"},{"$f":"IF($AA$13=$AO$13,AP14,IF($AA$13=$BC$13,BD14,IF($AA$13=$BQ$13,BR14,IF($AA$13=$CE$13,CF14,\"-\"))))","v":"S"},{"$f":"IF($AA$13=$AO$13,AQ14,IF($AA$13=$BC$13,BE14,IF($AA$13=$BQ$13,BS14,IF($AA$13=$CE$13,CG14,\"-\"))))","v":"TWI"},{"$f":"IF($AA$13=$AO$13,AR14,IF($AA$13=$BC$13,BF14,IF($AA$13=$BQ$13,BT14,IF($AA$13=$CE$13,CH14,\"-\"))))","v":"TWO"},{"$f":"IF($AA$13=$AO$13,AS14,IF($AA$13=$BC$13,BG14,IF($AA$13=$BQ$13,BU14,IF($AA$13=$CE$13,CI14,\"-\"))))","v":"QA"},{"$f":"IF($AA$13=$AO$13,AT14,IF($AA$13=$BC$13,BH14,IF($AA$13=$BQ$13,BV14,IF($AA$13=$CE$13,CJ14,\"-\"))))","v":"VA"},{"$f":"IF($AA$13=$AO$13,AU14,IF($AA$13=$BC$13,BI14,IF($AA$13=$BQ$13,BW14,IF($AA$13=$CE$13,CK14,\"-\"))))","v":"TAI"},{"$f":"IF($AA$13=$AO$13,AV14,IF($AA$13=$BC$13,BJ14,IF($AA$13=$BQ$13,BX14,IF($AA$13=$CE$13,CL14,\"-\"))))","v":"PT"},{"$f":"IF($AA$13=$AO$13,AW14,IF($AA$13=$BC$13,BK14,IF($AA$13=$BQ$13,BY14,IF($AA$13=$CE$13,CM14,\"-\"))))","v":"TAO"},{"$f":"IF($AA$13=$AO$13,AX14,IF($AA$13=$BC$13,BL14,IF($AA$13=$BQ$13,BZ14,IF($AA$13=$CE$13,CN14,\"-\"))))","v":"QW"},{"$f":"IF($AA$13=$AO$13,AY14,IF($AA$13=$BC$13,BM14,IF($AA$13=$BQ$13,CA14,IF($AA$13=$CE$13,CO14,\"-\"))))","v":"VW"},{"$f":"IF($AA$13=$AO$13,AZ14,IF($AA$13=$BC$13,BN14,IF($AA$13=$BQ$13,CB14,IF($AA$13=$CE$13,CP14,\"-\"))))","v":"DPW"},{"$f":"IF($AA$13=$AO$13,BA14,IF($AA$13=$BC$13,BO14,IF($AA$13=$BQ$13,CC14,IF($AA$13=$CE$13,CQ14,\"-\"))))","v":"DPA"},null,"q sensibel","S","TWI","TWO","QA","VA","TAI","PT","TAO","QW","VW","DPW","DPA",null,"q sensibel","S","TWI","TWO","QA","VA","TAI","PT","TAO","QW","VW","DPW","DPA",null,"q sensibel","S","TWI","TWO","QA","VA","TAI","PT","TAO","QW","VW","DPW","DPA",null,"q sensibel","S","TWI","TWO","QA","VA","TAI","PT","TAO","QW","VW","DPW","DPA"]
[null,"[m³/h]","[W/K]","[-]","[m³/h]","[W/K]","[-]","[m³/h]","[W/K]","[-]","[m³/h]","[W/K]","[-]","[m³/h]","[W/K]","[-]",null,null,null,null,null,null,null,null,null,null,"W/K",0,"°C","°C","m3/h","m/s","°C","kW","°C","l/h","m/s","kPa","Pa",null,"W/K",null,"°C","°C","m3/h","m/s","°C","kW","°C","l/h","m/s","kPa","Pa",null,"W/K",null,"°C","°C","m3/h","m/s","°C","kW","°C","l/h","m/s","kPa","Pa",null,"W/K",null,"°C","°C","m3/h","m/s","°C","kW","°C","l/h","m/s","kPa","Pa",null,"W/K",null,"°C","°C","m3/h","m/s","°C","kW","°C","l/h","m/s","kPa","Pa"]
[null,null,null,null,null,null,null,null,null,null,null,null,null,null,null,null,null,null,null,null,null,null,null,null,null,null,0,"S","TWI","TWO","QA","VA","TAI","PT","TAO","QW","VW","DPW","DPA",null,null,"S","TWI","TWO","QA","VA","TAI","PT","TAO","QW","VW","DPW","DPA",null,null,"S","TWI","TWO","QA","VA","TAI","PT","TAO","QW","VW","DPW","DPA",null,null,"S","TWI","TWO","QA","VA","TAI","PT","TAO","QW","VW","DPW","DPA",null,null,"S","TWI","TWO","QA","VA","TAI","PT","TAO","QW","VW","DPW","DPA"]
[null,null,null,null,null,null,null,null,null,null,null,null,null,null,null,null,null,null,null,null,null,null,null,null,null,null,0,0,"°C","°C","m3/h","m/s","°C","kW","°C","l/h","m/s","kPa","Pa",null,null,null,"°C","°C","m3/h","m/s","°C","kW","°C","l/h","m/s","kPa","Pa",null,null,null,"°C","°C","m3/h","m/s","°C","kW","°C","l/h","m/s","kPa","Pa",null,null,null,"°C","°C","m3/h","m/s","°C","kW","°C","l/h","m/s","kPa","Pa",null,null,null,"°C","°C","m3/h","m/s","°C","kW","°C","l/h","m/s","kPa","Pa"]
[null,{"$f":"AE18","v":1},{"$f":"$J$4*B18^6+$K$4*B18^5+$L$4*B18^4+$M$4*B18^3+$N$4*B18^2+$O$4*B18","v":0.33989242809611853},{"$f":"1/C18*C18","v":1},{"$f":"IF($B18*$G$3>$B$11,\"\",$B18*$G$3)","v":0.72289156626506024},{"$f":"IF(E18>$B$11,\"\",$J$3*E18^6+$K$3*E18^5+$L$3*E18^4+$M$3*E18^3+$N$3*E18^2+$O$3*E18)","v":0.2264505964943877},{"$f":"IF(E18>$B$11,\"\",1/$C18*F18)","v":0.66624195708869838},{"$f":"IF($B18*$G$4>$B$11,\"\",$B18*$G$4)","v":1},{"$f":"IF(H18>$B$11,\"\",$J$4*H18^6+$K$4*H18^5+$L$4*H18^4+$M$4*H18^3+$N$4*H18^2+$O$4*H18)","v":0.33989242809611853},{"$f":"IF(H18>$B$11,\"\",1/$C18*I18)","v":1},{"$f":"IF($B18*$G$5>$B$11,\"\",$B18*$G$5)","v":1.2409638554216869},{"$f":"IF(K18>$B$11,\"\",$J$5*K18^6+$K$5*K18^5+$L$5*K18^4+$M$5*K18^3+$N$5*K18^2+$O$5*K18)","v":0.43953439327613086},{"$f":"IF(K18>$B$11,\"\",1/$C18*L18)","v":1.293157354925937},{"$f":"IF($B18*$G$6>$B$11,\"\",$B18*$G$6)","v":1.4819277108433735},{"$f":"IF(N18>$B$11,\"\",$J$6*N18^6+$K$6*N18^5+$L$6*N18^4+$M$6*N18^3+$N$6*N18^2+$O$6*N18)","v":0.53747572914347441},{"$f":"IF(N18>$B$11,\"\",1/$C18*O18)","v":1.5813112759060379},null,null,null,null,null,null,null,null,null,null,1.5625,0,55,54.6,1,0,23,0.05,155.31,100,0.4,2.2000000000000002,0,null,{"$f":"ABS(AV18/(AU18-AQ18)*1000)","v":1.25},null,55,54.7,1,0,23,0.04,122.62,100,0.4,1.8,0,null,{"$f":"ABS(BJ18/(BI18-BE18)*1000)","v":1.5625},null,55,54.6,1,0,23,0.05,155.31,100,0.4,2.2000000000000002,0,null,{"$f":"ABS(BX18/(BW18-BS18)*1000)","v":1.875},null,55,54.5,1,0,23,0.06,154.93,100,0.4,2.5,0,null,{"$f":"ABS(CL18/(CK18-CG18)*1000)","v":1.875},null,55,54.5,1,0,23,0.06,238,100,0.4,2.9,0]
[null,11,3.579982512373165,{"$f":"1/C19*C19","v":1},{"$f":"IF($B19*$G$3>$B$11,\"\",$B19*$G$3)","v":7.9518072289156629},{"$f":"IF(E19>$B$11,\"\",$J$3*E19^6+$K$3*E19^5+$L$3*E19^4+$M$3*E19^3+$N$3*E19^2+$O$3*E19)","v":2.4073514154004867},{"$f":"IF(E19>$B$11,\"\",1/$C19*F19)","v":0.67244781422260547},{"$f":"IF($B19*$G$4>$B$11,\"\",$B19*$G$4)","v":11},{"$f":"IF(H19>$B$11,\"\",$J$4*H19^6+$K$4*H19^5+$L$4*H19^4+$M$4*H19^3+$N$4*H19^2+$O$4*H19)","v":3.579982512373165},{"$f":"IF(H19>$B$11,\"\",1/$C19*I19)","v":1},13.650602409638555,4.5987601793829302,1.2845761574221821,{"$f":"IF($B19*$G$6>$B$11,\"\",$B19*$G$6)","v":16.301204819277107},{"$f":"IF(N19>$B$11,\"\",$J$6*N19^6+$K$6*N19^5+$L$6*N19^4+$M$6*N19^3+$N$6*N19^2+$O$6*N19)","v":5.5898658932050838},1.5614226812240961,null,null,null,null,null,null,null,null,null,null,3.75,0,55,54,11,0,23,0.12,54.9,100,0.4,2.2000000000000002,0,null,{"$f":"ABS(AV19/(AU19-AQ19)*1000)","v":3.75},null,55,54,11,0,23,0.12,54.75,100,0.4,1.8,0,null,{"$f":"ABS(BJ19/(BI19-BE19)*1000)","v":3.75},null,55,54,11,0,23,0.12,54.9,100,0.4,2.2000000000000002,0,null,{"$f":"ABS(BX19/(BW19-BS19)*1000)","v":3.75},null,55,53.9,11,0,23,0.12,54.99,100,0.4,2.5,0,null,{"$f":"ABS(CL19/(CK19-CG19)*1000)","v":3.75},null,55,54,11,0,23,0.12,55.89,100,0.4,2.9,0]
[null,21,6.5467990196562287,1,15.180722891566266,4.4424753711000404,0.67857213239048142,21,6.5467990196562287,1,26.060240963855424,8.3557976259579902,1.2763180297532262,31.120481927710845,10.098523209779117,1.5425130937209355,null,null,null,null,null,null,null,null,null,null,6.875,0,55,53.1,21,0,23,0.22,54.28,100,0.4,2.2000000000000002,0,null,6.5625,null,55,53.1,21,0.1,23,0.21,53.43,100,0.4,1.8,0,null,6.875,null,55,53.1,21,0,23,0.22,54.28,100,0.4,2.2000000000000002,0,null,6.875,null,55,53,21,0,23,0.22,54.59,100,0.4,2.5,0,null,6.875,null,55,53.1,21,0,23,0.22,54.81,100,0.4,2.9,0]
[null,31,9.2615210851995382,1,22.409638554216869,6.3404305161245338,0.68459926374911773,31,9.2615210851995382,1,38.46987951807229,11.74731918961881,1.2684006311222165,45.939759036144579,14.120224516860739,1.5246118199121415,null,null,null,null,null,null,null,null,null,null,9.6875,0,55,52.3,31,0.1,23,0.31,53.14,100,0.4,2.2000000000000002,0,null,9.375,null,55,52.4,31,0.1,23,0.3,51.62,100,0.4,1.8,0,null,9.6875,null,55,52.3,31,0.1,23,0.31,53.14,100,0.4,2.2000000000000002,0,null,10,null,55,52.2,31,0,23,0.32,53.78,100,0.4,2.5,0,null,10,null,55,52.2,31,0,23,0.32,54.24,100,0.4,2.9,0]
[null,41,11.744093923988675,0.99999999999999989,29.638554216867469,8.1094521554572179,0.69051322374838298,41,11.744093923988675,0.99999999999999989,50.879518072289159,14.807429656316653,1.260840534157408,60.75903614457831,17.707085213553732,1.5077438351702002,null,null,null,null,null,null,null,null,null,null,12.1875,0,55,51.6,41,0.1,23,0.39,51.75,100,0.4,2.2000000000000002,0,null,11.5625,null,55,51.8,41,0.1,23,0.37,49.81,100,0.4,1.8,0,null,12.1875,null,55,51.6,41,0.1,23,0.39,51.75,100,0.4,2.2000000000000002,0,null,12.8125,null,55,51.4,41,0.1,23,0.41,52.74,100,0.4,2.5,0,null,12.8125,null,55,51.4,41,0.1,23,0.41,53.45,100,0.4,2.9,0]
[null,51,14.013275480191863,0.99999999999999989,36.867469879518069,9.7574131626769027,0.69629781962605852,51,14.013275480191863,0.99999999999999989,63.289156626506028,17.567784582579748,1.2536529812328514,75.578313253012041,20.906815412545232,1.4919292382496561,null,null,null,null,null,null,null,null,null,null,14.375,0,55,50.9,51,0.1,23,0.46,50.33,100,0.4,2.2000000000000002,0,null,13.4375,null,55,51.3,51,0.1,23,0.43,48.13,100,0.4,1.8,0,null,14.375,null,55,50.9,51,0.1,23,0.46,50.33,100,0.4,2.2000000000000002,0,null,15.3125,null,55,50.7,51,0.1,23,0.49,51.56,100,0.4,2.5,0,null,15.625,null,55,50.6,51,0.1,23,0.5,52.44,100,0.4,2.9,0]
[null,61,16.086682222151303,1,44.096385542168676,11.291834159182471,0.70193679487456129,61,16.086682222151303,1,75.698795180722897,20.057706060103968,1.2468516368455753,90.397590361445779,23.762969122198665,1.477182727553177,null,null,null,null,null,null,null,null,null,null,16.5625,0,55,50.4,61,0.1,23,0.53,49,100,0.4,2.2000000000000002,0,null,15,null,55,50.8,61,0.2,23,0.48,46.62,100,0.4,1.8,0,null,16.5625,null,55,50.4,61,0.1,23,0.53,49,100,0.4,2.2000000000000002,0,null,17.5,null,55,50.1,61,0.1,23,0.56000000000000005,50.36,100,0.4,2.5,0,null,18.125,null,55,50,61,0.1,23,0.57999999999999996,51.46,100,0.4,2.9,0]
[null,71,17.980834082914566,1,51.325301204819276,12.719893556498135,0.70741398857490212,71,17.980834082914566,1,88.108433734939766,22.304295803690913,1.2404483407632638,105.21686746987952,26.31518645826494,1.4635131127353929,null,null,null,null,null,null,null,null,null,null,18.4375,0,55,49.9,71,0.1,23,0.59,47.74,100,0.4,2.2000000000000002,0,null,16.5625,null,55,50.4,71,0.2,23,0.53,45.25,100,0.4,1.8,0,null,18.4375,null,55,49.9,71,0.1,23,0.59,47.74,100,0.4,2.2000000000000002,0,null,19.375,null,55,49.6,71,0.1,23,0.62,49.22,100,0.4,2.6,0,null,20.3125,null,55,49.4,71,0.1,23,0.65,50.4,100,0.4,2.9,0]
[null,81,19.711198546306033,1,58.554216867469876,14.048437461659418,0.71271350794100541,81,19.711198546306033,1,100.51807228915663,24.332545562533511,1.2344528672556818,120.03614457831326,28.599428885211879,1.450922876050657,null,null,null,null,null,null,null,null,null,null,20,0,55,49.4,81,0.2,23,0.64,46.61,100,0.4,2.2000000000000002,0,null,17.8125,null,55,50,81,0.2,23,0.56999999999999995,44.07,100,0.4,1.8,0,null,20,null,55,49.4,81,0.2,23,0.64,46.61,100,0.4,2.2000000000000002,0,null,21.25,null,55,49.1,81,0.1,23,0.68,48.14,100,0.4,2.6,0,null,22.1875,null,55,48.8,81,0.1,23,0.71,49.43,100,0.4,2.9,0]
[null,91,21.292233878538426,1,65.783132530120483,15.283989445679868,0.71781991184520166,91,21.292233878538426,1,112.9277108433735,26.165444854849007,1.2288726962191858,134.85542168674698,30.64820748717181,1.4394077982613072,null,null,null,null,null,null,null,null,null,null,21.25,0,55,49,91,0.2,23,0.68,45.55,100,0.4,2.2000000000000002,0,null,19.0625,null,55,49.7,91,0.2,23,0.61,43,100,0.4,1.8,0,null,21.25,null,55,49,91,0.2,23,0.68,45.55,100,0.4,2.2000000000000002,0,null,22.8125,null,55,48.6,91,0.1,23,0.73,47.15,100,0.4,2.6,0,null,24.0625,null,55,48.3,91,0.1,23,0.77,48.46,100,0.4,2.9,0]
[null,101,22.737431505364327,1,73.01204819277109,16.432760175098515,0.72271840252587971,101,22.737431505364327,1,125.33734939759037,27.824086025859412,1.2237128023583057,149.67469879518072,32.490804268507503,1.4289566638537037,null,null,null,null,null,null,null,null,null,null,22.8125,0,55,48.7,101,0.2,23,0.73,44.57,100,0.4,2.2000000000000002,0,null,20,null,55,49.4,101,0.3,23,0.64,42.03,100,0.4,1.8,0,null,22.8125,null,55,48.7,101,0.2,23,0.73,44.57,100,0.4,2.2000000000000002,0,null,24.375,null,55,48.2,101,0.2,23,0.78,46.2,100,0.4,2.6,0,null,25.625,null,55,47.8,101,0.1,23,0.82,47.53,100,0.4,2.9,0]
[null,111,24.05935753476782,1,80.240963855421683,17.500656906608015,0.72739502213714879,111,24.05935753476782,1,137.74698795180723,29.327766629119452,1.2189754687646308,164.49397590361446,34.153486483996147,1.4195510596923235,null,null,null,null,null,null,null,null,null,null,24.0625,0,55,48.3,111,0.2,23,0.77,43.7,100,0.4,2.2000000000000002,0,null,20.9375,null,55,49.1,111,0.3,23,0.67,41.17,100,0.4,1.8,0,null,24.0625,null,55,48.3,111,0.2,23,0.77,43.7,100,0.4,2.2000000000000002,0,null,25.9375,null,55,47.8,111,0.2,23,0.83,45.32,100,0.4,2.6,0,null,27.1875,null,55,47.4,111,0.1,23,0.87,46.69,100,0.4,2.9,0]
[null,121,25.269693425196159,1,87.46987951807229,18.493292844763602,0.73183685031667711,121,25.269693425196159,1,150.15662650602411,30.694089131191923,1.2146601311983924,179.31325301204819,35.659713998631823,1.4111652800297085,null,null,null,null,null,null,null,null,null,null,25,0,55,48,121,0.2,23,0.8,42.88,100,0.4,2.2000000000000002,0,null,21.875,null,55,48.9,121,0.3,23,0.7,40.369999999999997,100,0.4,1.8,0,null,25,null,55,48,121,0.2,23,0.8,42.88,100,0.4,2.2000000000000002,0,null,27.1875,null,55,47.4,121,0.2,23,0.87,44.51,100,0.4,2.6,0,null,28.75,null,55,47,121,0.2,23,0.92,45.89,100,0.4,2.9,0]
[null,131,26.379275799331445,1,94.698795180722897,19.415996362772695,0.73603219855128754,131,26.379275799331445,1,162.56626506024097,31.939057939670498,1.2107632591066038,194.13253012048193,37.030339677045887,1.4037663489603602,null,null,null,null,null,null,null,null,null,null,26.25,0,55,47.7,131,0.3,23,0.84,42.12,100,0.4,2.2000000000000002,0,null,22.8125,null,55,48.6,131,0.3,23,0.73,39.659999999999997,100,0.4,1.8,0,null,26.25,null,55,47.7,131,0.3,23,0.84,42.12,100,0.4,2.2000000000000002,0,null,28.4375,null,55,47.1,131,0.2,23,0.91,43.75,100,0.4,2.6,0,null,30,null,55,46.6,131,0.2,23,0.96,45.13,100,0.4,2.9,0]
[null,141,27.39813540340247,1,101.92771084337349,20.273820086365273,0.73997079683924571,141,27.39813540340247,1,174.97590361445785,33.077173754549989,1.2072782788876304,208.95180722891567,38.283802802545871,1.3973141689704751,null,null,null,null,null,null,null,null,null,null,27.1875,0,55,47.4,141,0.3,23,0.87,41.42,100,0.4,2.2000000000000002,0,null,23.4375,null,55,48.4,141,0.4,23,0.75,39.01,100,0.4,1.8,0,null,27.1875,null,55,47.4,141,0.3,23,0.87,41.42,100,0.4,2.2000000000000002,0,null,29.375,null,55,46.8,141,0.2,23,0.94,43.04,100,0.4,2.6,0,null,31.25,null,55,46.2,141,0.2,23,1,44.42,100,0.4,2.9,0]
[null,151,28.335535212036497,1,109.1566265060241,21.071549840745,0.74364396800926258,151,28.335535212036497,1,187.3855421686747,34.121525242944074,1.2041955441325061,223.77108433734941,39.436315525772415,1.3917618012389079,null,null,null,null,null,null,null,null,null,null,28.125,0,55,47.2,151,0.3,23,0.9,40.79,100,0.4,2.2000000000000002,0,null,24.375,null,55,48.2,151,0.4,23,0.78,38.409999999999997,100,0.4,1.8,0,null,28.125,null,55,47.2,151,0.3,23,0.9,40.79,100,0.4,2.2000000000000002,0,null,30.625,null,55,46.5,151,0.2,23,0.98,42.39,100,0.4,2.6,0,null,32.5,null,55,45.9,151,0.2,23,1.04,43.75,100,0.4,2.9,0]
[null,161,29.200007678651168,1,116.3855421686747,21.81371346062102,0.74704478507961325,161,29.200007678651168,1,199.79518072289159,35.083878037150498,1.2015023565490761,238.59036144578315,40.502042342974462,1.387055879871788,null,null,null,null,null,null,null,null,null,null,28.75,0,55,47,161,0.3,23,0.92,40.200000000000003,100,0.4,2.2000000000000002,0,null,25,null,55,48,161,0.4,23,0.8,37.86,100,0.4,1.8,0,null,28.75,null,55,47,161,0.3,23,0.92,40.200000000000003,100,0.4,2.2000000000000002,0,null,31.5625,null,55,46.2,161,0.2,23,1.01,41.77,100,0.4,2.6,0,null,33.75,null,55,45.6,161,0.2,23,1.08,43.11,100,0.4,2.9,0]
[null,171,29.999391131386442,1,123.6144578313253,22.504589463320546,0.75016820723989408,171,29.999391131386442,1,212.20481927710844,35.974761056063613,1.19918304003262,253.40963855421685,41.493272603902845,1.3831371584235617,null,null,null,null,null,null,null,null,null,null,29.6875,0,55,46.7,171,0.3,23,0.95,39.64,100,0.4,2.2000000000000002,0,null,25.625,null,55,47.9,171,0.5,23,0.82,37.35,100,0.4,1.8,0,null,29.6875,null,55,46.7,171,0.3,23,0.95,39.64,100,0.4,2.2000000000000002,0,null,32.5,null,55,45.9,171,0.3,23,1.04,41.18,100,0.4,2.6,0,null,34.6875,null,55,45.3,171,0.2,23,1.1100000000000001,42.52,100,0.4,2.9,0]
[null,181,30.740865314576595,1,130.84337349397589,23.14821558498215,0.75301119041713549,181,30.740865314576595,1,224.61445783132532,36.803550149934537,1.1972190689272224,268.22891566265059,42.420586049321813,1.3799411830221633,null,null,null,null,null,null,null,null,null,null,30.3125,0,55,46.5,181,0.3,23,0.97,39.119999999999997,100,0.4,2.2000000000000002,0,null,26.25,null,55,47.7,181,0.5,23,0.84,36.880000000000003,100,0.4,1.8,0,null,30.3125,null,55,46.5,181,0.3,23,0.97,39.119999999999997,100,0.4,2.2000000000000002,0,null,33.4375,null,55,45.7,181,0.3,23,1.07,40.659999999999997,100,0.4,2.6,0,null,35.625,null,55,45,181,0.2,23,1.1399999999999999,41.96,100,0.4,2.9,0]
[null,191,31.430986075762242,1,138.07228915662651,23.748397179829794,0.75557276894163949,191,31.430986075762242,1,237.02409638554218,37.578549068478608,1.1955892499808338,283.04819277108436,43.293011378139028,1.3773990823509064,null,null,null,null,null,null,null,null,null,null,31.25,0,55,46.3,191,0.4,23,1,38.64,100,0.4,2.2000000000000002,0,null,26.875,null,55,47.5,191,0.5,23,0.86,36.44,100,0.4,1.8,0,null,31.25,null,55,46.3,191,0.4,23,1,38.64,100,0.4,2.2000000000000002,0,null,34.0625,null,55,45.5,191,0.3,23,1.0900000000000001,40.14,100,0.4,2.6,0,null,36.5625,null,55,44.8,191,0.2,23,1.17,41.44,100,0.4,2.9,0]
[null,201,32.07571919824251,1,145.3012048192771,24.308715482527582,0.75785410553972865,201,32.07571919824251,1,249.43373493975906,38.307067752330369,1.1942699558995169,297.86746987951807,44.118177844153678,1.3754384608333583,null,null,null,null,null,null,null,null,null,null,31.875,0,55,46.1,201,0.4,23,1.02,38.19,100,0.4,2.2000000000000002,0,null,27.1875,null,55,47.4,201,0.5,23,0.87,36.03,100,0.4,1.8,0,null,31.875,null,55,46.1,201,0.4,23,1.02,38.19,100,0.4,2.2000000000000002,0,null,35,null,55,45.3,201,0.3,23,1.1200000000000001,39.67,100,0.4,2.6,0,null,37.5,null,55,44.5,201,0.3,23,1.2,40.93,100,0.4,2.9,0]
[null,211,32.680473379167104,1,152.5301204819277,24.832535733615217,0.75985850772422625,211,32.680473379167104,1,261.84337349397595,38.995497947846026,1.1932354068256728,312.68674698795178,44.902459882422804,1.3739843778103555,null,null,null,null,null,null,null,null,null,null,32.5,0,55,45.9,211,0.4,23,1.04,37.76,100,0.4,2.2000000000000002,0,null,27.8125,null,55,47.2,211,0.6,23,0.89,35.65,100,0.4,1.8,0,null,32.5,null,55,45.9,211,0.4,23,1.04,37.76,100,0.4,2.2000000000000002,0,null,35.625,null,55,45,211,0.3,23,1.1399999999999999,39.22,100,0.4,2.6,0,null,38.4375,null,55,44.3,211,0.3,23,1.23,40.46,100,0.4,2.9,0]
[null,221,33.250132353168581,1,159.75903614457832,25.323015168024288,0.76159140959362592,221,33.250132353168581,1,274.25301204819277,39.649386145253345,1.1924579945762215,327.50602409638554,45.651114765245921,1.3729603924688012,null,null,null,null,null,null,null,null,null,null,33.125,0,55,45.8,221,0.4,23,1.06,37.36,100,0.4,2.2000000000000002,0,null,28.4375,null,55,47.1,221,0.6,23,0.91,35.29,100,0.4,1.8,0,null,33.125,null,55,45.8,221,0.4,23,1.06,37.36,100,0.4,2.2000000000000002,0,null,36.25,null,55,44.8,221,0.3,23,1.1599999999999999,38.79,100,0.4,2.6,0,null,39.0625,null,55,44.1,221,0.3,23,1.25,40.020000000000003,100,0.4,2.9,0]
[null,231,33.789086161534627,1,166.98795180722891,25.783110866675173,0.76306031904546068,231,33.789086161534627,1,286.66265060240966,40.273503840148791,1.1919086431522377,342.32530120481925,46.368413287767851,1.3722896519336318,null,null,null,null,null,null,null,null,null,null,33.75,0,55,45.6,231,0.4,23,1.08,36.979999999999997,100,0.4,2.2000000000000002,0,null,28.75,null,55,47,231,0.6,23,0.92,34.96,100,0.4,1.8,0,null,33.75,null,55,45.6,231,0.4,23,1.08,36.979999999999997,100,0.4,2.2000000000000002,0,null,37.1875,null,55,44.7,231,0.4,23,1.19,38.39,100,0.4,2.6,0,null,40,null,55,43.9,231,0.3,23,1.28,39.61,100,0.4,2.9,0]
[null,241,34.301261566920381,1,174.2168674698795,26.215587471154734,0.76427473141211377,241,34.301261566920381,1,299.07228915662654,40.871915118342571,1.1915571979357993,357.14457831325302,47.057763483199807,1.3718959983845493,null,null,null,null,null,null,null,null,null,null,34.0625,0,55,45.5,241,0.5,23,1.0900000000000001,36.630000000000003,100,0.4,2.2000000000000002,0,null,29.375,null,55,46.8,241,0.6,23,0.94,34.64,100,0.4,1.8,1,null,34.0625,null,55,45.5,241,0.5,23,1.0900000000000001,36.630000000000003,100,0.4,2.2000000000000002,0,null,37.8125,null,55,44.5,241,0.4,23,1.21,38.01,100,0.4,2.6,0,null,40.625,null,55,43.7,241,0.3,23,1.3,39.200000000000003,100,0.4,2.9,0]
[null,251,34.790151613600727,1,181.44578313253012,26.623024761474728,0.76524601149098836,251,34.790151613600727,1,311.48192771084342,41.448041564050655,1.191372835174628,371.96385542168673,47.721827367658392,1.3717050703798084,null,null,null,null,null,null,null,null,null,null,34.6875,0,55,45.3,251,0.5,23,1.1100000000000001,36.29,100,0.4,2.2000000000000002,0,null,29.6875,null,55,46.7,251,0.7,23,0.95,34.340000000000003,100,0.4,1.8,1,null,34.6875,null,55,45.3,251,0.5,23,1.1100000000000001,36.29,100,0.4,2.2000000000000002,0,null,38.4375,null,55,44.3,251,0.4,23,1.23,37.65,100,0.4,2.6,0,null,41.25,null,55,43.5,251,0.3,23,1.32,38.82,100,0.4,2.9,0]
[null,261,35.258844333262864,1,188.67469879518072,27.007825096910935,0.76598724682056596,261,35.258844333262864,1,323.89156626506025,42.004724491434587,1.1913244828562837,386.7831325301205,48.362630714623521,1.3716453737821086,null,null,null,null,null,null,null,null,null,null,35.3125,0,55,45.2,261,0.5,23,1.1299999999999999,35.97,100,0.4,2.2000000000000002,0,null,30,null,55,46.6,261,0.7,23,0.96,34.06,100,0.4,1.8,1,null,35.3125,null,55,45.2,261,0.5,23,1.1299999999999999,35.97,100,0.4,2.2000000000000002,0,null,39.0625,null,55,44.1,261,0.4,23,1.25,37.299999999999997,100,0.4,2.6,0,null,41.875,null,55,43.3,261,0.3,23,1.34,38.46,100,0.4,2.9,0]
[null,271,35.710050596338704,1,195.90361445783134,27.372220719923057,0.76651307580979711,271,35.710050596338704,1,336.30120481927713,42.544284499488455,1.1913812439081353,401.60240963855421,48.981665859013802,1.3716492987561271,null,null,null,null,null,null,null,null,null,null,35.625,0,55,45,271,0.5,23,1.1399999999999999,35.659999999999997,100,0.4,2.2000000000000002,0,null,30.625,null,55,46.5,271,0.7,23,0.98,33.79,100,0.4,1.8,1,null,35.625,null,55,45,271,0.5,23,1.1399999999999999,35.659999999999997,100,0.4,2.2000000000000002,0,null,39.375,null,55,44,271,0.4,23,1.26,36.979999999999997,100,0.4,2.6,0,null,42.5,null,55,43.1,271,0.3,23,1.36,38.11,100,0.4,2.9,0]
[null,281,36.146131108877462,1,203.13253012048193,27.718280923155334,0.76683949492862169,281,36.146131108877462,1,348.71084337349401,43.068578350273739,1.1915128128248318,416.42168674698797,49.579987530880629,1.3716540611646213,null,null,null,null,null,null,null,null,null,null,{"$f":"IF($AA$13=$AO$13,AO46,IF($AA$13=$BC$13,BC46,IF($AA$13=$BQ$13,BQ46,IF($AA$13=$CE$13,CE46,\"-\"))))","v":36.25},{"$f":"IF($AA$13=$AO$13,AP46,IF($AA$13=$BC$13,BD46,IF($AA$13=$BQ$13,BR46,IF($AA$13=$CE$13,CF46,\"-\"))))","v":0},{"$f":"IF($AA$13=$AO$13,AQ46,IF($AA$13=$BC$13,BE46,IF($AA$13=$BQ$13,BS46,IF($AA$13=$CE$13,CG46,\"-\"))))","v":55},{"$f":"IF($AA$13=$AO$13,AR46,IF($AA$13=$BC$13,BF46,IF($AA$13=$BQ$13,BT46,IF($AA$13=$CE$13,CH46,\"-\"))))","v":44.9},{"$f":"IF($AA$13=$AO$13,AS46,IF($AA$13=$BC$13,BG46,IF($AA$13=$BQ$13,BU46,IF($AA$13=$CE$13,CI46,\"-\"))))","v":281},{"$f":"IF($AA$13=$AO$13,AT46,IF($AA$13=$BC$13,BH46,IF($AA$13=$BQ$13,BV46,IF($AA$13=$CE$13,CJ46,\"-\"))))","v":0.5},{"$f":"IF($AA$13=$AO$13,AU46,IF($AA$13=$BC$13,BI46,IF($AA$13=$BQ$13,BW46,IF($AA$13=$CE$13,CK46,\"-\"))))","v":23},{"$f":"IF($AA$13=$AO$13,AV46,IF($AA$13=$BC$13,BJ46,IF($AA$13=$BQ$13,BX46,IF($AA$13=$CE$13,CL46,\"-\"))))","v":1.1599999999999999},{"$f":"IF($AA$13=$AO$13,AW46,IF($AA$13=$BC$13,BK46,IF($AA$13=$BQ$13,BY46,IF($AA$13=$CE$13,CM46,\"-\"))))","v":35.380000000000003},{"$f":"IF($AA$13=$AO$13,AX46,IF($AA$13=$BC$13,BL46,IF($AA$13=$BQ$13,BZ46,IF($AA$13=$CE$13,CN46,\"-\"))))","v":100},{"$f":"IF($AA$13=$AO$13,AY46,IF($AA$13=$BC$13,BM46,IF($AA$13=$BQ$13,CA46,IF($AA$13=$CE$13,CO46,\"-\"))))","v":0.4},{"$f":"IF($AA$13=$AO$13,AZ46,IF($AA$13=$BC$13,BN46,IF($AA$13=$BQ$13,CB46,IF($AA$13=$CE$13,CP46,\"-\"))))","v":2.2000000000000002},{"$f":"IF($AA$13=$AO$13,BA46,IF($AA$13=$BC$13,BO46,IF($AA$13=$BQ$13,CC46,IF($AA$13=$CE$13,CQ46,\"-\"))))","v":0},null,30.9375,null,55,46.4,281,0.7,23,0.99,33.54,100,0.4,1.8,1,null,36.25,null,55,44.9,281,0.5,23,1.1599999999999999,35.380000000000003,100,0.4,2.2000000000000002,0,null,40,null,55,43.8,281,0.4,23,1.28,36.67,100,0.4,2.6,0,null,43.125,null,55,42.9,281,0.4,23,1.38,37.78,100,0.4,2.9,0]
[null,291,36.569122554958163,1,210.36144578313252,28.047919079517854,0.76698364959032972,291,36.569122554958163,1,361.1204819277109,43.57905317050087,1.1916898773003861,431.24096385542168,50.158301718720338,1.3716025492090926,null,null,null,null,null,null,null,null,null,null,36.5625,0,55,44.8,291,0.6,23,1.17,35.11,100,0.4,2.2000000000000002,0,null,31.25,null,55,46.3,291,0.8,23,1,33.299999999999997,100,0.4,1.8,1,null,36.5625,null,55,44.8,291,0.6,23,1.17,35.11,100,0.4,2.2000000000000002,0,null,40.625,null,55,43.7,291,0.4,23,1.3,36.380000000000003,100,0.4,2.6,0,null,43.75,null,55,42.8,291,0.4,23,1.4,37.47,100,0.4,2.9,0]
[null,301,36.980762884642402,1,217.59036144578315,28.362899535348632,0.76696361359076637,301,36.980762884642402,1,373.53012048192772,44.076797976459332,1.1918844971898568,446.06024096385545,50.717047562404531,1.3714440591885846,null,null,null,null,null,null,null,null,null,null,37.1875,0,55,44.6,301,0.6,23,1.19,34.85,100,0.4,2.2000000000000002,0,null,31.5625,null,55,46.2,301,0.8,23,1.01,33.07,100,0.4,1.8,1,null,37.1875,null,55,44.6,301,0.6,23,1.19,34.85,100,0.4,2.2000000000000002,0,null,40.9375,null,55,43.5,301,0.5,23,1.31,36.090000000000003,100,0.4,2.6,0,null,44.375,null,55,42.6,301,0.4,23,1.42,37.17,100,0.4,2.9,0]
[null,311,37.382515747467068,1,224.81927710843374,28.664844366656411,0.76679816201505002,311,37.382515747467068,1,385.93975903614461,44.562592522294011,1.1920704540949318,460.87951807228916,51.256472275729038,1.3711349076125789,null,null,null,null,null,null,null,null,null,null,37.5,0,55,44.5,311,0.6,23,1.2,34.590000000000003,100,0.4,2.2000000000000002,0,null,31.875,null,55,46.1,311,0.8,23,1.02,32.86,100,0.4,1.8,1,null,37.5,null,55,44.5,311,0.6,23,1.2,34.590000000000003,100,0.4,2.2000000000000002,0,null,41.5625,null,55,43.4,311,0.5,23,1.33,35.82,100,0.4,2.6,0,null,45,null,55,42.5,311,0.4,23,1.44,36.880000000000003,100,0.4,2.9,0]
[null,{"$f":"AE50","v":321},{"$f":"$J$4*B50^6+$K$4*B50^5+$L$4*B50^4+$M$4*B50^3+$N$4*B50^2+$O$4*B50","v":37.775594071476945},1,232.04819277108433,28.955239998444199,0.76650654238968829,321,37.775594071476945,1,398.34939759036149,{"$f":"IF(K50>$B$11,\"\",$J$5*K50^6+$K$5*K50^5+$L$5*K50^4+$M$5*K50^3+$N$5*K50^2+$O$5*K50)","v":45.03695347163},{"$f":"IF(K50>$B$11,\"\",1/$C50*L50)","v":1.1922235659990814},475.69879518072287,51.776699098580082,{"$f":"IF(N50>$B$11,\"\",1/$C50*O50)","v":1.3706389104195422},null,null,null,null,null,null,null,null,null,null,38.125,0,55,44.4,321,0.6,23,1.22,34.36,100,0.4,2.2000000000000002,0,null,32.1875,null,55,46,321,0.8,23,1.03,32.65,100,0.4,1.8,1,null,38.125,null,55,44.4,321,0.6,23,1.22,34.36,100,0.4,2.2000000000000002,0,null,42.1875,null,55,43.3,321,0.5,23,1.35,35.57,100,0.4,2.6,0,null,45.3125,null,55,42.3,321,0.4,23,1.45,36.61,100,0.4,2.9,0]
[null,331,38.160982787797764,1,239.27710843373495,29.235443687113516,0.76610824856590831,331,38.160982787797764,1,410.75903614457837,45.500177892544116,1.1923219626066106,490.51807228915663,52.277788278720124,1.3699277235448011,null,null,null,null,null,null,null,null,null,null,38.4375,0,55,44.3,331,0.6,23,1.23,34.130000000000003,100,0.4,2.2000000000000002,1,null,32.5,null,55,45.9,331,0.9,23,1.04,32.450000000000003,100,0.4,1.8,1,null,38.4375,null,55,44.3,331,0.6,23,1.23,34.130000000000003,100,0.4,2.2000000000000002,1,null,42.5,null,55,43.1,331,0.5,23,1.36,35.31,100,0.4,2.6,0,null,45.9375,null,55,42.2,331,0.4,23,1.47,36.340000000000003,100,0.4,2.9,0]
[null,341,38.539460700748762,1,246.50602409638554,29.506689865949447,0.76562280139473193,341,38.539460700748762,1,423.1686746987952,45.952384075884396,1.1923463183020517,505.33734939759034,52.759791083190805,1.3689810423882181,null,null,null,null,null,null,null,null,null,null,38.75,0,55,44.2,341,0.7,23,1.24,33.909999999999997,100,0.4,2.2000000000000002,1,null,32.8125,null,55,45.8,341,0.9,23,1.05,32.26,100,0.4,1.8,1,null,38.75,null,55,44.2,341,0.7,23,1.24,33.909999999999997,100,0.4,2.2000000000000002,1,null,42.8125,null,55,43,341,0.5,23,1.37,35.08,100,0.4,2.6,0,null,46.5625,null,55,42,341,0.4,23,1.49,36.08,100,0.4,2.9,0]
[null,351,38.911621503495979,1,253.73493975903614,29.770096353686213,0.76506953972636549,351,38.911621503495979,1,435.57831325301208,46.393549676936829,1.1922800408810681,520.15662650602405,53.222796839334393,1.3677866607165841,null,null,null,null,null,null,null,null,null,null,39.0625,0,55,44.1,351,0.7,23,1.25,33.700000000000003,100,0.4,2.2000000000000002,1,null,33.125,null,55,45.7,351,0.9,23,1.06,32.08,100,0.4,1.8,1,null,39.0625,null,55,44.1,351,0.7,23,1.25,33.700000000000003,100,0.4,2.2000000000000002,1,null,43.4375,null,55,42.9,351,0.5,23,1.39,34.85,100,0.4,2.6,0,null,46.875,null,55,41.9,351,0.5,23,1.5,35.85,100,0.4,2.9,0]
[null,361,39.277893939244962,1,260.96385542168673,30.026670426153814,0.76446742466892603,361,39.277893939244962,1,447.98795180722897,46.823547180439192,1.1921094153588236,534.97590361445782,53.666973005433988,1.3663403920904225,null,null,null,null,null,null,null,null,null,null,39.375,0,55,44,361,0.7,23,1.26,33.51,100,0.4,2.2000000000000002,1,null,33.4375,null,55,45.7,361,1,23,1.07,31.91,100,0.4,1.8,1,null,39.375,null,55,44,361,0.7,23,1.26,33.51,100,0.4,2.2000000000000002,1,null,43.75,null,55,42.8,361,0.6,23,1.4,34.64,100,0.4,2.6,0,null,47.5,null,55,41.8,361,0.5,23,1.52,35.6,100,0.4,3,0]
[null,371,39.638561107973842,1,268.19277108433732,30.277314751005157,0.76383485940700457,371,39.638561107973842,1,460.39759036144585,47.242176688943431,1.1918237031928998,549.79518072289159,54.092598270970683,1.3646458589559955,null,null,null,null,null,null,null,null,null,null,39.6875,0,55,43.9,371,0.7,23,1.27,33.31,100,0.4,2.2000000000000002,1,null,33.75,null,55,45.6,371,1,23,1.08,31.74,100,0.4,1.8,1,null,39.6875,null,55,43.9,371,0.7,23,1.27,33.31,100,0.4,2.2000000000000002,1,null,44.0625,null,55,42.7,371,0.6,23,1.41,34.43,100,0.4,2.6,0,null,47.8125,null,55,41.7,371,0.5,23,1.53,35.39,100,0.4,3,0]
[null,381,39.993778918706624,1,275.42168674698797,30.522833185523822,0.76318952624022041,381,39.993778918706624,1,472.80722891566268,47.649196034523868,1.1914151981331405,564.61445783132535,54.500088686500646,1.3627141560511269,null,null,null,null,null,null,null,null,null,null,40.3125,0,55,43.8,381,0.7,23,1.29,33.130000000000003,100,0.4,2.2000000000000002,1,null,34.0625,null,55,45.5,381,1,23,1.0900000000000001,31.58,100,0.4,1.8,1,null,40.3125,null,55,43.8,381,0.7,23,1.29,33.130000000000003,100,0.4,2.2000000000000002,1,null,44.6875,null,55,42.6,381,0.6,23,1.43,34.22,100,0.4,2.6,0,null,48.125,null,55,41.5,381,0.5,23,1.54,35.17,100,0.4,3,0]
[null,391,40.343593687326006,0.99999999999999989,282.65060240963857,30.763936437513038,0.76254824188301218,391,40.343593687326006,0.99999999999999989,485.21686746987956,48.044348213834326,1.1908792406098299,579.43373493975901,54.890016823149381,1.3605633957292493,null,null,null,null,null,null,null,null,null,null,40.625,0,55,43.7,391,0.7,23,1.3,32.950000000000003,100,0.4,2.2000000000000002,1,null,34.375,null,55,45.4,391,1,23,1.1000000000000001,31.43,100,0.4,1.8,1,null,40.625,null,55,43.7,391,0.7,23,1.3,32.950000000000003,100,0.4,2.2000000000000002,1,null,45,null,55,42.5,391,0.6,23,1.44,34.03,100,0.4,2.6,0,null,48.75,null,55,41.4,391,0.5,23,1.56,34.950000000000003,100,0.4,3,0]
[null,401,40.687958879926896,1,289.87951807228916,31.001247589264693,0.76192683149212803,401,40.687958879926896,1,497.62650602409644,48.427386146511736,1.1902141930841124,594.25301204819277,55.263123961723835,1.3582181432302689,null,null,null,null,null,null,null,null,null,null,40.9375,0,55,43.6,401,0.8,23,1.31,32.78,100,0.4,2.2000000000000002,1,null,34.6875,null,55,45.3,401,1.1000000000000001,23,1.1100000000000001,31.28,100,0.4,1.8,1,null,40.9375,null,55,43.6,401,0.8,23,1.31,32.78,100,0.4,2.2000000000000002,1,null,45.3125,null,55,42.4,401,0.6,23,1.45,33.840000000000003,100,0.4,2.6,0,null,49.0625,null,55,41.3,401,0.5,23,1.57,34.76,100,0.4,3,0]
[null,411,41.026751001709442,1,297.10843373493975,31.235307484609677,0.76134002137552181,411,41.026751001709442,1,510.03614457831333,48.798094756928151,1.1894213791117632,609.07228915662654,55.620325311443651,1.3557087498624043,null,null,null,null,null,null,null,null,null,null,41.25,0,55,43.5,411,0.8,23,1.32,32.619999999999997,100,0.4,2.2000000000000002,1,null,35,null,55,45.3,411,1.1000000000000001,23,1.1200000000000001,31.14,100,0.4,1.8,1,null,41.25,null,55,43.5,411,0.8,23,1.32,32.619999999999997,100,0.4,2.2000000000000002,1,null,45.625,null,55,42.3,411,0.6,23,1.46,33.659999999999997,100,0.4,2.6,1,null,49.375,null,55,41.2,411,0.5,23,1.58,34.56,100,0.4,3,0]
[null,421,41.359784631412481,1,304.33734939759034,31.466579979048731,0.76080134989750581,421,41.359784631412481,1,522.44578313253021,49.156310379288925,1.1885049890215105,623.89156626506019,55.962708258291258,1.3530705915665711,null,null,null,null,null,null,null,null,null,null,41.5625,0,55,43.4,421,0.8,23,1.33,32.46,100,0.4,2.2000000000000002,1,null,35,null,55,45.2,421,1.1000000000000001,23,1.1200000000000001,31,100,0.4,1.8,1,null,41.5625,null,55,43.4,421,0.8,23,1.33,32.46,100,0.4,2.2000000000000002,1,null,45.9375,null,55,42.2,421,0.6,23,1.47,33.49,100,0.4,2.6,1,null,49.6875,null,55,41.1,421,0.5,23,1.59,34.369999999999997,100,0.4,3,0]
[null,431,41.686826601286811,1,311.56626506024094,31.69545705296386,0.76032309573752654,431,41.686826601286811,1,534.85542168674704,49.501937486079385,1.1874719550984323,638.71084337349396,56.291523642977154,1.3503432194869809,null,null,null,null,null,null,null,null,null,null,41.875,0,55,43.3,431,0.8,23,1.34,32.299999999999997,100,0.4,2.2000000000000002,1,null,35.3125,null,55,45.1,431,1.1000000000000001,23,1.1299999999999999,30.87,100,0.4,1.8,1,null,41.875,null,55,43.3,431,0.8,23,1.34,32.299999999999997,100,0.4,2.2000000000000002,1,null,46.25,null,55,42.1,431,0.7,23,1.48,33.32,100,0.4,2.6,1,null,50.3125,null,55,41,431,0.6,23,1.61,34.200000000000003,100,0.4,3,0]
[null,441,42.00760932260863,1,318.79518072289159,31.922263787910751,0.75991622238616874,441,42.00760932260863,1,547.26506024096386,49.834962739858867,1.1863317990114122,653.53012048192772,56.60817006852713,1.3475694280478949,null,null,null,null,null,null,null,null,null,null,42.1875,0,55,43.3,441,0.8,23,1.35,32.159999999999997,100,0.4,2.2000000000000002,1,null,35.625,null,55,45.1,441,1.2,23,1.1399999999999999,30.75,100,0.4,1.8,1,null,42.1875,null,55,43.3,441,0.8,23,1.35,32.159999999999997,100,0.4,2.2000000000000002,1,null,46.5625,null,55,42,441,0.7,23,1.49,33.159999999999997,100,0.4,2.6,1,null,50.625,null,55,40.9,441,0.6,23,1.62,34.020000000000003,100,0.4,3,0]
[null,451,42.321843256733104,0.99999999999999989,326.02409638554218,32.147263205991919,0.7595903375705999,451,42.321843256733104,0.99999999999999989,559.6746987951808,50.155466368401392,1.1850964539551809,668.34939759036149,56.914171237485903,1.3447942447173837,null,null,null,null,null,null,null,null,null,null,42.1875,0,55,43.2,451,0.9,23,1.35,32.01,100,0.4,2.2000000000000002,1,null,35.9375,null,55,45,451,1.2,23,1.1499999999999999,30.62,100,0.4,1.8,2,null,42.1875,null,55,43.2,451,0.9,23,1.35,32.01,100,0.4,2.2000000000000002,1,null,46.875,null,55,41.9,451,0.7,23,1.5,33,100,0.4,2.6,1,null,50.9375,null,55,40.799999999999997,451,0.6,23,1.63,33.85,100,0.4,3,0]
[null,461,42.629228531687687,1,333.25301204819277,32.370660972310176,0.75935366618816513,461,42.629228531687687,1,572.08433734939763,50.463630863184903,1.1837800636170004,683.16867469879514,57.211146318738372,1.3420638442051906,null,null,null,null,null,null,null,null,null,null,42.5,0,55,43.1,461,0.9,23,1.36,31.88,100,0.4,2.2000000000000002,1,null,35.9375,null,55,44.9,461,1.2,23,1.1499999999999999,30.5,100,0.4,1.8,2,null,42.5,null,55,43.1,461,0.9,23,1.36,31.88,100,0.4,2.2000000000000002,1,null,47.1875,null,55,41.8,461,0.7,23,1.51,32.85,100,0.4,2.6,1,null,51.25,null,55,40.700000000000003,461,0.6,23,1.64,33.69,100,0.4,3,0]
[null,471,42.929465704306153,1,340.48192771084337,32.592609960503367,0.75921303528438933,471,42.929465704306153,1,584.49397590361446,50.759747001227367,1.1823987596504324,697.98795180722891,57.500773343950556,1.3394243883678894,null,null,null,null,null,null,null,null,null,null,42.8125,0,55,43,471,0.9,23,1.37,31.74,100,0.4,2.2000000000000002,1,null,36.25,null,55,44.9,471,1.2,23,1.1599999999999999,30.39,100,0.4,1.8,2,null,42.8125,null,55,43,471,0.9,23,1.37,31.74,100,0.4,2.2000000000000002,1,null,47.5,null,55,41.7,471,0.7,23,1.52,32.700000000000003,100,0.4,2.6,1,null,51.5625,null,55,40.6,471,0.6,23,1.65,33.53,100,0.4,3,0]
[null,481,43.222265667901411,1,347.71084337349396,32.813214681359582,0.75917386963191968,481,43.222265667901411,1,596.9036144578314,51.04421719026962,1.1809704188685579,712.80722891566268,57.784745633627608,1.3369207916497741,null,null,null,null,null,null,null,null,null,null,43.125,0,55,43,481,0.9,23,1.38,31.62,100,0.4,2.2000000000000002,1,null,36.5625,null,55,44.8,481,1.3,23,1.17,30.28,100,0.4,1.8,2,null,43.125,null,55,43,481,0.9,23,1.38,31.62,100,0.4,2.2000000000000002,1,null,47.8125,null,55,41.6,481,0.7,23,1.53,32.56,100,0.4,2.6,1,null,51.875,null,55,40.5,481,0.6,23,1.66,33.380000000000003,100,0.4,3,0]
[null,491,43.507358705480158,1,354.93975903614455,33.032535574513133,0.7592401965406459,491,43.507358705480158,1,609.31325301204822,51.317556137307406,1.1795144008786607,727.62650602409633,58.06472125279123,1.3345954105340216,null,null,null,null,null,null,null,null,null,null,43.4375,0,55,42.9,491,0.9,23,1.39,31.49,100,0.4,2.2000000000000002,1,null,36.5625,null,55,44.8,491,1.3,23,1.17,30.17,100,0.4,1.8,2,null,43.4375,null,55,42.9,491,0.9,23,1.39,31.49,100,0.4,2.2000000000000002,1,null,48.125,null,55,41.6,491,0.8,23,1.54,32.42,100,0.4,2.6,1,null,52.1875,null,55,40.4,491,0.6,23,1.67,33.22,100,0.4,3,1]
[null,501,43.784502688495962,1,362.1686746987952,33.250593163220984,0.7594146586471866,501,43.784502688495962,1,621.72289156626516,51.580388840469055,1.1780512663906859,742.4457831325301,58.34226549627374,1.3324866542700899,null,null,null,null,null,null,null,null,null,null,43.75,0,55,42.8,501,1,23,1.4,31.37,100,0.4,2.2000000000000002,1,null,36.875,null,55,44.7,501,1.3,23,1.18,30.07,100,0.4,1.8,2,null,43.75,null,55,42.8,501,1,23,1.4,31.37,100,0.4,2.2000000000000002,1,null,48.4375,null,55,41.5,501,0.8,23,1.55,32.29,100,0.4,2.6,1,null,52.5,null,55,40.299999999999997,501,0.6,23,1.68,33.08,100,0.4,3,1]
[null,511,44.053490421143437,1,369.39759036144579,33.467372072220542,0.75969853358447847,511,44.053490421143437,1,634.13253012048199,51.833445904242495,1.1766024759610212,757.26506024096386,58.618786403632271,1.3306275131265928,null,null,null,null,null,null,null,null,null,null,44.0625,0,55,42.8,511,1,23,1.41,31.25,100,0.4,2.2000000000000002,1,null,37.1875,null,55,44.6,511,1.4,23,1.19,29.97,100,0.4,1.8,2,null,44.0625,null,55,42.8,511,1,23,1.41,31.25,100,0.4,2.2000000000000002,1,null,48.75,null,55,41.4,511,0.8,23,1.56,32.159999999999997,100,0.4,2.6,1,null,52.8125,null,55,40.299999999999997,511,0.7,23,1.69,32.94,100,0.4,3,1]
[null,521,44.314156130191691,1,376.62650602409639,33.682824908667598,0.76009175961085595,521,44.314156130191691,1,646.54216867469881,52.077556178047104,1.1751900684974599,772.08433734939763,58.89546330367881,1.3290439996340746,null,null,null,null,null,null,null,null,null,null,44.0625,0,55,42.7,521,1,23,1.41,31.14,100,0.4,2.2000000000000002,1,null,37.1875,null,55,44.6,521,1.4,23,1.19,29.87,100,0.4,1.8,2,null,44.0625,null,55,42.7,521,1,23,1.41,31.14,100,0.4,2.2000000000000002,1,null,49.0625,null,55,41.3,521,0.8,23,1.57,32.03,100,0.4,2.6,1,null,53.125,null,55,40.200000000000003,521,0.7,23,1.7,32.81,100,0.4,3,1]
[null,531,44.566381100358655,1,383.85542168674698,33.896876006155196,0.76059296647450703,531,44.566381100358655,1,658.95180722891575,52.313636718156147,1.1738363184650671,786.90361445783128,59.173168388631666,1.3277534977628116,null,null,null,null,null,null,null,null,null,null,44.375,0,55,42.6,531,1,23,1.42,31.03,100,0.4,2.2000000000000002,1,null,37.5,null,55,44.5,531,1.4,23,1.2,29.78,100,0.4,1.8,2,null,44.375,null,55,42.6,531,1,23,1.42,31.03,100,0.4,2.2000000000000002,1,null,49.375,null,55,41.3,531,0.8,23,1.58,31.91,100,0.4,2.6,1,null,53.4375,null,55,40.1,531,0.7,23,1.71,32.68,100,0.4,3,1]
[null,541,44.810098455224846,1,391.08433734939757,34.109425031813515,0.76119951099630689,541,44.810098455224846,1,671.36144578313258,52.542680072963691,1.1725633704077978,801.72289156626505,59.452381317880452,1.3267630147540621,null,null,null,null,null,null,null,null,null,null,44.6875,0,55,42.6,541,1,23,1.43,30.92,100,0.4,2.2000000000000002,1,null,37.8125,null,55,44.5,541,1.4,23,1.21,29.69,100,0.4,1.8,2,null,44.6875,null,55,42.6,541,1,23,1.43,30.92,100,0.4,2.2000000000000002,1,null,49.6875,null,55,41.2,541,0.8,23,1.59,31.79,100,0.4,2.6,1,null,53.75,null,55,40,541,0.7,23,1.72,32.549999999999997,100,0.4,3,1]
[null,551,45.045297083687387,1,398.31325301204816,34.320350456489805,0.76190751706505022,551,45.045297083687387,1,683.77108433734941,52.765738891601842,1.1713928491485146,816.54216867469881,59.733096851375137,1.3260673304118746,null,null,null,null,null,null,null,null,null,null,45,0,55,42.5,551,1.1000000000000001,23,1.44,30.82,100,0.4,2.2000000000000002,1,null,37.8125,null,55,44.4,551,1.5,23,1.21,29.6,100,0.4,1.8,2,null,45,null,55,42.5,551,1.1000000000000001,23,1.44,30.82,100,0.4,2.2000000000000002,1,null,49.6875,null,55,41.1,551,0.8,23,1.59,31.68,100,0.4,2.6,1,null,54.0625,null,55,39.9,551,0.7,23,1.73,32.42,100,0.4,3,1]
[null,561,45.272024711954401,0.99999999999999989,405.54216867469881,34.529512888009819,0.76271191994848098,561,45.272024711954401,0.99999999999999989,696.18072289156635,52.983907855901691,1.170345443858863,831.36144578313258,60.014725512629639,1.3256470390815616,null,null,null,null,null,null,null,null,null,null,45,0,55,42.4,561,1.1000000000000001,23,1.44,30.72,100,0.4,2.2000000000000002,1,null,38.125,null,55,44.4,561,1.5,23,1.22,29.51,100,0.4,1.8,2,null,45,null,55,42.4,561,1.1000000000000001,23,1.44,30.72,100,0.4,2.2000000000000002,1,null,50,null,55,41,561,0.9,23,1.6,31.56,100,0.4,2.6,1,null,54.375,null,55,39.9,561,0.7,23,1.74,32.299999999999997,100,0.4,3,1]
[null,571,45.490390121078462,1,412.77108433734941,34.736758267519235,0.76360651502576549,571,45.490390121078462,1,708.59036144578317,53.19830293570709,1.1694404641092995,846.18072289156623,60.295987281343798,1.3254664803018474,null,null,null,null,null,null,null,null,null,null,45.3125,0,55,42.4,571,1.1000000000000001,23,1.45,30.62,100,0.4,2.2000000000000002,1,null,38.125,null,55,44.3,571,1.5,23,1.22,29.43,100,0.4,1.8,2,null,45.3125,null,55,42.4,571,1.1000000000000001,23,1.45,30.62,100,0.4,2.2000000000000002,1,null,50.3125,null,55,41,571,0.9,23,1.61,31.46,100,0.4,2.6,1,null,54.6875,null,55,39.799999999999997,571,0.7,23,1.75,32.18,100,0.4,3,1]
[null,581,45.700564510031285,1,420,34.941920928906967,0.76458401123769948,581,45.700564510031285,1,721.00000000000011,53.410037967529718,1.1686953660234591,861,60.574798315642568,1.3254715552221765,null,null,null,null,null,null,null,null,null,null,45.625,0,55,42.3,581,1.1000000000000001,23,1.46,30.52,100,0.4,2.2000000000000002,1,null,38.4375,null,55,44.3,581,1.5,23,1.23,29.35,100,0.4,1.8,2,null,45.625,null,55,42.3,581,1.1000000000000001,23,1.46,30.52,100,0.4,2.2000000000000002,1,null,50.625,null,55,40.9,581,0.9,23,1.62,31.35,100,0.4,2.6,1,null,55,null,55,39.700000000000003,581,0.7,23,1.76,32.07,100,0.4,3,1]
[null,591,45.902782004318084,1,427.22891566265059,35.144826521307351,0.76563608972548269,591,45.902782004318084,1,733.40963855421694,53.620198556556659,1.1681252467772563,875.81927710843377,60.848150703938586,1.3255874273200825,null,null,null,null,null,null,null,null,null,null,45.625,0,55,42.3,591,1.1000000000000001,23,1.46,30.43,100,0.4,2.2000000000000002,1,null,38.4375,null,55,44.2,591,1.6,23,1.23,29.27,100,0.4,1.8,2,null,45.625,null,55,42.3,591,1.1000000000000001,23,1.46,30.43,100,0.4,2.2000000000000002,1,null,50.9375,null,55,40.799999999999997,591,0.9,23,1.63,31.25,100,0.4,2.6,1,null,55,null,55,39.6,591,0.8,23,1.76,31.96,100,0.4,3,1]
[null,601,46.097339310131474,1,434.45783132530119,35.345294794685032,0.76675346828350865,601,46.097339310131474,1,745.81927710843377,53.829813302002151,1.1677423059029179,890.63855421686742,61.111985246405709,1.3257161077184827,null,null,null,null,null,null,null,null,null,null,{"$f":"IF($AA$13=$AO$13,AO78,IF($AA$13=$BC$13,BC78,IF($AA$13=$BQ$13,BQ78,IF($AA$13=$CE$13,CE78,\"-\"))))","v":45.9375},{"$f":"IF($AA$13=$AO$13,AP78,IF($AA$13=$BC$13,BD78,IF($AA$13=$BQ$13,BR78,IF($AA$13=$CE$13,CF78,\"-\"))))","v":0},{"$f":"IF($AA$13=$AO$13,AQ78,IF($AA$13=$BC$13,BE78,IF($AA$13=$BQ$13,BS78,IF($AA$13=$CE$13,CG78,\"-\"))))","v":55},{"$f":"IF($AA$13=$AO$13,AR78,IF($AA$13=$BC$13,BF78,IF($AA$13=$BQ$13,BT78,IF($AA$13=$CE$13,CH78,\"-\"))))","v":42.2},{"$f":"IF($AA$13=$AO$13,AS78,IF($AA$13=$BC$13,BG78,IF($AA$13=$BQ$13,BU78,IF($AA$13=$CE$13,CI78,\"-\"))))","v":601},{"$f":"IF($AA$13=$AO$13,AT78,IF($AA$13=$BC$13,BH78,IF($AA$13=$BQ$13,BV78,IF($AA$13=$CE$13,CJ78,\"-\"))))","v":1.1000000000000001},{"$f":"IF($AA$13=$AO$13,AU78,IF($AA$13=$BC$13,BI78,IF($AA$13=$BQ$13,BW78,IF($AA$13=$CE$13,CK78,\"-\"))))","v":23},{"$f":"IF($AA$13=$AO$13,AV78,IF($AA$13=$BC$13,BJ78,IF($AA$13=$BQ$13,BX78,IF($AA$13=$CE$13,CL78,\"-\"))))","v":1.47},{"$f":"IF($AA$13=$AO$13,AW78,IF($AA$13=$BC$13,BK78,IF($AA$13=$BQ$13,BY78,IF($AA$13=$CE$13,CM78,\"-\"))))","v":30.33},{"$f":"IF($AA$13=$AO$13,AX78,IF($AA$13=$BC$13,BL78,IF($AA$13=$BQ$13,BZ78,IF($AA$13=$CE$13,CN78,\"-\"))))","v":100},{"$f":"IF($AA$13=$AO$13,AY78,IF($AA$13=$BC$13,BM78,IF($AA$13=$BQ$13,CA78,IF($AA$13=$CE$13,CO78,\"-\"))))","v":0.4},{"$f":"IF($AA$13=$AO$13,AZ78,IF($AA$13=$BC$13,BN78,IF($AA$13=$BQ$13,CB78,IF($AA$13=$CE$13,CP78,\"-\"))))","v":2.2000000000000002},{"$f":"IF($AA$13=$AO$13,BA78,IF($AA$13=$BC$13,BO78,IF($AA$13=$BQ$13,CC78,IF($AA$13=$CE$13,CQ78,\"-\"))))","v":1},null,38.75,null,55,44.2,601,1.6,23,1.24,29.19,100,0.4,1.8,3,null,45.9375,null,55,42.2,601,1.1000000000000001,23,1.47,30.33,100,0.4,2.2000000000000002,1,null,50.9375,null,55,40.799999999999997,601,0.9,23,1.63,31.15,100,0.4,2.6,1,null,55.3125,null,55,39.6,601,0.8,23,1.77,31.84,100,0.4,3,1]
[null,611,46.284594514046006,0.99999999999999989,441.68674698795178,35.543142248499265,0.76792597238186822,611,46.284594514046006,0.99999999999999989,758.22891566265071,54.039822345809512,1.1675552721847875,905.45783132530119,61.361057266077523,1.3257339274616795,null,null,null,null,null,null,null,null,null,null,46.25,0,55,42.1,611,1.2,23,1.48,30.25,100,0.4,2.2000000000000002,1,null,39.0625,null,55,44.1,611,1.6,23,1.25,29.12,100,0.4,1.8,3,null,46.25,null,55,42.1,611,1.2,23,1.48,30.25,100,0.4,2.2000000000000002,1,null,51.25,null,55,40.700000000000003,611,0.9,23,1.64,31.05,100,0.4,2.6,1,null,55.625,null,55,39.5,611,0.8,23,1.78,31.74,100,0.4,3,1]
[null,621,46.464965028252493,1,448.91566265060243,35.738184643449699,0.76914261361693703,621,46.464965028252493,1,770.63855421686753,54.25104324469703,1.167568795364643,920.27710843373495,61.588795449559598,1.3254889014144577,null,null,null,null,null,null,null,null,null,null,46.25,0,55,42.1,621,1.2,23,1.48,30.16,100,0.4,2.2000000000000002,2,null,39.0625,null,55,44.1,621,1.6,23,1.25,29.04,100,0.4,1.8,3,null,46.25,null,55,42.1,621,1.2,23,1.48,30.16,100,0.4,2.2000000000000002,2,null,51.5625,null,55,40.700000000000003,621,1,23,1.65,30.96,100,0.4,2.6,1,null,55.9375,null,55,39.4,621,0.8,23,1.79,31.64,100,0.4,3,1]
[null,631,46.638924681332838,1,456.14457831325302,35.930239376302097,0.7703916765191442,631,46.638924681332838,1,783.04819277108436,54.464134165554526,1.1677828024056849,935.09638554216872,61.787153717360695,1.3247979909384771,null,null,null,null,null,null,null,null,null,null,46.5625,0,55,42,631,1.2,23,1.49,30.08,100,0.4,2.2000000000000002,2,null,39.375,null,55,44,631,1.7,23,1.26,28.97,100,0.4,1.8,3,null,46.5625,null,55,42,631,1.2,23,1.49,30.08,100,0.4,2.2000000000000002,2,null,51.5625,null,55,40.6,631,1,23,1.65,30.86,100,0.4,2.6,1,null,55.9375,null,55,39.4,631,0.8,23,1.79,31.54,100,0.4,3,1]
[null,{"$f":"AE82","v":641},{"$f":"$J$4*B82^6+$K$4*B82^5+$L$4*B82^4+$M$4*B82^3+$N$4*B82^2+$O$4*B82","v":46.806999954573826},1,463.37349397590361,36.119127717795635,0.7716608146826166,641,46.806999954573826,1,{"$f":"IF($B82*$G$5>$B$11,\"\",$B82*$G$5)","v":795.4578313253013},{"$f":"IF(K82>$B$11,\"\",$J$5*K82^6+$K$5*K82^5+$L$5*K82^4+$M$5*K82^3+$N$5*K82^2+$O$5*K82)","v":54.679554404187115},{"$f":"IF(K82>$B$11,\"\",1/$C82*L82)","v":1.1681918186863847},949.91566265060237,61.946456123844428,{"$f":"IF(N82>$B$11,\"\",1/$C82*O82)","v":1.3234442750862785},null,null,null,null,null,null,null,null,null,null,46.5625,0,55,42,641,1.2,23,1.49,29.99,100,0.4,2.2000000000000002,2,null,39.375,null,55,44,641,1.7,23,1.26,28.9,100,0.4,1.8,3,null,46.5625,null,55,42,641,1.2,23,1.49,29.99,100,0.4,2.2000000000000002,2,null,51.875,null,55,40.5,641,1,23,1.66,30.77,100,0.4,2.6,1,null,56.25,null,55,39.299999999999997,641,0.8,23,1.8,31.44,100,0.4,3,1]
[null,651,46.969765363822546,{"$f":"1/C83*C83","v":1},{"$f":"IF($B83*$G$3>$B$11,\"\",$B83*$G$3)","v":470.60240963855421},{"$f":"IF(E83>$B$11,\"\",$J$3*E83^6+$K$3*E83^5+$L$3*E83^4+$M$3*E83^3+$N$3*E83^2+$O$3*E83)","v":36.304676913630516},{"$f":"IF(E83>$B$11,\"\",1/$C83*F83)","v":0.77293715717799638},{"$f":"IF($B83*$G$4>$B$11,\"\",$B83*$G$4)","v":651},{"$f":"IF(H83>$B$11,\"\",$J$4*H83^6+$K$4*H83^5+$L$4*H83^4+$M$4*H83^3+$N$4*H83^2+$O$4*H83)","v":46.969765363822546},{"$f":"IF(H83>$B$11,\"\",1/$C83*I83)","v":1},807.86746987951813,54.897522227403215,1.1687842551942329,{"$f":"IF($B83*$G$6>$B$11,\"\",$B83*$G$6)","v":964.73493975903614},{"$f":"IF(N83>$B$11,\"\",$J$6*N83^6+$K$6*N83^5+$L$6*N83^4+$M$6*N83^3+$N$6*N83^2+$O$6*N83)","v":62.055234786794813},{"$f":"IF(N83>$B$11,\"\",1/$C83*O83)","v":1.3211740426234178},null,null,null,null,null,null,null,null,null,null,46.875,0,55,41.9,651,1.2,23,1.5,29.92,100,0.4,2.2000000000000002,2,null,{"$f":"ABS(AV83/(AU83-AQ83)*1000)","v":39.6875},null,55,44,651,1.7,23,1.27,28.83,100,0.4,1.8,3,null,{"$f":"ABS(BJ83/(BI83-BE83)*1000)","v":46.875},null,55,41.9,651,1.2,23,1.5,29.92,100,0.4,2.2000000000000002,2,null,{"$f":"ABS(BX83/(BW83-BS83)*1000)","v":52.1875},null,55,40.5,651,1,23,1.67,30.68,100,0.4,2.6,1,null,{"$f":"ABS(CL83/(CK83-CG83)*1000)","v":56.5625},null,55,39.299999999999997,651,0.8,23,1.81,31.34,100,0.4,3,1]
[null,661,47.12783798688011,1,477.8313253012048,36.486722148536529,0.77420742616485072,661,47.12783798688011,1,820.27710843373507,55.117970038454018,1.1695416635449791,979.5542168674699,62.100060846609438,{"$f":"IF(N84>$B$11,\"\",1/$C84*O84)","v":1.3176938196039767},null,null,null,null,null,null,null,null,null,null,47.1875,0,55,41.9,661,1.3,23,1.51,29.84,100,0.4,2.2000000000000002,2,null,39.6875,null,55,43.9,661,1.7,23,1.27,28.77,100,0.4,1.8,3,null,47.1875,null,55,41.9,661,1.3,23,1.51,29.84,100,0.4,2.2000000000000002,2,null,52.1875,null,55,40.4,661,1,23,1.67,30.6,100,0.4,2.6,1,null,56.875,null,55,39.200000000000003,661,0.9,23,1.82,31.25,100,0.4,3,1]
[null,671,47.281871136437417,1,485.06024096385539,36.665108373421532,0.77545806653082816,671,47.281871136437417,1,832.68674698795189,55.340496865817727,1.1704379614361324,"","",{"$f":"IF(N85>$B$11,\"\",1/$C85*O85)","v":""},null,null,null,null,null,null,null,null,null,null,47.1875,0,55,41.8,671,1.3,23,1.51,29.76,100,0.4,2.2000000000000002,2,null,40,null,55,43.9,671,1.8,23,1.28,28.7,100,0.4,1.8,3,null,47.1875,null,55,41.8,671,1.3,23,1.51,29.76,100,0.4,2.2000000000000002,2,null,52.5,null,55,40.4,671,1,23,1.68,30.51,100,0.4,2.6,1,null,56.875,null,55,39.1,671,0.9,23,1.82,31.16,100,0.4,3,1]
[null,681,47.432547178548333,1,492.28915662650604,36.839691995601896,0.77667538825034643,681,47.432547178548333,1,845.09638554216872,55.564318175332573,1.1714386319202754,"","","",null,null,null,null,null,null,null,null,null,null,47.5,0,55,41.8,681,1.3,23,1.52,29.69,100,0.4,2.2000000000000002,2,null,40,null,55,43.8,681,1.8,23,1.28,28.64,100,0.4,1.8,3,null,47.5,null,55,41.8,681,1.3,23,1.52,29.69,100,0.4,2.2000000000000002,2,null,52.8125,null,55,40.299999999999997,681,1,23,1.69,30.43,100,0.4,2.6,1,null,57.1875,null,55,39.1,681,0.9,23,1.83,31.07,100,0.4,3,1]
[null,691,47.580569496646547,1,499.51807228915663,37.010342432113163,0.77784572197526203,691,47.580569496646547,1,857.50602409638566,55.788213005676766,1.1724999006077195,"","","",null,null,null,null,null,null,null,null,null,null,47.5,0,55,41.7,691,1.3,23,1.52,29.61,100,0.4,2.2000000000000002,2,null,40.3125,null,55,43.8,691,1.8,23,1.29,28.58,100,0.4,1.8,3,null,47.5,null,55,41.7,691,1.3,23,1.52,29.61,100,0.4,2.2000000000000002,2,null,52.8125,null,55,40.299999999999997,691,1.1000000000000001,23,1.69,30.35,100,0.4,2.6,1,null,57.5,null,55,39,691,0.9,23,1.84,30.98,100,0.4,3,1]
[null,701,47.726653601098775,1,506.74698795180723,37.176943526100899,0.77895558814634769,701,47.726653601098775,1,869.91566265060248,56.010468427195747,1.1735678955271704,"","","",null,null,null,null,null,null,null,null,null,null,47.8125,0,55,41.7,701,1.3,23,1.53,29.54,100,0.4,2.2000000000000002,2,null,40.3125,null,55,43.8,701,1.9,23,1.29,28.52,100,0.4,1.8,3,null,47.8125,null,55,41.7,701,1.3,23,1.53,29.54,100,0.4,2.2000000000000002,2,null,53.125,null,55,40.200000000000003,701,1.1000000000000001,23,1.7,30.27,100,0.4,2.6,1,null,57.5,null,55,38.9,701,0.9,23,1.84,30.89,100,0.4,3,1]
[null,711,47.871517384299949,1,513.97590361445782,37.339394826292818,0.77999187965031436,711,47.871517384299949,1,882.32530120481931,56.228821324079149,1.1745777948229417,"","","",null,null,null,null,null,null,null,null,null,null,47.8125,0,55,41.6,711,1.4,23,1.53,29.48,100,0.4,2.2000000000000002,2,null,40.3125,null,55,43.7,711,1.9,23,1.29,28.46,100,0.4,1.8,3,null,47.8125,null,55,41.6,711,1.4,23,1.53,29.48,100,0.4,2.2000000000000002,2,null,53.4375,null,55,40.1,711,1.1000000000000001,23,1.71,30.19,100,0.4,2.6,1,null,57.8125,null,55,38.9,711,0.9,23,1.85,30.81,100,0.4,3,1]
[null,721,48.015870521308614,1,521.20481927710841,37.497612729552145,0.7809420577496633,721,48.015870521308614,1,894.73493975903625,56.440397499878884,1.1754529676772518,"","","",null,null,null,null,null,null,null,null,null,null,48.125,0,55,41.6,721,1.4,23,1.54,29.41,100,0.4,2.2000000000000002,2,null,40.625,null,55,43.7,721,1.9,23,1.3,28.41,100,0.4,1.8,3,null,48.125,null,55,41.6,721,1.4,23,1.54,29.41,100,0.4,2.2000000000000002,2,null,53.4375,null,55,40.1,721,1.1000000000000001,23,1.71,30.12,100,0.4,2.6,1,null,58.125,null,55,38.799999999999997,721,0.9,23,1.86,30.73,100,0.4,3,1]
[null,731,48.160403016021661,1,528.43373493975901,37.651531486510322,0.78179436069055896,731,48.160403016021661,1,907.14457831325308,56.641648106383059,1.1761041137371695,"","","",null,null,null,null,null,null,null,null,null,null,48.4375,0,55,41.5,731,1.4,23,1.55,29.34,100,0.4,2.2000000000000002,2,null,40.625,null,55,43.6,731,1.9,23,1.3,28.35,100,0.4,1.8,4,null,48.4375,null,55,41.5,731,1.4,23,1.55,29.34,100,0.4,2.2000000000000002,2,null,53.75,null,55,40,731,1.1000000000000001,23,1.72,30.04,100,0.4,2.6,1,null,58.125,null,55,38.799999999999997,731,0.9,23,1.86,30.65,100,0.4,3,1]
[null,741,48.305772892889763,1,535.6626506024096,37.801104070281639,0.78253802405976347,741,48.305772892889763,1,919.5542168674699,56.828283395831022,{"$f":"IF(K92>$B$11,\"\",1/$C92*L92)","v":1.1764284058105965},"","","",null,null,null,null,null,null,null,null,null,null,48.4375,0,55,41.5,741,1.4,23,1.55,29.28,100,0.4,2.2000000000000002,2,null,40.9375,null,55,43.6,741,2,23,1.31,28.29,100,0.4,1.8,4,null,48.4375,null,55,41.5,741,1.4,23,1.55,29.28,100,0.4,2.2000000000000002,2,null,53.75,null,55,40,741,1.1000000000000001,23,1.72,29.97,100,0.4,2.6,1,null,58.4375,null,55,38.700000000000003,741,1,23,1.87,30.57,100,0.4,3,1]
[null,751,48.452593034171571,1,542.89156626506019,37.946302908258531,0.7831635116307728,751,48.452593034171571,1,931.96385542168684,56.995203796479643,1.1763086395868088,"","","",null,null,null,null,null,null,null,null,null,null,48.75,0,55,41.4,751,1.4,23,1.56,29.21,100,0.4,2.2000000000000002,2,null,40.9375,null,55,43.6,751,2,23,1.31,28.24,100,0.4,1.8,4,null,48.75,null,55,41.4,751,1.4,23,1.56,29.21,100,0.4,2.2000000000000002,2,null,54.0625,null,55,39.9,751,1.2,23,1.73,29.9,100,0.4,2.6,1,null,58.4375,null,55,38.700000000000003,751,1,23,1.87,30.49,100,0.4,3,1]
[null,761,48.601417162729547,1,550.12048192771078,38.087120476986428,0.78366275513039763,761,48.601417162729547,1,944.37349397590367,57.13642831151634,1.1756123925401079,"","","",null,null,null,null,null,null,null,null,null,null,48.75,0,55,41.4,761,1.5,23,1.56,29.15,100,0.4,2.2000000000000002,2,null,41.25,null,55,43.5,761,2,23,1.32,28.19,100,0.4,1.8,4,null,48.75,null,55,41.4,761,1.5,23,1.56,29.15,100,0.4,2.2000000000000002,2,null,54.0625,null,55,39.9,761,1.2,23,1.73,29.84,100,0.4,2.6,1,null,58.75,null,55,38.6,761,1,23,1.88,30.42,100,0.4,3,1]
[null,771,48.752724970366216,1,557.34939759036149,38.223569760121165,0.78402940109204,771,48.752724970366216,1,956.78313253012061,57.245020241313057,1.1741911918997099,"","","",null,null,null,null,null,null,null,null,null,null,49.0625,0,55,41.4,771,1.5,23,1.57,29.09,100,0.4,2.2000000000000002,2,null,41.25,null,55,43.5,771,2,23,1.32,28.14,100,0.4,1.8,4,null,49.0625,null,55,41.4,771,1.5,23,1.57,29.09,100,0.4,2.2000000000000002,2,null,54.375,null,55,39.799999999999997,771,1.2,23,1.74,29.77,100,0.4,2.6,2,null,59.0625,null,55,38.6,771,1,23,1.89,30.35,100,0.4,3,1]
[null,781,48.906906391697476,1,564.57831325301208,38.355684569465467,0.78425906276453416,781,48.906906391697476,1,969.19277108433744,57.31301022904205,1.1718796885253737,"","","",null,null,null,null,null,null,null,null,null,null,49.0625,0,55,41.3,781,1.5,23,1.57,29.03,100,0.4,2.2000000000000002,2,null,41.25,null,55,43.5,781,2.1,23,1.32,28.09,100,0.4,1.8,4,null,49.0625,null,55,41.3,781,1.5,23,1.57,29.03,100,0.4,2.2000000000000002,2,null,54.6875,null,55,39.799999999999997,781,1.2,23,1.75,29.7,100,0.4,2.6,2,null,59.0625,null,55,38.5,781,1,23,1.89,30.28,100,0.4,3,1]
[null,791,49.06424502356748,1,571.80722891566268,38.483519729086709,0.78434957494202895,791,49.06424502356748,1,981.60240963855426,57.331316629621767,1.1684948296276298,"","","",null,null,null,null,null,null,null,null,null,null,49.375,0,55,41.3,791,1.5,23,1.58,28.98,100,0.4,2.2000000000000002,2,null,41.5625,null,55,43.4,791,2.1,23,1.33,28.04,100,0.4,1.8,4,null,49.375,null,55,41.3,791,1.5,23,1.58,28.98,100,0.4,2.2000000000000002,2,null,54.6875,null,55,39.799999999999997,791,1.2,23,1.75,29.64,100,0.4,2.6,2,null,59.375,null,55,38.5,791,1,23,1.9,30.21,100,0.4,3,1]
[null,801,49.224900690008894,0.99999999999999989,579.03614457831327,38.607151122516711,0.78430124959810732,801,49.224900690008894,0.99999999999999989,"",{"$f":"IF(K98>$B$11,\"\",$J$5*K98^6+$K$5*K98^5+$L$5*K98^4+$M$5*K98^3+$N$5*K98^2+$O$5*K98)","v":""},{"$f":"IF(K98>$B$11,\"\",1/$C98*L98)","v":""},"","","",null,null,null,null,null,null,null,null,null,null,49.375,0,55,41.2,801,1.5,23,1.58,28.92,100,0.4,2.2000000000000002,2,null,41.5625,null,55,43.4,801,2.1,23,1.33,27.99,100,0.4,1.8,4,null,49.375,null,55,41.2,801,1.5,23,1.58,28.92,100,0.4,2.2000000000000002,2,null,55,null,55,39.700000000000003,801,1.2,23,1.76,29.57,100,0.4,2.6,2,null,59.375,null,55,38.4,801,1,23,1.9,30.14,100,0.4,3,1]
[null,811,49.388891152731276,1,586.26506024096386,38.726675603029577,0.78411713037392095,811,49.388891152731276,1,"","","","","","",null,null,null,null,null,null,null,null,null,null,49.375,0,55,41.2,811,1.6,23,1.58,28.86,100,0.4,2.2000000000000002,2,null,41.875,null,55,43.3,811,2.1,23,1.34,27.94,100,0.4,1.8,4,null,49.375,null,55,41.2,811,1.6,23,1.58,28.86,100,0.4,2.2000000000000002,2,null,55,null,55,39.700000000000003,811,1.3,23,1.76,29.51,100,0.4,2.6,2,null,59.6875,null,55,38.4,811,1,23,1.91,30.07,100,0.4,3,1]
[null,821,49.556072967161583,1,593.49397590361446,38.842210767002825,0.78380324431158377,821,49.556072967161583,1,"","","","","","",null,null,null,null,null,null,null,null,null,null,49.6875,0,55,41.2,821,1.6,23,1.59,28.81,100,0.4,2.2000000000000002,2,null,41.875,null,55,43.3,821,2.2000000000000002,23,1.34,27.9,100,0.4,1.8,4,null,49.6875,null,55,41.2,821,1.6,23,1.59,28.81,100,0.4,2.2000000000000002,2,null,55.3125,null,55,39.6,821,1.3,23,1.77,29.46,100,0.4,2.6,2,null,60,null,55,38.299999999999997,821,1.1000000000000001,23,1.92,30,100,0.4,3,1]
[null,831,49.726121484018734,1,600.72289156626505,38.953894590357237,0.78336884976795274,831,49.726121484018734,1,"","","","","","",null,null,null,null,null,null,null,null,null,null,49.6875,0,55,41.1,831,1.6,23,1.59,28.75,100,0.4,2.2000000000000002,3,null,41.875,null,55,43.3,831,2.2000000000000002,23,1.34,27.85,100,0.4,1.8,4,null,49.6875,null,55,41.1,831,1.6,23,1.59,28.75,100,0.4,2.2000000000000002,3,null,55.3125,null,55,39.6,831,1.3,23,1.77,29.39,100,0.4,2.6,2,null,60,null,55,38.299999999999997,831,1.1000000000000001,23,1.92,29.94,100,0.4,3,1]
[null,841,49.898509996427265,1,607.95180722891564,39.061884928080502,0.78282668021304314,841,49.898509996427265,1,"","","","","","",null,null,null,null,null,null,null,null,null,null,50,0,55,41.1,841,1.6,23,1.6,28.7,100,0.4,2.2000000000000002,3,null,42.1875,null,55,43.3,841,2.2000000000000002,23,1.35,27.81,100,0.4,1.8,5,null,50,null,55,41.1,841,1.6,23,1.6,28.7,100,0.4,2.2000000000000002,3,null,55.625,null,55,39.5,841,1.3,23,1.78,29.34,100,0.4,2.6,2,null,60.3125,null,55,38.200000000000003,841,1.1000000000000001,23,1.93,29.88,100,0.4,3,1]
[null,851,50.072488032576928,1,615.18072289156623,39.166358876826393,0.78219318463554166,851,50.072488032576928,1,"","","","","","",null,null,null,null,null,null,null,null,null,null,50,0,55,41,851,1.6,23,1.6,28.65,100,0.4,2.2000000000000002,3,null,42.1875,null,55,43.2,851,2.2999999999999998,23,1.35,27.77,100,0.4,1.8,5,null,50,null,55,41,851,1.6,23,1.6,28.65,100,0.4,2.2000000000000002,3,null,55.625,null,55,39.5,851,1.3,23,1.78,29.28,100,0.4,2.6,2,null,60.3125,null,55,38.200000000000003,851,1.1000000000000001,23,1.93,29.81,100,0.4,3,1]
[null,861,50.247058793913936,1,622.40963855421683,39.267512000600192,0.78148876656948496,861,50.247058793913936,1,"","","","","","",null,null,null,null,null,null,null,null,null,null,50.3125,0,55,41,861,1.6,23,1.61,28.6,100,0.4,2.2000000000000002,3,null,42.5,null,55,43.2,861,2.2999999999999998,23,1.36,27.73,100,0.4,1.8,5,null,50.3125,null,55,41,861,1.6,23,1.61,28.6,100,0.4,2.2000000000000002,3,null,55.9375,null,55,39.4,861,1.3,23,1.79,29.22,100,0.4,2.6,2,null,60.625,null,55,38.1,861,1.1000000000000001,23,1.94,29.75,100,0.4,3,1]
[null,871,50.420955738877751,1,629.63855421686742,39.365557419521764,0.78073802534386361,871,50.420955738877751,1,"","","","","","",null,null,null,null,null,null,null,null,null,null,50.3125,0,55,41,871,1.7,23,1.61,28.55,100,0.4,2.2000000000000002,3,null,42.5,null,55,43.2,871,2.2999999999999998,23,1.36,27.68,100,0.4,1.8,5,null,50.3125,null,55,41,871,1.7,23,1.61,28.55,100,0.4,2.2000000000000002,3,null,55.9375,null,55,39.4,871,1.3,23,1.79,29.17,100,0.4,2.6,2,null,60.625,null,55,38.1,871,1.1000000000000001,23,1.94,29.7,100,0.4,3,1]
[null,881,50.592618312181571,0.99999999999999989,636.86746987951801,39.46072476166978,0.77997000507420899,881,50.592618312181571,0.99999999999999989,"","","","","","",null,null,null,null,null,null,null,null,null,null,50.625,0,55,40.9,881,1.7,23,1.62,28.5,100,0.4,2.2000000000000002,3,null,42.5,null,55,43.1,881,2.2999999999999998,23,1.36,27.64,100,0.4,1.8,5,null,50.625,null,55,40.9,881,1.7,23,1.62,28.5,100,0.4,2.2000000000000002,3,null,56.25,null,55,39.4,881,1.4,23,1.8,29.11,100,0.4,2.6,2,null,60.9375,null,55,38,881,1.1000000000000001,23,1.95,29.63,100,0.4,3,1]
[null,891,50.76016681962102,1,644.09638554216872,39.553258978007364,0.77921845920171995,891,50.76016681962102,1,"","","","","","",null,null,null,null,null,null,null,null,null,null,50.625,0,55,40.9,891,1.7,23,1.62,28.45,100,0.4,2.2000000000000002,3,null,42.8125,null,55,43.1,891,2.4,23,1.37,27.6,100,0.4,1.8,5,null,50.625,null,55,40.9,891,1.7,23,1.62,28.45,100,0.4,2.2000000000000002,3,null,56.25,null,55,39.299999999999997,891,1.4,23,1.8,29.06,100,0.4,2.6,2,null,60.9375,null,55,38,891,1.1000000000000001,23,1.95,29.58,100,0.4,3,1]
[null,901,50.921376448435467,0.99999999999999989,651.32530120481931,39.643419020387,0.77852214109984097,901,50.921376448435467,0.99999999999999989,"","","","","","",null,null,null,null,null,null,null,null,null,null,50.625,0,55,40.799999999999997,901,1.7,23,1.62,28.41,100,0.4,2.2000000000000002,3,null,42.8125,null,55,43.1,901,2.4,23,1.37,27.56,100,0.4,1.8,5,null,50.625,null,55,40.799999999999997,901,1.7,23,1.62,28.41,100,0.4,2.2000000000000002,3,null,56.25,null,55,39.299999999999997,901,1.4,23,1.8,29.01,100,0.4,2.6,2,null,61.25,null,55,38,901,1.2,23,1.96,29.52,100,0.4,3,1]
[null,911,51.073650433202147,1,658.5542168674699,39.731476382638704,0.77792513449968559,911,51.073650433202147,1,"","","","","","",null,null,null,null,null,null,null,null,null,null,50.9375,0,55,40.799999999999997,911,1.7,23,1.63,28.36,100,0.4,2.2000000000000002,3,null,42.8125,null,55,43,911,2.4,23,1.37,27.52,100,0.4,1.8,5,null,50.9375,null,55,40.799999999999997,911,1.7,23,1.63,28.36,100,0.4,2.2000000000000002,3,null,56.5625,null,55,39.299999999999997,911,1.4,23,1.81,28.96,100,0.4,2.6,2,null,61.25,null,55,37.9,911,1.2,23,1.96,29.46,100,0.4,3,2]
[null,921,51.213992367271373,1,665.7831325301205,39.81771350473656,0.77747724135996721,921,51.213992367271373,1,"","","","","","",null,null,null,null,null,null,null,null,null,null,{"$f":"IF($AA$13=$AO$13,AO110,IF($AA$13=$BC$13,BC110,IF($AA$13=$BQ$13,BQ110,IF($AA$13=$CE$13,CE110,\"-\"))))","v":50.9375},{"$f":"IF($AA$13=$AO$13,AP110,IF($AA$13=$BC$13,BD110,IF($AA$13=$BQ$13,BR110,IF($AA$13=$CE$13,CF110,\"-\"))))","v":0},{"$f":"IF($AA$13=$AO$13,AQ110,IF($AA$13=$BC$13,BE110,IF($AA$13=$BQ$13,BS110,IF($AA$13=$CE$13,CG110,\"-\"))))","v":55},{"$f":"IF($AA$13=$AO$13,AR110,IF($AA$13=$BC$13,BF110,IF($AA$13=$BQ$13,BT110,IF($AA$13=$CE$13,CH110,\"-\"))))","v":40.799999999999997},{"$f":"IF($AA$13=$AO$13,AS110,IF($AA$13=$BC$13,BG110,IF($AA$13=$BQ$13,BU110,IF($AA$13=$CE$13,CI110,\"-\"))))","v":921},{"$f":"IF($AA$13=$AO$13,AT110,IF($AA$13=$BC$13,BH110,IF($AA$13=$BQ$13,BV110,IF($AA$13=$CE$13,CJ110,\"-\"))))","v":1.8},{"$f":"IF($AA$13=$AO$13,AU110,IF($AA$13=$BC$13,BI110,IF($AA$13=$BQ$13,BW110,IF($AA$13=$CE$13,CK110,\"-\"))))","v":23},{"$f":"IF($AA$13=$AO$13,AV110,IF($AA$13=$BC$13,BJ110,IF($AA$13=$BQ$13,BX110,IF($AA$13=$CE$13,CL110,\"-\"))))","v":1.63},{"$f":"IF($AA$13=$AO$13,AW110,IF($AA$13=$BC$13,BK110,IF($AA$13=$BQ$13,BY110,IF($AA$13=$CE$13,CM110,\"-\"))))","v":28.32},{"$f":"IF($AA$13=$AO$13,AX110,IF($AA$13=$BC$13,BL110,IF($AA$13=$BQ$13,BZ110,IF($AA$13=$CE$13,CN110,\"-\"))))","v":100},{"$f":"IF($AA$13=$AO$13,AY110,IF($AA$13=$BC$13,BM110,IF($AA$13=$BQ$13,CA110,IF($AA$13=$CE$13,CO110,\"-\"))))","v":0.4},{"$f":"IF($AA$13=$AO$13,AZ110,IF($AA$13=$BC$13,BN110,IF($AA$13=$BQ$13,CB110,IF($AA$13=$CE$13,CP110,\"-\"))))","v":2.2000000000000002},{"$f":"IF($AA$13=$AO$13,BA110,IF($AA$13=$BC$13,BO110,IF($AA$13=$BQ$13,CC110,IF($AA$13=$CE$13,CQ110,\"-\"))))","v":3},null,43.125,null,55,43,921,2.4,23,1.38,27.49,100,0.4,1.8,5,null,50.9375,null,55,40.799999999999997,921,1.8,23,1.63,28.32,100,0.4,2.2000000000000002,3,null,56.5625,null,55,39.200000000000003,921,1.4,23,1.81,28.91,100,0.4,2.6,2,null,61.5625,null,55,37.9,921,1.2,23,1.97,29.41,100,0.4,3,2]
[null,931,51.338977659744558,1,673.01204819277109,39.902422040046531,0.77723444951523535,931,51.338977659744558,1,"","","","","","",null,null,null,null,null,null,null,null,null,null,51.25,0,55,40.799999999999997,931,1.8,23,1.64,28.28,100,0.4,2.2000000000000002,3,null,43.125,null,55,43,931,2.5,23,1.38,27.45,100,0.4,1.8,5,null,51.25,null,55,40.799999999999997,931,1.8,23,1.64,28.28,100,0.4,2.2000000000000002,3,null,56.875,null,55,39.200000000000003,931,1.4,23,1.82,28.86,100,0.4,2.6,2,null,61.5625,null,55,37.799999999999997,931,1.2,23,1.97,29.36,100,0.4,3,2]
[null,941,51.444724137986782,1,680.24096385542168,39.985900985656286,0.777259508252095,941,51.444724137986782,1,"","","","","","",null,null,null,null,null,null,null,null,null,null,51.25,0,55,40.700000000000003,941,1.8,23,1.64,28.23,100,0.4,2.2000000000000002,3,null,43.125,null,55,42.9,941,2.5,23,1.38,27.41,100,0.4,1.8,6,null,51.25,null,55,40.700000000000003,941,1.8,23,1.64,28.23,100,0.4,2.2000000000000002,3,null,56.875,null,55,39.1,941,1.5,23,1.82,28.81,100,0.4,2.6,2,null,61.875,null,55,37.799999999999997,941,1.2,23,1.98,29.3,100,0.4,3,2]
[null,951,51.52686179568957,1,687.46987951807228,40.068454675784039,0.77762264728367225,951,51.52686179568957,1,"","","","","","",null,null,null,null,null,null,null,null,null,null,51.25,0,55,40.700000000000003,951,1.8,23,1.64,28.19,100,0.4,2.2000000000000002,3,null,43.4375,null,55,42.9,951,2.5,23,1.39,27.38,100,0.4,1.8,6,null,51.25,null,55,40.700000000000003,951,1.8,23,1.64,28.19,100,0.4,2.2000000000000002,3,null,57.1875,null,55,39.1,951,1.5,23,1.83,28.76,100,0.4,2.6,2,null,61.875,null,55,37.799999999999997,951,1.2,23,1.98,29.25,100,0.4,3,2]
[null,961,{"$f":"$J$4*B114^6+$K$4*B114^5+$L$4*B114^4+$M$4*B114^3+$N$4*B114^2+$O$4*B114","v":51.580501686459968},1,694.69879518072287,40.150390638269045,0.77840248399151646,961,51.580501686459968,1,"","","","","","",null,null,null,null,null,null,null,null,null,null,51.5625,0,55,40.6,961,1.8,23,1.65,28.15,100,0.4,2.2000000000000002,3,null,43.4375,null,55,42.9,961,2.5,23,1.39,27.34,100,0.4,1.8,6,null,51.5625,null,55,40.6,961,1.8,23,1.65,28.15,100,0.4,2.2000000000000002,3,null,57.1875,null,55,39,961,1.5,23,1.83,28.71,100,0.4,2.6,2,null,62.1875,null,55,37.700000000000003,961,1.2,23,1.99,29.2,100,0.4,3,2]
[null,971,{"$f":"$J$4*B115^6+$K$4*B115^5+$L$4*B115^4+$M$4*B115^3+$N$4*B115^2+$O$4*B115","v":51.600203962962496},1,701.92771084337346,40.232017314143064,0.77968717610148841,971,51.600203962962496,1,"","","","","","",null,null,null,null,null,null,null,null,null,null,51.5625,0,55,40.6,971,1.9,23,1.65,28.11,100,0.4,2.2000000000000002,3,null,43.4375,null,55,42.8,971,2.6,23,1.39,27.31,100,0.4,1.8,6,null,51.5625,null,55,40.6,971,1.9,23,1.65,28.11,100,0.4,2.2000000000000002,3,null,57.5,null,55,39,971,1.5,23,1.84,28.67,100,0.4,2.6,2,null,62.1875,null,55,37.700000000000003,971,1.3,23,1.99,29.15,100,0.4,3,2]
[null,981,{"$f":"$J$4*B116^6+$K$4*B116^5+$L$4*B116^4+$M$4*B116^3+$N$4*B116^2+$O$4*B116","v":51.579945061589797},0.99999999999999989,709.15662650602405,40.313641640281105,0.78157589334660982,981,51.579945061589797,0.99999999999999989,"","","","","","",null,null,null,null,null,null,null,null,null,null,51.875,0,55,40.6,981,1.9,23,1.66,28.07,100,0.4,2.2000000000000002,3,null,43.75,null,55,42.8,981,2.6,23,1.4,27.27,100,0.4,1.8,6,null,51.875,null,55,40.6,981,1.9,23,1.66,28.07,100,0.4,2.2000000000000002,3,null,57.5,null,55,39,981,1.5,23,1.84,28.63,100,0.4,2.6,2,null,62.1875,null,55,37.6,981,1.3,23,1.99,29.1,100,0.4,3,2]
[null,991,{"$f":"$J$4*B117^6+$K$4*B117^5+$L$4*B117^4+$M$4*B117^3+$N$4*B117^2+$O$4*B117","v":51.513084032685072},1,716.38554216867465,40.395566495135398,0.78418070386747563,991,51.513084032685072,1,"","","","","","",null,null,null,null,null,null,null,null,null,null,51.875,0,55,40.5,991,1.9,23,1.66,28.02,100,0.4,2.2000000000000002,3,null,43.75,null,55,42.8,991,2.6,23,1.4,27.24,100,0.4,1.8,6,null,51.875,null,55,40.5,991,1.9,23,1.66,28.02,100,0.4,2.2000000000000002,3,null,57.5,null,55,38.9,991,1.5,23,1.84,28.58,100,0.4,2.6,2,null,62.5,null,55,37.6,991,1.3,23,2,29.05,100,0.4,3,2]
[null,null,null,null,null,null,null,null,null,null,null,null,null,null,null,null,null,null,null,null,null,null,null,null,null,null,null,null,null,null,null,null,null,null,null,null,null,null,null,null,null,null,null,null,null,null,null,null,null,null,null,null,null,null,null,null,null,null,null,null,null,null,null,null,null,null,null,null,null,null,null,null,null,null,null,null,null,null,null,null,null,null,null,null,55,37.6,1001,1.3,23,2,29.01,100,0.4,3,2]
[]
[]
[]
[]
[]
[]
[]
[]
[]
[]
[]
[]
[]
[]
[]
[]
[]
[]
[]
[]
[]
[]
[]
[]
[]
[]
[]
[]
[]
[]
[]
[]
[]
[]
[]
[]
[]
[]
[]
[]
[]
[]
[]
[]
[]
[]
[]
[]
[]
[]
[]
[]
[]
[]
[]
[]
[]
[]
[]
[]
[]
[]
[]
[]
[]
[]
[]
[]
[]
[]
[]
[]
[]
[]
[]
[]
[]
[]
[]
[]
[]
[]
[]
[]
[]
[]
[]
[]
[]
[]
[]
[]
[]
[]
[]
[]
[]
[]
[]
[]
[]
[]
[]
[]
[]
[]
[]
[]
[]
[]
[]
[]
[null,null,null,null,null,null,null,null,null,null,null,null,null,null,null,null,null,null,null,null,null,null,null,null,null,null,null,null,null,null,null,null,null,null,null,null,null,null,null,null,null,null,null,null,null,null,null,null,null,null,null,null,null,null,"q sensibel"]
[null,null,null,null,null,null,null,null,null,null,null,null,null,null,null,null,null,null,null,null,null,null,null,null,null,null,null,null,null,null,null,null,null,null,null,null,null,null,null,null,null,null,null,null,null,null,null,null,null,null,null,null,null,null,"W/K"]
[]
[]
[null,null,null,null,null,null,null,null,null,null,null,null,null,null,null,null,null,null,null,null,null,null,null,null,null,null,null,null,null,null,null,null,null,null,null,null,null,null,null,null,null,null,null,null,null,null,null,null,null,null,null,null,null,null,{"$f":"DC18/(CZ18-CV18)*1000","v":{"$error":"#DIV/0!"}}]
[null,null,null,null,null,null,null,null,null,null,null,null,null,null,null,null,null,null,null,null,null,null,null,null,null,null,null,null,null,null,null,null,null,null,null,null,null,null,null,null,null,null,null,null,null,null,null,null,null,null,null,null,null,null,{"$error":"#DIV/0!"}]
[null,null,null,null,null,null,null,null,null,null,null,null,null,null,null,null,null,null,null,null,null,null,null,null,null,null,null,null,null,null,null,null,null,null,null,null,null,null,null,null,null,null,null,null,null,null,null,null,null,null,null,null,null,null,{"$error":"#DIV/0!"}]
[null,null,null,null,null,null,null,null,null,null,null,null,null,null,null,null,null,null,null,null,null,null,null,null,null,null,null,null,null,null,null,null,null,null,null,null,null,null,null,null,null,null,null,null,null,null,null,null,null,null,null,null,null,null,{"$error":"#DIV/0!"}]
[null,null,null,null,null,null,null,null,null,null,null,null,null,null,null,null,null,null,null,null,null,null,null,null,null,null,null,null,null,null,null,null,null,null,null,null,null,null,null,null,null,null,null,null,null,null,null,null,null,null,null,null,null,null,{"$error":"#DIV/0!"}]
[null,null,null,null,null,null,null,null,null,null,null,null,null,null,null,null,null,null,null,null,null,null,null,null,null,null,null,null,null,null,null,null,null,null,null,null,null,null,null,null,null,null,null,null,null,null,null,null,null,null,null,null,null,null,{"$error":"#DIV/0!"}]
[null,null,null,null,null,null,null,null,null,null,null,null,null,null,null,null,null,null,null,null,null,null,null,null,null,null,null,null,null,null,null,null,null,null,null,null,null,null,null,null,null,null,null,null,null,null,null,null,null,null,null,null,null,null,{"$error":"#DIV/0!"}]
[null,null,null,null,null,null,null,null,null,null,null,null,null,null,null,null,null,null,null,null,null,null,null,null,null,null,null,null,null,null,null,null,null,null,null,null,null,null,null,null,null,null,null,null,null,null,null,null,null,null,null,null,null,null,{"$error":"#DIV/0!"}]
[null,null,null,null,null,null,null,null,null,null,null,null,null,null,null,null,null,null,null,null,null,null,null,null,null,null,null,null,null,null,null,null,null,null,null,null,null,null,null,null,null,null,null,null,null,null,null,null,null,null,null,null,null,null,{"$error":"#DIV/0!"}]
[null,null,null,null,null,null,null,null,null,null,null,null,null,null,null,null,null,null,null,null,null,null,null,null,null,null,null,null,null,null,null,null,null,null,null,null,null,null,null,null,null,null,null,null,null,null,null,null,null,null,null,null,null,null,{"$error":"#DIV/0!"}]
[null,null,null,null,null,null,null,null,null,null,null,null,null,null,null,null,null,null,null,null,null,null,null,null,null,null,null,null,null,null,null,null,null,null,null,null,null,null,null,null,null,null,null,null,null,null,null,null,null,null,null,null,null,null,{"$error":"#DIV/0!"}]
[null,null,null,null,null,null,null,null,null,null,null,null,null,null,null,null,null,null,null,null,null,null,null,null,null,null,null,null,null,null,null,null,null,null,null,null,null,null,null,null,null,null,null,null,null,null,null,null,null,null,null,null,null,null,{"$error":"#DIV/0!"}]
[null,null,null,null,null,null,null,null,null,null,null,null,null,null,null,null,null,null,null,null,null,null,null,null,null,null,null,null,null,null,null,null,null,null,null,null,null,null,null,null,null,null,null,null,null,null,null,null,null,null,null,null,null,null,{"$error":"#DIV/0!"}]
[null,null,null,null,null,null,null,null,null,null,null,null,null,null,null,null,null,null,null,null,null,null,null,null,null,null,null,null,null,null,null,null,null,null,null,null,null,null,null,null,null,null,null,null,null,null,null,null,null,null,null,null,null,null,{"$error":"#DIV/0!"}]
[null,null,null,null,null,null,null,null,null,null,null,null,null,null,null,null,null,null,null,null,null,null,null,null,null,null,null,null,null,null,null,null,null,null,null,null,null,null,null,null,null,null,null,null,null,null,null,null,null,null,null,null,null,null,{"$error":"#DIV/0!"}]
[null,null,null,null,null,null,null,null,null,null,null,null,null,null,null,null,null,null,null,null,null,null,null,null,null,null,null,null,null,null,null,null,null,null,null,null,null,null,null,null,null,null,null,null,null,null,null,null,null,null,null,null,null,null,{"$error":"#DIV/0!"}]
[null,null,null,null,null,null,null,null,null,null,null,null,null,null,null,null,null,null,null,null,null,null,null,null,null,null,null,null,null,null,null,null,null,null,null,null,null,null,null,null,null,null,null,null,null,null,null,null,null,null,null,null,null,null,{"$error":"#DIV/0!"}]
[null,null,null,null,null,null,null,null,null,null,null,null,null,null,null,null,null,null,null,null,null,null,null,null,null,null,null,null,null,null,null,null,null,null,null,null,null,null,null,null,null,null,null,null,null,null,null,null,null,null,null,null,null,null,{"$error":"#DIV/0!"}]
[null,null,null,null,null,null,null,null,null,null,null,null,null,null,null,null,null,null,null,null,null,null,null,null,null,null,null,null,null,null,null,null,null,null,null,null,null,null,null,null,null,null,null,null,null,null,null,null,null,null,null,null,null,null,{"$error":"#DIV/0!"}]
[null,null,null,null,null,null,null,null,null,null,null,null,null,null,null,null,null,null,null,null,null,null,null,null,null,null,null,null,null,null,null,null,null,null,null,null,null,null,null,null,null,null,null,null,null,null,null,null,null,null,null,null,null,null,{"$error":"#DIV/0!"}]
[null,null,null,null,null,null,null,null,null,null,null,null,null,null,null,null,null,null,null,null,null,null,null,null,null,null,null,null,null,null,null,null,null,null,null,null,null,null,null,null,null,null,null,null,null,null,null,null,null,null,null,null,null,null,{"$error":"#DIV/0!"}]
[null,null,null,null,null,null,null,null,null,null,null,null,null,null,null,null,null,null,null,null,null,null,null,null,null,null,null,null,null,null,null,null,null,null,null,null,null,null,null,null,null,null,null,null,null,null,null,null,null,null,null,null,null,null,{"$error":"#DIV/0!"}]
[null,null,null,null,null,null,null,null,null,null,null,null,null,null,null,null,null,null,null,null,null,null,null,null,null,null,null,null,null,null,null,null,null,null,null,null,null,null,null,null,null,null,null,null,null,null,null,null,null,null,null,null,null,null,{"$error":"#DIV/0!"}]
[null,null,null,null,null,null,null,null,null,null,null,null,null,null,null,null,null,null,null,null,null,null,null,null,null,null,null,null,null,null,null,null,null,null,null,null,null,null,null,null,null,null,null,null,null,null,null,null,null,null,null,null,null,null,{"$error":"#DIV/0!"}]
[null,null,null,null,null,null,null,null,null,null,null,null,null,null,null,null,null,null,null,null,null,null,null,null,null,null,null,null,null,null,null,null,null,null,null,null,null,null,null,null,null,null,null,null,null,null,null,null,null,null,null,null,null,null,{"$error":"#DIV/0!"}]
[null,null,null,null,null,null,null,null,null,null,null,null,null,null,null,null,null,null,null,null,null,null,null,null,null,null,null,null,null,null,null,null,null,null,null,null,null,null,null,null,null,null,null,null,null,null,null,null,null,null,null,null,null,null,{"$error":"#DIV/0!"}]
[null,null,null,null,null,null,null,null,null,null,null,null,null,null,null,null,null,null,null,null,null,null,null,null,null,null,null,null,null,null,null,null,null,null,null,null,null,null,null,null,null,null,null,null,null,null,null,null,null,null,null,null,null,null,{"$error":"#DIV/0!"}]
[null,null,null,null,null,null,null,null,null,null,null,null,null,null,null,null,null,null,null,null,null,null,null,null,null,null,null,null,null,null,null,null,null,null,null,null,null,null,null,null,null,null,null,null,null,null,null,null,null,null,null,null,null,null,{"$error":"#DIV/0!"}]
[null,null,null,null,null,null,null,null,null,null,null,null,null,null,null,null,null,null,null,null,null,null,null,null,null,null,null,null,null,null,null,null,null,null,null,null,null,null,null,null,null,null,null,null,null,null,null,null,null,null,null,null,null,null,{"$error":"#DIV/0!"}]
[null,null,null,null,null,null,null,null,null,null,null,null,null,null,null,null,null,null,null,null,null,null,null,null,null,null,null,null,null,null,null,null,null,null,null,null,null,null,null,null,null,null,null,null,null,null,null,null,null,null,null,null,null,null,{"$error":"#DIV/0!"}]
[null,null,null,null,null,null,null,null,null,null,null,null,null,null,null,null,null,null,null,null,null,null,null,null,null,null,null,null,null,null,null,null,null,null,null,null,null,null,null,null,null,null,null,null,null,null,null,null,null,null,null,null,null,null,{"$error":"#DIV/0!"}]
[null,null,null,null,null,null,null,null,null,null,null,null,null,null,null,null,null,null,null,null,null,null,null,null,null,null,null,null,null,null,null,null,null,null,null,null,null,null,null,null,null,null,null,null,null,null,null,null,null,null,null,null,null,null,{"$error":"#DIV/0!"}]
[null,null,null,null,null,null,null,null,null,null,null,null,null,null,null,null,null,null,null,null,null,null,null,null,null,null,null,null,null,null,null,null,null,null,null,null,null,null,null,null,null,null,null,null,null,null,null,null,null,null,null,null,null,null,{"$f":"DC50/(CZ50-CV50)*1000","v":{"$error":"#DIV/0!"}}]
[null,null,null,null,null,null,null,null,null,null,null,null,null,null,null,null,null,null,null,null,null,null,null,null,null,null,null,null,null,null,null,null,null,null,null,null,null,null,null,null,null,null,null,null,null,null,null,null,null,null,null,null,null,null,{"$error":"#DIV/0!"}]
[null,null,null,null,null,null,null,null,null,null,null,null,null,null,null,null,null,null,null,null,null,null,null,null,null,null,null,null,null,null,null,null,null,null,null,null,null,null,null,null,null,null,null,null,null,null,null,null,null,null,null,null,null,null,{"$error":"#DIV/0!"}]
[null,null,null,null,null,null,null,null,null,null,null,null,null,null,null,null,null,null,null,null,null,null,null,null,null,null,null,null,null,null,null,null,null,null,null,null,null,null,null,null,null,null,null,null,null,null,null,null,null,null,null,null,null,null,{"$error":"#DIV/0!"}]
[null,null,null,null,null,null,null,null,null,null,null,null,null,null,null,null,null,null,null,null,null,null,null,null,null,null,null,null,null,null,null,null,null,null,null,null,null,null,null,null,null,null,null,null,null,null,null,null,null,null,null,null,null,null,{"$error":"#DIV/0!"}]
[null,null,null,null,null,null,null,null,null,null,null,null,null,null,null,null,null,null,null,null,null,null,null,null,null,null,null,null,null,null,null,null,null,null,null,null,null,null,null,null,null,null,null,null,null,null,null,null,null,null,null,null,null,null,{"$error":"#DIV/0!"}]
[null,null,null,null,null,null,null,null,null,null,null,null,null,null,null,null,null,null,null,null,null,null,null,null,null,null,null,null,null,null,null,null,null,null,null,null,null,null,null,null,null,null,null,null,null,null,null,null,null,null,null,null,null,null,{"$error":"#DIV/0!"}]
[null,null,null,null,null,null,null,null,null,null,null,null,null,null,null,null,null,null,null,null,null,null,null,null,null,null,null,null,null,null,null,null,null,null,null,null,null,null,null,null,null,null,null,null,null,null,null,null,null,null,null,null,null,null,{"$error":"#DIV/0!"}]
[null,null,null,null,null,null,null,null,null,null,null,null,null,null,null,null,null,null,null,null,null,null,null,null,null,null,null,null,null,null,null,null,null,null,null,null,null,null,null,null,null,null,null,null,null,null,null,null,null,null,null,null,null,null,{"$error":"#DIV/0!"}]
[null,null,null,null,null,null,null,null,null,null,null,null,null,null,null,null,null,null,null,null,null,null,null,null,null,null,null,null,null,null,null,null,null,null,null,null,null,null,null,null,null,null,null,null,null,null,null,null,null,null,null,null,null,null,{"$error":"#DIV/0!"}]
[null,null,null,null,null,null,null,null,null,null,null,null,null,null,null,null,null,null,null,null,null,null,null,null,null,null,null,null,null,null,null,null,null,null,null,null,null,null,null,null,null,null,null,null,null,null,null,null,null,null,null,null,null,null,{"$error":"#DIV/0!"}]
[null,null,null,null,null,null,null,null,null,null,null,null,null,null,null,null,null,null,null,null,null,null,null,null,null,null,null,null,null,null,null,null,null,null,null,null,null,null,null,null,null,null,null,null,null,null,null,null,null,null,null,null,null,null,{"$error":"#DIV/0!"}]
[null,null,null,null,null,null,null,null,null,null,null,null,null,null,null,null,null,null,null,null,null,null,null,null,null,null,null,null,null,null,null,null,null,null,null,null,null,null,null,null,null,null,null,null,null,null,null,null,null,null,null,null,null,null,{"$error":"#DIV/0!"}]
[null,null,null,null,null,null,null,null,null,null,null,null,null,null,null,null,null,null,null,null,null,null,null,null,null,null,null,null,null,null,null,null,null,null,null,null,null,null,null,null,null,null,null,null,null,null,null,null,null,null,null,null,null,null,{"$error":"#DIV/0!"}]
[null,null,null,null,null,null,null,null,null,null,null,null,null,null,null,null,null,null,null,null,null,null,null,null,null,null,null,null,null,null,null,null,null,null,null,null,null,null,null,null,null,null,null,null,null,null,null,null,null,null,null,null,null,null,{"$error":"#DIV/0!"}]
[null,null,null,null,null,null,null,null,null,null,null,null,null,null,null,null,null,null,null,null,null,null,null,null,null,null,null,null,null,null,null,null,null,null,null,null,null,null,null,null,null,null,null,null,null,null,null,null,null,null,null,null,null,null,{"$error":"#DIV/0!"}]
[null,null,null,null,null,null,null,null,null,null,null,null,null,null,null,null,null,null,null,null,null,null,null,null,null,null,null,null,null,null,null,null,null,null,null,null,null,null,null,null,null,null,null,null,null,null,null,null,null,null,null,null,null,null,{"$error":"#DIV/0!"}]
[null,null,null,null,null,null,null,null,null,null,null,null,null,null,null,null,null,null,null,null,null,null,null,null,null,null,null,null,null,null,null,null,null,null,null,null,null,null,null,null,null,null,null,null,null,null,null,null,null,null,null,null,null,null,{"$error":"#DIV/0!"}]
[null,null,null,null,null,null,null,null,null,null,null,null,null,null,null,null,null,null,null,null,null,null,null,null,null,null,null,null,null,null,null,null,null,null,null,null,null,null,null,null,null,null,null,null,null,null,null,null,null,null,null,null,null,null,{"$error":"#DIV/0!"}]
[null,null,null,null,null,null,null,null,null,null,null,null,null,null,null,null,null,null,null,null,null,null,null,null,null,null,null,null,null,null,null,null,null,null,null,null,null,null,null,null,null,null,null,null,null,null,null,null,null,null,null,null,null,null,{"$error":"#DIV/0!"}]
[null,null,null,null,null,null,null,null,null,null,null,null,null,null,null,null,null,null,null,null,null,null,null,null,null,null,null,null,null,null,null,null,null,null,null,null,null,null,null,null,null,null,null,null,null,null,null,null,null,null,null,null,null,null,{"$error":"#DIV/0!"}]
[null,null,null,null,null,null,null,null,null,null,null,null,null,null,null,null,null,null,null,null,null,null,null,null,null,null,null,null,null,null,null,null,null,null,null,null,null,null,null,null,null,null,null,null,null,null,null,null,null,null,null,null,null,null,{"$error":"#DIV/0!"}]
[null,null,null,null,null,null,null,null,null,null,null,null,null,null,null,null,null,null,null,null,null,null,null,null,null,null,null,null,null,null,null,null,null,null,null,null,null,null,null,null,null,null,null,null,null,null,null,null,null,null,null,null,null,null,{"$error":"#DIV/0!"}]
[null,null,null,null,null,null,null,null,null,null,null,null,null,null,null,null,null,null,null,null,null,null,null,null,null,null,null,null,null,null,null,null,null,null,null,null,null,null,null,null,null,null,null,null,null,null,null,null,null,null,null,null,null,null,{"$error":"#DIV/0!"}]
[null,null,null,null,null,null,null,null,null,null,null,null,null,null,null,null,null,null,null,null,null,null,null,null,null,null,null,null,null,null,null,null,null,null,null,null,null,null,null,null,null,null,null,null,null,null,null,null,null,null,null,null,null,null,{"$error":"#DIV/0!"}]
[null,null,null,null,null,null,null,null,null,null,null,null,null,null,null,null,null,null,null,null,null,null,null,null,null,null,null,null,null,null,null,null,null,null,null,null,null,null,null,null,null,null,null,null,null,null,null,null,null,null,null,null,null,null,{"$error":"#DIV/0!"}]
[null,null,null,null,null,null,null,null,null,null,null,null,null,null,null,null,null,null,null,null,null,null,null,null,null,null,null,null,null,null,null,null,null,null,null,null,null,null,null,null,null,null,null,null,null,null,null,null,null,null,null,null,null,null,{"$error":"#DIV/0!"}]
[null,null,null,null,null,null,null,null,null,null,null,null,null,null,null,null,null,null,null,null,null,null,null,null,null,null,null,null,null,null,null,null,null,null,null,null,null,null,null,null,null,null,null,null,null,null,null,null,null,null,null,null,null,null,{"$error":"#DIV/0!"}]
[null,null,null,null,null,null,null,null,null,null,null,null,null,null,null,null,null,null,null,null,null,null,null,null,null,null,null,null,null,null,null,null,null,null,null,null,null,null,null,null,null,null,null,null,null,null,null,null,null,null,null,null,null,null,{"$error":"#DIV/0!"}]
[null,null,null,null,null,null,null,null,null,null,null,null,null,null,null,null,null,null,null,null,null,null,null,null,null,null,null,null,null,null,null,null,null,null,null,null,null,null,null,null,null,null,null,null,null,null,null,null,null,null,null,null,null,null,{"$error":"#DIV/0!"}]
[null,null,null,null,null,null,null,null,null,null,null,null,null,null,null,null,null,null,null,null,null,null,null,null,null,null,null,null,null,null,null,null,null,null,null,null,null,null,null,null,null,null,null,null,null,null,null,null,null,null,null,null,null,null,{"$error":"#DIV/0!"}]
[null,null,null,null,null,null,null,null,null,null,null,null,null,null,null,null,null,null,null,null,null,null,null,null,null,null,null,null,null,null,null,null,null,null,null,null,null,null,null,null,null,null,null,null,null,null,null,null,null,null,null,null,null,null,{"$error":"#DIV/0!"}]
[null,null,null,null,null,null,null,null,null,null,null,null,null,null,null,null,null,null,null,null,null,null,null,null,null,null,null,null,null,null,null,null,null,null,null,null,null,null,null,null,null,null,null,null,null,null,null,null,null,null,null,null,null,null,{"$f":"DC82/(CZ82-CV82)*1000","v":{"$error":"#DIV/0!"}}]
[null,null,null,null,null,null,null,null,null,null,null,null,null,null,null,null,null,null,null,null,null,null,null,null,null,null,null,null,null,null,null,null,null,null,null,null,null,null,null,null,null,null,null,null,null,null,null,null,null,null,null,null,null,null,{"$error":"#DIV/0!"}]
[null,null,null,null,null,null,null,null,null,null,null,null,null,null,null,null,null,null,null,null,null,null,null,null,null,null,null,null,null,null,null,null,null,null,null,null,null,null,null,null,null,null,null,null,null,null,null,null,null,null,null,null,null,null,{"$error":"#DIV/0!"}]
[null,null,null,null,null,null,null,null,null,null,null,null,null,null,null,null,null,null,null,null,null,null,null,null,null,null,null,null,null,null,null,null,null,null,null,null,null,null,null,null,null,null,null,null,null,null,null,null,null,null,null,null,null,null,{"$error":"#DIV/0!"}]
[null,null,null,null,null,null,null,null,null,null,null,null,null,null,null,null,null,null,null,null,null,null,null,null,null,null,null,null,null,null,null,null,null,null,null,null,null,null,null,null,null,null,null,null,null,null,null,null,null,null,null,null,null,null,{"$error":"#DIV/0!"}]
[null,null,null,null,null,null,null,null,null,null,null,null,null,null,null,null,null,null,null,null,null,null,null,null,null,null,null,null,null,null,null,null,null,null,null,null,null,null,null,null,null,null,null,null,null,null,null,null,null,null,null,null,null,null,{"$error":"#DIV/0!"}]
[null,null,null,null,null,null,null,null,null,null,null,null,null,null,null,null,null,null,null,null,null,null,null,null,null,null,null,null,null,null,null,null,null,null,null,null,null,null,null,null,null,null,null,null,null,null,null,null,null,null,null,null,null,null,{"$error":"#DIV/0!"}]
[null,null,null,null,null,null,null,null,null,null,null,null,null,null,null,null,null,null,null,null,null,null,null,null,null,null,null,null,null,null,null,null,null,null,null,null,null,null,null,null,null,null,null,null,null,null,null,null,null,null,null,null,null,null,{"$error":"#DIV/0!"}]
[null,null,null,null,null,null,null,null,null,null,null,null,null,null,null,null,null,null,null,null,null,null,null,null,null,null,null,null,null,null,null,null,null,null,null,null,null,null,null,null,null,null,null,null,null,null,null,null,null,null,null,null,null,null,{"$error":"#DIV/0!"}]
[null,null,null,null,null,null,null,null,null,null,null,null,null,null,null,null,null,null,null,null,null,null,null,null,null,null,null,null,null,null,null,null,null,null,null,null,null,null,null,null,null,null,null,null,null,null,null,null,null,null,null,null,null,null,{"$error":"#DIV/0!"}]
[null,null,null,null,null,null,null,null,null,null,null,null,null,null,null,null,null,null,null,null,null,null,null,null,null,null,null,null,null,null,null,null,null,null,null,null,null,null,null,null,null,null,null,null,null,null,null,null,null,null,null,null,null,null,{"$error":"#DIV/0!"}]
[null,null,null,null,null,null,null,null,null,null,null,null,null,null,null,null,null,null,null,null,null,null,null,null,null,null,null,null,null,null,null,null,null,null,null,null,null,null,null,null,null,null,null,null,null,null,null,null,null,null,null,null,null,null,{"$error":"#DIV/0!"}]
[null,null,null,null,null,null,null,null,null,null,null,null,null,null,null,null,null,null,null,null,null,null,null,null,null,null,null,null,null,null,null,null,null,null,null,null,null,null,null,null,null,null,null,null,null,null,null,null,null,null,null,null,null,null,{"$error":"#DIV/0!"}]
[null,null,null,null,null,null,null,null,null,null,null,null,null,null,null,null,null,null,null,null,null,null,null,null,null,null,null,null,null,null,null,null,null,null,null,null,null,null,null,null,null,null,null,null,null,null,null,null,null,null,null,null,null,null,{"$error":"#DIV/0!"}]
[null,null,null,null,null,null,null,null,null,null,null,null,null,null,null,null,null,null,null,null,null,null,null,null,null,null,null,null,null,null,null,null,null,null,null,null,null,null,null,null,null,null,null,null,null,null,null,null,null,null,null,null,null,null,{"$error":"#DIV/0!"}]
[null,null,null,null,null,null,null,null,null,null,null,null,null,null,null,null,null,null,null,null,null,null,null,null,null,null,null,null,null,null,null,null,null,null,null,null,null,null,null,null,null,null,null,null,null,null,null,null,null,null,null,null,null,null,{"$error":"#DIV/0!"}]
[null,null,null,null,null,null,null,null,null,null,null,null,null,null,null,null,null,null,null,null,null,null,null,null,null,null,null,null,null,null,null,null,null,null,null,null,null,null,null,null,null,null,null,null,null,null,null,null,null,null,null,null,null,null,{"$error":"#DIV/0!"}]
[null,null,null,null,null,null,null,null,null,null,null,null,null,null,null,null,null,null,null,null,null,null,null,null,null,null,null,null,null,null,null,null,null,null,null,null,null,null,null,null,null,null,null,null,null,null,null,null,null,null,null,null,null,null,{"$error":"#DIV/0!"}]
[null,null,null,null,null,null,null,null,null,null,null,null,null,null,null,null,null,null,null,null,null,null,null,null,null,null,null,null,null,null,null,null,null,null,null,null,null,null,null,null,null,null,null,null,null,null,null,null,null,null,null,null,null,null,{"$error":"#DIV/0!"}]
[null,null,null,null,null,null,null,null,null,null,null,null,null,null,null,null,null,null,null,null,null,null,null,null,null,null,null,null,null,null,null,null,null,null,null,null,null,null,null,null,null,null,null,null,null,null,null,null,null,null,null,null,null,null,{"$error":"#DIV/0!"}]
[null,null,null,null,null,null,null,null,null,null,null,null,null,null,null,null,null,null,null,null,null,null,null,null,null,null,null,null,null,null,null,null,null,null,null,null,null,null,null,null,null,null,null,null,null,null,null,null,null,null,null,null,null,null,{"$error":"#DIV/0!"}]
[null,null,null,null,null,null,null,null,null,null,null,null,null,null,null,null,null,null,null,null,null,null,null,null,null,null,null,null,null,null,null,null,null,null,null,null,null,null,null,null,null,null,null,null,null,null,null,null,null,null,null,null,null,null,{"$error":"#DIV/0!"}]
[null,null,null,null,null,null,null,null,null,null,null,null,null,null,null,null,null,null,null,null,null,null,null,null,null,null,null,null,null,null,null,null,null,null,null,null,null,null,null,null,null,null,null,null,null,null,null,null,null,null,null,null,null,null,{"$error":"#DIV/0!"}]
[null,null,null,null,null,null,null,null,null,null,null,null,null,null,null,null,null,null,null,null,null,null,null,null,null,null,null,null,null,null,null,null,null,null,null,null,null,null,null,null,null,null,null,null,null,null,null,null,null,null,null,null,null,null,{"$error":"#DIV/0!"}]
[null,null,null,null,null,null,null,null,null,null,null,null,null,null,null,null,null,null,null,null,null,null,null,null,null,null,null,null,null,null,null,null,null,null,null,null,null,null,null,null,null,null,null,null,null,null,null,null,null,null,null,null,null,null,{"$error":"#DIV/0!"}]
[null,null,null,null,null,null,null,null,null,null,null,null,null,null,null,null,null,null,null,null,null,null,null,null,null,null,null,null,null,null,null,null,null,null,null,null,null,null,null,null,null,null,null,null,null,null,null,null,null,null,null,null,null,null,{"$error":"#DIV/0!"}]
[null,null,null,null,null,null,null,null,null,null,null,null,null,null,null,null,null,null,null,null,null,null,null,null,null,null,null,null,null,null,null,null,null,null,null,null,null,null,null,null,null,null,null,null,null,null,null,null,null,null,null,null,null,null,{"$error":"#DIV/0!"}]
[null,null,null,null,null,null,null,null,null,null,null,null,null,null,null,null,null,null,null,null,null,null,null,null,null,null,null,null,null,null,null,null,null,null,null,null,null,null,null,null,null,null,null,null,null,null,null,null,null,null,null,null,null,null,{"$error":"#DIV/0!"}]
[null,null,null,null,null,null,null,null,null,null,null,null,null,null,null,null,null,null,null,null,null,null,null,null,null,null,null,null,null,null,null,null,null,null,null,null,null,null,null,null,null,null,null,null,null,null,null,null,null,null,null,null,null,null,{"$error":"#DIV/0!"}]
[null,null,null,null,null,null,null,null,null,null,null,null,null,null,null,null,null,null,null,null,null,null,null,null,null,null,null,null,null,null,null,null,null,null,null,null,null,null,null,null,null,null,null,null,null,null,null,null,null,null,null,null,null,null,{"$error":"#DIV/0!"}]
[null,null,null,null,null,null,null,null,null,null,null,null,null,null,null,null,null,null,null,null,null,null,null,null,null,null,null,null,null,null,null,null,null,null,null,null,null,null,null,null,null,null,null,null,null,null,null,null,null,null,null,null,null,null,{"$error":"#DIV/0!"}]
[null,null,null,null,null,null,null,null,null,null,null,null,null,null,null,null,null,null,null,null,null,null,null,null,null,null,null,null,null,null,null,null,null,null,null,null,null,null,null,null,null,null,null,null,null,null,null,null,null,null,null,null,null,null,{"$error":"#DIV/0!"}]
[null,null,null,null,null,null,null,null,null,null,null,null,null,null,null,null,null,null,null,null,null,null,null,null,null,null,null,null,null,null,null,null,null,null,null,null,null,null,null,null,null,null,null,null,null,null,null,null,null,null,null,null,null,null,{"$f":"DC114/(CZ114-CV114)*1000","v":{"$error":"#DIV/0!"}}]
[null,null,null,null,null,null,null,null,null,null,null,null,null,null,null,null,null,null,null,null,null,null,null,null,null,null,null,null,null,null,null,null,null,null,null,null,null,null,null,null,null,null,null,null,null,null,null,null,null,null,null,null,null,null,{"$f":"DC115/(CZ115-CV115)*1000","v":{"$error":"#DIV/0!"}}]
[null,null,null,null,null,null,null,null,null,null,null,null,null,null,null,null,null,null,null,null,null,null,null,null,null,null,null,null,null,null,null,null,null,null,null,null,null,null,null,null,null,null,null,null,null,null,null,null,null,null,null,null,null,null,{"$f":"DC116/(CZ116-CV116)*1000","v":{"$error":"#DIV/0!"}}]
[null,null,null,null,null,null,null,null,null,null,null,null,null,null,null,null,null,null,null,null,null,null,null,null,null,null,null,null,null,null,null,null,null,null,null,null,null,null,null,null,null,null,null,null,null,null,null,null,null,null,null,null,null,null,{"$f":"DC117/(CZ117-CV117)*1000","v":{"$error":"#DIV/0!"}}]
[]
[]
[]
[null,null,null,null,null,null,null,null,null,null,null,null,null,null,null,null,null,null,null,null,null,null,null,null,null,null,null,null,null,null,null,null,null,null,null,null,null,null,null,null,null,null,null,null,null,null,null,null,null,null,null,null,null,null,"q sensibel"]
[null,null,null,null,null,null,null,null,null,null,null,null,null,null,null,null,null,null,null,null,null,null,null,null,null,null,null,null,null,null,null,null,null,null,null,null,null,null,null,null,null,null,null,null,null,null,null,null,null,null,null,null,null,null,"W/K"]
[]
[]
[null,null,null,null,null,null,null,null,null,null,null,null,null,null,null,null,null,null,null,null,null,null,null,null,null,null,null,null,null,null,null,null,null,null,null,null,null,null,null,null,null,null,null,null,null,null,null,null,null,null,null,null,null,null,{"$f":"DS18/(DP18-DL18)*1000","v":{"$error":"#DIV/0!"}}]
[null,null,null,null,null,null,null,null,null,null,null,null,null,null,null,null,null,null,null,null,null,null,null,null,null,null,null,null,null,null,null,null,null,null,null,null,null,null,null,null,null,null,null,null,null,null,null,null,null,null,null,null,null,null,{"$error":"#DIV/0!"}]
[null,null,null,null,null,null,null,null,null,null,null,null,null,null,null,null,null,null,null,null,null,null,null,null,null,null,null,null,null,null,null,null,null,null,null,null,null,null,null,null,null,null,null,null,null,null,null,null,null,null,null,null,null,null,{"$error":"#DIV/0!"}]
[null,null,null,null,null,null,null,null,null,null,null,null,null,null,null,null,null,null,null,null,null,null,null,null,null,null,null,null,null,null,null,null,null,null,null,null,null,null,null,null,null,null,null,null,null,null,null,null,null,null,null,null,null,null,{"$error":"#DIV/0!"}]
[null,null,null,null,null,null,null,null,null,null,null,null,null,null,null,null,null,null,null,null,null,null,null,null,null,null,null,null,null,null,null,null,null,null,null,null,null,null,null,null,null,null,null,null,null,null,null,null,null,null,null,null,null,null,{"$error":"#DIV/0!"}]
[null,null,null,null,null,null,null,null,null,null,null,null,null,null,null,null,null,null,null,null,null,null,null,null,null,null,null,null,null,null,null,null,null,null,null,null,null,null,null,null,null,null,null,null,null,null,null,null,null,null,null,null,null,null,{"$error":"#DIV/0!"}]
[null,null,null,null,null,null,null,null,null,null,null,null,null,null,null,null,null,null,null,null,null,null,null,null,null,null,null,null,null,null,null,null,null,null,null,null,null,null,null,null,null,null,null,null,null,null,null,null,null,null,null,null,null,null,{"$error":"#DIV/0!"}]
[null,null,null,null,null,null,null,null,null,null,null,null,null,null,null,null,null,null,null,null,null,null,null,null,null,null,null,null,null,null,null,null,null,null,null,null,null,null,null,null,null,null,null,null,null,null,null,null,null,null,null,null,null,null,{"$error":"#DIV/0!"}]
[null,null,null,null,null,null,null,null,null,null,null,null,null,null,null,null,null,null,null,null,null,null,null,null,null,null,null,null,null,null,null,null,null,null,null,null,null,null,null,null,null,null,null,null,null,null,null,null,null,null,null,null,null,null,{"$error":"#DIV/0!"}]
[null,null,null,null,null,null,null,null,null,null,null,null,null,null,null,null,null,null,null,null,null,null,null,null,null,null,null,null,null,null,null,null,null,null,null,null,null,null,null,null,null,null,null,null,null,null,null,null,null,null,null,null,null,null,{"$error":"#DIV/0!"}]
[null,null,null,null,null,null,null,null,null,null,null,null,null,null,null,null,null,null,null,null,null,null,null,null,null,null,null,null,null,null,null,null,null,null,null,null,null,null,null,null,null,null,null,null,null,null,null,null,null,null,null,null,null,null,{"$error":"#DIV/0!"}]
[null,null,null,null,null,null,null,null,null,null,null,null,null,null,null,null,null,null,null,null,null,null,null,null,null,null,null,null,null,null,null,null,null,null,null,null,null,null,null,null,null,null,null,null,null,null,null,null,null,null,null,null,null,null,{"$error":"#DIV/0!"}]
[null,null,null,null,null,null,null,null,null,null,null,null,null,null,null,null,null,null,null,null,null,null,null,null,null,null,null,null,null,null,null,null,null,null,null,null,null,null,null,null,null,null,null,null,null,null,null,null,null,null,null,null,null,null,{"$error":"#DIV/0!"}]
[null,null,null,null,null,null,null,null,null,null,null,null,null,null,null,null,null,null,null,null,null,null,null,null,null,null,null,null,null,null,null,null,null,null,null,null,null,null,null,null,null,null,null,null,null,null,null,null,null,null,null,null,null,null,{"$error":"#DIV/0!"}]
[null,null,null,null,null,null,null,null,null,null,null,null,null,null,null,null,null,null,null,null,null,null,null,null,null,null,null,null,null,null,null,null,null,null,null,null,null,null,null,null,null,null,null,null,null,null,null,null,null,null,null,null,null,null,{"$error":"#DIV/0!"}]
[null,null,null,null,null,null,null,null,null,null,null,null,null,null,null,null,null,null,null,null,null,null,null,null,null,null,null,null,null,null,null,null,null,null,null,null,null,null,null,null,null,null,null,null,null,null,null,null,null,null,null,null,null,null,{"$error":"#DIV/0!"}]
[null,null,null,null,null,null,null,null,null,null,null,null,null,null,null,null,null,null,null,null,null,null,null,null,null,null,null,null,null,null,null,null,null,null,null,null,null,null,null,null,null,null,null,null,null,null,null,null,null,null,null,null,null,null,{"$error":"#DIV/0!"}]
[null,null,null,null,null,null,null,null,null,null,null,null,null,null,null,null,null,null,null,null,null,null,null,null,null,null,null,null,null,null,null,null,null,null,null,null,null,null,null,null,null,null,null,null,null,null,null,null,null,null,null,null,null,null,{"$error":"#DIV/0!"}]
[null,null,null,null,null,null,null,null,null,null,null,null,null,null,null,null,null,null,null,null,null,null,null,null,null,null,null,null,null,null,null,null,null,null,null,null,null,null,null,null,null,null,null,null,null,null,null,null,null,null,null,null,null,null,{"$error":"#DIV/0!"}]
[null,null,null,null,null,null,null,null,null,null,null,null,null,null,null,null,null,null,null,null,null,null,null,null,null,null,null,null,null,null,null,null,null,null,null,null,null,null,null,null,null,null,null,null,null,null,null,null,null,null,null,null,null,null,{"$error":"#DIV/0!"}]
[null,null,null,null,null,null,null,null,null,null,null,null,null,null,null,null,null,null,null,null,null,null,null,null,null,null,null,null,null,null,null,null,null,null,null,null,null,null,null,null,null,null,null,null,null,null,null,null,null,null,null,null,null,null,{"$error":"#DIV/0!"}]
[null,null,null,null,null,null,null,null,null,null,null,null,null,null,null,null,null,null,null,null,null,null,null,null,null,null,null,null,null,null,null,null,null,null,null,null,null,null,null,null,null,null,null,null,null,null,null,null,null,null,null,null,null,null,{"$error":"#DIV/0!"}]
[null,null,null,null,null,null,null,null,null,null,null,null,null,null,null,null,null,null,null,null,null,null,null,null,null,null,null,null,null,null,null,null,null,null,null,null,null,null,null,null,null,null,null,null,null,null,null,null,null,null,null,null,null,null,{"$error":"#DIV/0!"}]
[null,null,null,null,null,null,null,null,null,null,null,null,null,null,null,null,null,null,null,null,null,null,null,null,null,null,null,null,null,null,null,null,null,null,null,null,null,null,null,null,null,null,null,null,null,null,null,null,null,null,null,null,null,null,{"$error":"#DIV/0!"}]
[null,null,null,null,null,null,null,null,null,null,null,null,null,null,null,null,null,null,null,null,null,null,null,null,null,null,null,null,null,null,null,null,null,null,null,null,null,null,null,null,null,null,null,null,null,null,null,null,null,null,null,null,null,null,{"$error":"#DIV/0!"}]
[null,null,null,null,null,null,null,null,null,null,null,null,null,null,null,null,null,null,null,null,null,null,null,null,null,null,null,null,null,null,null,null,null,null,null,null,null,null,null,null,null,null,null,null,null,null,null,null,null,null,null,null,null,null,{"$error":"#DIV/0!"}]
[null,null,null,null,null,null,null,null,null,null,null,null,null,null,null,null,null,null,null,null,null,null,null,null,null,null,null,null,null,null,null,null,null,null,null,null,null,null,null,null,null,null,null,null,null,null,null,null,null,null,null,null,null,null,{"$error":"#DIV/0!"}]
[null,null,null,null,null,null,null,null,null,null,null,null,null,null,null,null,null,null,null,null,null,null,null,null,null,null,null,null,null,null,null,null,null,null,null,null,null,null,null,null,null,null,null,null,null,null,null,null,null,null,null,null,null,null,{"$error":"#DIV/0!"}]
[null,null,null,null,null,null,null,null,null,null,null,null,null,null,null,null,null,null,null,null,null,null,null,null,null,null,null,null,null,null,null,null,null,null,null,null,null,null,null,null,null,null,null,null,null,null,null,null,null,null,null,null,null,null,{"$error":"#DIV/0!"}]
[null,null,null,null,null,null,null,null,null,null,null,null,null,null,null,null,null,null,null,null,null,null,null,null,null,null,null,null,null,null,null,null,null,null,null,null,null,null,null,null,null,null,null,null,null,null,null,null,null,null,null,null,null,null,{"$error":"#DIV/0!"}]
[null,null,null,null,null,null,null,null,null,null,null,null,null,null,null,null,null,null,null,null,null,null,null,null,null,null,null,null,null,null,null,null,null,null,null,null,null,null,null,null,null,null,null,null,null,null,null,null,null,null,null,null,null,null,{"$error":"#DIV/0!"}]
[null,null,null,null,null,null,null,null,null,null,null,null,null,null,null,null,null,null,null,null,null,null,null,null,null,null,null,null,null,null,null,null,null,null,null,null,null,null,null,null,null,null,null,null,null,null,null,null,null,null,null,null,null,null,{"$error":"#DIV/0!"}]
[null,null,null,null,null,null,null,null,null,null,null,null,null,null,null,null,null,null,null,null,null,null,null,null,null,null,null,null,null,null,null,null,null,null,null,null,null,null,null,null,null,null,null,null,null,null,null,null,null,null,null,null,null,null,{"$f":"DS50/(DP50-DL50)*1000","v":{"$error":"#DIV/0!"}}]
[null,null,null,null,null,null,null,null,null,null,null,null,null,null,null,null,null,null,null,null,null,null,null,null,null,null,null,null,null,null,null,null,null,null,null,null,null,null,null,null,null,null,null,null,null,null,null,null,null,null,null,null,null,null,{"$error":"#DIV/0!"}]
[null,null,null,null,null,null,null,null,null,null,null,null,null,null,null,null,null,null,null,null,null,null,null,null,null,null,null,null,null,null,null,null,null,null,null,null,null,null,null,null,null,null,null,null,null,null,null,null,null,null,null,null,null,null,{"$error":"#DIV/0!"}]
[null,null,null,null,null,null,null,null,null,null,null,null,null,null,null,null,null,null,null,null,null,null,null,null,null,null,null,null,null,null,null,null,null,null,null,null,null,null,null,null,null,null,null,null,null,null,null,null,null,null,null,null,null,null,{"$error":"#DIV/0!"}]
[null,null,null,null,null,null,null,null,null,null,null,null,null,null,null,null,null,null,null,null,null,null,null,null,null,null,null,null,null,null,null,null,null,null,null,null,null,null,null,null,null,null,null,null,null,null,null,null,null,null,null,null,null,null,{"$error":"#DIV/0!"}]
[null,null,null,null,null,null,null,null,null,null,null,null,null,null,null,null,null,null,null,null,null,null,null,null,null,null,null,null,null,null,null,null,null,null,null,null,null,null,null,null,null,null,null,null,null,null,null,null,null,null,null,null,null,null,{"$error":"#DIV/0!"}]
[null,null,null,null,null,null,null,null,null,null,null,null,null,null,null,null,null,null,null,null,null,null,null,null,null,null,null,null,null,null,null,null,null,null,null,null,null,null,null,null,null,null,null,null,null,null,null,null,null,null,null,null,null,null,{"$error":"#DIV/0!"}]
[null,null,null,null,null,null,null,null,null,null,null,null,null,null,null,null,null,null,null,null,null,null,null,null,null,null,null,null,null,null,null,null,null,null,null,null,null,null,null,null,null,null,null,null,null,null,null,null,null,null,null,null,null,null,{"$error":"#DIV/0!"}]
[null,null,null,null,null,null,null,null,null,null,null,null,null,null,null,null,null,null,null,null,null,null,null,null,null,null,null,null,null,null,null,null,null,null,null,null,null,null,null,null,null,null,null,null,null,null,null,null,null,null,null,null,null,null,{"$error":"#DIV/0!"}]
[null,null,null,null,null,null,null,null,null,null,null,null,null,null,null,null,null,null,null,null,null,null,null,null,null,null,null,null,null,null,null,null,null,null,null,null,null,null,null,null,null,null,null,null,null,null,null,null,null,null,null,null,null,null,{"$error":"#DIV/0!"}]
[null,null,null,null,null,null,null,null,null,null,null,null,null,null,null,null,null,null,null,null,null,null,null,null,null,null,null,null,null,null,null,null,null,null,null,null,null,null,null,null,null,null,null,null,null,null,null,null,null,null,null,null,null,null,{"$error":"#DIV/0!"}]
[null,null,null,null,null,null,null,null,null,null,null,null,null,null,null,null,null,null,null,null,null,null,null,null,null,null,null,null,null,null,null,null,null,null,null,null,null,null,null,null,null,null,null,null,null,null,null,null,null,null,null,null,null,null,{"$error":"#DIV/0!"}]
[null,null,null,null,null,null,null,null,null,null,null,null,null,null,null,null,null,null,null,null,null,null,null,null,null,null,null,null,null,null,null,null,null,null,null,null,null,null,null,null,null,null,null,null,null,null,null,null,null,null,null,null,null,null,{"$error":"#DIV/0!"}]
[null,null,null,null,null,null,null,null,null,null,null,null,null,null,null,null,null,null,null,null,null,null,null,null,null,null,null,null,null,null,null,null,null,null,null,null,null,null,null,null,null,null,null,null,null,null,null,null,null,null,null,null,null,null,{"$error":"#DIV/0!"}]
[null,null,null,null,null,null,null,null,null,null,null,null,null,null,null,null,null,null,null,null,null,null,null,null,null,null,null,null,null,null,null,null,null,null,null,null,null,null,null,null,null,null,null,null,null,null,null,null,null,null,null,null,null,null,{"$error":"#DIV/0!"}]
[null,null,null,null,null,null,null,null,null,null,null,null,null,null,null,null,null,null,null,null,null,null,null,null,null,null,null,null,null,null,null,null,null,null,null,null,null,null,null,null,null,null,null,null,null,null,null,null,null,null,null,null,null,null,{"$error":"#DIV/0!"}]
[null,null,null,null,null,null,null,null,null,null,null,null,null,null,null,null,null,null,null,null,null,null,null,null,null,null,null,null,null,null,null,null,null,null,null,null,null,null,null,null,null,null,null,null,null,null,null,null,null,null,null,null,null,null,{"$error":"#DIV/0!"}]
[null,null,null,null,null,null,null,null,null,null,null,null,null,null,null,null,null,null,null,null,null,null,null,null,null,null,null,null,null,null,null,null,null,null,null,null,null,null,null,null,null,null,null,null,null,null,null,null,null,null,null,null,null,null,{"$error":"#DIV/0!"}]
[null,null,null,null,null,null,null,null,null,null,null,null,null,null,null,null,null,null,null,null,null,null,null,null,null,null,null,null,null,null,null,null,null,null,null,null,null,null,null,null,null,null,null,null,null,null,null,null,null,null,null,null,null,null,{"$error":"#DIV/0!"}]
[null,null,null,null,null,null,null,null,null,null,null,null,null,null,null,null,null,null,null,null,null,null,null,null,null,null,null,null,null,null,null,null,null,null,null,null,null,null,null,null,null,null,null,null,null,null,null,null,null,null,null,null,null,null,{"$error":"#DIV/0!"}]
[null,null,null,null,null,null,null,null,null,null,null,null,null,null,null,null,null,null,null,null,null,null,null,null,null,null,null,null,null,null,null,null,null,null,null,null,null,null,null,null,null,null,null,null,null,null,null,null,null,null,null,null,null,null,{"$error":"#DIV/0!"}]
[null,null,null,null,null,null,null,null,null,null,null,null,null,null,null,null,null,null,null,null,null,null,null,null,null,null,null,null,null,null,null,null,null,null,null,null,null,null,null,null,null,null,null,null,null,null,null,null,null,null,null,null,null,null,{"$error":"#DIV/0!"}]
[null,null,null,null,null,null,null,null,null,null,null,null,null,null,null,null,null,null,null,null,null,null,null,null,null,null,null,null,null,null,null,null,null,null,null,null,null,null,null,null,null,null,null,null,null,null,null,null,null,null,null,null,null,null,{"$error":"#DIV/0!"}]
[null,null,null,null,null,null,null,null,null,null,null,null,null,null,null,null,null,null,null,null,null,null,null,null,null,null,null,null,null,null,null,null,null,null,null,null,null,null,null,null,null,null,null,null,null,null,null,null,null,null,null,null,null,null,{"$error":"#DIV/0!"}]
[null,null,null,null,null,null,null,null,null,null,null,null,null,null,null,null,null,null,null,null,null,null,null,null,null,null,null,null,null,null,null,null,null,null,null,null,null,null,null,null,null,null,null,null,null,null,null,null,null,null,null,null,null,null,{"$error":"#DIV/0!"}]
[null,null,null,null,null,null,null,null,null,null,null,null,null,null,null,null,null,null,null,null,null,null,null,null,null,null,null,null,null,null,null,null,null,null,null,null,null,null,null,null,null,null,null,null,null,null,null,null,null,null,null,null,null,null,{"$error":"#DIV/0!"}]
[null,null,null,null,null,null,null,null,null,null,null,null,null,null,null,null,null,null,null,null,null,null,null,null,null,null,null,null,null,null,null,null,null,null,null,null,null,null,null,null,null,null,null,null,null,null,null,null,null,null,null,null,null,null,{"$error":"#DIV/0!"}]
[null,null,null,null,null,null,null,null,null,null,null,null,null,null,null,null,null,null,null,null,null,null,null,null,null,null,null,null,null,null,null,null,null,null,null,null,null,null,null,null,null,null,null,null,null,null,null,null,null,null,null,null,null,null,{"$error":"#DIV/0!"}]
[null,null,null,null,null,null,null,null,null,null,null,null,null,null,null,null,null,null,null,null,null,null,null,null,null,null,null,null,null,null,null,null,null,null,null,null,null,null,null,null,null,null,null,null,null,null,null,null,null,null,null,null,null,null,{"$error":"#DIV/0!"}]
[null,null,null,null,null,null,null,null,null,null,null,null,null,null,null,null,null,null,null,null,null,null,null,null,null,null,null,null,null,null,null,null,null,null,null,null,null,null,null,null,null,null,null,null,null,null,null,null,null,null,null,null,null,null,{"$error":"#DIV/0!"}]
[null,null,null,null,null,null,null,null,null,null,null,null,null,null,null,null,null,null,null,null,null,null,null,null,null,null,null,null,null,null,null,null,null,null,null,null,null,null,null,null,null,null,null,null,null,null,null,null,null,null,null,null,null,null,{"$error":"#DIV/0!"}]
[null,null,null,null,null,null,null,null,null,null,null,null,null,null,null,null,null,null,null,null,null,null,null,null,null,null,null,null,null,null,null,null,null,null,null,null,null,null,null,null,null,null,null,null,null,null,null,null,null,null,null,null,null,null,{"$error":"#DIV/0!"}]
[null,null,null,null,null,null,null,null,null,null,null,null,null,null,null,null,null,null,null,null,null,null,null,null,null,null,null,null,null,null,null,null,null,null,null,null,null,null,null,null,null,null,null,null,null,null,null,null,null,null,null,null,null,null,{"$f":"DS82/(DP82-DL82)*1000","v":{"$error":"#DIV/0!"}}]
[null,null,null,null,null,null,null,null,null,null,null,null,null,null,null,null,null,null,null,null,null,null,null,null,null,null,null,null,null,null,null,null,null,null,null,null,null,null,null,null,null,null,null,null,null,null,null,null,null,null,null,null,null,null,{"$error":"#DIV/0!"}]
[null,null,null,null,null,null,null,null,null,null,null,null,null,null,null,null,null,null,null,null,null,null,null,null,null,null,null,null,null,null,null,null,null,null,null,null,null,null,null,null,null,null,null,null,null,null,null,null,null,null,null,null,null,null,{"$error":"#DIV/0!"}]
[null,null,null,null,null,null,null,null,null,null,null,null,null,null,null,null,null,null,null,null,null,null,null,null,null,null,null,null,null,null,null,null,null,null,null,null,null,null,null,null,null,null,null,null,null,null,null,null,null,null,null,null,null,null,{"$error":"#DIV/0!"}]
[null,null,null,null,null,null,null,null,null,null,null,null,null,null,null,null,null,null,null,null,null,null,null,null,null,null,null,null,null,null,null,null,null,null,null,null,null,null,null,null,null,null,null,null,null,null,null,null,null,null,null,null,null,null,{"$error":"#DIV/0!"}]
[null,null,null,null,null,null,null,null,null,null,null,null,null,null,null,null,null,null,null,null,null,null,null,null,null,null,null,null,null,null,null,null,null,null,null,null,null,null,null,null,null,null,null,null,null,null,null,null,null,null,null,null,null,null,{"$error":"#DIV/0!"}]
[null,null,null,null,null,null,null,null,null,null,null,null,null,null,null,null,null,null,null,null,null,null,null,null,null,null,null,null,null,null,null,null,null,null,null,null,null,null,null,null,null,null,null,null,null,null,null,null,null,null,null,null,null,null,{"$error":"#DIV/0!"}]
[null,null,null,null,null,null,null,null,null,null,null,null,null,null,null,null,null,null,null,null,null,null,null,null,null,null,null,null,null,null,null,null,null,null,null,null,null,null,null,null,null,null,null,null,null,null,null,null,null,null,null,null,null,null,{"$error":"#DIV/0!"}]
[null,null,null,null,null,null,null,null,null,null,null,null,null,null,null,null,null,null,null,null,null,null,null,null,null,null,null,null,null,null,null,null,null,null,null,null,null,null,null,null,null,null,null,null,null,null,null,null,null,null,null,null,null,null,{"$error":"#DIV/0!"}]
[null,null,null,null,null,null,null,null,null,null,null,null,null,null,null,null,null,null,null,null,null,null,null,null,null,null,null,null,null,null,null,null,null,null,null,null,null,null,null,null,null,null,null,null,null,null,null,null,null,null,null,null,null,null,{"$error":"#DIV/0!"}]
[null,null,null,null,null,null,null,null,null,null,null,null,null,null,null,null,null,null,null,null,null,null,null,null,null,null,null,null,null,null,null,null,null,null,null,null,null,null,null,null,null,null,null,null,null,null,null,null,null,null,null,null,null,null,{"$error":"#DIV/0!"}]
[null,null,null,null,null,null,null,null,null,null,null,null,null,null,null,null,null,null,null,null,null,null,null,null,null,null,null,null,null,null,null,null,null,null,null,null,null,null,null,null,null,null,null,null,null,null,null,null,null,null,null,null,null,null,{"$error":"#DIV/0!"}]
[null,null,null,null,null,null,null,null,null,null,null,null,null,null,null,null,null,null,null,null,null,null,null,null,null,null,null,null,null,null,null,null,null,null,null,null,null,null,null,null,null,null,null,null,null,null,null,null,null,null,null,null,null,null,{"$error":"#DIV/0!"}]
[null,null,null,null,null,null,null,null,null,null,null,null,null,null,null,null,null,null,null,null,null,null,null,null,null,null,null,null,null,null,null,null,null,null,null,null,null,null,null,null,null,null,null,null,null,null,null,null,null,null,null,null,null,null,{"$error":"#DIV/0!"}]
[null,null,null,null,null,null,null,null,null,null,null,null,null,null,null,null,null,null,null,null,null,null,null,null,null,null,null,null,null,null,null,null,null,null,null,null,null,null,null,null,null,null,null,null,null,null,null,null,null,null,null,null,null,null,{"$error":"#DIV/0!"}]
[null,null,null,null,null,null,null,null,null,null,null,null,null,null,null,null,null,null,null,null,null,null,null,null,null,null,null,null,null,null,null,null,null,null,null,null,null,null,null,null,null,null,null,null,null,null,null,null,null,null,null,null,null,null,{"$error":"#DIV/0!"}]
[null,null,null,null,null,null,null,null,null,null,null,null,null,null,null,null,null,null,null,null,null,null,null,null,null,null,null,null,null,null,null,null,null,null,null,null,null,null,null,null,null,null,null,null,null,null,null,null,null,null,null,null,null,null,{"$error":"#DIV/0!"}]
[null,null,null,null,null,null,null,null,null,null,null,null,null,null,null,null,null,null,null,null,null,null,null,null,null,null,null,null,null,null,null,null,null,null,null,null,null,null,null,null,null,null,null,null,null,null,null,null,null,null,null,null,null,null,{"$error":"#DIV/0!"}]
[null,null,null,null,null,null,null,null,null,null,null,null,null,null,null,null,null,null,null,null,null,null,null,null,null,null,null,null,null,null,null,null,null,null,null,null,null,null,null,null,null,null,null,null,null,null,null,null,null,null,null,null,null,null,{"$error":"#DIV/0!"}]
[null,null,null,null,null,null,null,null,null,null,null,null,null,null,null,null,null,null,null,null,null,null,null,null,null,null,null,null,null,null,null,null,null,null,null,null,null,null,null,null,null,null,null,null,null,null,null,null,null,null,null,null,null,null,{"$error":"#DIV/0!"}]
[null,null,null,null,null,null,null,null,null,null,null,null,null,null,null,null,null,null,null,null,null,null,null,null,null,null,null,null,null,null,null,null,null,null,null,null,null,null,null,null,null,null,null,null,null,null,null,null,null,null,null,null,null,null,{"$error":"#DIV/0!"}]
[null,null,null,null,null,null,null,null,null,null,null,null,null,null,null,null,null,null,null,null,null,null,null,null,null,null,null,null,null,null,null,null,null,null,null,null,null,null,null,null,null,null,null,null,null,null,null,null,null,null,null,null,null,null,{"$error":"#DIV/0!"}]
[null,null,null,null,null,null,null,null,null,null,null,null,null,null,null,null,null,null,null,null,null,null,null,null,null,null,null,null,null,null,null,null,null,null,null,null,null,null,null,null,null,null,null,null,null,null,null,null,null,null,null,null,null,null,{"$error":"#DIV/0!"}]
[null,null,null,null,null,null,null,null,null,null,null,null,null,null,null,null,null,null,null,null,null,null,null,null,null,null,null,null,null,null,null,null,null,null,null,null,null,null,null,null,null,null,null,null,null,null,null,null,null,null,null,null,null,null,{"$error":"#DIV/0!"}]
[null,null,null,null,null,null,null,null,null,null,null,null,null,null,null,null,null,null,null,null,null,null,null,null,null,null,null,null,null,null,null,null,null,null,null,null,null,null,null,null,null,null,null,null,null,null,null,null,null,null,null,null,null,null,{"$error":"#DIV/0!"}]
[null,null,null,null,null,null,null,null,null,null,null,null,null,null,null,null,null,null,null,null,null,null,null,null,null,null,null,null,null,null,null,null,null,null,null,null,null,null,null,null,null,null,null,null,null,null,null,null,null,null,null,null,null,null,{"$error":"#DIV/0!"}]
[null,null,null,null,null,null,null,null,null,null,null,null,null,null,null,null,null,null,null,null,null,null,null,null,null,null,null,null,null,null,null,null,null,null,null,null,null,null,null,null,null,null,null,null,null,null,null,null,null,null,null,null,null,null,{"$error":"#DIV/0!"}]
[null,null,null,null,null,null,null,null,null,null,null,null,null,null,null,null,null,null,null,null,null,null,null,null,null,null,null,null,null,null,null,null,null,null,null,null,null,null,null,null,null,null,null,null,null,null,null,null,null,null,null,null,null,null,{"$error":"#DIV/0!"}]
[null,null,null,null,null,null,null,null,null,null,null,null,null,null,null,null,null,null,null,null,null,null,null,null,null,null,null,null,null,null,null,null,null,null,null,null,null,null,null,null,null,null,null,null,null,null,null,null,null,null,null,null,null,null,{"$error":"#DIV/0!"}]
[null,null,null,null,null,null,null,null,null,null,null,null,null,null,null,null,null,null,null,null,null,null,null,null,null,null,null,null,null,null,null,null,null,null,null,null,null,null,null,null,null,null,null,null,null,null,null,null,null,null,null,null,null,null,{"$error":"#DIV/0!"}]
[null,null,null,null,null,null,null,null,null,null,null,null,null,null,null,null,null,null,null,null,null,null,null,null,null,null,null,null,null,null,null,null,null,null,null,null,null,null,null,null,null,null,null,null,null,null,null,null,null,null,null,null,null,null,{"$error":"#DIV/0!"}]
[null,null,null,null,null,null,null,null,null,null,null,null,null,null,null,null,null,null,null,null,null,null,null,null,null,null,null,null,null,null,null,null,null,null,null,null,null,null,null,null,null,null,null,null,null,null,null,null,null,null,null,null,null,null,{"$error":"#DIV/0!"}]
[null,null,null,null,null,null,null,null,null,null,null,null,null,null,null,null,null,null,null,null,null,null,null,null,null,null,null,null,null,null,null,null,null,null,null,null,null,null,null,null,null,null,null,null,null,null,null,null,null,null,null,null,null,null,{"$f":"DS114/(DP114-DL114)*1000","v":{"$error":"#DIV/0!"}}]
[null,null,null,null,null,null,null,null,null,null,null,null,null,null,null,null,null,null,null,null,null,null,null,null,null,null,null,null,null,null,null,null,null,null,null,null,null,null,null,null,null,null,null,null,null,null,null,null,null,null,null,null,null,null,{"$f":"DS115/(DP115-DL115)*1000","v":{"$error":"#DIV/0!"}}]
[null,null,null,null,null,null,null,null,null,null,null,null,null,null,null,null,null,null,null,null,null,null,null,null,null,null,null,null,null,null,null,null,null,null,null,null,null,null,null,null,null,null,null,null,null,null,null,null,null,null,null,null,null,null,{"$f":"DS116/(DP116-DL116)*1000","v":{"$error":"#DIV/0!"}}]
[null,null,null,null,null,null,null,null,null,null,null,null,null,null,null,null,null,null,null,null,null,null,null,null,null,null,null,null,null,null,null,null,null,null,null,null,null,null,null,null,null,null,null,null,null,null,null,null,null,null,null,null,null,null,{"$f":"BJ441/(BI441-BE441)*1000","v":{"$error":"#DIV/0!"}}]

{"sheet":"Auslegung_BG800_kondensierend","index":10,"n_rows":80091,"n_cols":379,"rows_kept":4500,"cut":true,"hidden":true,"merged":[[62,48,62,51],[63,48,63,51],[76,13,76,14]],"bounds":{"rows_first":2000,"rows_last":500,"rows_between":2000,"halvings":0}}
["T_VL",{"$f":"IF(ISERROR(D1),1,ROUND(D1,0))","v":6},"°C",{"$f":"VKL!$I$8","v":6},"Vorlauf",null,null,"Volumenstrom","Wassermassenstrom",null,null,null,null,null,null,null,null,null,null,null,null,null,null,null,null,null,null,null,"T_VL",{"$f":"IF(ISERROR(AF1),1,ROUND(AF1,0))","v":6},"°C",{"$f":"$D$1","v":6},"Vorlauf",null,null,null,null,null,null,null,null,null,null,null,null,null,null,null,null,null,null,null,null,"T_VL",{"$f":"IF(ISERROR(BE1),1,ROUND(BE1,0))","v":6},"°C",{"$f":"$D$1","v":6},"Vorlauf",null,null,null,null,null,null,null,null,null,null,null,null,null,null,null,null,null,null,null,null,null,"T_VL",{"$f":"IF(ISERROR(CE1),1,ROUND(CE1,0))","v":6},"°C",{"$f":"$D$1","v":6},"Vorlauf",null,null,null,null,null,null,null,null,null,null,null,null,null,null,null,null,null,null,null,null,null,"T_VL",{"$f":"IF(ISERROR(DE1),1,ROUND(DE1,0))","v":6},"°C",{"$f":"$D$1","v":6},"Vorlauf",null,null,null,null,null,null,null,null,null,null,null,null,null,null,null,null,null,null,null,null,"T_VL",{"$f":"IF(ISERROR(ED1),1,ROUND(ED1,0))","v":6},"°C",{"$f":"D1","v":6},"Vorlauf",null,null,"Volumenstrom","Wassermassenstrom",null,null,null,null,null,null,null,null,null,null,null,null,null,null,null,null,null,null,null,"T_VL",{"$f":"IF(ISERROR(FF1),1,ROUND(FF1,0))","v":6},"°C",{"$f":"$D$1","v":6},"Vorlauf",null,null,null,null,null,null,null,null,null,null,null,null,null,null,null,null,null,null,null,null,"T_VL",{"$f":"IF(ISERROR(GE1),1,ROUND(GE1,0))","v":6},"°C",{"$f":"$D$1","v":6},"Vorlauf",null,null,null,null,null,null,null,null,null,null,null,null,null,null,null,null,null,null,null,null,null,"T_VL",{"$f":"IF(ISERROR(HE1),1,ROUND(HE1,0))","v":6},"°C",{"$f":"$D$1","v":6},"Vorlauf",null,null,null,null,null,null,null,null,null,null,null,null,null,null,null,null,null,null,null,null,null,"T_VL",{"$f":"IF(ISERROR(IE1),1,ROUND(IE1,0))","v":6},"°C",{"$f":"$D$1","v":6},"Vorlauf",null,null,null,null,null,null,null,null,null,null,null,null,null,null,null,null,null,null,null,null,null,"T_VL",{"$f":"IF(ISERROR(JE1),1,ROUND(JE1,0))","v":6},"°C",{"$f":"D1","v":6},"Vorlauf",null,null,"Volumenstrom","Wassermassenstrom",null,null,null,null,null,null,null,null,null,null,null,null,null,null,null,null,null,null,null,"T_VL",{"$f":"IF(ISERROR(KG1),1,ROUND(KG1,0))","v":6},"°C",{"$f":"$D$1","v":6},"Vorlauf",null,null,null,null,null,null,null,null,null,null,null,null,null,null,null,null,null,null,null,null,"T_VL",{"$f":"IF(ISERROR(LF1),1,ROUND(LF1,0))","v":6},"°C",{"$f":"$D$1","v":6},"Vorlauf",null,null,null,null,null,null,null,null,null,null,null,null,null,null,null,null,null,null,null,null,null,"T_VL",{"$f":"IF(ISERROR(MF1),1,ROUND(MF1,0))","v":6},"°C",{"$f":"$D$1","v":6},"Vorlauf",null,null,null,null,null,null,null,null,null,null,null,null,null,null,null,null,null,null,null,null,null,"T_VL",{"$f":"IF(ISERROR(NF1),1,ROUND(NF1,0))","v":6},"°C",{"$f":"$D$1","v":6},"Vorlauf"]
["m_KW",{"$f":"IF(ISERROR(D2),1,D2)","v":100},"kg/h",{"$f":"I2","v":100},"Kühlwasser",null,null,100,100,null,null,null,null,null,null,null,null,null,null,null,null,null,null,null,null,null,null,null,"m_KW",{"$f":"IF(ISERROR(AF2),1,AF2)","v":100},"kg/h",{"$f":"$D$2","v":100},"Kühlwasser",null,null,null,null,null,null,null,null,null,null,null,null,null,null,null,null,null,null,null,null,"m_KW",{"$f":"IF(ISERROR(BE2),1,BE2)","v":100},"kg/h",{"$f":"$D$2","v":100},"Kühlwasser",null,null,null,null,null,null,null,null,null,null,null,null,null,null,null,null,null,null,null,null,null,"m_KW",{"$f":"IF(ISERROR(CE2),1,CE2)","v":100},"kg/h",{"$f":"$D$2","v":100},"Kühlwasser",null,null,null,null,null,null,null,null,null,null,null,null,null,null,null,null,null,null,null,null,null,"m_KW",{"$f":"IF(ISERROR(DE2),1,DE2)","v":100},"kg/h",{"$f":"$D$2","v":100},"Kühlwasser",null,null,null,null,null,null,null,null,null,null,null,null,null,null,null,null,null,null,null,null,"m_KW",{"$f":"IF(ISERROR(ED2),1,ED2)","v":200},"kg/h",{"$f":"$EI$3","v":200},"Kühlwasser",null,null,{"$f":"H2","v":100},{"$f":"I2","v":100},null,null,null,null,null,null,null,null,null,null,null,null,null,null,null,null,null,null,null,"m_KW",{"$f":"IF(ISERROR(FF2),1,FF2)","v":200},"kg/h",{"$f":"ED2","v":200},"Kühlwasser",null,null,null,null,null,null,null,null,null,null,null,null,null,null,null,null,null,null,null,null,"m_KW",{"$f":"IF(ISERROR(GE2),1,GE2)","v":200},"kg/h",{"$f":"FF2","v":200},"Kühlwasser",null,null,null,null,null,null,null,null,null,null,null,null,null,null,null,null,null,null,null,null,null,"m_KW",{"$f":"IF(ISERROR(HE2),1,HE2)","v":200},"kg/h",{"$f":"GE2","v":200},"Kühlwasser",null,null,null,null,null,null,null,null,null,null,null,null,null,null,null,null,null,null,null,null,null,"m_KW",{"$f":"IF(ISERROR(IE2),1,IE2)","v":200},"kg/h",{"$f":"HE2","v":200},"Kühlwasser",null,null,null,null,null,null,null,null,null,null,null,null,null,null,null,null,null,null,null,null,null,"m_KW",{"$f":"IF(ISERROR(JE2),1,JE2)","v":300},"kg/h",{"$f":"JJ4","v":300},"Kühlwasser",null,null,{"$f":"H2","v":100},{"$f":"I2","v":100},null,null,null,null,null,null,null,null,null,null,null,null,null,null,null,null,null,null,null,"m_KW",{"$f":"IF(ISERROR(KG2),1,KG2)","v":300},"kg/h",{"$f":"JE2","v":300},"Kühlwasser",null,null,null,null,null,null,null,null,null,null,null,null,null,null,null,null,null,null,null,null,"m_KW",{"$f":"IF(ISERROR(LF2),1,LF2)","v":300},"kg/h",{"$f":"KG2","v":300},"Kühlwasser",null,null,null,null,null,null,null,null,null,null,null,null,null,null,null,null,null,null,null,null,null,"m_KW",{"$f":"IF(ISERROR(MF2),1,MF2)","v":300},"kg/h",{"$f":"LF2","v":300},"Kühlwasser",null,null,null,null,null,null,null,null,null,null,null,null,null,null,null,null,null,null,null,null,null,"m_KW",{"$f":"IF(ISERROR(NF2),1,NF2)","v":300},"kg/h",{"$f":"MF2","v":300},"Kühlwasser"]
["V",{"$f":"IF(ISERROR(D3),1,ROUND(D3,0))","v":100},"m³/h",{"$f":"H2","v":100},"Volumenstrom",null,null,170,200,null,null,null,null,null,null,null,null,null,null,null,null,null,null,null,null,null,null,null,"V",{"$f":"IF(ISERROR(AF3),1,ROUND(AF3,0))","v":170},"m³/h",{"$f":"H3","v":170},"Volumenstrom",null,null,null,null,null,null,null,null,null,null,null,null,null,null,null,null,null,null,null,null,"V",{"$f":"IF(ISERROR(BE3),1,ROUND(BE3,0))","v":240},"m³/h",{"$f":"H4","v":240},"Volumenstrom",null,null,null,null,null,null,null,null,null,null,null,null,null,null,null,null,null,null,null,null,null,"V",{"$f":"IF(ISERROR(CE3),1,ROUND(CE3,0))","v":310},"m³/h",{"$f":"H5","v":310},"Volumenstrom",null,null,null,null,null,null,null,null,null,null,null,null,null,null,null,null,null,null,null,null,null,"V",{"$f":"IF(ISERROR(DE3),1,ROUND(DE3,0))","v":380},"m³/h",{"$f":"H6","v":380},"Volumenstrom",null,null,null,null,null,null,null,null,null,null,null,null,null,null,null,null,null,null,null,null,"V",{"$f":"IF(ISERROR(ED3),1,ROUND(ED3,0))","v":100},"m³/h",{"$f":"EH2","v":100},"Volumenstrom",null,null,{"$f":"H3","v":170},200,null,null,null,null,null,null,null,null,null,null,null,null,null,null,null,null,null,null,null,"V",{"$f":"IF(ISERROR(FF3),1,ROUND(FF3,0))","v":170},"m³/h",{"$f":"EH3","v":170},"Volumenstrom",null,null,null,null,null,null,null,null,null,null,null,null,null,null,null,null,null,null,null,null,"V",{"$f":"IF(ISERROR(GE3),1,ROUND(GE3,0))","v":240},"m³/h",{"$f":"EH4","v":240},"Volumenstrom",null,null,null,null,null,null,null,null,null,null,null,null,null,null,null,null,null,null,null,null,null,"V",{"$f":"IF(ISERROR(HE3),1,ROUND(HE3,0))","v":310},"m³/h",{"$f":"EH5","v":310},"Volumenstrom",null,null,null,null,null,null,null,null,null,null,null,null,null,null,null,null,null,null,null,null,null,"V",{"$f":"IF(ISERROR(IE3),1,ROUND(IE3,0))","v":380},"m³/h",{"$f":"EH6","v":380},"Volumenstrom",null,null,null,null,null,null,null,null,null,null,null,null,null,null,null,null,null,null,null,null,null,"V",{"$f":"IF(ISERROR(JE3),1,ROUND(JE3,0))","v":100},"m³/h",{"$f":"JI2","v":100},"Volumenstrom",null,null,{"$f":"H3","v":170},200,null,null,null,null,null,null,null,null,null,null,null,null,null,null,null,null,null,null,null,"V",{"$f":"IF(ISERROR(KG3),1,ROUND(KG3,0))","v":170},"m³/h",{"$f":"JI3","v":170},"Volumenstrom",null,null,null,null,null,null,null,null,null,null,null,null,null,null,null,null,null,null,null,null,"V",{"$f":"IF(ISERROR(LF3),1,ROUND(LF3,0))","v":240},"m³/h",{"$f":"JI4","v":240},"Volumenstrom",null,null,null,null,null,null,null,null,null,null,null,null,null,null,null,null,null,null,null,null,null,"V",{"$f":"IF(ISERROR(MF3),1,ROUND(MF3,0))","v":310},"m³/h",{"$f":"JI5","v":310},"Volumenstrom",null,null,null,null,null,null,null,null,null,null,null,null,null,null,null,null,null,null,null,null,null,"V",{"$f":"IF(ISERROR(NF3),1,ROUND(NF3,0))","v":380},"m³/h",{"$f":"JI6","v":380},"Volumenstrom"]
["rel.Feuchte",1,"%",null,null,null,null,240,300,"rel Feuchte","korrektur totale Leistung",null,"korrektur sens. Leistung",null,null,null,null,null,null,null,null,null,null,null,null,null,null,null,"rel.Feuchte",1,"%",null,null,null,null,null,4,"rel Feuchte","korrektur totale Leistung",null,"korrektur sens. Leistung",null,null,null,null,null,null,null,null,null,null,null,null,"rel.Feuchte",1,"%",null,null,null,null,null,4,"rel Feuchte","korrektur totale Leistung",null,"korrektur sens. Leistung",null,null,null,null,null,null,null,null,null,null,null,null,null,"rel.Feuchte",1,"%",null,null,null,null,null,4,"rel Feuchte","korrektur totale Leistung",null,"korrektur sens. Leistung",null,null,null,null,null,null,null,null,null,null,null,null,null,"rel.Feuchte",1,"%",null,null,null,null,null,4,"rel Feuchte","korrektur totale Leistung",null,"korrektur sens. Leistung",null,null,null,null,null,null,null,null,null,null,null,null,"rel.Feuchte",1,"%",null,null,null,null,240,300,"rel Feuchte","korrektur totale Leistung",null,"korrektur sens. Leistung",null,null,null,null,null,null,null,null,null,null,null,null,null,null,null,"rel.Feuchte",1,"%",null,null,null,null,null,4,"rel Feuchte","korrektur totale Leistung",null,"korrektur sens. Leistung",null,null,null,null,null,null,null,null,null,null,null,null,"rel.Feuchte",1,"%",null,null,null,null,null,4,"rel Feuchte","korrektur totale Leistung",null,"korrektur sens. Leistung",null,null,null,null,null,null,null,null,null,null,null,null,null,"rel.Feuchte",1,"%",null,null,null,null,null,4,"rel Feuchte","korrektur totale Leistung",null,"korrektur sens. Leistung",null,null,null,null,null,null,null,null,null,null,null,null,null,"rel.Feuchte",1,"%",null,null,null,null,null,4,"rel Feuchte","korrektur totale Leistung",null,"korrektur sens. Leistung",null,null,null,null,null,null,null,null,null,null,null,null,null,"rel.Feuchte",1,"%",null,null,null,null,240,300,"rel Feuchte","korrektur totale Leistung",null,"korrektur sens. Leistung",null,null,null,null,null,null,null,null,null,null,null,null,null,null,null,"rel.Feuchte",1,"%",null,null,null,null,null,4,"rel Feuchte","korrektur totale Leistung",null,"korrektur sens. Leistung",null,null,null,null,null,null,null,null,null,null,null,null,"rel.Feuchte",1,"%",null,null,null,null,null,4,"rel Feuchte","korrektur totale Leistung",null,"korrektur sens. Leistung",null,null,null,null,null,null,null,null,null,null,null,null,null,"rel.Feuchte",1,"%",null,null,null,null,null,4,"rel Feuchte","korrektur totale Leistung",null,"korrektur sens. Leistung",null,null,null,null,null,null,null,null,null,null,null,null,null,"rel.Feuchte",1,"%",null,null,null,null,null,4,"rel Feuchte","korrektur totale Leistung",null,"korrektur sens. Leistung"]
[null,50,"%",null,{"$f":"CONCATENATE(B1, \" \",C1, \" \",E1, \"; \")","v":"6 °C Vorlauf; "},null,null,310,null,null,null,{"$f":"J18*M5+K18","v":34.779168020799489},1,null,null,null,null,null,null,null,null,null,null,null,null,null,null,null,null,50,"%",null,{"$f":"CONCATENATE(AD1, \" \",AE1, \" \",AG1, \"; \")","v":"6 °C Vorlauf; "},null,null,null,null,null,null,{"$f":"AL18*AO5+AM18","v":39.843422584400457},1,null,null,null,null,null,null,null,null,null,null,null,null,null,50,"%",null,{"$f":"CONCATENATE(BC1, \" \",BD1, \" \",BF1, \"; \")","v":"6 °C Vorlauf; "},null,null,null,null,null,null,{"$f":"BK18*BN5+BL18","v":43.763781861292223},1,null,null,null,null,null,null,null,null,null,null,null,null,null,null,50,"%",null,{"$f":"CONCATENATE(CC1, \" \",CD1, \" \",CF1, \"; \")","v":"6 °C Vorlauf; "},null,null,null,null,null,null,{"$f":"CK18*CN5+CL18","v":46.705553484904947},1,null,null,null,null,null,null,null,null,null,null,null,null,null,null,50,"%",null,{"$f":"CONCATENATE(DC1, \" \",DD1, \" \",DF1, \"; \")","v":"6 °C Vorlauf; "},null,null,null,null,null,null,{"$f":"DK18*DN5+DL18","v":48.50521803950798},1,null,null,null,null,null,null,null,null,null,null,null,null,null,50,"%",null,{"$f":"CONCATENATE(EB1, \" \",EC1, \" \",EE1, \"; \")","v":"6 °C Vorlauf; "},null,null,310,null,null,null,{"$f":"EJ18*EM5+EK18","v":29.785215366705444},1,null,null,null,null,null,null,null,null,null,null,null,null,null,null,null,null,50,"%",null,{"$f":"CONCATENATE(FD1, \" \",FE1, \" \",FG1, \"; \")","v":"6 °C Vorlauf; "},null,null,null,null,null,null,{"$f":"FL18*FO5+FM18","v":33.361329269722148},1,null,null,null,null,null,null,null,null,null,null,null,null,null,50,"%",null,{"$f":"CONCATENATE(GC1, \" \",GD1, \" \",GF1, \"; \")","v":"6 °C Vorlauf; "},null,null,null,null,null,null,{"$f":"GK18*GN5+GL18","v":34.677763875234611},1,null,null,null,null,null,null,null,null,null,null,null,null,null,null,50,"%",null,{"$f":"CONCATENATE(HC1, \" \",HD1, \" \",HF1, \"; \")","v":"6 °C Vorlauf; "},null,null,null,null,null,null,{"$f":"HK18*HN5+HL18","v":36.417368303405084},1,null,null,null,null,null,null,null,null,null,null,null,null,null,null,50,"%",null,{"$f":"CONCATENATE(IC1, \" \",ID1, \" \",IF1, \"; \")","v":"6 °C Vorlauf; "},null,null,null,null,null,null,{"$f":"IK18*IN5+IL18","v":37.551939607856383},1,null,null,null,null,null,null,null,null,null,null,null,null,null,null,50,"%",null,{"$f":"CONCATENATE(JC1, \" \",JD1, \" \",JF1, \"; \")","v":"6 °C Vorlauf; "},null,null,310,null,null,null,{"$f":"JK18*JN5+JL18","v":29.244630641141271},1,null,null,null,null,null,null,null,null,null,null,null,null,null,null,null,null,50,"%",null,{"$f":"CONCATENATE(KE1, \" \",KF1, \" \",KH1, \"; \")","v":"6 °C Vorlauf; "},null,null,null,null,null,null,{"$f":"KM18*KP5+KN18","v":31.115128731481686},1,null,null,null,null,null,null,null,null,null,null,null,null,null,50,"%",null,{"$f":"CONCATENATE(LD1, \" \",LE1, \" \",LG1, \"; \")","v":"6 °C Vorlauf; "},null,null,null,null,null,null,{"$f":"LL18*LO5+LM18","v":32.511743603628034},1,null,null,null,null,null,null,null,null,null,null,null,null,null,null,50,"%",null,{"$f":"CONCATENATE(MD1, \" \",ME1, \" \",MG1, \"; \")","v":"6 °C Vorlauf; "},null,null,null,null,null,null,{"$f":"ML18*MO5+MM18","v":33.56722864331752},1,null,null,null,null,null,null,null,null,null,null,null,null,null,null,50,"%",null,{"$f":"CONCATENATE(ND1, \" \",NE1, \" \",NG1, \"; \")","v":"6 °C Vorlauf; "},null,null,null,null,null,null,{"$f":"NL18*NO5+NM18","v":34.233458961474007},1]
[null,60,"%",null,{"$f":"CONCATENATE(B2, \" \",C2, \" \",E2, \"; \")","v":"100 kg/h Kühlwasser; "},null,null,380,null,{"$f":"IF(C13=1,J7,B5)","v":60},{"$f":"IF(C13=1,K7,C13)","v":1.5714285714285714},{"$f":"IF(C14=1,L7,B5)","v":50},{"$f":"IF(C14=1,M7,C14)","v":0.9107142857142857},null,null,null,null,null,null,null,null,null,null,null,null,null,null,null,null,60,"%",null,{"$f":"CONCATENATE(AD2, \" \",AE2, \" \",AG2, \"; \")","v":"100 kg/h Kühlwasser; "},null,null,null,null,{"$f":"IF(AE13=1,AL7,AD5)","v":60},{"$f":"IF(AE13=1,AM7,AE13)","v":1.379746835443038},{"$f":"IF(AE14=1,AN7,AD5)","v":50},{"$f":"IF(AE14=1,AO7,AE14)","v":0.87341772151898722},null,null,null,null,null,null,null,null,null,null,null,null,null,60,"%",null,{"$f":"CONCATENATE(BC2, \" \",BD2, \" \",BF2, \"; \")","v":"100 kg/h Kühlwasser; "},null,null,null,null,{"$f":"IF(BD13=1,BK7,BC5)","v":60},{"$f":"IF(BD13=1,BL7,BD13)","v":1.2795698924731183},{"$f":"IF(BD14=1,BM7,BC5)","v":50},{"$f":"IF(BD14=1,BN7,BD14)","v":0.88172043010752676},null,null,null,null,null,null,null,null,null,null,null,null,null,null,60,"%",null,{"$f":"CONCATENATE(CC2, \" \",CD2, \" \",CF2, \"; \")","v":"100 kg/h Kühlwasser; "},null,null,null,null,{"$f":"IF(CD13=1,CK7,CC5)","v":60},{"$f":"IF(CD13=1,CL7,CD13)","v":1.2135922330097086},{"$f":"IF(CD14=1,CM7,CC5)","v":50},{"$f":"IF(CD14=1,CN7,CD14)","v":0.89320388349514568},null,null,null,null,null,null,null,null,null,null,null,null,null,null,60,"%",null,{"$f":"CONCATENATE(DC2, \" \",DD2, \" \",DF2, \"; \")","v":"100 kg/h Kühlwasser; "},null,null,null,null,{"$f":"IF(DD13=1,DK7,DC5)","v":60},{"$f":"IF(DD13=1,DL7,DD13)","v":1.1711711711711712},{"$f":"IF(DD14=1,DM7,DC5)","v":50},{"$f":"IF(DD14=1,DN7,DD14)","v":0.90990990990990983},null,null,null,null,null,null,null,null,null,null,null,null,null,60,"%",null,{"$f":"CONCATENATE(EB2, \" \",EC2, \" \",EE2, \"; \")","v":"200 kg/h Kühlwasser; "},null,null,380,null,{"$f":"IF(EC13=1,EJ7,EB5)","v":60},{"$f":"IF(EC13=1,EK7,EC13)","v":1.7500000000000002},{"$f":"IF(EC14=1,EL7,EB5)","v":50},{"$f":"IF(EC14=1,EM7,EC14)","v":0.95},null,null,null,null,null,null,null,null,null,null,null,null,null,null,null,null,60,"%",null,{"$f":"CONCATENATE(FD2, \" \",FE2, \" \",FG2, \"; \")","v":"200 kg/h Kühlwasser; "},null,null,null,null,{"$f":"IF(FE13=1,FL7,FD5)","v":60},{"$f":"IF(FE13=1,FM7,FE13)","v":1.6292134831460674},{"$f":"IF(FE14=1,FN7,FD5)","v":50},{"$f":"IF(FE14=1,FO7,FE14)","v":0.9101123595505618},null,null,null,null,null,null,null,null,null,null,null,null,null,60,"%",null,{"$f":"CONCATENATE(GC2, \" \",GD2, \" \",GF2, \"; \")","v":"200 kg/h Kühlwasser; "},null,null,null,null,{"$f":"IF(GD13=1,GK7,GC5)","v":60},{"$f":"IF(GD13=1,GL7,GD13)","v":1.5545454545454545},{"$f":"IF(GD14=1,GM7,GC5)","v":50},{"$f":"IF(GD14=1,GN7,GD14)","v":0.89999999999999991},null,null,null,null,null,null,null,null,null,null,null,null,null,null,60,"%",null,{"$f":"CONCATENATE(HC2, \" \",HD2, \" \",HF2, \"; \")","v":"200 kg/h Kühlwasser; "},null,null,null,null,{"$f":"IF(HD13=1,HK7,HC5)","v":60},{"$f":"IF(HD13=1,HL7,HD13)","v":1.4920634920634919},{"$f":"IF(HD14=1,HM7,HC5)","v":50},{"$f":"IF(HD14=1,HN7,HD14)","v":0.88888888888888895},null,null,null,null,null,null,null,null,null,null,null,null,null,null,60,"%",null,{"$f":"CONCATENATE(IC2, \" \",ID2, \" \",IF2, \"; \")","v":"200 kg/h Kühlwasser; "},null,null,null,null,{"$f":"IF(ID13=1,IK7,IC5)","v":60},{"$f":"IF(ID13=1,IL7,ID13)","v":1.4460431654676258},{"$f":"IF(ID14=1,IM7,IC5)","v":50},{"$f":"IF(ID14=1,IN7,ID14)","v":0.8848920863309353},null,null,null,null,null,null,null,null,null,null,null,null,null,null,60,"%",null,{"$f":"CONCATENATE(JC2, \" \",JD2, \" \",JF2, \"; \")","v":"300 kg/h Kühlwasser; "},null,null,380,null,{"$f":"IF(JD13=1,JK7,JC5)","v":60},{"$f":"IF(JD13=1,JL7,JD13)","v":1.7868852459016396},{"$f":"IF(JD14=1,JM7,JC5)","v":50},{"$f":"IF(JD14=1,JN7,JD14)","v":0.96721311475409832},null,null,null,null,null,null,null,null,null,null,null,null,null,null,null,null,60,"%",null,{"$f":"CONCATENATE(KE2, \" \",KF2, \" \",KH2, \"; \")","v":"300 kg/h Kühlwasser; "},null,null,null,null,{"$f":"IF(KF13=1,KM7,KE5)","v":60},{"$f":"IF(KF13=1,KN7,KF13)","v":1.7173913043478262},{"$f":"IF(KF14=1,KO7,KE5)","v":50},{"$f":"IF(KF14=1,KP7,KF14)","v":0.93478260869565211},null,null,null,null,null,null,null,null,null,null,null,null,null,60,"%",null,{"$f":"CONCATENATE(LD2, \" \",LE2, \" \",LG2, \"; \")","v":"300 kg/h Kühlwasser; "},null,null,null,null,{"$f":"IF(LE13=1,LL7,LD5)","v":60},{"$f":"IF(LE13=1,LM7,LE13)","v":1.6551724137931034},{"$f":"IF(LE14=1,LN7,LD5)","v":50},{"$f":"IF(LE14=1,LO7,LE14)","v":0.91379310344827602},null,null,null,null,null,null,null,null,null,null,null,null,null,null,60,"%",null,{"$f":"CONCATENATE(MD2, \" \",ME2, \" \",MG2, \"; \")","v":"300 kg/h Kühlwasser; "},null,null,null,null,{"$f":"IF(ME13=1,ML7,MD5)","v":60},{"$f":"IF(ME13=1,MM7,ME13)","v":1.6074074074074072},{"$f":"IF(ME14=1,MN7,MD5)","v":50},{"$f":"IF(ME14=1,MO7,ME14)","v":0.90370370370370368},null,null,null,null,null,null,null,null,null,null,null,null,null,null,60,"%",null,{"$f":"CONCATENATE(ND2, \" \",NE2, \" \",NG2, \"; \")","v":"300 kg/h Kühlwasser; "},null,null,null,null,{"$f":"IF(NE13=1,NL7,ND5)","v":60},{"$f":"IF(NE13=1,NM7,NE13)","v":1.5733333333333333},{"$f":"IF(NE14=1,NN7,ND5)","v":50},{"$f":"IF(NE14=1,NO7,NE14)","v":0.89333333333333342}]
[null,70,"%",null,{"$f":"CONCATENATE(B3, \" \",C3, \" \",E3, \"; \")","v":"100 m³/h Volumenstrom; "},null,null,null,null,{"$f":"IF(D13=1,J8,B6)","v":60},{"$f":"IF(D13=1,K8,D13)","v":1.5714285714285714},{"$f":"IF(D14=1,L8,B6)","v":60},{"$f":"IF(D14=1,M8,D14)","v":0.87499999999999989},null,null,null,null,null,null,null,null,null,null,null,null,null,null,null,null,70,"%",null,{"$f":"CONCATENATE(AD3, \" \",AE3, \" \",AG3, \"; \")","v":"170 m³/h Volumenstrom; "},null,null,null,null,{"$f":"IF(AF13=1,AL8,AD6)","v":60},{"$f":"IF(AF13=1,AM8,AF13)","v":1.379746835443038},{"$f":"IF(AF14=1,AN8,AD6)","v":60},{"$f":"IF(AF14=1,AO8,AF14)","v":0.810126582278481},null,null,null,null,null,null,null,null,null,null,null,null,null,70,"%",null,{"$f":"CONCATENATE(BC3, \" \",BD3, \" \",BF3, \"; \")","v":"240 m³/h Volumenstrom; "},null,null,null,null,{"$f":"IF(BE13=1,BK8,BC6)","v":60},{"$f":"IF(BE13=1,BL8,BE13)","v":1.2795698924731183},{"$f":"IF(BE14=1,BM8,BC6)","v":60},{"$f":"IF(BE14=1,BN8,BE14)","v":0.80645161290322576},null,null,null,null,null,null,null,null,null,null,null,null,null,null,70,"%",null,{"$f":"CONCATENATE(CC3, \" \",CD3, \" \",CF3, \"; \")","v":"310 m³/h Volumenstrom; "},null,null,null,null,{"$f":"IF(CE13=1,CK8,CC6)","v":60},{"$f":"IF(CE13=1,CL8,CE13)","v":1.2135922330097086},{"$f":"IF(CE14=1,CM8,CC6)","v":60},{"$f":"IF(CE14=1,CN8,CE14)","v":0.80582524271844658},null,null,null,null,null,null,null,null,null,null,null,null,null,null,70,"%",null,{"$f":"CONCATENATE(DC3, \" \",DD3, \" \",DF3, \"; \")","v":"380 m³/h Volumenstrom; "},null,null,null,null,{"$f":"IF(DE13=1,DK8,DC6)","v":60},{"$f":"IF(DE13=1,DL8,DE13)","v":1.1711711711711712},{"$f":"IF(DE14=1,DM8,DC6)","v":60},{"$f":"IF(DE14=1,DN8,DE14)","v":0.81081081081081074},null,null,null,null,null,null,null,null,null,null,null,null,null,70,"%",null,{"$f":"CONCATENATE(EB3, \" \",EC3, \" \",EE3, \"; \")","v":"100 m³/h Volumenstrom; "},null,null,null,null,{"$f":"IF(ED13=1,EJ8,EB6)","v":60},{"$f":"IF(ED13=1,EK8,ED13)","v":1.7500000000000002},{"$f":"IF(ED14=1,EL8,EB6)","v":60},{"$f":"IF(ED14=1,EM8,ED14)","v":0.93333333333333346},null,null,null,null,null,null,null,null,null,null,null,null,null,null,null,null,70,"%",null,{"$f":"CONCATENATE(FD3, \" \",FE3, \" \",FG3, \"; \")","v":"170 m³/h Volumenstrom; "},null,null,null,null,{"$f":"IF(FF13=1,FL8,FD6)","v":60},{"$f":"IF(FF13=1,FM8,FF13)","v":1.6292134831460674},{"$f":"IF(FF14=1,FN8,FD6)","v":60},{"$f":"IF(FF14=1,FO8,FF14)","v":0.88764044943820231},null,null,null,null,null,null,null,null,null,null,null,null,null,70,"%",null,{"$f":"CONCATENATE(GC3, \" \",GD3, \" \",GF3, \"; \")","v":"240 m³/h Volumenstrom; "},null,null,null,null,{"$f":"IF(GE13=1,GK8,GC6)","v":60},{"$f":"IF(GE13=1,GL8,GE13)","v":1.5545454545454545},{"$f":"IF(GE14=1,GM8,GC6)","v":60},{"$f":"IF(GE14=1,GN8,GE14)","v":0.85454545454545439},null,null,null,null,null,null,null,null,null,null,null,null,null,null,70,"%",null,{"$f":"CONCATENATE(HC3, \" \",HD3, \" \",HF3, \"; \")","v":"310 m³/h Volumenstrom; "},null,null,null,null,{"$f":"IF(HE13=1,HK8,HC6)","v":60},{"$f":"IF(HE13=1,HL8,HE13)","v":1.4920634920634919},{"$f":"IF(HE14=1,HM8,HC6)","v":60},{"$f":"IF(HE14=1,HN8,HE14)","v":0.84126984126984128},null,null,null,null,null,null,null,null,null,null,null,null,null,null,70,"%",null,{"$f":"CONCATENATE(IC3, \" \",ID3, \" \",IF3, \"; \")","v":"380 m³/h Volumenstrom; "},null,null,null,null,{"$f":"IF(IE13=1,IK8,IC6)","v":60},{"$f":"IF(IE13=1,IL8,IE13)","v":1.4460431654676258},{"$f":"IF(IE14=1,IM8,IC6)","v":60},{"$f":"IF(IE14=1,IN8,IE14)","v":0.82733812949640284},null,null,null,null,null,null,null,null,null,null,null,null,null,null,70,"%",null,{"$f":"CONCATENATE(JC3, \" \",JD3, \" \",JF3, \"; \")","v":"100 m³/h Volumenstrom; "},null,null,null,null,{"$f":"IF(JE13=1,JK8,JC6)","v":60},{"$f":"IF(JE13=1,JL8,JE13)","v":1.7868852459016396},{"$f":"IF(JE14=1,JM8,JC6)","v":60},{"$f":"IF(JE14=1,JN8,JE14)","v":0.95081967213114749},null,null,null,null,null,null,null,null,null,null,null,null,null,null,null,null,70,"%",null,{"$f":"CONCATENATE(KE3, \" \",KF3, \" \",KH3, \"; \")","v":"170 m³/h Volumenstrom; "},null,null,null,null,{"$f":"IF(KG13=1,KM8,KE6)","v":60},{"$f":"IF(KG13=1,KN8,KG13)","v":1.7173913043478262},{"$f":"IF(KG14=1,KO8,KE6)","v":60},{"$f":"IF(KG14=1,KP8,KG14)","v":0.91304347826086951},null,null,null,null,null,null,null,null,null,null,null,null,null,70,"%",null,{"$f":"CONCATENATE(LD3, \" \",LE3, \" \",LG3, \"; \")","v":"240 m³/h Volumenstrom; "},null,null,null,null,{"$f":"IF(LF13=1,LL8,LD6)","v":60},{"$f":"IF(LF13=1,LM8,LF13)","v":1.6551724137931034},{"$f":"IF(LF14=1,LN8,LD6)","v":60},{"$f":"IF(LF14=1,LO8,LF14)","v":0.8793103448275863},null,null,null,null,null,null,null,null,null,null,null,null,null,null,70,"%",null,{"$f":"CONCATENATE(MD3, \" \",ME3, \" \",MG3, \"; \")","v":"310 m³/h Volumenstrom; "},null,null,null,null,{"$f":"IF(MF13=1,ML8,MD6)","v":60},{"$f":"IF(MF13=1,MM8,MF13)","v":1.6074074074074072},{"$f":"IF(MF14=1,MN8,MD6)","v":60},{"$f":"IF(MF14=1,MO8,MF14)","v":0.85925925925925917},null,null,null,null,null,null,null,null,null,null,null,null,null,null,70,"%",null,{"$f":"CONCATENATE(ND3, \" \",NE3, \" \",NG3, \"; \")","v":"380 m³/h Volumenstrom; "},null,null,null,null,{"$f":"IF(NF13=1,NL8,ND6)","v":60},{"$f":"IF(NF13=1,NM8,NF13)","v":1.5733333333333333},{"$f":"IF(NF14=1,NN8,ND6)","v":60},{"$f":"IF(NF14=1,NO8,NF14)","v":0.85333333333333339}]
[null,80,"%",null,{"$f":"CONCATENATE(B12, \" \",C12, \" \",A12, \"; \")","v":"26 °C Ansaugtemp; "},null,null,null,null,{"$f":"IF(E13=1,J9,B7)","v":70},{"$f":"IF(E13=1,K9,E13)","v":1.7857142857142856},{"$f":"IF(E14=1,L9,B7)","v":70},{"$f":"IF(E14=1,M9,E14)","v":0.83928571428571419},null,null,null,null,null,null,null,null,null,null,null,null,null,null,null,null,80,"%",null,{"$f":"CONCATENATE(AD12, \" \",AE12, \" \",AC12, \"; \")","v":"26 °C Ansaugtemp; "},null,null,null,null,{"$f":"IF(AG13=1,AL9,AD7)","v":70},{"$f":"IF(AG13=1,AM9,AG13)","v":1.5696202531645569},{"$f":"IF(AG14=1,AN9,AD7)","v":70},{"$f":"IF(AG14=1,AO9,AG14)","v":0.75949367088607589},null,null,null,null,null,null,null,null,null,null,null,null,null,80,"%",null,{"$f":"CONCATENATE(BC12, \" \",BD12, \" \",BB12, \"; \")","v":"26 °C Ansaugtemp; "},null,null,null,null,{"$f":"IF(BF13=1,BK9,BC7)","v":70},{"$f":"IF(BF13=1,BL9,BF13)","v":1.4623655913978495},{"$f":"IF(BF14=1,BM9,BC7)","v":70},{"$f":"IF(BF14=1,BN9,BF14)","v":0.73118279569892475},null,null,null,null,null,null,null,null,null,null,null,null,null,null,80,"%",null,{"$f":"CONCATENATE(CC12, \" \",CD12, \" \",CB12, \"; \")","v":"26 °C Ansaugtemp; "},null,null,null,null,{"$f":"IF(CF13=1,CK9,CC7)","v":70},{"$f":"IF(CF13=1,CL9,CF13)","v":1.378640776699029},{"$f":"IF(CF14=1,CM9,CC7)","v":70},{"$f":"IF(CF14=1,CN9,CF14)","v":0.71844660194174759},null,null,null,null,null,null,null,null,null,null,null,null,null,null,80,"%",null,{"$f":"CONCATENATE(DC12, \" \",DD12, \" \",DB12, \"; \")","v":"26 °C Ansaugtemp; "},null,null,null,null,{"$f":"IF(DF13=1,DK9,DC7)","v":70},{"$f":"IF(DF13=1,DL9,DF13)","v":1.3243243243243241},{"$f":"IF(DF14=1,DM9,DC7)","v":70},{"$f":"IF(DF14=1,DN9,DF14)","v":0.71171171171171166},null,null,null,null,null,null,null,null,null,null,null,null,null,80,"%",null,{"$f":"CONCATENATE(EB12, \" \",EC12, \" \",EA12, \"; \")","v":"26 °C Ansaugtemp; "},null,null,null,null,{"$f":"IF(EE13=1,EJ9,EB7)","v":70},{"$f":"IF(EE13=1,EK9,EE13)","v":2},{"$f":"IF(EE14=1,EL9,EB7)","v":70},{"$f":"IF(EE14=1,EM9,EE14)","v":0.91666666666666674},null,null,null,null,null,null,null,null,null,null,null,null,null,null,null,null,80,"%",null,{"$f":"CONCATENATE(FD12, \" \",FE12, \" \",FC12, \"; \")","v":"26 °C Ansaugtemp; "},null,null,null,null,{"$f":"IF(FG13=1,FL9,FD7)","v":70},{"$f":"IF(FG13=1,FM9,FG13)","v":1.8651685393258426},{"$f":"IF(FG14=1,FN9,FD7)","v":70},{"$f":"IF(FG14=1,FO9,FG14)","v":0.8539325842696629},null,null,null,null,null,null,null,null,null,null,null,null,null,80,"%",null,{"$f":"CONCATENATE(GC12, \" \",GD12, \" \",GB12, \"; \")","v":"26 °C Ansaugtemp; "},null,null,null,null,{"$f":"IF(GF13=1,GK9,GC7)","v":70},{"$f":"IF(GF13=1,GL9,GF13)","v":1.7727272727272725},{"$f":"IF(GF14=1,GM9,GC7)","v":70},{"$f":"IF(GF14=1,GN9,GF14)","v":0.80909090909090908},null,null,null,null,null,null,null,null,null,null,null,null,null,null,80,"%",null,{"$f":"CONCATENATE(HC12, \" \",HD12, \" \",HB12, \"; \")","v":"26 °C Ansaugtemp; "},null,null,null,null,{"$f":"IF(HF13=1,HK9,HC7)","v":70},{"$f":"IF(HF13=1,HL9,HF13)","v":1.7063492063492063},{"$f":"IF(HF14=1,HM9,HC7)","v":70},{"$f":"IF(HF14=1,HN9,HF14)","v":0.7857142857142857},null,null,null,null,null,null,null,null,null,null,null,null,null,null,80,"%",null,{"$f":"CONCATENATE(IC12, \" \",ID12, \" \",IB12, \"; \")","v":"26 °C Ansaugtemp; "},null,null,null,null,{"$f":"IF(IF13=1,IK9,IC7)","v":70},{"$f":"IF(IF13=1,IL9,IF13)","v":1.6474820143884894},{"$f":"IF(IF14=1,IM9,IC7)","v":70},{"$f":"IF(IF14=1,IN9,IF14)","v":0.7697841726618706},null,null,null,null,null,null,null,null,null,null,null,null,null,null,80,"%",null,{"$f":"CONCATENATE(JC12, \" \",JD12, \" \",JB12, \"; \")","v":"26 °C Ansaugtemp; "},null,null,null,null,{"$f":"IF(JF13=1,JK9,JC7)","v":70},{"$f":"IF(JF13=1,JL9,JF13)","v":2.0491803278688523},{"$f":"IF(JF14=1,JM9,JC7)","v":70},{"$f":"IF(JF14=1,JN9,JF14)","v":0.93442622950819665},null,null,null,null,null,null,null,null,null,null,null,null,null,null,null,null,80,"%",null,{"$f":"CONCATENATE(KE12, \" \",KF12, \" \",KD12, \"; \")","v":"26 °C Ansaugtemp; "},null,null,null,null,{"$f":"IF(KH13=1,KM9,KE7)","v":70},{"$f":"IF(KH13=1,KN9,KH13)","v":1.9673913043478262},{"$f":"IF(KH14=1,KO9,KE7)","v":70},{"$f":"IF(KH14=1,KP9,KH14)","v":0.89130434782608692},null,null,null,null,null,null,null,null,null,null,null,null,null,80,"%",null,{"$f":"CONCATENATE(LD12, \" \",LE12, \" \",LC12, \"; \")","v":"26 °C Ansaugtemp; "},null,null,null,null,{"$f":"IF(LG13=1,LL9,LD7)","v":70},{"$f":"IF(LG13=1,LM9,LG13)","v":1.8965517241379313},{"$f":"IF(LG14=1,LN9,LD7)","v":70},{"$f":"IF(LG14=1,LO9,LG14)","v":0.85344827586206906},null,null,null,null,null,null,null,null,null,null,null,null,null,null,80,"%",null,{"$f":"CONCATENATE(MD12, \" \",ME12, \" \",MC12, \"; \")","v":"26 °C Ansaugtemp; "},null,null,null,null,{"$f":"IF(MG13=1,ML9,MD7)","v":70},{"$f":"IF(MG13=1,MM9,MG13)","v":1.8370370370370368},{"$f":"IF(MG14=1,MN9,MD7)","v":70},{"$f":"IF(MG14=1,MO9,MG14)","v":0.82222222222222219},null,null,null,null,null,null,null,null,null,null,null,null,null,null,80,"%",null,{"$f":"CONCATENATE(ND12, \" \",NE12, \" \",NC12, \"; \")","v":"26 °C Ansaugtemp; "},null,null,null,null,{"$f":"IF(NG13=1,NL9,ND7)","v":70},{"$f":"IF(NG13=1,NM9,NG13)","v":1.7933333333333332},{"$f":"IF(NG14=1,NN9,ND7)","v":70},{"$f":"IF(NG14=1,NO9,NG14)","v":0.80666666666666664}]
[null,90,"%",null,{"$f":"CONCATENATE(E5,E6,E7,E8)","v":"6 °C Vorlauf; 100 kg/h Kühlwasser; 100 m³/h Volumenstrom; 26 °C Ansaugtemp; "},null,null,null,null,{"$f":"IF(F13=1,J10,B8)","v":80},{"$f":"IF(F13=1,K10,F13)","v":2.0178571428571423},{"$f":"IF(F14=1,L10,B8)","v":80},{"$f":"IF(F14=1,M10,F14)","v":0.80357142857142849},null,null,null,null,null,null,null,null,null,null,null,null,null,null,null,null,90,"%",null,{"$f":"CONCATENATE(AG5,AG6,AG7,AG8)","v":"6 °C Vorlauf; 100 kg/h Kühlwasser; 170 m³/h Volumenstrom; 26 °C Ansaugtemp; "},null,null,null,null,{"$f":"IF(AH13=1,AL10,AD8)","v":80},{"$f":"IF(AH13=1,AM10,AH13)","v":1.7594936708860758},{"$f":"IF(AH14=1,AN10,AD8)","v":80},{"$f":"IF(AH14=1,AO10,AH14)","v":0.69620253164556967},null,null,null,null,null,null,null,null,null,null,null,null,null,90,"%",null,{"$f":"CONCATENATE(BF5,BF6,BF7,BF8)","v":"6 °C Vorlauf; 100 kg/h Kühlwasser; 240 m³/h Volumenstrom; 26 °C Ansaugtemp; "},null,null,null,null,{"$f":"IF(BG13=1,BK10,BC8)","v":80},{"$f":"IF(BG13=1,BL10,BG13)","v":1.6344086021505375},{"$f":"IF(BG14=1,BM10,BC8)","v":80},{"$f":"IF(BG14=1,BN10,BG14)","v":0.65591397849462363},null,null,null,null,null,null,null,null,null,null,null,null,null,null,90,"%",null,{"$f":"CONCATENATE(CF5,CF6,CF7,CF8)","v":"6 °C Vorlauf; 100 kg/h Kühlwasser; 310 m³/h Volumenstrom; 26 °C Ansaugtemp; "},null,null,null,null,{"$f":"IF(CG13=1,CK10,CC8)","v":80},{"$f":"IF(CG13=1,CL10,CG13)","v":1.5436893203883495},{"$f":"IF(CG14=1,CM10,CC8)","v":80},{"$f":"IF(CG14=1,CN10,CG14)","v":0.64077669902912626},null,null,null,null,null,null,null,null,null,null,null,null,null,null,90,"%",null,{"$f":"CONCATENATE(DF5,DF6,DF7,DF8)","v":"6 °C Vorlauf; 100 kg/h Kühlwasser; 380 m³/h Volumenstrom; 26 °C Ansaugtemp; "},null,null,null,null,{"$f":"IF(DG13=1,DK10,DC8)","v":80},{"$f":"IF(DG13=1,DL10,DG13)","v":1.4774774774774773},{"$f":"IF(DG14=1,DM10,DC8)","v":80},{"$f":"IF(DG14=1,DN10,DG14)","v":0.62162162162162149},null,null,null,null,null,null,null,null,null,null,null,null,null,90,"%",null,{"$f":"CONCATENATE(EE5,EE6,EE7,EE8)","v":"6 °C Vorlauf; 200 kg/h Kühlwasser; 100 m³/h Volumenstrom; 26 °C Ansaugtemp; "},null,null,null,null,{"$f":"IF(EF13=1,EJ10,EB8)","v":80},{"$f":"IF(EF13=1,EK10,EF13)","v":2.2500000000000004},{"$f":"IF(EF14=1,EL10,EB8)","v":80},{"$f":"IF(EF14=1,EM10,EF14)","v":0.90000000000000013},null,null,null,null,null,null,null,null,null,null,null,null,null,null,null,null,90,"%",null,{"$f":"CONCATENATE(FG5,FG6,FG7,FG8)","v":"6 °C Vorlauf; 200 kg/h Kühlwasser; 170 m³/h Volumenstrom; 26 °C Ansaugtemp; "},null,null,null,null,{"$f":"IF(FH13=1,FL10,FD8)","v":80},{"$f":"IF(FH13=1,FM10,FH13)","v":2.101123595505618},{"$f":"IF(FH14=1,FN10,FD8)","v":80},{"$f":"IF(FH14=1,FO10,FH14)","v":0.8202247191011236},null,null,null,null,null,null,null,null,null,null,null,null,null,90,"%",null,{"$f":"CONCATENATE(GF5,GF6,GF7,GF8)","v":"6 °C Vorlauf; 200 kg/h Kühlwasser; 240 m³/h Volumenstrom; 26 °C Ansaugtemp; "},null,null,null,null,{"$f":"IF(GG13=1,GK10,GC8)","v":80},{"$f":"IF(GG13=1,GL10,GG13)","v":1.9909090909090907},{"$f":"IF(GG14=1,GM10,GC8)","v":80},{"$f":"IF(GG14=1,GN10,GG14)","v":0.76363636363636356},null,null,null,null,null,null,null,null,null,null,null,null,null,null,90,"%",null,{"$f":"CONCATENATE(HF5,HF6,HF7,HF8)","v":"6 °C Vorlauf; 200 kg/h Kühlwasser; 310 m³/h Volumenstrom; 26 °C Ansaugtemp; "},null,null,null,null,{"$f":"IF(HG13=1,HK10,HC8)","v":80},{"$f":"IF(HG13=1,HL10,HG13)","v":1.9126984126984128},{"$f":"IF(HG14=1,HM10,HC8)","v":80},{"$f":"IF(HG14=1,HN10,HG14)","v":0.73015873015873023},null,null,null,null,null,null,null,null,null,null,null,null,null,null,90,"%",null,{"$f":"CONCATENATE(IF5,IF6,IF7,IF8)","v":"6 °C Vorlauf; 200 kg/h Kühlwasser; 380 m³/h Volumenstrom; 26 °C Ansaugtemp; "},null,null,null,null,{"$f":"IF(IG13=1,IK10,IC8)","v":80},{"$f":"IF(IG13=1,IL10,IG13)","v":1.8489208633093526},{"$f":"IF(IG14=1,IM10,IC8)","v":80},{"$f":"IF(IG14=1,IN10,IG14)","v":0.71223021582733814},null,null,null,null,null,null,null,null,null,null,null,null,null,null,90,"%",null,{"$f":"CONCATENATE(JF5,JF6,JF7,JF8)","v":"6 °C Vorlauf; 300 kg/h Kühlwasser; 100 m³/h Volumenstrom; 26 °C Ansaugtemp; "},null,null,null,null,{"$f":"IF(JG13=1,JK10,JC8)","v":80},{"$f":"IF(JG13=1,JL10,JG13)","v":2.2950819672131146},{"$f":"IF(JG14=1,JM10,JC8)","v":80},{"$f":"IF(JG14=1,JN10,JG14)","v":0.93442622950819665},null,null,null,null,null,null,null,null,null,null,null,null,null,null,null,null,90,"%",null,{"$f":"CONCATENATE(KH5,KH6,KH7,KH8)","v":"6 °C Vorlauf; 300 kg/h Kühlwasser; 170 m³/h Volumenstrom; 26 °C Ansaugtemp; "},null,null,null,null,{"$f":"IF(KI13=1,KM10,KE8)","v":80},{"$f":"IF(KI13=1,KN10,KI13)","v":2.2173913043478262},{"$f":"IF(KI14=1,KO10,KE8)","v":80},{"$f":"IF(KI14=1,KP10,KI14)","v":0.86956521739130432},null,null,null,null,null,null,null,null,null,null,null,null,null,90,"%",null,{"$f":"CONCATENATE(LG5,LG6,LG7,LG8)","v":"6 °C Vorlauf; 300 kg/h Kühlwasser; 240 m³/h Volumenstrom; 26 °C Ansaugtemp; "},null,null,null,null,{"$f":"IF(LH13=1,LL10,LD8)","v":80},{"$f":"IF(LH13=1,LM10,LH13)","v":2.1293103448275867},{"$f":"IF(LH14=1,LN10,LD8)","v":80},{"$f":"IF(LH14=1,LO10,LH14)","v":0.81896551724137934},null,null,null,null,null,null,null,null,null,null,null,null,null,null,90,"%",null,{"$f":"CONCATENATE(MG5,MG6,MG7,MG8)","v":"6 °C Vorlauf; 300 kg/h Kühlwasser; 310 m³/h Volumenstrom; 26 °C Ansaugtemp; "},null,null,null,null,{"$f":"IF(MH13=1,ML10,MD8)","v":80},{"$f":"IF(MH13=1,MM10,MH13)","v":2.0666666666666664},{"$f":"IF(MH14=1,MN10,MD8)","v":80},{"$f":"IF(MH14=1,MO10,MH14)","v":0.78518518518518521},null,null,null,null,null,null,null,null,null,null,null,null,null,null,90,"%",null,{"$f":"CONCATENATE(NG5,NG6,NG7,NG8)","v":"6 °C Vorlauf; 300 kg/h Kühlwasser; 380 m³/h Volumenstrom; 26 °C Ansaugtemp; "},null,null,null,null,{"$f":"IF(NH13=1,NL10,ND8)","v":80},{"$f":"IF(NH13=1,NM10,NH13)","v":2.02},{"$f":"IF(NH14=1,NN10,ND8)","v":80},{"$f":"IF(NH14=1,NO10,NH14)","v":0.7599999999999999}]
[null,99,"%",null,null,null,null,null,null,{"$f":"IF(G13=1,J11,B9)","v":90},{"$f":"IF(G13=1,K11,G13)","v":2.25},{"$f":"IF(G14=1,L11,B9)","v":90},{"$f":"IF(G14=1,M11,G14)","v":0.76785714285714279},null,null,null,null,null,null,null,null,null,null,null,null,null,null,null,null,99,"%",null,null,null,null,null,null,{"$f":"IF(AI13=1,AL11,AD9)","v":90},{"$f":"IF(AI13=1,AM11,AI13)","v":1.9493670886075949},{"$f":"IF(AI14=1,AN11,AD9)","v":90},{"$f":"IF(AI14=1,AO11,AI14)","v":0.64556962025316456},null,null,null,null,null,null,null,null,null,null,null,null,null,99,"%",null,null,null,null,null,null,{"$f":"IF(BH13=1,BK11,BC9)","v":90},{"$f":"IF(BH13=1,BL11,BH13)","v":1.8064516129032255},{"$f":"IF(BH14=1,BM11,BC9)","v":90},{"$f":"IF(BH14=1,BN11,BH14)","v":0.59139784946236562},null,null,null,null,null,null,null,null,null,null,null,null,null,null,99,"%",null,null,null,null,null,null,{"$f":"IF(CH13=1,CK11,CC9)","v":90},{"$f":"IF(CH13=1,CL11,CH13)","v":1.6990291262135921},{"$f":"IF(CH14=1,CM11,CC9)","v":90},{"$f":"IF(CH14=1,CN11,CH14)","v":0.55339805825242716},null,null,null,null,null,null,null,null,null,null,null,null,null,null,99,"%",null,null,null,null,null,null,{"$f":"IF(DH13=1,DK11,DC9)","v":90},{"$f":"IF(DH13=1,DL11,DH13)","v":1.6216216216216215},{"$f":"IF(DH14=1,DM11,DC9)","v":90},{"$f":"IF(DH14=1,DN11,DH14)","v":0.53153153153153143},null,null,null,null,null,null,null,null,null,null,null,null,null,99,"%",null,null,null,null,null,null,{"$f":"IF(EG13=1,EJ11,EB9)","v":90},{"$f":"IF(EG13=1,EK11,EG13)","v":2.5},{"$f":"IF(EG14=1,EL11,EB9)","v":90},{"$f":"IF(EG14=1,EM11,EG14)","v":0.88333333333333341},null,null,null,null,null,null,null,null,null,null,null,null,null,null,null,null,99,"%",null,null,null,null,null,null,{"$f":"IF(FI13=1,FL11,FD9)","v":90},{"$f":"IF(FI13=1,FM11,FI13)","v":2.3370786516853932},{"$f":"IF(FI14=1,FN11,FD9)","v":90},{"$f":"IF(FI14=1,FO11,FI14)","v":0.78651685393258419},null,null,null,null,null,null,null,null,null,null,null,null,null,99,"%",null,null,null,null,null,null,{"$f":"IF(GH13=1,GK11,GC9)","v":90},{"$f":"IF(GH13=1,GL11,GH13)","v":2.209090909090909},{"$f":"IF(GH14=1,GM11,GC9)","v":90},{"$f":"IF(GH14=1,GN11,GH14)","v":0.72727272727272729},null,null,null,null,null,null,null,null,null,null,null,null,null,null,99,"%",null,null,null,null,null,null,{"$f":"IF(HH13=1,HK11,HC9)","v":90},{"$f":"IF(HH13=1,HL11,HH13)","v":2.1190476190476191},{"$f":"IF(HH14=1,HM11,HC9)","v":90},{"$f":"IF(HH14=1,HN11,HH14)","v":0.68253968253968256},null,null,null,null,null,null,null,null,null,null,null,null,null,null,99,"%",null,null,null,null,null,null,{"$f":"IF(IH13=1,IK11,IC9)","v":90},{"$f":"IF(IH13=1,IL11,IH13)","v":2.0431654676258995},{"$f":"IF(IH14=1,IM11,IC9)","v":90},{"$f":"IF(IH14=1,IN11,IH14)","v":0.65467625899280579},null,null,null,null,null,null,null,null,null,null,null,null,null,null,99,"%",null,null,null,null,null,null,{"$f":"IF(JH13=1,JK11,JC9)","v":90},{"$f":"IF(JH13=1,JL11,JH13)","v":2.557377049180328},{"$f":"IF(JH14=1,JM11,JC9)","v":90},{"$f":"IF(JH14=1,JN11,JH14)","v":0.91803278688524603},null,null,null,null,null,null,null,null,null,null,null,null,null,null,null,null,99,"%",null,null,null,null,null,null,{"$f":"IF(KJ13=1,KM11,KE9)","v":90},{"$f":"IF(KJ13=1,KN11,KJ13)","v":2.4673913043478262},{"$f":"IF(KJ14=1,KO11,KE9)","v":90},{"$f":"IF(KJ14=1,KP11,KJ14)","v":0.84782608695652173},null,null,null,null,null,null,null,null,null,null,null,null,null,99,"%",null,null,null,null,null,null,{"$f":"IF(LI13=1,LL11,LD9)","v":90},{"$f":"IF(LI13=1,LM11,LI13)","v":2.3706896551724141},{"$f":"IF(LI14=1,LN11,LD9)","v":90},{"$f":"IF(LI14=1,LO11,LI14)","v":0.78448275862068972},null,null,null,null,null,null,null,null,null,null,null,null,null,null,99,"%",null,null,null,null,null,null,{"$f":"IF(MI13=1,ML11,MD9)","v":90},{"$f":"IF(MI13=1,MM11,MI13)","v":2.2962962962962963},{"$f":"IF(MI14=1,MN11,MD9)","v":90},{"$f":"IF(MI14=1,MO11,MI14)","v":0.74814814814814812},null,null,null,null,null,null,null,null,null,null,null,null,null,null,99,"%",null,null,null,null,null,null,{"$f":"IF(NI13=1,NL11,ND9)","v":90},{"$f":"IF(NI13=1,NM11,NI13)","v":2.2399999999999998},{"$f":"IF(NI14=1,NN11,ND9)","v":90},{"$f":"IF(NI14=1,NO11,NI14)","v":0.72000000000000008}]
[null,{"$f":"ROUND(D11,0)","v":50},"%",{"$f":"VKL!$I$9","v":50},"rel Feuchte",null,null,null,null,{"$f":"IF(H13=1,J12,B10)","v":99},{"$f":"IF(H13=1,K12,H13)","v":2.4464285714285712},{"$f":"IF(H14=1,L12,B10)","v":99},{"$f":"IF(H14=1,M12,H14)","v":0.73214285714285698},null,null,null,null,null,null,null,null,null,null,null,null,null,null,null,null,{"$f":"ROUND(AF11,0)","v":50},"%",{"$f":"$D$11","v":50},"rel Feuchte",null,null,null,null,{"$f":"IF(AJ13=1,AL12,AD10)","v":99},{"$f":"IF(AJ13=1,AM12,AJ13)","v":2.1139240506329111},{"$f":"IF(AJ14=1,AN12,AD10)","v":99},{"$f":"IF(AJ14=1,AO12,AJ14)","v":0.59493670886075944},null,null,null,null,null,null,null,null,null,null,null,null,null,{"$f":"ROUND(BE11,0)","v":50},"%",{"$f":"$D$11","v":50},"rel Feuchte",null,null,null,null,{"$f":"IF(BI13=1,BK12,BC10)","v":99},{"$f":"IF(BI13=1,BL12,BI13)","v":1.956989247311828},{"$f":"IF(BI14=1,BM12,BC10)","v":99},{"$f":"IF(BI14=1,BN12,BI14)","v":0.5268817204301075},null,null,null,null,null,null,null,null,null,null,null,null,null,null,{"$f":"ROUND(CE11,0)","v":50},"%",{"$f":"$D$11","v":50},"rel Feuchte",null,null,null,null,{"$f":"IF(CI13=1,CK12,CC10)","v":99},{"$f":"IF(CI13=1,CL12,CI13)","v":1.8446601941747571},{"$f":"IF(CI14=1,CM12,CC10)","v":99},{"$f":"IF(CI14=1,CN12,CI14)","v":0.4854368932038835},null,null,null,null,null,null,null,null,null,null,null,null,null,null,{"$f":"ROUND(DE11,0)","v":50},"%",{"$f":"$D$11","v":50},"rel Feuchte",null,null,null,null,{"$f":"IF(DI13=1,DK12,DC10)","v":99},{"$f":"IF(DI13=1,DL12,DI13)","v":1.7567567567567566},{"$f":"IF(DI14=1,DM12,DC10)","v":99},{"$f":"IF(DI14=1,DN12,DI14)","v":0.45945945945945943},null,null,null,null,null,null,null,null,null,null,null,null,null,{"$f":"ROUND(ED11,0)","v":50},"%",{"$f":"D11","v":50},"rel Feuchte",null,null,null,null,{"$f":"IF(EH13=1,EJ12,EB10)","v":99},{"$f":"IF(EH13=1,EK12,EH13)","v":2.7166666666666668},{"$f":"IF(EH14=1,EL12,EB10)","v":99},{"$f":"IF(EH14=1,EM12,EH14)","v":0.8666666666666667},null,null,null,null,null,null,null,null,null,null,null,null,null,null,null,null,{"$f":"ROUND(FF11,0)","v":50},"%",{"$f":"$D$11","v":50},"rel Feuchte",null,null,null,null,{"$f":"IF(FJ13=1,FL12,FD10)","v":99},{"$f":"IF(FJ13=1,FM12,FJ13)","v":2.5505617977528088},{"$f":"IF(FJ14=1,FN12,FD10)","v":99},{"$f":"IF(FJ14=1,FO12,FJ14)","v":0.76404494382022481},null,null,null,null,null,null,null,null,null,null,null,null,null,{"$f":"ROUND(GE11,0)","v":50},"%",{"$f":"$D$11","v":50},"rel Feuchte",null,null,null,null,{"$f":"IF(GI13=1,GK12,GC10)","v":99},{"$f":"IF(GI13=1,GL12,GI13)","v":2.4090909090909087},{"$f":"IF(GI14=1,GM12,GC10)","v":99},{"$f":"IF(GI14=1,GN12,GI14)","v":0.69090909090909081},null,null,null,null,null,null,null,null,null,null,null,null,null,null,{"$f":"ROUND(HE11,0)","v":50},"%",{"$f":"$D$11","v":50},"rel Feuchte",null,null,null,null,{"$f":"IF(HI13=1,HK12,HC10)","v":99},{"$f":"IF(HI13=1,HL12,HI13)","v":2.3095238095238098},{"$f":"IF(HI14=1,HM12,HC10)","v":99},{"$f":"IF(HI14=1,HN12,HI14)","v":0.634920634920635},null,null,null,null,null,null,null,null,null,null,null,null,null,null,{"$f":"ROUND(IE11,0)","v":50},"%",{"$f":"$D$11","v":50},"rel Feuchte",null,null,null,null,{"$f":"IF(II13=1,IK12,IC10)","v":99},{"$f":"IF(II13=1,IL12,II13)","v":2.2230215827338129},{"$f":"IF(II14=1,IM12,IC10)","v":99},{"$f":"IF(II14=1,IN12,II14)","v":0.60431654676258995},null,null,null,null,null,null,null,null,null,null,null,null,null,null,{"$f":"ROUND(JE11,0)","v":50},"%",{"$f":"D11","v":50},"rel Feuchte",null,null,null,null,{"$f":"IF(JI13=1,JK12,JC10)","v":99},{"$f":"IF(JI13=1,JL12,JI13)","v":2.7868852459016393},{"$f":"IF(JI14=1,JM12,JC10)","v":99},{"$f":"IF(JI14=1,JN12,JI14)","v":0.90163934426229519},null,null,null,null,null,null,null,null,null,null,null,null,null,null,null,null,{"$f":"ROUND(KG11,0)","v":50},"%",{"$f":"$D$11","v":50},"rel Feuchte",null,null,null,null,{"$f":"IF(KK13=1,KM12,KE10)","v":99},{"$f":"IF(KK13=1,KN12,KK13)","v":2.6847826086956523},{"$f":"IF(KK14=1,KO12,KE10)","v":99},{"$f":"IF(KK14=1,KP12,KK14)","v":0.82608695652173914},null,null,null,null,null,null,null,null,null,null,null,null,null,{"$f":"ROUND(LF11,0)","v":50},"%",{"$f":"$D$11","v":50},"rel Feuchte",null,null,null,null,{"$f":"IF(LJ13=1,LL12,LD10)","v":99},{"$f":"IF(LJ13=1,LM12,LJ13)","v":2.5862068965517242},{"$f":"IF(LJ14=1,LN12,LD10)","v":99},{"$f":"IF(LJ14=1,LO12,LJ14)","v":0.75862068965517249},null,null,null,null,null,null,null,null,null,null,null,null,null,null,{"$f":"ROUND(MF11,0)","v":50},"%",{"$f":"$D$11","v":50},"rel Feuchte",null,null,null,null,{"$f":"IF(MJ13=1,ML12,MD10)","v":99},{"$f":"IF(MJ13=1,MM12,MJ13)","v":2.5037037037037035},{"$f":"IF(MJ14=1,MN12,MD10)","v":99},{"$f":"IF(MJ14=1,MO12,MJ14)","v":0.71111111111111103},null,null,null,null,null,null,null,null,null,null,null,null,null,null,{"$f":"ROUND(NF11,0)","v":50},"%",{"$f":"$D$11","v":50},"rel Feuchte",null,null,null,null,{"$f":"IF(NJ13=1,NL12,ND10)","v":99},{"$f":"IF(NJ13=1,NM12,NJ13)","v":2.44},{"$f":"IF(NJ14=1,NN12,ND10)","v":99},{"$f":"IF(NJ14=1,NO12,NJ14)","v":0.68}]
["Ansaugtemp",{"$f":"ROUND(D12,0)","v":26},"°C",{"$f":"VKL!$I$6","v":26},"Ansaugtemperatur",null,null,null,null,null,null,100,1,null,null,null,null,null,null,null,null,null,null,null,null,null,null,null,"Ansaugtemp",{"$f":"ROUND(AF12,0)","v":26},"°C",{"$f":"$D$12","v":26},"Ansaugtemperatur",null,null,null,null,null,null,100,1,null,null,null,null,null,null,null,null,null,null,null,null,"Ansaugtemp",{"$f":"ROUND(BE12,0)","v":26},"°C",{"$f":"$D$12","v":26},"Ansaugtemperatur",null,null,null,null,null,null,100,1,null,null,null,null,null,null,null,null,null,null,null,null,null,"Ansaugtemp",{"$f":"ROUND(CE12,0)","v":26},"°C",{"$f":"$D$12","v":26},"Ansaugtemperatur",null,null,null,null,null,null,100,1,null,null,null,null,null,null,null,null,null,null,null,null,null,"Ansaugtemp",{"$f":"ROUND(DE12,0)","v":26},"°C",{"$f":"$D$12","v":26},"Ansaugtemperatur",null,null,null,null,null,null,100,1,null,null,null,null,null,null,null,null,null,null,null,null,"Ansaugtemp",{"$f":"ROUND(ED12,0)","v":26},"°C",{"$f":"D12","v":26},"Ansaugtemperatur",null,null,null,null,null,null,100,1,null,null,null,null,null,null,null,null,null,null,null,null,null,null,null,"Ansaugtemp",{"$f":"ROUND(FF12,0)","v":26},"°C",{"$f":"$D$12","v":26},"Ansaugtemperatur",null,null,null,null,null,null,100,1,null,null,null,null,null,null,null,null,null,null,null,null,"Ansaugtemp",{"$f":"ROUND(GE12,0)","v":26},"°C",{"$f":"$D$12","v":26},"Ansaugtemperatur",null,null,null,null,null,null,100,1,null,null,null,null,null,null,null,null,null,null,null,null,null,"Ansaugtemp",{"$f":"ROUND(HE12,0)","v":26},"°C",{"$f":"$D$12","v":26},"Ansaugtemperatur",null,null,null,null,null,null,100,1,null,null,null,null,null,null,null,null,null,null,null,null,null,"Ansaugtemp",{"$f":"ROUND(IE12,0)","v":26},"°C",{"$f":"$D$12","v":26},"Ansaugtemperatur",null,null,null,null,null,null,100,1,null,null,null,null,null,null,null,null,null,null,null,null,null,"Ansaugtemp",{"$f":"ROUND(JE12,0)","v":26},"°C",{"$f":"D12","v":26},"Ansaugtemperatur",null,null,null,null,null,null,100,1,null,null,null,null,null,null,null,null,null,null,null,null,null,null,null,"Ansaugtemp",{"$f":"ROUND(KG12,0)","v":26},"°C",{"$f":"$D$12","v":26},"Ansaugtemperatur",null,null,null,null,null,null,100,1,null,null,null,null,null,null,null,null,null,null,null,null,"Ansaugtemp",{"$f":"ROUND(LF12,0)","v":26},"°C",{"$f":"$D$12","v":26},"Ansaugtemperatur",null,null,null,null,null,null,100,1,null,null,null,null,null,null,null,null,null,null,null,null,null,"Ansaugtemp",{"$f":"ROUND(MF12,0)","v":26},"°C",{"$f":"$D$12","v":26},"Ansaugtemperatur",null,null,null,null,null,null,100,1,null,null,null,null,null,null,null,null,null,null,null,null,null,"Ansaugtemp",{"$f":"ROUND(NF12,0)","v":26},"°C",{"$f":"$D$12","v":26},"Ansaugtemperatur",null,null,null,null,null,null,100,1]
["Korrekturfaktor\n totale Leistung",{"$f":"INDEX($K$22:$K$12516,MATCH(B1&B2&B3&B4&B12,$A$22:$A$12516&$H$22:$H$12516&$C$22:$C$12516&$E$22:$E$12516&$D$22:$D$12516,0))","v":1},{"$f":"INDEX($K$22:$K$12516,MATCH(B1&B2&B3&B4&B12,$A$22:$A$12516&$H$22:$H$12516&$C$22:$C$12516&$E$22:$E$12516&$D$22:$D$12516,0))","v":1},{"$f":"INDEX($K$22:$K$12516,MATCH(B1&B2&B3&B6&B12,$A$22:$A$12516&$H$22:$H$12516&$C$22:$C$12516&$E$22:$E$12516&$D$22:$D$12516,0))","v":1.5714285714285714},{"$f":"INDEX($K$22:$K$12516,MATCH(B1&B2&B3&B7&B12,$A$22:$A$12516&$H$22:$H$12516&$C$22:$C$12516&$E$22:$E$12516&$D$22:$D$12516,0))","v":1.7857142857142856},{"$f":"INDEX($K$22:$K$12516,MATCH(B1&B2&B3&B8&B12,$A$22:$A$12516&$H$22:$H$12516&$C$22:$C$12516&$E$22:$E$12516&$D$22:$D$12516,0))","v":2.0178571428571423},{"$f":"INDEX($K$22:$K$12516,MATCH(B1&B2&B3&B9&B12,$A$22:$A$12516&$H$22:$H$12516&$C$22:$C$12516&$E$22:$E$12516&$D$22:$D$12516,0))","v":2.25},{"$f":"INDEX($K$22:$K$12516,MATCH(B1&B2&B3&B10&B12,$A$22:$A$12516&$H$22:$H$12516&$C$22:$C$12516&$E$22:$E$12516&$D$22:$D$12516,0))","v":2.4464285714285712},null,null,null,null,null,null,null,null,null,null,null,null,null,null,null,null,null,null,null,null,"Korrekturfaktor\n totale Leistung",{"$f":"INDEX($K$22:$K$12516,MATCH(AD1&AD2&AD3&AD4&AD12,$A$22:$A$12516&$H$22:$H$12516&$C$22:$C$12516&$E$22:$E$12516&$D$22:$D$12516,0))","v":1},{"$f":"INDEX($K$22:$K$12516,MATCH(AD1&AD2&AD3&AD4&AD12,$A$22:$A$12516&$H$22:$H$12516&$C$22:$C$12516&$E$22:$E$12516&$D$22:$D$12516,0))","v":1},{"$f":"INDEX($K$22:$K$12516,MATCH(AD1&AD2&AD3&AD6&AD12,$A$22:$A$12516&$H$22:$H$12516&$C$22:$C$12516&$E$22:$E$12516&$D$22:$D$12516,0))","v":1.379746835443038},{"$f":"INDEX($K$22:$K$12516,MATCH(AD1&AD2&AD3&AD7&AD12,$A$22:$A$12516&$H$22:$H$12516&$C$22:$C$12516&$E$22:$E$12516&$D$22:$D$12516,0))","v":1.5696202531645569},{"$f":"INDEX($K$22:$K$12516,MATCH(AD1&AD2&AD3&AD8&AD12,$A$22:$A$12516&$H$22:$H$12516&$C$22:$C$12516&$E$22:$E$12516&$D$22:$D$12516,0))","v":1.7594936708860758},{"$f":"INDEX($K$22:$K$12516,MATCH(AD1&AD2&AD3&AD9&AD12,$A$22:$A$12516&$H$22:$H$12516&$C$22:$C$12516&$E$22:$E$12516&$D$22:$D$12516,0))","v":1.9493670886075949},{"$f":"INDEX($K$22:$K$12516,MATCH(AD1&AD2&AD3&AD10&AD12,$A$22:$A$12516&$H$22:$H$12516&$C$22:$C$12516&$E$22:$E$12516&$D$22:$D$12516,0))","v":2.1139240506329111},null,null,null,null,null,null,null,null,null,null,null,null,null,null,null,null,null,"Korrekturfaktor\n totale Leistung",{"$f":"INDEX($K$22:$K$12516,MATCH(BC1&BC2&BC3&BC4&BC12,$A$22:$A$12516&$H$22:$H$12516&$C$22:$C$12516&$E$22:$E$12516&$D$22:$D$12516,0))","v":1},{"$f":"INDEX($K$22:$K$12516,MATCH(BC1&BC2&BC3&BC4&BC12,$A$22:$A$12516&$H$22:$H$12516&$C$22:$C$12516&$E$22:$E$12516&$D$22:$D$12516,0))","v":1},{"$f":"INDEX($K$22:$K$12516,MATCH(BC1&BC2&BC3&BC6&BC12,$A$22:$A$12516&$H$22:$H$12516&$C$22:$C$12516&$E$22:$E$12516&$D$22:$D$12516,0))","v":1.2795698924731183},{"$f":"INDEX($K$22:$K$12516,MATCH(BC1&BC2&BC3&BC7&BC12,$A$22:$A$12516&$H$22:$H$12516&$C$22:$C$12516&$E$22:$E$12516&$D$22:$D$12516,0))","v":1.4623655913978495},{"$f":"INDEX($K$22:$K$12516,MATCH(BC1&BC2&BC3&BC8&BC12,$A$22:$A$12516&$H$22:$H$12516&$C$22:$C$12516&$E$22:$E$12516&$D$22:$D$12516,0))","v":1.6344086021505375},{"$f":"INDEX($K$22:$K$12516,MATCH(BC1&BC2&BC3&BC9&BC12,$A$22:$A$12516&$H$22:$H$12516&$C$22:$C$12516&$E$22:$E$12516&$D$22:$D$12516,0))","v":1.8064516129032255},{"$f":"INDEX($K$22:$K$12516,MATCH(BC1&BC2&BC3&BC10&BC12,$A$22:$A$12516&$H$22:$H$12516&$C$22:$C$12516&$E$22:$E$12516&$D$22:$D$12516,0))","v":1.956989247311828},null,null,null,null,null,null,null,null,null,null,null,null,null,null,null,null,null,null,"Korrekturfaktor\n totale Leistung",{"$f":"INDEX($K$22:$K$12516,MATCH(CC1&CC2&CC3&CC4&CC12,$A$22:$A$12516&$H$22:$H$12516&$C$22:$C$12516&$E$22:$E$12516&$D$22:$D$12516,0))","v":1},{"$f":"INDEX($K$22:$K$12516,MATCH(CC1&CC2&CC3&CC4&CC12,$A$22:$A$12516&$H$22:$H$12516&$C$22:$C$12516&$E$22:$E$12516&$D$22:$D$12516,0))","v":1},{"$f":"INDEX($K$22:$K$12516,MATCH(CC1&CC2&CC3&CC6&CC12,$A$22:$A$12516&$H$22:$H$12516&$C$22:$C$12516&$E$22:$E$12516&$D$22:$D$12516,0))","v":1.2135922330097086},{"$f":"INDEX($K$22:$K$12516,MATCH(CC1&CC2&CC3&CC7&CC12,$A$22:$A$12516&$H$22:$H$12516&$C$22:$C$12516&$E$22:$E$12516&$D$22:$D$12516,0))","v":1.378640776699029},{"$f":"INDEX($K$22:$K$12516,MATCH(CC1&CC2&CC3&CC8&CC12,$A$22:$A$12516&$H$22:$H$12516&$C$22:$C$12516&$E$22:$E$12516&$D$22:$D$12516,0))","v":1.5436893203883495},{"$f":"INDEX($K$22:$K$12516,MATCH(CC1&CC2&CC3&CC9&CC12,$A$22:$A$12516&$H$22:$H$12516&$C$22:$C$12516&$E$22:$E$12516&$D$22:$D$12516,0))","v":1.6990291262135921},{"$f":"INDEX($K$22:$K$12516,MATCH(CC1&CC2&CC3&CC10&CC12,$A$22:$A$12516&$H$22:$H$12516&$C$22:$C$12516&$E$22:$E$12516&$D$22:$D$12516,0))","v":1.8446601941747571},null,null,null,null,null,null,null,null,null,null,null,null,null,null,null,null,null,null,"Korrekturfaktor\n totale Leistung",{"$f":"INDEX($K$22:$K$12516,MATCH(DC1&DC2&DC3&DC4&DC12,$A$22:$A$12516&$H$22:$H$12516&$C$22:$C$12516&$E$22:$E$12516&$D$22:$D$12516,0))","v":1},{"$f":"INDEX($K$22:$K$12516,MATCH(DC1&DC2&DC3&DC4&DC12,$A$22:$A$12516&$H$22:$H$12516&$C$22:$C$12516&$E$22:$E$12516&$D$22:$D$12516,0))","v":1},{"$f":"INDEX($K$22:$K$12516,MATCH(DC1&DC2&DC3&DC6&DC12,$A$22:$A$12516&$H$22:$H$12516&$C$22:$C$12516&$E$22:$E$12516&$D$22:$D$12516,0))","v":1.1711711711711712},{"$f":"INDEX($K$22:$K$12516,MATCH(DC1&DC2&DC3&DC7&DC12,$A$22:$A$12516&$H$22:$H$12516&$C$22:$C$12516&$E$22:$E$12516&$D$22:$D$12516,0))","v":1.3243243243243241},{"$f":"INDEX($K$22:$K$12516,MATCH(DC1&DC2&DC3&DC8&DC12,$A$22:$A$12516&$H$22:$H$12516&$C$22:$C$12516&$E$22:$E$12516&$D$22:$D$12516,0))","v":1.4774774774774773},{"$f":"INDEX($K$22:$K$12516,MATCH(DC1&DC2&DC3&DC9&DC12,$A$22:$A$12516&$H$22:$H$12516&$C$22:$C$12516&$E$22:$E$12516&$D$22:$D$12516,0))","v":1.6216216216216215},{"$f":"INDEX($K$22:$K$12516,MATCH(DC1&DC2&DC3&DC10&DC12,$A$22:$A$12516&$H$22:$H$12516&$C$22:$C$12516&$E$22:$E$12516&$D$22:$D$12516,0))","v":1.7567567567567566},null,null,null,null,null,null,null,null,null,null,null,null,null,null,null,null,null,"Korrekturfaktor\n totale Leistung",{"$f":"INDEX($K$22:$K$12516,MATCH(EB1&EB2&EB3&EB4&EB12,$A$22:$A$12516&$H$22:$H$12516&$C$22:$C$12516&$E$22:$E$12516&$D$22:$D$12516,0))","v":1},{"$f":"INDEX($K$22:$K$12516,MATCH(EB1&EB2&EB3&EB4&EB12,$A$22:$A$12516&$H$22:$H$12516&$C$22:$C$12516&$E$22:$E$12516&$D$22:$D$12516,0))","v":1},{"$f":"INDEX($K$22:$K$12516,MATCH(EB1&EB2&EB3&EB6&EB12,$A$22:$A$12516&$H$22:$H$12516&$C$22:$C$12516&$E$22:$E$12516&$D$22:$D$12516,0))","v":1.7500000000000002},{"$f":"INDEX($K$22:$K$12516,MATCH(EB1&EB2&EB3&EB7&EB12,$A$22:$A$12516&$H$22:$H$12516&$C$22:$C$12516&$E$22:$E$12516&$D$22:$D$12516,0))","v":2},{"$f":"INDEX($K$22:$K$12516,MATCH(EB1&EB2&EB3&EB8&EB12,$A$22:$A$12516&$H$22:$H$12516&$C$22:$C$12516&$E$22:$E$12516&$D$22:$D$12516,0))","v":2.2500000000000004},{"$f":"INDEX($K$22:$K$12516,MATCH(EB1&EB2&EB3&EB9&EB12,$A$22:$A$12516&$H$22:$H$12516&$C$22:$C$12516&$E$22:$E$12516&$D$22:$D$12516,0))","v":2.5},{"$f":"INDEX($K$22:$K$12516,MATCH(EB1&EB2&EB3&EB10&EB12,$A$22:$A$12516&$H$22:$H$12516&$C$22:$C$12516&$E$22:$E$12516&$D$22:$D$12516,0))","v":2.7166666666666668},null,null,null,null,null,null,null,null,null,null,null,null,null,null,null,null,null,null,null,null,"Korrekturfaktor\n totale Leistung",{"$f":"INDEX($K$22:$K$12516,MATCH(FD1&FD2&FD3&FD4&FD12,$A$22:$A$12516&$H$22:$H$12516&$C$22:$C$12516&$E$22:$E$12516&$D$22:$D$12516,0))","v":1},{"$f":"INDEX($K$22:$K$12516,MATCH(FD1&FD2&FD3&FD4&FD12,$A$22:$A$12516&$H$22:$H$12516&$C$22:$C$12516&$E$22:$E$12516&$D$22:$D$12516,0))","v":1},{"$f":"INDEX($K$22:$K$12516,MATCH(FD1&FD2&FD3&FD6&FD12,$A$22:$A$12516&$H$22:$H$12516&$C$22:$C$12516&$E$22:$E$12516&$D$22:$D$12516,0))","v":1.6292134831460674},{"$f":"INDEX($K$22:$K$12516,MATCH(FD1&FD2&FD3&FD7&FD12,$A$22:$A$12516&$H$22:$H$12516&$C$22:$C$12516&$E$22:$E$12516&$D$22:$D$12516,0))","v":1.8651685393258426},{"$f":"INDEX($K$22:$K$12516,MATCH(FD1&FD2&FD3&FD8&FD12,$A$22:$A$12516&$H$22:$H$12516&$C$22:$C$12516&$E$22:$E$12516&$D$22:$D$12516,0))","v":2.101123595505618},{"$f":"INDEX($K$22:$K$12516,MATCH(FD1&FD2&FD3&FD9&FD12,$A$22:$A$12516&$H$22:$H$12516&$C$22:$C$12516&$E$22:$E$12516&$D$22:$D$12516,0))","v":2.3370786516853932},{"$f":"INDEX($K$22:$K$12516,MATCH(FD1&FD2&FD3&FD10&FD12,$A$22:$A$12516&$H$22:$H$12516&$C$22:$C$12516&$E$22:$E$12516&$D$22:$D$12516,0))","v":2.5505617977528088},null,null,null,null,null,null,null,null,null,null,null,null,null,null,null,null,null,"Korrekturfaktor\n totale Leistung",{"$f":"INDEX($K$22:$K$12516,MATCH(GC1&GC2&GC3&GC4&GC12,$A$22:$A$12516&$H$22:$H$12516&$C$22:$C$12516&$E$22:$E$12516&$D$22:$D$12516,0))","v":1},{"$f":"INDEX($K$22:$K$12516,MATCH(GC1&GC2&GC3&GC4&GC12,$A$22:$A$12516&$H$22:$H$12516&$C$22:$C$12516&$E$22:$E$12516&$D$22:$D$12516,0))","v":1},{"$f":"INDEX($K$22:$K$12516,MATCH(GC1&GC2&GC3&GC6&GC12,$A$22:$A$12516&$H$22:$H$12516&$C$22:$C$12516&$E$22:$E$12516&$D$22:$D$12516,0))","v":1.5545454545454545},{"$f":"INDEX($K$22:$K$12516,MATCH(GC1&GC2&GC3&GC7&GC12,$A$22:$A$12516&$H$22:$H$12516&$C$22:$C$12516&$E$22:$E$12516&$D$22:$D$12516,0))","v":1.7727272727272725},{"$f":"INDEX($K$22:$K$12516,MATCH(GC1&GC2&GC3&GC8&GC12,$A$22:$A$12516&$H$22:$H$12516&$C$22:$C$12516&$E$22:$E$12516&$D$22:$D$12516,0))","v":1.9909090909090907},{"$f":"INDEX($K$22:$K$12516,MATCH(GC1&GC2&GC3&GC9&GC12,$A$22:$A$12516&$H$22:$H$12516&$C$22:$C$12516&$E$22:$E$12516&$D$22:$D$12516,0))","v":2.209090909090909},{"$f":"INDEX($K$22:$K$12516,MATCH(GC1&GC2&GC3&GC10&GC12,$A$22:$A$12516&$H$22:$H$12516&$C$22:$C$12516&$E$22:$E$12516&$D$22:$D$12516,0))","v":2.4090909090909087},null,null,null,null,null,null,null,null,null,null,null,null,null,null,null,null,null,null,"Korrekturfaktor\n totale Leistung",{"$f":"INDEX($K$22:$K$12516,MATCH(HC1&HC2&HC3&HC4&HC12,$A$22:$A$12516&$H$22:$H$12516&$C$22:$C$12516&$E$22:$E$12516&$D$22:$D$12516,0))","v":1},{"$f":"INDEX($K$22:$K$12516,MATCH(HC1&HC2&HC3&HC4&HC12,$A$22:$A$12516&$H$22:$H$12516&$C$22:$C$12516&$E$22:$E$12516&$D$22:$D$12516,0))","v":1},{"$f":"INDEX($K$22:$K$12516,MATCH(HC1&HC2&HC3&HC6&HC12,$A$22:$A$12516&$H$22:$H$12516&$C$22:$C$12516&$E$22:$E$12516&$D$22:$D$12516,0))","v":1.4920634920634919},{"$f":"INDEX($K$22:$K$12516,MATCH(HC1&HC2&HC3&HC7&HC12,$A$22:$A$12516&$H$22:$H$12516&$C$22:$C$12516&$E$22:$E$12516&$D$22:$D$12516,0))","v":1.7063492063492063},{"$f":"INDEX($K$22:$K$12516,MATCH(HC1&HC2&HC3&HC8&HC12,$A$22:$A$12516&$H$22:$H$12516&$C$22:$C$12516&$E$22:$E$12516&$D$22:$D$12516,0))","v":1.9126984126984128},{"$f":"INDEX($K$22:$K$12516,MATCH(HC1&HC2&HC3&HC9&HC12,$A$22:$A$12516&$H$22:$H$12516&$C$22:$C$12516&$E$22:$E$12516&$D$22:$D$12516,0))","v":2.1190476190476191},{"$f":"INDEX($K$22:$K$12516,MATCH(HC1&HC2&HC3&HC10&HC12,$A$22:$A$12516&$H$22:$H$12516&$C$22:$C$12516&$E$22:$E$12516&$D$22:$D$12516,0))","v":2.3095238095238098},null,null,null,null,null,null,null,null,null,null,null,null,null,null,null,null,null,null,"Korrekturfaktor\n totale Leistung",{"$f":"INDEX($K$22:$K$12516,MATCH(IC1&IC2&IC3&IC4&IC12,$A$22:$A$12516&$H$22:$H$12516&$C$22:$C$12516&$E$22:$E$12516&$D$22:$D$12516,0))","v":1},{"$f":"INDEX($K$22:$K$12516,MATCH(IC1&IC2&IC3&IC4&IC12,$A$22:$A$12516&$H$22:$H$12516&$C$22:$C$12516&$E$22:$E$12516&$D$22:$D$12516,0))","v":1},{"$f":"INDEX($K$22:$K$12516,MATCH(IC1&IC2&IC3&IC6&IC12,$A$22:$A$12516&$H$22:$H$12516&$C$22:$C$12516&$E$22:$E$12516&$D$22:$D$12516,0))","v":1.4460431654676258},{"$f":"INDEX($K$22:$K$12516,MATCH(IC1&IC2&IC3&IC7&IC12,$A$22:$A$12516&$H$22:$H$12516&$C$22:$C$12516&$E$22:$E$12516&$D$22:$D$12516,0))","v":1.6474820143884894},{"$f":"INDEX($K$22:$K$12516,MATCH(IC1&IC2&IC3&IC8&IC12,$A$22:$A$12516&$H$22:$H$12516&$C$22:$C$12516&$E$22:$E$12516&$D$22:$D$12516,0))","v":1.8489208633093526},{"$f":"INDEX($K$22:$K$12516,MATCH(IC1&IC2&IC3&IC9&IC12,$A$22:$A$12516&$H$22:$H$12516&$C$22:$C$12516&$E$22:$E$12516&$D$22:$D$12516,0))","v":2.0431654676258995},{"$f":"INDEX($K$22:$K$12516,MATCH(IC1&IC2&IC3&IC10&IC12,$A$22:$A$12516&$H$22:$H$12516&$C$22:$C$12516&$E$22:$E$12516&$D$22:$D$12516,0))","v":2.2230215827338129},null,null,null,null,null,null,null,null,null,null,null,null,null,null,null,null,null,null,"Korrekturfaktor\n totale Leistung",{"$f":"INDEX($K$22:$K$12516,MATCH(JC1&JC2&JC3&JC4&JC12,$A$22:$A$12516&$H$22:$H$12516&$C$22:$C$12516&$E$22:$E$12516&$D$22:$D$12516,0))","v":1},{"$f":"INDEX($K$22:$K$12516,MATCH(JC1&JC2&JC3&JC4&JC12,$A$22:$A$12516&$H$22:$H$12516&$C$22:$C$12516&$E$22:$E$12516&$D$22:$D$12516,0))","v":1},{"$f":"INDEX($K$22:$K$12516,MATCH(JC1&JC2&JC3&JC6&JC12,$A$22:$A$12516&$H$22:$H$12516&$C$22:$C$12516&$E$22:$E$12516&$D$22:$D$12516,0))","v":1.7868852459016396},{"$f":"INDEX($K$22:$K$12516,MATCH(JC1&JC2&JC3&JC7&JC12,$A$22:$A$12516&$H$22:$H$12516&$C$22:$C$12516&$E$22:$E$12516&$D$22:$D$12516,0))","v":2.0491803278688523},{"$f":"INDEX($K$22:$K$12516,MATCH(JC1&JC2&JC3&JC8&JC12,$A$22:$A$12516&$H$22:$H$12516&$C$22:$C$12516&$E$22:$E$12516&$D$22:$D$12516,0))","v":2.2950819672131146},{"$f":"INDEX($K$22:$K$12516,MATCH(JC1&JC2&JC3&JC9&JC12,$A$22:$A$12516&$H$22:$H$12516&$C$22:$C$12516&$E$22:$E$12516&$D$22:$D$12516,0))","v":2.557377049180328},{"$f":"INDEX($K$22:$K$12516,MATCH(JC1&JC2&JC3&JC10&JC12,$A$22:$A$12516&$H$22:$H$12516&$C$22:$C$12516&$E$22:$E$12516&$D$22:$D$12516,0))","v":2.7868852459016393},null,null,null,null,null,null,null,null,null,null,null,null,null,null,null,null,null,null,null,null,"Korrekturfaktor\n totale Leistung",{"$f":"INDEX($K$22:$K$12516,MATCH(KE1&KE2&KE3&KE4&KE12,$A$22:$A$12516&$H$22:$H$12516&$C$22:$C$12516&$E$22:$E$12516&$D$22:$D$12516,0))","v":1},{"$f":"INDEX($K$22:$K$12516,MATCH(KE1&KE2&KE3&KE4&KE12,$A$22:$A$12516&$H$22:$H$12516&$C$22:$C$12516&$E$22:$E$12516&$D$22:$D$12516,0))","v":1},{"$f":"INDEX($K$22:$K$12516,MATCH(KE1&KE2&KE3&KE6&KE12,$A$22:$A$12516&$H$22:$H$12516&$C$22:$C$12516&$E$22:$E$12516&$D$22:$D$12516,0))","v":1.7173913043478262},{"$f":"INDEX($K$22:$K$12516,MATCH(KE1&KE2&KE3&KE7&KE12,$A$22:$A$12516&$H$22:$H$12516&$C$22:$C$12516&$E$22:$E$12516&$D$22:$D$12516,0))","v":1.9673913043478262},{"$f":"INDEX($K$22:$K$12516,MATCH(KE1&KE2&KE3&KE8&KE12,$A$22:$A$12516&$H$22:$H$12516&$C$22:$C$12516&$E$22:$E$12516&$D$22:$D$12516,0))","v":2.2173913043478262},{"$f":"INDEX($K$22:$K$12516,MATCH(KE1&KE2&KE3&KE9&KE12,$A$22:$A$12516&$H$22:$H$12516&$C$22:$C$12516&$E$22:$E$12516&$D$22:$D$12516,0))","v":2.4673913043478262},{"$f":"INDEX($K$22:$K$12516,MATCH(KE1&KE2&KE3&KE10&KE12,$A$22:$A$12516&$H$22:$H$12516&$C$22:$C$12516&$E$22:$E$12516&$D$22:$D$12516,0))","v":2.6847826086956523},null,null,null,null,null,null,null,null,null,null,null,null,null,null,null,null,null,"Korrekturfaktor\n totale Leistung",{"$f":"INDEX($K$22:$K$12516,MATCH(LD1&LD2&LD3&LD4&LD12,$A$22:$A$12516&$H$22:$H$12516&$C$22:$C$12516&$E$22:$E$12516&$D$22:$D$12516,0))","v":1},{"$f":"INDEX($K$22:$K$12516,MATCH(LD1&LD2&LD3&LD4&LD12,$A$22:$A$12516&$H$22:$H$12516&$C$22:$C$12516&$E$22:$E$12516&$D$22:$D$12516,0))","v":1},{"$f":"INDEX($K$22:$K$12516,MATCH(LD1&LD2&LD3&LD6&LD12,$A$22:$A$12516&$H$22:$H$12516&$C$22:$C$12516&$E$22:$E$12516&$D$22:$D$12516,0))","v":1.6551724137931034},{"$f":"INDEX($K$22:$K$12516,MATCH(LD1&LD2&LD3&LD7&LD12,$A$22:$A$12516&$H$22:$H$12516&$C$22:$C$12516&$E$22:$E$12516&$D$22:$D$12516,0))","v":1.8965517241379313},{"$f":"INDEX($K$22:$K$12516,MATCH(LD1&LD2&LD3&LD8&LD12,$A$22:$A$12516&$H$22:$H$12516&$C$22:$C$12516&$E$22:$E$12516&$D$22:$D$12516,0))","v":2.1293103448275867},{"$f":"INDEX($K$22:$K$12516,MATCH(LD1&LD2&LD3&LD9&LD12,$A$22:$A$12516&$H$22:$H$12516&$C$22:$C$12516&$E$22:$E$12516&$D$22:$D$12516,0))","v":2.3706896551724141},{"$f":"INDEX($K$22:$K$12516,MATCH(LD1&LD2&LD3&LD10&LD12,$A$22:$A$12516&$H$22:$H$12516&$C$22:$C$12516&$E$22:$E$12516&$D$22:$D$12516,0))","v":2.5862068965517242},null,null,null,null,null,null,null,null,null,null,null,null,null,null,null,null,null,null,"Korrekturfaktor\n totale Leistung",{"$f":"INDEX($K$22:$K$12516,MATCH(MD1&MD2&MD3&MD4&MD12,$A$22:$A$12516&$H$22:$H$12516&$C$22:$C$12516&$E$22:$E$12516&$D$22:$D$12516,0))","v":1},{"$f":"INDEX($K$22:$K$12516,MATCH(MD1&MD2&MD3&MD4&MD12,$A$22:$A$12516&$H$22:$H$12516&$C$22:$C$12516&$E$22:$E$12516&$D$22:$D$12516,0))","v":1},{"$f":"INDEX($K$22:$K$12516,MATCH(MD1&MD2&MD3&MD6&MD12,$A$22:$A$12516&$H$22:$H$12516&$C$22:$C$12516&$E$22:$E$12516&$D$22:$D$12516,0))","v":1.6074074074074072},{"$f":"INDEX($K$22:$K$12516,MATCH(MD1&MD2&MD3&MD7&MD12,$A$22:$A$12516&$H$22:$H$12516&$C$22:$C$12516&$E$22:$E$12516&$D$22:$D$12516,0))","v":1.8370370370370368},{"$f":"INDEX($K$22:$K$12516,MATCH(MD1&MD2&MD3&MD8&MD12,$A$22:$A$12516&$H$22:$H$12516&$C$22:$C$12516&$E$22:$E$12516&$D$22:$D$12516,0))","v":2.0666666666666664},{"$f":"INDEX($K$22:$K$12516,MATCH(MD1&MD2&MD3&MD9&MD12,$A$22:$A$12516&$H$22:$H$12516&$C$22:$C$12516&$E$22:$E$12516&$D$22:$D$12516,0))","v":2.2962962962962963},{"$f":"INDEX($K$22:$K$12516,MATCH(MD1&MD2&MD3&MD10&MD12,$A$22:$A$12516&$H$22:$H$12516&$C$22:$C$12516&$E$22:$E$12516&$D$22:$D$12516,0))","v":2.5037037037037035},null,null,null,null,null,null,null,null,null,null,null,null,null,null,null,null,null,null,"Korrekturfaktor\n totale Leistung",{"$f":"INDEX($K$22:$K$12516,MATCH(ND1&ND2&ND3&ND4&ND12,$A$22:$A$12516&$H$22:$H$12516&$C$22:$C$12516&$E$22:$E$12516&$D$22:$D$12516,0))","v":1},{"$f":"INDEX($K$22:$K$12516,MATCH(ND1&ND2&ND3&ND4&ND12,$A$22:$A$12516&$H$22:$H$12516&$C$22:$C$12516&$E$22:$E$12516&$D$22:$D$12516,0))","v":1},{"$f":"INDEX($K$22:$K$12516,MATCH(ND1&ND2&ND3&ND6&ND12,$A$22:$A$12516&$H$22:$H$12516&$C$22:$C$12516&$E$22:$E$12516&$D$22:$D$12516,0))","v":1.5733333333333333},{"$f":"INDEX($K$22:$K$12516,MATCH(ND1&ND2&ND3&ND7&ND12,$A$22:$A$12516&$H$22:$H$12516&$C$22:$C$12516&$E$22:$E$12516&$D$22:$D$12516,0))","v":1.7933333333333332},{"$f":"INDEX($K$22:$K$12516,MATCH(ND1&ND2&ND3&ND8&ND12,$A$22:$A$12516&$H$22:$H$12516&$C$22:$C$12516&$E$22:$E$12516&$D$22:$D$12516,0))","v":2.02},{"$f":"INDEX($K$22:$K$12516,MATCH(ND1&ND2&ND3&ND9&ND12,$A$22:$A$12516&$H$22:$H$12516&$C$22:$C$12516&$E$22:$E$12516&$D$22:$D$12516,0))","v":2.2399999999999998},{"$f":"INDEX($K$22:$K$12516,MATCH(ND1&ND2&ND3&ND10&ND12,$A$22:$A$12516&$H$22:$H$12516&$C$22:$C$12516&$E$22:$E$12516&$D$22:$D$12516,0))","v":2.44}]
["Korrekturfaktor\nsensible Leistung",{"$f":"INDEX($L$19:$L$12516,MATCH(B1&B2&B3&B4&B12,$A$19:$A$12516&$H$19:$H$12516&$C$19:$C$12516&$E$19:$E$12516&$D$19:$D$12516,0))","v":1},{"$f":"INDEX($L$19:$L$12516,MATCH(B1&B2&B3&B5&B12,$A$19:$A$12516&$H$19:$H$12516&$C$19:$C$12516&$E$19:$E$12516&$D$19:$D$12516,0))","v":0.9107142857142857},{"$f":"INDEX($L$19:$L$12516,MATCH(B1&B2&B3&B6&B12,$A$19:$A$12516&$H$19:$H$12516&$C$19:$C$12516&$E$19:$E$12516&$D$19:$D$12516,0))","v":0.87499999999999989},{"$f":"INDEX($L$19:$L$12516,MATCH(B1&B2&B3&B7&B12,$A$19:$A$12516&$H$19:$H$12516&$C$19:$C$12516&$E$19:$E$12516&$D$19:$D$12516,0))","v":0.83928571428571419},{"$f":"INDEX($L$19:$L$12516,MATCH(B1&B2&B3&B8&B12,$A$19:$A$12516&$H$19:$H$12516&$C$19:$C$12516&$E$19:$E$12516&$D$19:$D$12516,0))","v":0.80357142857142849},{"$f":"INDEX($L$19:$L$12516,MATCH(B1&B2&B3&B9&B12,$A$19:$A$12516&$H$19:$H$12516&$C$19:$C$12516&$E$19:$E$12516&$D$19:$D$12516,0))","v":0.76785714285714279},{"$f":"INDEX($L$19:$L$12516,MATCH(B1&B2&B3&B10&B12,$A$19:$A$12516&$H$19:$H$12516&$C$19:$C$12516&$E$19:$E$12516&$D$19:$D$12516,0))","v":0.73214285714285698},null,"Polynom",null,null,null,null,null,null,null,null,null,null,null,null,null,null,null,null,null,null,"Korrekturfaktor\nsensible Leistung",{"$f":"INDEX($L$19:$L$12516,MATCH(AD1&AD2&AD3&AD4&AD12,$A$19:$A$12516&$H$19:$H$12516&$C$19:$C$12516&$E$19:$E$12516&$D$19:$D$12516,0))","v":1},{"$f":"INDEX($L$19:$L$12516,MATCH(AD1&AD2&AD3&AD5&AD12,$A$19:$A$12516&$H$19:$H$12516&$C$19:$C$12516&$E$19:$E$12516&$D$19:$D$12516,0))","v":0.87341772151898722},{"$f":"INDEX($L$19:$L$12516,MATCH(AD1&AD2&AD3&AD6&AD12,$A$19:$A$12516&$H$19:$H$12516&$C$19:$C$12516&$E$19:$E$12516&$D$19:$D$12516,0))","v":0.810126582278481},{"$f":"INDEX($L$19:$L$12516,MATCH(AD1&AD2&AD3&AD7&AD12,$A$19:$A$12516&$H$19:$H$12516&$C$19:$C$12516&$E$19:$E$12516&$D$19:$D$12516,0))","v":0.75949367088607589},{"$f":"INDEX($L$19:$L$12516,MATCH(AD1&AD2&AD3&AD8&AD12,$A$19:$A$12516&$H$19:$H$12516&$C$19:$C$12516&$E$19:$E$12516&$D$19:$D$12516,0))","v":0.69620253164556967},{"$f":"INDEX($L$19:$L$12516,MATCH(AD1&AD2&AD3&AD9&AD12,$A$19:$A$12516&$H$19:$H$12516&$C$19:$C$12516&$E$19:$E$12516&$D$19:$D$12516,0))","v":0.64556962025316456},{"$f":"INDEX($L$19:$L$12516,MATCH(AD1&AD2&AD3&AD10&AD12,$A$19:$A$12516&$H$19:$H$12516&$C$19:$C$12516&$E$19:$E$12516&$D$19:$D$12516,0))","v":0.59493670886075944},null,"Polynom",null,null,null,null,null,null,null,null,null,null,null,null,null,null,null,"Korrekturfaktor\nsensible Leistung",{"$f":"INDEX($L$19:$L$12516,MATCH(BC1&BC2&BC3&BC4&BC12,$A$19:$A$12516&$H$19:$H$12516&$C$19:$C$12516&$E$19:$E$12516&$D$19:$D$12516,0))","v":1},{"$f":"INDEX($L$19:$L$12516,MATCH(BC1&BC2&BC3&BC5&BC12,$A$19:$A$12516&$H$19:$H$12516&$C$19:$C$12516&$E$19:$E$12516&$D$19:$D$12516,0))","v":0.88172043010752676},{"$f":"INDEX($L$19:$L$12516,MATCH(BC1&BC2&BC3&BC6&BC12,$A$19:$A$12516&$H$19:$H$12516&$C$19:$C$12516&$E$19:$E$12516&$D$19:$D$12516,0))","v":0.80645161290322576},{"$f":"INDEX($L$19:$L$12516,MATCH(BC1&BC2&BC3&BC7&BC12,$A$19:$A$12516&$H$19:$H$12516&$C$19:$C$12516&$E$19:$E$12516&$D$19:$D$12516,0))","v":0.73118279569892475},{"$f":"INDEX($L$19:$L$12516,MATCH(BC1&BC2&BC3&BC8&BC12,$A$19:$A$12516&$H$19:$H$12516&$C$19:$C$12516&$E$19:$E$12516&$D$19:$D$12516,0))","v":0.65591397849462363},{"$f":"INDEX($L$19:$L$12516,MATCH(BC1&BC2&BC3&BC9&BC12,$A$19:$A$12516&$H$19:$H$12516&$C$19:$C$12516&$E$19:$E$12516&$D$19:$D$12516,0))","v":0.59139784946236562},{"$f":"INDEX($L$19:$L$12516,MATCH(BC1&BC2&BC3&BC10&BC12,$A$19:$A$12516&$H$19:$H$12516&$C$19:$C$12516&$E$19:$E$12516&$D$19:$D$12516,0))","v":0.5268817204301075},null,"Polynom",null,null,null,null,null,null,null,null,null,null,null,null,null,null,null,null,"Korrekturfaktor\nsensible Leistung",{"$f":"INDEX($L$19:$L$12516,MATCH(CC1&CC2&CC3&CC4&CC12,$A$19:$A$12516&$H$19:$H$12516&$C$19:$C$12516&$E$19:$E$12516&$D$19:$D$12516,0))","v":1},{"$f":"INDEX($L$19:$L$12516,MATCH(CC1&CC2&CC3&CC5&CC12,$A$19:$A$12516&$H$19:$H$12516&$C$19:$C$12516&$E$19:$E$12516&$D$19:$D$12516,0))","v":0.89320388349514568},{"$f":"INDEX($L$19:$L$12516,MATCH(CC1&CC2&CC3&CC6&CC12,$A$19:$A$12516&$H$19:$H$12516&$C$19:$C$12516&$E$19:$E$12516&$D$19:$D$12516,0))","v":0.80582524271844658},{"$f":"INDEX($L$19:$L$12516,MATCH(CC1&CC2&CC3&CC7&CC12,$A$19:$A$12516&$H$19:$H$12516&$C$19:$C$12516&$E$19:$E$12516&$D$19:$D$12516,0))","v":0.71844660194174759},{"$f":"INDEX($L$19:$L$12516,MATCH(CC1&CC2&CC3&CC8&CC12,$A$19:$A$12516&$H$19:$H$12516&$C$19:$C$12516&$E$19:$E$12516&$D$19:$D$12516,0))","v":0.64077669902912626},{"$f":"INDEX($L$19:$L$12516,MATCH(CC1&CC2&CC3&CC9&CC12,$A$19:$A$12516&$H$19:$H$12516&$C$19:$C$12516&$E$19:$E$12516&$D$19:$D$12516,0))","v":0.55339805825242716},{"$f":"INDEX($L$19:$L$12516,MATCH(CC1&CC2&CC3&CC10&CC12,$A$19:$A$12516&$H$19:$H$12516&$C$19:$C$12516&$E$19:$E$12516&$D$19:$D$12516,0))","v":0.4854368932038835},null,"Polynom",null,null,null,null,null,null,null,null,null,null,null,null,null,null,null,null,"Korrekturfaktor\nsensible Leistung",{"$f":"INDEX($L$19:$L$12516,MATCH(DC1&DC2&DC3&DC4&DC12,$A$19:$A$12516&$H$19:$H$12516&$C$19:$C$12516&$E$19:$E$12516&$D$19:$D$12516,0))","v":1},{"$f":"INDEX($L$19:$L$12516,MATCH(DC1&DC2&DC3&DC5&DC12,$A$19:$A$12516&$H$19:$H$12516&$C$19:$C$12516&$E$19:$E$12516&$D$19:$D$12516,0))","v":0.90990990990990983},{"$f":"INDEX($L$19:$L$12516,MATCH(DC1&DC2&DC3&DC6&DC12,$A$19:$A$12516&$H$19:$H$12516&$C$19:$C$12516&$E$19:$E$12516&$D$19:$D$12516,0))","v":0.81081081081081074},{"$f":"INDEX($L$19:$L$12516,MATCH(DC1&DC2&DC3&DC7&DC12,$A$19:$A$12516&$H$19:$H$12516&$C$19:$C$12516&$E$19:$E$12516&$D$19:$D$12516,0))","v":0.71171171171171166},{"$f":"INDEX($L$19:$L$12516,MATCH(DC1&DC2&DC3&DC8&DC12,$A$19:$A$12516&$H$19:$H$12516&$C$19:$C$12516&$E$19:$E$12516&$D$19:$D$12516,0))","v":0.62162162162162149},{"$f":"INDEX($L$19:$L$12516,MATCH(DC1&DC2&DC3&DC9&DC12,$A$19:$A$12516&$H$19:$H$12516&$C$19:$C$12516&$E$19:$E$12516&$D$19:$D$12516,0))","v":0.53153153153153143},{"$f":"INDEX($L$19:$L$12516,MATCH(DC1&DC2&DC3&DC10&DC12,$A$19:$A$12516&$H$19:$H$12516&$C$19:$C$12516&$E$19:$E$12516&$D$19:$D$12516,0))","v":0.45945945945945943},null,"Polynom",null,null,null,null,null,null,null,null,null,null,null,null,null,null,null,"Korrekturfaktor\nsensible Leistung",{"$f":"INDEX($L$19:$L$12516,MATCH(EB1&EB2&EB3&EB4&EB12,$A$19:$A$12516&$H$19:$H$12516&$C$19:$C$12516&$E$19:$E$12516&$D$19:$D$12516,0))","v":1},{"$f":"INDEX($L$19:$L$12516,MATCH(EB1&EB2&EB3&EB5&EB12,$A$19:$A$12516&$H$19:$H$12516&$C$19:$C$12516&$E$19:$E$12516&$D$19:$D$12516,0))","v":0.95},{"$f":"INDEX($L$19:$L$12516,MATCH(EB1&EB2&EB3&EB6&EB12,$A$19:$A$12516&$H$19:$H$12516&$C$19:$C$12516&$E$19:$E$12516&$D$19:$D$12516,0))","v":0.93333333333333346},{"$f":"INDEX($L$19:$L$12516,MATCH(EB1&EB2&EB3&EB7&EB12,$A$19:$A$12516&$H$19:$H$12516&$C$19:$C$12516&$E$19:$E$12516&$D$19:$D$12516,0))","v":0.91666666666666674},{"$f":"INDEX($L$19:$L$12516,MATCH(EB1&EB2&EB3&EB8&EB12,$A$19:$A$12516&$H$19:$H$12516&$C$19:$C$12516&$E$19:$E$12516&$D$19:$D$12516,0))","v":0.90000000000000013},{"$f":"INDEX($L$19:$L$12516,MATCH(EB1&EB2&EB3&EB9&EB12,$A$19:$A$12516&$H$19:$H$12516&$C$19:$C$12516&$E$19:$E$12516&$D$19:$D$12516,0))","v":0.88333333333333341},{"$f":"INDEX($L$19:$L$12516,MATCH(EB1&EB2&EB3&EB10&EB12,$A$19:$A$12516&$H$19:$H$12516&$C$19:$C$12516&$E$19:$E$12516&$D$19:$D$12516,0))","v":0.8666666666666667},null,"Polynom",null,null,null,null,null,null,null,null,null,null,null,null,null,null,null,null,null,null,"Korrekturfaktor\nsensible Leistung",{"$f":"INDEX($L$19:$L$12516,MATCH(FD1&FD2&FD3&FD4&FD12,$A$19:$A$12516&$H$19:$H$12516&$C$19:$C$12516&$E$19:$E$12516&$D$19:$D$12516,0))","v":1},{"$f":"INDEX($L$19:$L$12516,MATCH(FD1&FD2&FD3&FD5&FD12,$A$19:$A$12516&$H$19:$H$12516&$C$19:$C$12516&$E$19:$E$12516&$D$19:$D$12516,0))","v":0.9101123595505618},{"$f":"INDEX($L$19:$L$12516,MATCH(FD1&FD2&FD3&FD6&FD12,$A$19:$A$12516&$H$19:$H$12516&$C$19:$C$12516&$E$19:$E$12516&$D$19:$D$12516,0))","v":0.88764044943820231},{"$f":"INDEX($L$19:$L$12516,MATCH(FD1&FD2&FD3&FD7&FD12,$A$19:$A$12516&$H$19:$H$12516&$C$19:$C$12516&$E$19:$E$12516&$D$19:$D$12516,0))","v":0.8539325842696629},{"$f":"INDEX($L$19:$L$12516,MATCH(FD1&FD2&FD3&FD8&FD12,$A$19:$A$12516&$H$19:$H$12516&$C$19:$C$12516&$E$19:$E$12516&$D$19:$D$12516,0))","v":0.8202247191011236},{"$f":"INDEX($L$19:$L$12516,MATCH(FD1&FD2&FD3&FD9&FD12,$A$19:$A$12516&$H$19:$H$12516&$C$19:$C$12516&$E$19:$E$12516&$D$19:$D$12516,0))","v":0.78651685393258419},{"$f":"INDEX($L$19:$L$12516,MATCH(FD1&FD2&FD3&FD10&FD12,$A$19:$A$12516&$H$19:$H$12516&$C$19:$C$12516&$E$19:$E$12516&$D$19:$D$12516,0))","v":0.76404494382022481},null,"Polynom",null,null,null,null,null,null,null,null,null,null,null,null,null,null,null,"Korrekturfaktor\nsensible Leistung",{"$f":"INDEX($L$19:$L$12516,MATCH(GC1&GC2&GC3&GC4&GC12,$A$19:$A$12516&$H$19:$H$12516&$C$19:$C$12516&$E$19:$E$12516&$D$19:$D$12516,0))","v":1},{"$f":"INDEX($L$19:$L$12516,MATCH(GC1&GC2&GC3&GC5&GC12,$A$19:$A$12516&$H$19:$H$12516&$C$19:$C$12516&$E$19:$E$12516&$D$19:$D$12516,0))","v":0.89999999999999991},{"$f":"INDEX($L$19:$L$12516,MATCH(GC1&GC2&GC3&GC6&GC12,$A$19:$A$12516&$H$19:$H$12516&$C$19:$C$12516&$E$19:$E$12516&$D$19:$D$12516,0))","v":0.85454545454545439},{"$f":"INDEX($L$19:$L$12516,MATCH(GC1&GC2&GC3&GC7&GC12,$A$19:$A$12516&$H$19:$H$12516&$C$19:$C$12516&$E$19:$E$12516&$D$19:$D$12516,0))","v":0.80909090909090908},{"$f":"INDEX($L$19:$L$12516,MATCH(GC1&GC2&GC3&GC8&GC12,$A$19:$A$12516&$H$19:$H$12516&$C$19:$C$12516&$E$19:$E$12516&$D$19:$D$12516,0))","v":0.76363636363636356},{"$f":"INDEX($L$19:$L$12516,MATCH(GC1&GC2&GC3&GC9&GC12,$A$19:$A$12516&$H$19:$H$12516&$C$19:$C$12516&$E$19:$E$12516&$D$19:$D$12516,0))","v":0.72727272727272729},{"$f":"INDEX($L$19:$L$12516,MATCH(GC1&GC2&GC3&GC10&GC12,$A$19:$A$12516&$H$19:$H$12516&$C$19:$C$12516&$E$19:$E$12516&$D$19:$D$12516,0))","v":0.69090909090909081},null,"Polynom",null,null,null,null,null,null,null,null,null,null,null,null,null,null,null,null,"Korrekturfaktor\nsensible Leistung",{"$f":"INDEX($L$19:$L$12516,MATCH(HC1&HC2&HC3&HC4&HC12,$A$19:$A$12516&$H$19:$H$12516&$C$19:$C$12516&$E$19:$E$12516&$D$19:$D$12516,0))","v":1},{"$f":"INDEX($L$19:$L$12516,MATCH(HC1&HC2&HC3&HC5&HC12,$A$19:$A$12516&$H$19:$H$12516&$C$19:$C$12516&$E$19:$E$12516&$D$19:$D$12516,0))","v":0.88888888888888895},{"$f":"INDEX($L$19:$L$12516,MATCH(HC1&HC2&HC3&HC6&HC12,$A$19:$A$12516&$H$19:$H$12516&$C$19:$C$12516&$E$19:$E$12516&$D$19:$D$12516,0))","v":0.84126984126984128},{"$f":"INDEX($L$19:$L$12516,MATCH(HC1&HC2&HC3&HC7&HC12,$A$19:$A$12516&$H$19:$H$12516&$C$19:$C$12516&$E$19:$E$12516&$D$19:$D$12516,0))","v":0.7857142857142857},{"$f":"INDEX($L$19:$L$12516,MATCH(HC1&HC2&HC3&HC8&HC12,$A$19:$A$12516&$H$19:$H$12516&$C$19:$C$12516&$E$19:$E$12516&$D$19:$D$12516,0))","v":0.73015873015873023},{"$f":"INDEX($L$19:$L$12516,MATCH(HC1&HC2&HC3&HC9&HC12,$A$19:$A$12516&$H$19:$H$12516&$C$19:$C$12516&$E$19:$E$12516&$D$19:$D$12516,0))","v":0.68253968253968256},{"$f":"INDEX($L$19:$L$12516,MATCH(HC1&HC2&HC3&HC10&HC12,$A$19:$A$12516&$H$19:$H$12516&$C$19:$C$12516&$E$19:$E$12516&$D$19:$D$12516,0))","v":0.634920634920635},null,"Polynom",null,null,null,null,null,null,null,null,null,null,null,null,null,null,null,null,"Korrekturfaktor\nsensible Leistung",{"$f":"INDEX($L$19:$L$12516,MATCH(IC1&IC2&IC3&IC4&IC12,$A$19:$A$12516&$H$19:$H$12516&$C$19:$C$12516&$E$19:$E$12516&$D$19:$D$12516,0))","v":1},{"$f":"INDEX($L$19:$L$12516,MATCH(IC1&IC2&IC3&IC5&IC12,$A$19:$A$12516&$H$19:$H$12516&$C$19:$C$12516&$E$19:$E$12516&$D$19:$D$12516,0))","v":0.8848920863309353},{"$f":"INDEX($L$19:$L$12516,MATCH(IC1&IC2&IC3&IC6&IC12,$A$19:$A$12516&$H$19:$H$12516&$C$19:$C$12516&$E$19:$E$12516&$D$19:$D$12516,0))","v":0.82733812949640284},{"$f":"INDEX($L$19:$L$12516,MATCH(IC1&IC2&IC3&IC7&IC12,$A$19:$A$12516&$H$19:$H$12516&$C$19:$C$12516&$E$19:$E$12516&$D$19:$D$12516,0))","v":0.7697841726618706},{"$f":"INDEX($L$19:$L$12516,MATCH(IC1&IC2&IC3&IC8&IC12,$A$19:$A$12516&$H$19:$H$12516&$C$19:$C$12516&$E$19:$E$12516&$D$19:$D$12516,0))","v":0.71223021582733814},{"$f":"INDEX($L$19:$L$12516,MATCH(IC1&IC2&IC3&IC9&IC12,$A$19:$A$12516&$H$19:$H$12516&$C$19:$C$12516&$E$19:$E$12516&$D$19:$D$12516,0))","v":0.65467625899280579},{"$f":"INDEX($L$19:$L$12516,MATCH(IC1&IC2&IC3&IC10&IC12,$A$19:$A$12516&$H$19:$H$12516&$C$19:$C$12516&$E$19:$E$12516&$D$19:$D$12516,0))","v":0.60431654676258995},null,"Polynom",null,null,null,null,null,null,null,null,null,null,null,null,null,null,null,null,"Korrekturfaktor\nsensible Leistung",{"$f":"INDEX($L$19:$L$12516,MATCH(JC1&JC2&JC3&JC4&JC12,$A$19:$A$12516&$H$19:$H$12516&$C$19:$C$12516&$E$19:$E$12516&$D$19:$D$12516,0))","v":1},{"$f":"INDEX($L$19:$L$12516,MATCH(JC1&JC2&JC3&JC5&JC12,$A$19:$A$12516&$H$19:$H$12516&$C$19:$C$12516&$E$19:$E$12516&$D$19:$D$12516,0))","v":0.96721311475409832},{"$f":"INDEX($L$19:$L$12516,MATCH(JC1&JC2&JC3&JC6&JC12,$A$19:$A$12516&$H$19:$H$12516&$C$19:$C$12516&$E$19:$E$12516&$D$19:$D$12516,0))","v":0.95081967213114749},{"$f":"INDEX($L$19:$L$12516,MATCH(JC1&JC2&JC3&JC7&JC12,$A$19:$A$12516&$H$19:$H$12516&$C$19:$C$12516&$E$19:$E$12516&$D$19:$D$12516,0))","v":0.93442622950819665},{"$f":"INDEX($L$19:$L$12516,MATCH(JC1&JC2&JC3&JC8&JC12,$A$19:$A$12516&$H$19:$H$12516&$C$19:$C$12516&$E$19:$E$12516&$D$19:$D$12516,0))","v":0.93442622950819665},{"$f":"INDEX($L$19:$L$12516,MATCH(JC1&JC2&JC3&JC9&JC12,$A$19:$A$12516&$H$19:$H$12516&$C$19:$C$12516&$E$19:$E$12516&$D$19:$D$12516,0))","v":0.91803278688524603},{"$f":"INDEX($L$19:$L$12516,MATCH(JC1&JC2&JC3&JC10&JC12,$A$19:$A$12516&$H$19:$H$12516&$C$19:$C$12516&$E$19:$E$12516&$D$19:$D$12516,0))","v":0.90163934426229519},null,"Polynom",null,null,null,null,null,null,null,null,null,null,null,null,null,null,null,null,null,null,"Korrekturfaktor\nsensible Leistung",{"$f":"INDEX($L$19:$L$12516,MATCH(KE1&KE2&KE3&KE4&KE12,$A$19:$A$12516&$H$19:$H$12516&$C$19:$C$12516&$E$19:$E$12516&$D$19:$D$12516,0))","v":1},{"$f":"INDEX($L$19:$L$12516,MATCH(KE1&KE2&KE3&KE5&KE12,$A$19:$A$12516&$H$19:$H$12516&$C$19:$C$12516&$E$19:$E$12516&$D$19:$D$12516,0))","v":0.93478260869565211},{"$f":"INDEX($L$19:$L$12516,MATCH(KE1&KE2&KE3&KE6&KE12,$A$19:$A$12516&$H$19:$H$12516&$C$19:$C$12516&$E$19:$E$12516&$D$19:$D$12516,0))","v":0.91304347826086951},{"$f":"INDEX($L$19:$L$12516,MATCH(KE1&KE2&KE3&KE7&KE12,$A$19:$A$12516&$H$19:$H$12516&$C$19:$C$12516&$E$19:$E$12516&$D$19:$D$12516,0))","v":0.89130434782608692},{"$f":"INDEX($L$19:$L$12516,MATCH(KE1&KE2&KE3&KE8&KE12,$A$19:$A$12516&$H$19:$H$12516&$C$19:$C$12516&$E$19:$E$12516&$D$19:$D$12516,0))","v":0.86956521739130432},{"$f":"INDEX($L$19:$L$12516,MATCH(KE1&KE2&KE3&KE9&KE12,$A$19:$A$12516&$H$19:$H$12516&$C$19:$C$12516&$E$19:$E$12516&$D$19:$D$12516,0))","v":0.84782608695652173},{"$f":"INDEX($L$19:$L$12516,MATCH(KE1&KE2&KE3&KE10&KE12,$A$19:$A$12516&$H$19:$H$12516&$C$19:$C$12516&$E$19:$E$12516&$D$19:$D$12516,0))","v":0.82608695652173914},null,"Polynom",null,null,null,null,null,null,null,null,null,null,null,null,null,null,null,"Korrekturfaktor\nsensible Leistung",{"$f":"INDEX($L$19:$L$12516,MATCH(LD1&LD2&LD3&LD4&LD12,$A$19:$A$12516&$H$19:$H$12516&$C$19:$C$12516&$E$19:$E$12516&$D$19:$D$12516,0))","v":1},{"$f":"INDEX($L$19:$L$12516,MATCH(LD1&LD2&LD3&LD5&LD12,$A$19:$A$12516&$H$19:$H$12516&$C$19:$C$12516&$E$19:$E$12516&$D$19:$D$12516,0))","v":0.91379310344827602},{"$f":"INDEX($L$19:$L$12516,MATCH(LD1&LD2&LD3&LD6&LD12,$A$19:$A$12516&$H$19:$H$12516&$C$19:$C$12516&$E$19:$E$12516&$D$19:$D$12516,0))","v":0.8793103448275863},{"$f":"INDEX($L$19:$L$12516,MATCH(LD1&LD2&LD3&LD7&LD12,$A$19:$A$12516&$H$19:$H$12516&$C$19:$C$12516&$E$19:$E$12516&$D$19:$D$12516,0))","v":0.85344827586206906},{"$f":"INDEX($L$19:$L$12516,MATCH(LD1&LD2&LD3&LD8&LD12,$A$19:$A$12516&$H$19:$H$12516&$C$19:$C$12516&$E$19:$E$12516&$D$19:$D$12516,0))","v":0.81896551724137934},{"$f":"INDEX($L$19:$L$12516,MATCH(LD1&LD2&LD3&LD9&LD12,$A$19:$A$12516&$H$19:$H$12516&$C$19:$C$12516&$E$19:$E$12516&$D$19:$D$12516,0))","v":0.78448275862068972},{"$f":"INDEX($L$19:$L$12516,MATCH(LD1&LD2&LD3&LD10&LD12,$A$19:$A$12516&$H$19:$H$12516&$C$19:$C$12516&$E$19:$E$12516&$D$19:$D$12516,0))","v":0.75862068965517249},null,"Polynom",null,null,null,null,null,null,null,null,null,null,null,null,null,null,null,null,"Korrekturfaktor\nsensible Leistung",{"$f":"INDEX($L$19:$L$12516,MATCH(MD1&MD2&MD3&MD4&MD12,$A$19:$A$12516&$H$19:$H$12516&$C$19:$C$12516&$E$19:$E$12516&$D$19:$D$12516,0))","v":1},{"$f":"INDEX($L$19:$L$12516,MATCH(MD1&MD2&MD3&MD5&MD12,$A$19:$A$12516&$H$19:$H$12516&$C$19:$C$12516&$E$19:$E$12516&$D$19:$D$12516,0))","v":0.90370370370370368},{"$f":"INDEX($L$19:$L$12516,MATCH(MD1&MD2&MD3&MD6&MD12,$A$19:$A$12516&$H$19:$H$12516&$C$19:$C$12516&$E$19:$E$12516&$D$19:$D$12516,0))","v":0.85925925925925917},{"$f":"INDEX($L$19:$L$12516,MATCH(MD1&MD2&MD3&MD7&MD12,$A$19:$A$12516&$H$19:$H$12516&$C$19:$C$12516&$E$19:$E$12516&$D$19:$D$12516,0))","v":0.82222222222222219},{"$f":"INDEX($L$19:$L$12516,MATCH(MD1&MD2&MD3&MD8&MD12,$A$19:$A$12516&$H$19:$H$12516&$C$19:$C$12516&$E$19:$E$12516&$D$19:$D$12516,0))","v":0.78518518518518521},{"$f":"INDEX($L$19:$L$12516,MATCH(MD1&MD2&MD3&MD9&MD12,$A$19:$A$12516&$H$19:$H$12516&$C$19:$C$12516&$E$19:$E$12516&$D$19:$D$12516,0))","v":0.74814814814814812},{"$f":"INDEX($L$19:$L$12516,MATCH(MD1&MD2&MD3&MD10&MD12,$A$19:$A$12516&$H$19:$H$12516&$C$19:$C$12516&$E$19:$E$12516&$D$19:$D$12516,0))","v":0.71111111111111103},null,"Polynom",null,null,null,null,null,null,null,null,null,null,null,null,null,null,null,null,"Korrekturfaktor\nsensible Leistung",{"$f":"INDEX($L$19:$L$12516,MATCH(ND1&ND2&ND3&ND4&ND12,$A$19:$A$12516&$H$19:$H$12516&$C$19:$C$12516&$E$19:$E$12516&$D$19:$D$12516,0))","v":1},{"$f":"INDEX($L$19:$L$12516,MATCH(ND1&ND2&ND3&ND5&ND12,$A$19:$A$12516&$H$19:$H$12516&$C$19:$C$12516&$E$19:$E$12516&$D$19:$D$12516,0))","v":0.89333333333333342},{"$f":"INDEX($L$19:$L$12516,MATCH(ND1&ND2&ND3&ND6&ND12,$A$19:$A$12516&$H$19:$H$12516&$C$19:$C$12516&$E$19:$E$12516&$D$19:$D$12516,0))","v":0.85333333333333339},{"$f":"INDEX($L$19:$L$12516,MATCH(ND1&ND2&ND3&ND7&ND12,$A$19:$A$12516&$H$19:$H$12516&$C$19:$C$12516&$E$19:$E$12516&$D$19:$D$12516,0))","v":0.80666666666666664},{"$f":"INDEX($L$19:$L$12516,MATCH(ND1&ND2&ND3&ND8&ND12,$A$19:$A$12516&$H$19:$H$12516&$C$19:$C$12516&$E$19:$E$12516&$D$19:$D$12516,0))","v":0.7599999999999999},{"$f":"INDEX($L$19:$L$12516,MATCH(ND1&ND2&ND3&ND9&ND12,$A$19:$A$12516&$H$19:$H$12516&$C$19:$C$12516&$E$19:$E$12516&$D$19:$D$12516,0))","v":0.72000000000000008},{"$f":"INDEX($L$19:$L$12516,MATCH(ND1&ND2&ND3&ND10&ND12,$A$19:$A$12516&$H$19:$H$12516&$C$19:$C$12516&$E$19:$E$12516&$D$19:$D$12516,0))","v":0.68},null,"Polynom"]
[null,null,null,null,null,null,null,null,"x=rel.Feuchte y=Korrektur Total",{"$f":"LINEST(K6:K11,J6:J11^{0,1},0,0)","v":2.2538141470180306E-2},0.216308368007397,null,null,null,null,null,null,null,null,null,null,null,null,null,null,null,null,null,null,null,null,null,null,null,null,null,"x=rel.Feuchte y=Korrektur Total",{"$f":"LINEST(AM6:AM11,AL6:AL11^{0,1},0,0)","v":1.8876735897751011E-2},0.24791282618491656,null,null,null,null,null,null,null,null,null,null,null,null,null,null,null,null,null,null,null,null,null,null,"x=rel.Feuchte y=Korrektur Total",{"$f":"LINEST(BL6:BL11,BK6:BK11^{0,1},0,0)","v":1.740473953439816E-2},0.23842989873682041,null,null,null,null,null,null,null,null,null,null,null,null,null,null,null,null,null,null,null,null,null,null,null,"x=rel.Feuchte y=Korrektur Total",{"$f":"LINEST(CL6:CL11,CK6:CK11^{0,1},0,0)","v":1.6182486568008296E-2},0.24424042479655622,null,null,null,null,null,null,null,null,null,null,null,null,null,null,null,null,null,null,null,null,null,null,null,"x=rel.Feuchte y=Korrektur Total",{"$f":"LINEST(DL6:DL11,DK6:DK11^{0,1},0,0)","v":1.5016181229773464E-2},0.27168255634275035,null,null,null,null,null,null,null,null,null,null,null,null,null,null,null,null,null,null,null,null,null,null,"x=rel.Feuchte y=Korrektur Total",{"$f":"LINEST(EK6:EK11,EJ6:EJ11^{0,1},0,0)","v":2.4854368932038837E-2},0.2597518878101403,null,null,null,null,null,null,null,null,null,null,null,null,null,null,null,null,null,null,null,null,null,null,null,null,null,"x=rel.Feuchte y=Korrektur Total",{"$f":"LINEST(FM6:FM11,FL6:FL11^{0,1},0,0)","v":2.3615141267590269E-2},0.21216828478964411,null,null,null,null,null,null,null,null,null,null,null,null,null,null,null,null,null,null,null,null,null,null,"x=rel.Feuchte y=Korrektur Total",{"$f":"LINEST(GL6:GL11,GK6:GK11^{0,1},0,0)","v":2.1881729920564866E-2},0.24119917622830261,null,null,null,null,null,null,null,null,null,null,null,null,null,null,null,null,null,null,null,null,null,null,null,"x=rel.Feuchte y=Korrektur Total",{"$f":"LINEST(HL6:HL11,HK6:HK11^{0,1},0,0)","v":2.0921559562336274E-2},0.23812503210561312,null,null,null,null,null,null,null,null,null,null,null,null,null,null,null,null,null,null,null,null,null,null,null,"x=rel.Feuchte y=Korrektur Total",{"$f":"LINEST(IL6:IL11,IK6:IK11^{0,1},0,0)","v":1.9917580498707826E-2},0.2520844683476528,null,null,null,null,null,null,null,null,null,null,null,null,null,null,null,null,null,null,null,null,null,null,null,"x=rel.Feuchte y=Korrektur Total",{"$f":"LINEST(JL6:JL11,JK6:JK11^{0,1},0,0)","v":2.5611968804711123E-2},0.25106690010080124,null,null,null,null,null,null,null,null,null,null,null,null,null,null,null,null,null,null,null,null,null,null,null,null,null,"x=rel.Feuchte y=Korrektur Total",{"$f":"LINEST(KN6:KN11,KM6:KM11^{0,1},0,0)","v":2.4867032503165899E-2},0.22629520191360583,null,null,null,null,null,null,null,null,null,null,null,null,null,null,null,null,null,null,null,null,null,null,"x=rel.Feuchte y=Korrektur Total",{"$f":"LINEST(LM6:LM11,LL6:LL11^{0,1},0,0)","v":2.384332105791765E-2},0.22483651378194347,null,null,null,null,null,null,null,null,null,null,null,null,null,null,null,null,null,null,null,null,null,null,null,"x=rel.Feuchte y=Korrektur Total",{"$f":"LINEST(MM6:MM11,ML6:ML11^{0,1},0,0)","v":2.2975907946781733E-2},0.22876279515761663,null,null,null,null,null,null,null,null,null,null,null,null,null,null,null,null,null,null,null,null,null,null,null,"x=rel.Feuchte y=Korrektur Total",{"$f":"LINEST(NM6:NM11,NL6:NL11^{0,1},0,0)","v":2.2239482200647247E-2},0.2386796116504856]
[null,null,null,null,null,null,null,null,"exponent",2,1,0,0,null,null,null,null,null,null,null,null,null,null,null,null,null,null,null,null,null,null,null,null,null,null,null,null,2,1,0,0,null,null,null,null,null,null,null,null,null,null,null,null,null,null,null,null,null,null,null,null,null,2,1,0,0,null,null,null,null,null,null,null,null,null,null,null,null,null,null,null,null,null,null,null,null,null,null,2,1,0,0,null,null,null,null,null,null,null,null,null,null,null,null,null,null,null,null,null,null,null,null,null,null,2,1,0,0,null,null,null,null,null,null,null,null,null,null,null,null,null,null,null,null,null,null,null,null,"exponent",2,1,0,0,null,null,null,null,null,null,null,null,null,null,null,null,null,null,null,null,null,null,null,null,null,null,null,null,2,1,0,0,null,null,null,null,null,null,null,null,null,null,null,null,null,null,null,null,null,null,null,null,null,2,1,0,0,null,null,null,null,null,null,null,null,null,null,null,null,null,null,null,null,null,null,null,null,null,null,2,1,0,0,null,null,null,null,null,null,null,null,null,null,null,null,null,null,null,null,null,null,null,null,null,null,2,1,0,0,null,null,null,null,null,null,null,null,null,null,null,null,null,null,null,null,null,null,null,null,null,"exponent",2,1,0,0,null,null,null,null,null,null,null,null,null,null,null,null,null,null,null,null,null,null,null,null,null,null,null,null,2,1,0,0,null,null,null,null,null,null,null,null,null,null,null,null,null,null,null,null,null,null,null,null,null,2,1,0,0,null,null,null,null,null,null,null,null,null,null,null,null,null,null,null,null,null,null,null,null,null,null,2,1,0,0,null,null,null,null,null,null,null,null,null,null,null,null,null,null,null,null,null,null,null,null,null,null,2,1,0,0]
["Korrekturfaktor\n totale Leistung",{"$f":"IF(ISNA(B13),1,IF(J15*B11+K15<1,1,J15*B11+K15))","v":1.3432154415164121},{"$f":"IF(B17<1,1,B17)","v":1.3432154415164121},null,null,null,null,null,"x=rel.Feuchte y=Korrektur Sensibel",{"$f":"LINEST(M5:M11,L5:L11^{0,1,2},0,0)","v":1.7088059643294836E-5},-6.2962580038479236E-3,1.192953534108451,0,null,null,null,null,null,null,null,null,null,null,null,null,null,null,null,"Korrekturfaktor\n totale Leistung",{"$f":"IF(ISNA(AD13),1,IF(AL15*AD11+AM15<1,1,AL15*AD11+AM15))","v":1.1917496210724672},{"$f":"IF(AD17<1,1,AD17)","v":1.1917496210724672},null,null,null,null,null,"x=rel.Feuchte y=Korrektur Sensibel",{"$f":"LINEST(AO5:AO11,AN5:AN11^{0,1,2},0,0)","v":4.7484333287471252E-5},-1.3042971786372865E-2,1.4291560079014729,0,null,null,null,null,null,null,null,null,null,null,null,null,"Korrekturfaktor\n totale Leistung",{"$f":"IF(ISNA(BC13),1,IF(BK15*BC11+BL15<1,1,BK15*BC11+BL15))","v":1.1086668754567284},{"$f":"IF(BC17<1,1,BC17)","v":1.1086668754567284},null,null,null,null,null,"x=rel.Feuchte y=Korrektur Sensibel",{"$f":"LINEST(BN5:BN11,BM5:BM11^{0,1,2},0,0)","v":5.5658551163889392E-5},-1.5946356386014892E-2,1.5685616680884702,0,null,null,null,null,null,null,null,null,null,null,null,null,null,"Korrekturfaktor\n totale Leistung",{"$f":"IF(ISNA(CC13),1,IF(CK15*CC11+CL15<1,1,CK15*CC11+CL15))","v":1.053364753196971},{"$f":"IF(CC17<1,1,CC17)","v":1.053364753196971},null,null,null,null,null,"x=rel.Feuchte y=Korrektur Sensibel",{"$f":"LINEST(CN5:CN11,CM5:CM11^{0,1,2},0,0)","v":5.8127350372343586E-5},-1.7548538328179621E-2,1.6596060255181821,0,null,null,null,null,null,null,null,null,null,null,null,null,null,"Korrekturfaktor\n totale Leistung",{"$f":"IF(ISNA(DC13),1,IF(DK15*DC11+DL15<1,1,DK15*DC11+DL15))","v":1.0224916178314236},{"$f":"IF(DC17<1,1,DC17)","v":1.0224916178314236},null,null,null,null,null,"x=rel.Feuchte y=Korrektur Sensibel",{"$f":"LINEST(DN5:DN11,DM5:DM11^{0,1,2},0,0)","v":6.5313357077666985E-5},-1.952396607301567E-2,1.7570038315269885,0,null,null,null,null,null,null,null,null,null,null,null,null,"Korrekturfaktor\n totale Leistung",{"$f":"IF(ISNA(EB13),1,IF(EJ15*EB11+EK15<1,1,EJ15*EB11+EK15))","v":1.5024703344120822},{"$f":"IF(EB17<1,1,EB17)","v":1.5024703344120822},null,null,null,null,null,"x=rel.Feuchte y=Korrektur Sensibel",{"$f":"LINEST(EM5:EM11,EL5:EL11^{0,1,2},0,0)","v":6.762607242959087E-6},-2.7422912375214743E-3,1.0740345991748614,0,null,null,null,null,null,null,null,null,null,null,null,null,null,null,null,"Korrekturfaktor\n totale Leistung",{"$f":"IF(ISNA(FD13),1,IF(FL15*FD11+FM15<1,1,FL15*FD11+FM15))","v":1.3929253481691575},{"$f":"IF(FD17<1,1,FD17)","v":1.3929253481691575},null,null,null,null,null,"x=rel.Feuchte y=Korrektur Sensibel",{"$f":"LINEST(FO5:FO11,FN5:FN11^{0,1,2},0,0)","v":1.6936191268482594E-5},-5.7393186664277179E-3,1.1677404557108948,0,null,null,null,null,null,null,null,null,null,null,null,null,"Korrekturfaktor\n totale Leistung",{"$f":"IF(ISNA(GC13),1,IF(GK15*GC11+GL15<1,1,GK15*GC11+GL15))","v":1.3352856722565458},{"$f":"IF(GC17<1,1,GC17)","v":1.3352856722565458},null,null,null,null,null,"x=rel.Feuchte y=Korrektur Sensibel",{"$f":"LINEST(GN5:GN11,GM5:GM11^{0,1,2},0,0)","v":2.3599524727176568E-5},-7.8650567602350733E-3,1.2411630349552163,0,null,null,null,null,null,null,null,null,null,null,null,null,null,"Korrekturfaktor\n totale Leistung",{"$f":"IF(ISNA(HC13),1,IF(HK15*HC11+HL15<1,1,HK15*HC11+HL15))","v":1.2842030102224269},{"$f":"IF(HC17<1,1,HC17)","v":1.2842030102224269},null,null,null,null,null,"x=rel.Feuchte y=Korrektur Sensibel",{"$f":"LINEST(HN5:HN11,HM5:HM11^{0,1,2},0,0)","v":2.233957465749411E-5},-8.6936693933170207E-3,1.2807590800424855,0,null,null,null,null,null,null,null,null,null,null,null,null,null,"Korrekturfaktor\n totale Leistung",{"$f":"IF(ISNA(IC13),1,IF(IK15*IC11+IL15<1,1,IK15*IC11+IL15))","v":1.2479634932830441},{"$f":"IF(IC17<1,1,IC17)","v":1.2479634932830441},null,null,null,null,null,"x=rel.Feuchte y=Korrektur Sensibel",{"$f":"LINEST(IN5:IN11,IM5:IM11^{0,1,2},0,0)","v":2.6216556091632534E-5},-9.8155925361603415E-3,1.3237990173997669,0,null,null,null,null,null,null,null,null,null,null,null,null,null,"Korrekturfaktor\n totale Leistung",{"$f":"IF(ISNA(JC13),1,IF(JK15*JC11+JL15<1,1,JK15*JC11+JL15))","v":1.5316653403363574},{"$f":"IF(JC17<1,1,JC17)","v":1.5316653403363574},null,null,null,null,null,"x=rel.Feuchte y=Korrektur Sensibel",{"$f":"LINEST(JN5:JN11,JM5:JM11^{0,1,2},0,0)","v":4.0227308556260626E-6},-1.8583686534436204E-3,1.0499807644517438,0,null,null,null,null,null,null,null,null,null,null,null,null,null,null,null,"Korrekturfaktor\n totale Leistung",{"$f":"IF(ISNA(KE13),1,IF(KM15*KE11+KN15<1,1,KM15*KE11+KN15))","v":1.4696468270719008},{"$f":"IF(KE17<1,1,KE17)","v":1.4696468270719008},null,null,null,null,null,"x=rel.Feuchte y=Korrektur Sensibel",{"$f":"LINEST(KP5:KP11,KO5:KO11^{0,1,2},0,0)","v":1.0617229495755245E-5},-3.8569521796117355E-3,1.1070445550841448,0,null,null,null,null,null,null,null,null,null,null,null,null,"Korrekturfaktor\n totale Leistung",{"$f":"IF(ISNA(LD13),1,IF(LL15*LD11+LM15<1,1,LL15*LD11+LM15))","v":1.4170025666778261},{"$f":"IF(LD17<1,1,LD17)","v":1.4170025666778261},null,null,null,null,null,"x=rel.Feuchte y=Korrektur Sensibel",{"$f":"LINEST(LO5:LO11,LN5:LN11^{0,1,2},0,0)","v":1.511611582494799E-5},-5.5227246092596372E-3,1.1597550718417768,0,null,null,null,null,null,null,null,null,null,null,null,null,null,"Korrekturfaktor\n totale Leistung",{"$f":"IF(ISNA(MD13),1,IF(ML15*MD11+MM15<1,1,ML15*MD11+MM15))","v":1.3775581924967033},{"$f":"IF(MD17<1,1,MD17)","v":1.3775581924967033},null,null,null,null,null,"x=rel.Feuchte y=Korrektur Sensibel",{"$f":"LINEST(MO5:MO11,MN5:MN11^{0,1,2},0,0)","v":1.9445120420647884E-5},-6.8583286849878211E-3,1.2044131627135035,0,null,null,null,null,null,null,null,null,null,null,null,null,null,"Korrekturfaktor\n totale Leistung",{"$f":"IF(ISNA(ND13),1,IF(NL15*ND11+NM15<1,1,NL15*ND11+NM15))","v":1.350653721682848},{"$f":"IF(ND17<1,1,ND17)","v":1.350653721682848},null,null,null,null,null,"x=rel.Feuchte y=Korrektur Sensibel",{"$f":"LINEST(NO5:NO11,NN5:NN11^{0,1,2},0,0)","v":1.9524501248441464E-5},-7.4112983274946748E-3,1.226086413974085,0]
["Korrekturfaktor\nsensible Leistung",{"$f":"IF(ISNA(B14),1,IF(J17*B11^J16+K17*B11^K16+L17*B11^L16+M17>1,1,J17*B11^J16+K17*B11^K16+L17*B11^L16+M17))","v":0.92086078302429186},{"$f":"IF(OR(B18>1,B17=1),1,B18)","v":0.92086078302429186},"wenn B17 größer 1 oder \nB16 =1 dann C17 = 1 sonst B17",null,null,null,null,"x=KorrekturTotal; y=rel.Feuchte",{"$f":"LINEST(J6:J11,K6:K11^{0,1},0,0)","v":44.361390965225866},-9.5822229444263733,null,null,null,null,null,null,null,null,null,null,null,null,null,null,null,null,null,"Korrekturfaktor\nsensible Leistung",{"$f":"IF(ISNA(AD14),1,IF(AL17*AD11^AL16+AM17*AD11^AM16+AN17*AD11^AN16+AO17>1,1,AL17*AD11^AL16+AM17*AD11^AM16+AN17*AD11^AN16+AO17))","v":0.89571825180150777},{"$f":"IF(OR(AD18>1,AD17=1),1,AD18)","v":0.89571825180150777},"wenn B17 größer 1 oder \nB16 =1 dann C17 = 1 sonst B17",null,null,null,null,"x=KorrekturTotal; y=rel.Feuchte",{"$f":"LINEST(AL6:AL11,AM6:AM11^{0,1},0,0)","v":52.97322467986033},-13.129802095459874,null,null,null,null,null,null,null,null,null,null,null,null,null,null,"Korrekturfaktor\nsensible Leistung",{"$f":"IF(ISNA(BC14),1,IF(BK17*BC11^BK16+BL17*BC11^BL16+BM17*BC11^BM16+BN17>1,1,BK17*BC11^BK16+BL17*BC11^BL16+BM17*BC11^BM16+BN17))","v":0.91039022669744907},{"$f":"IF(OR(BC18>1,BC17=1),1,BC18)","v":0.91039022669744907},"wenn B17 größer 1 oder \nB16 =1 dann C17 = 1 sonst B17",null,null,null,null,"x=KorrekturTotal; y=rel.Feuchte",{"$f":"LINEST(BK6:BK11,BL6:BL11^{0,1},0,0)","v":57.442797866034397},-13.679016004742174,null,null,null,null,null,null,null,null,null,null,null,null,null,null,null,"Korrekturfaktor\nsensible Leistung",{"$f":"IF(ISNA(CC14),1,IF(CK17*CC11^CK16+CL17*CC11^CL16+CM17*CC11^CM16+CN17>1,1,CK17*CC11^CK16+CL17*CC11^CL16+CM17*CC11^CM16+CN17))","v":0.92749748504006002},{"$f":"IF(OR(CC18>1,CC17=1),1,CC18)","v":0.92749748504006002},"wenn B17 größer 1 oder \nB16 =1 dann C17 = 1 sonst B17",null,null,null,null,"x=KorrekturTotal; y=rel.Feuchte",{"$f":"LINEST(CK6:CK11,CL6:CL11^{0,1},0,0)","v":61.788483041371599},-15.082929556466651,null,null,null,null,null,null,null,null,null,null,null,null,null,null,null,"Korrekturfaktor\nsensible Leistung",{"$f":"IF(ISNA(DC14),1,IF(DK17*DC11^DK16+DL17*DC11^DL16+DM17*DC11^DM16+DN17>1,1,DK17*DC11^DK16+DL17*DC11^DL16+DM17*DC11^DM16+DN17))","v":0.94408892057037241},{"$f":"IF(OR(DC18>1,DC17=1),1,DC18)","v":0.94408892057037241},"wenn B17 größer 1 oder \nB16 =1 dann C17 = 1 sonst B17",null,null,null,null,"x=KorrekturTotal; y=rel.Feuchte",{"$f":"LINEST(DK6:DK11,DL6:DL11^{0,1},0,0)","v":66.587588520313119},-18.082370480805139,null,null,null,null,null,null,null,null,null,null,null,null,null,null,"Korrekturfaktor\nsensible Leistung",{"$f":"IF(ISNA(EB14),1,IF(EJ17*EB11^EJ16+EK17*EB11^EK16+EL17*EB11^EL16+EM17>1,1,EJ17*EB11^EJ16+EK17*EB11^EK16+EL17*EB11^EL16+EM17))","v":0.95382655540618544},{"$f":"IF(OR(EB18>1,EB17=1),1,EB18)","v":0.95382655540618544},"wenn B17 größer 1 oder \nB16 =1 dann C17 = 1 sonst B17",null,null,null,null,"x=KorrekturTotal; y=rel.Feuchte",{"$f":"LINEST(EJ6:EJ11,EK6:EK11^{0,1},0,0)","v":40.23282887077999},-10.447613504074548,null,null,null,null,null,null,null,null,null,null,null,null,null,null,null,null,null,"Korrekturfaktor\nsensible Leistung",{"$f":"IF(ISNA(FD14),1,IF(FL17*FD11^FL16+FM17*FD11^FM16+FN17*FD11^FN16+FO17>1,1,FL17*FD11^FL16+FM17*FD11^FM16+FN17*FD11^FN16+FO17))","v":0.92311500056071538},{"$f":"IF(OR(FD18>1,FD17=1),1,FD18)","v":0.92311500056071538},"wenn B17 größer 1 oder \nB16 =1 dann C17 = 1 sonst B17",null,null,null,null,"x=KorrekturTotal; y=rel.Feuchte",{"$f":"LINEST(FL6:FL11,FM6:FM11^{0,1},0,0)","v":42.345680459500663},-8.9843511897785167,null,null,null,null,null,null,null,null,null,null,null,null,null,null,"Korrekturfaktor\nsensible Leistung",{"$f":"IF(ISNA(GC14),1,IF(GK17*GC11^GK16+GL17*GC11^GL16+GM17*GC11^GM16+GN17>1,1,GK17*GC11^GK16+GL17*GC11^GL16+GM17*GC11^GM16+GN17))","v":0.90690900876140401},{"$f":"IF(OR(GC18>1,GC17=1),1,GC18)","v":0.90690900876140401},"wenn B17 größer 1 oder \nB16 =1 dann C17 = 1 sonst B17",null,null,null,null,"x=KorrekturTotal; y=rel.Feuchte",{"$f":"LINEST(GK6:GK11,GL6:GL11^{0,1},0,0)","v":45.69979444096883},-11.022030565734219,null,null,null,null,null,null,null,null,null,null,null,null,null,null,null,"Korrekturfaktor\nsensible Leistung",{"$f":"IF(ISNA(HC14),1,IF(HK17*HC11^HK16+HL17*HC11^HL16+HM17*HC11^HM16+HN17>1,1,HK17*HC11^HK16+HL17*HC11^HL16+HM17*HC11^HM16+HN17))","v":0.90192454702036973},{"$f":"IF(OR(HC18>1,HC17=1),1,HC18)","v":0.90192454702036973},"wenn B17 größer 1 oder \nB16 =1 dann C17 = 1 sonst B17",null,null,null,null,"x=KorrekturTotal; y=rel.Feuchte",{"$f":"LINEST(HK6:HK11,HL6:HL11^{0,1},0,0)","v":47.795693316444371},-11.378325013039287,null,null,null,null,null,null,null,null,null,null,null,null,null,null,null,"Korrekturfaktor\nsensible Leistung",{"$f":"IF(ISNA(IC14),1,IF(IK17*IC11^IK16+IL17*IC11^IL16+IM17*IC11^IM16+IN17>1,1,IK17*IC11^IK16+IL17*IC11^IL16+IM17*IC11^IM16+IN17))","v":0.89856078082083113},{"$f":"IF(OR(IC18>1,IC17=1),1,IC18)","v":0.89856078082083113},"wenn B17 größer 1 oder \nB16 =1 dann C17 = 1 sonst B17",null,null,null,null,"x=KorrekturTotal; y=rel.Feuchte",{"$f":"LINEST(IK6:IK11,IL6:IL11^{0,1},0,0)","v":50.205073210274769},-12.653133602418384,null,null,null,null,null,null,null,null,null,null,null,null,null,null,null,"Korrekturfaktor\nsensible Leistung",{"$f":"IF(ISNA(JC14),1,IF(JK17*JC11^JK16+JL17*JC11^JL16+JM17*JC11^JM16+JN17>1,1,JK17*JC11^JK16+JL17*JC11^JL16+JM17*JC11^JM16+JN17))","v":0.96711915891862799},{"$f":"IF(OR(JC18>1,JC17=1),1,JC18)","v":0.96711915891862799},"wenn B17 größer 1 oder \nB16 =1 dann C17 = 1 sonst B17",null,null,null,null,"x=KorrekturTotal; y=rel.Feuchte",{"$f":"LINEST(JK6:JK11,JL6:JL11^{0,1},0,0)","v":39.041682133955547},-9.7970514928142762,null,null,null,null,null,null,null,null,null,null,null,null,null,null,null,null,null,"Korrekturfaktor\nsensible Leistung",{"$f":"IF(ISNA(KE14),1,IF(KM17*KE11^KM16+KN17*KE11^KN16+KO17*KE11^KO16+KP17>1,1,KM17*KE11^KM16+KN17*KE11^KN16+KO17*KE11^KO16+KP17))","v":0.94074001984294608},{"$f":"IF(OR(KE18>1,KE17=1),1,KE18)","v":0.94074001984294608},"wenn B17 größer 1 oder \nB16 =1 dann C17 = 1 sonst B17",null,null,null,null,"x=KorrekturTotal; y=rel.Feuchte",{"$f":"LINEST(KM6:KM11,KN6:KN11^{0,1},0,0)","v":40.212598619939172},-9.0974698884574856,null,null,null,null,null,null,null,null,null,null,null,null,null,null,"Korrekturfaktor\nsensible Leistung",{"$f":"IF(ISNA(LD14),1,IF(LL17*LD11^LL16+LM17*LD11^LM16+LN17*LD11^LN16+LO17>1,1,LL17*LD11^LL16+LM17*LD11^LM16+LN17*LD11^LN16+LO17))","v":0.92140913094116494},{"$f":"IF(OR(LD18>1,LD17=1),1,LD18)","v":0.92140913094116494},"wenn B17 größer 1 oder \nB16 =1 dann C17 = 1 sonst B17",null,null,null,null,"x=KorrekturTotal; y=rel.Feuchte",{"$f":"LINEST(LL6:LL11,LM6:LM11^{0,1},0,0)","v":41.939488290239581},-9.4277446866115469,null,null,null,null,null,null,null,null,null,null,null,null,null,null,null,"Korrekturfaktor\nsensible Leistung",{"$f":"IF(ISNA(MD14),1,IF(ML17*MD11^ML16+MM17*MD11^MM16+MN17*MD11^MN16+MO17>1,1,ML17*MD11^ML16+MM17*MD11^MM16+MN17*MD11^MN16+MO17))","v":0.91010952951573221},{"$f":"IF(OR(MD18>1,MD17=1),1,MD18)","v":0.91010952951573221},"wenn B17 größer 1 oder \nB16 =1 dann C17 = 1 sonst B17",null,null,null,null,"x=KorrekturTotal; y=rel.Feuchte",{"$f":"LINEST(ML6:ML11,MM6:MM11^{0,1},0,0)","v":43.523835793382752},-9.9566071500652296,null,null,null,null,null,null,null,null,null,null,null,null,null,null,null,"Korrekturfaktor\nsensible Leistung",{"$f":"IF(ISNA(ND14),1,IF(NL17*ND11^NL16+NM17*ND11^NM16+NN17*ND11^NN16+NO17>1,1,NL17*ND11^NL16+NM17*ND11^NM16+NN17*ND11^NN16+NO17))","v":0.90433275072045494},{"$f":"IF(OR(ND18>1,ND17=1),1,ND18)","v":0.90433275072045494},"wenn B17 größer 1 oder \nB16 =1 dann C17 = 1 sonst B17",null,null,null,null,"x=KorrekturTotal; y=rel.Feuchte",{"$f":"LINEST(NL6:NL11,NM6:NM11^{0,1},0,0)","v":44.964405360134016},-10.730946398660011]
[]
[]
["TWI [°C]","TWO [°C]","QA [m³/h]","TAI [°C]","UR [%]","PT [kW]","PS [kW]","m [kg/h]","Kondensat ja/nein","Total Basis (trocken)","Faktor Total","Faktor Sensibel"]
[3,7.4,100,21,1,0.51,0.51,100,{"$f":"IF(F22<>G22,1,0)","v":0},{"$f":"IF(F22/G22=1,F22,J21)","v":0.51},{"$f":"F22/J22","v":1},{"$f":"G22/J22","v":1},null,"Volumenstrom","Korrekturfaktor\n totale Leistung","Korrekturfaktor\nsensible Leistung","Koeffizienten \nTotal","exponent","Koeffizienten \nSensibel","exponent",null,null,null,null,null,null,null,null,null,null,null,null,null,null,null,null,null,null,null,null,null,null,null,null,null,null,null,null,null,null,null,null,null,null,null,null,null,null,null,null,null,null,null,null,null,null,null,null,null,null,null,null,null,null,null,null,null,null,null,null,null,null,null,null,null,null,null,null,null,null,null,null,null,null,null,null,null,null,null,null,null,null,null,null,null,null,null,null,null,null,null,null,null,null,null,null,null,null,null,null,null,null,null,null,null,null,null,null,null,null,null,null,null,null,null,null,null,null,null,null,null,null,null,"Volumenstrom","Korrekturfaktor\n totale Leistung","Korrekturfaktor\nsensible Leistung","Koeffizienten \nTotal","exponent","Koeffizienten \nSensibel","exponent",null,null,null,null,null,null,null,null,null,null,null,null,null,null,null,null,null,null,null,null,null,null,null,null,null,null,null,null,null,null,null,null,null,null,null,null,null,null,null,null,null,null,null,null,null,null,null,null,null,null,null,null,null,null,null,null,null,null,null,null,null,null,null,null,null,null,null,null,null,null,null,null,null,null,null,null,null,null,null,null,null,null,null,null,null,null,null,null,null,null,null,null,null,null,null,null,null,null,null,null,null,null,null,null,null,null,null,null,null,null,null,null,null,null,null,null,null,null,null,null,null,null,null,null,"Volumenstrom","Korrekturfaktor\n totale Leistung","Korrekturfaktor\nsensible Leistung","Koeffizienten \nTotal","exponent","Koeffizienten \nSensibel","exponent"]
[3,8.3000000000000007,100,21,50,0.62,0.47,100,1,{"$f":"IF(F23/G23=1,F23,J22)","v":0.51},1.2156862745098038,{"$f":"G23/J23","v":0.92156862745098034},null,{"$f":"B3","v":100},{"$f":"C17","v":1.3432154415164121},{"$f":"C18","v":0.92086078302429186},{"$f":"TRANSPOSE(LINEST(O23:O27,N23:N27^{0,1,2,3},0,0))","v":-1.0678835746840889E-8},3,{"$f":"TRANSPOSE(LINEST(P23:P27,N23:N27^{0,1,2,3},0,0))","v":-9.7984278258078119E-9},3,"a",null,null,null,null,null,null,null,null,null,null,null,null,null,null,null,null,null,null,null,null,null,null,null,null,null,null,null,null,null,null,null,null,null,null,null,null,null,null,null,null,null,null,null,null,null,null,null,null,null,null,null,null,null,null,null,null,null,null,null,null,null,null,null,null,null,null,null,null,null,null,null,null,null,null,null,null,null,null,null,null,null,null,null,null,null,null,null,null,null,null,null,null,null,null,null,null,null,null,null,null,null,null,null,null,null,null,null,null,null,null,null,null,null,null,null,null,null,null,null,null,null,null,{"$f":"EB3","v":100},{"$f":"EC17","v":1.5024703344120822},{"$f":"EC18","v":0.95382655540618544},{"$f":"TRANSPOSE(LINEST(EO23:EO27,EN23:EN27^{0,1,2,3},0,0))","v":-9.0044133225407264E-9},3,{"$f":"TRANSPOSE(LINEST(EP23:EP27,EN23:EN27^{0,1,2,3},0,0))","v":-3.1304342819882547E-9},3,"a",null,null,null,null,null,null,null,null,null,null,null,null,null,null,null,null,null,null,null,null,null,null,null,null,null,null,null,null,null,null,null,null,null,null,null,null,null,null,null,null,null,null,null,null,null,null,null,null,null,null,null,null,null,null,null,null,null,null,null,null,null,null,null,null,null,null,null,null,null,null,null,null,null,null,null,null,null,null,null,null,null,null,null,null,null,null,null,null,null,null,null,null,null,null,null,null,null,null,null,null,null,null,null,null,null,null,null,null,null,null,null,null,null,null,null,null,null,null,null,null,null,null,null,{"$f":"JC3","v":100},{"$f":"JD17","v":1.5316653403363574},{"$f":"JD18","v":0.96711915891862799},{"$f":"TRANSPOSE(LINEST(JP23:JP27,JO23:JO27^{0,1,2,3},0,0))","v":7.6910847834904169E-10},3,{"$f":"TRANSPOSE(LINEST(JQ23:JQ27,JO23:JO27^{0,1,2,3},0,0))","v":-3.7060921859710588E-10},3,"a"]
[3,9.1,100,21,60,0.72,0.45,100,1,{"$f":"IF(F24/G24=1,F24,J23)","v":0.51},1.4117647058823528,0.88235294117647056,null,{"$f":"AD3","v":170},{"$f":"AE17","v":1.1917496210724672},{"$f":"AE18","v":0.89571825180150777},1.1609548815171165E-5,2,8.3071015178594961E-6,2,"b",null,null,null,null,null,null,null,null,null,null,null,null,null,null,null,null,null,null,null,null,null,null,null,null,null,null,null,null,null,null,null,null,null,null,null,null,null,null,null,null,null,null,null,null,null,null,null,null,null,null,null,null,null,null,null,null,null,null,null,null,null,null,null,null,null,null,null,null,null,null,null,null,null,null,null,null,null,null,null,null,null,null,null,null,null,null,null,null,null,null,null,null,null,null,null,null,null,null,null,null,null,null,null,null,null,null,null,null,null,null,null,null,null,null,null,null,null,null,null,null,null,null,{"$f":"FD3","v":170},{"$f":"FE17","v":1.3929253481691575},{"$f":"FE18","v":0.92311500056071538},8.7159465788995177E-6,2,3.2148034607303579E-6,2,"b",null,null,null,null,null,null,null,null,null,null,null,null,null,null,null,null,null,null,null,null,null,null,null,null,null,null,null,null,null,null,null,null,null,null,null,null,null,null,null,null,null,null,null,null,null,null,null,null,null,null,null,null,null,null,null,null,null,null,null,null,null,null,null,null,null,null,null,null,null,null,null,null,null,null,null,null,null,null,null,null,null,null,null,null,null,null,null,null,null,null,null,null,null,null,null,null,null,null,null,null,null,null,null,null,null,null,null,null,null,null,null,null,null,null,null,null,null,null,null,null,null,null,null,{"$f":"KE3","v":170},{"$f":"KF17","v":1.4696468270719008},{"$f":"KF18","v":0.94074001984294608},6.62393078010759E-7,2,9.8456470207147765E-7,2,"b"]
[3,10,100,21,70,0.81,0.44,100,1,{"$f":"IF(F25/G25=1,F25,J24)","v":0.51},1.5882352941176472,0.86274509803921573,null,{"$f":"BC3","v":240},{"$f":"BD17","v":1.1086668754567284},{"$f":"BD18","v":0.91039022669744907},-4.663417661036365E-3,1,-2.0192335807939932E-3,1,"c",null,null,null,null,null,null,null,null,null,null,null,null,null,null,null,null,null,null,null,null,null,null,null,null,null,null,null,null,null,null,null,null,null,null,null,null,null,null,null,null,null,null,null,null,null,null,null,null,null,null,null,null,null,null,null,null,null,null,null,null,null,null,null,null,null,null,null,null,null,null,null,null,null,null,null,null,null,null,null,null,null,null,null,null,null,null,null,null,null,null,null,null,null,null,null,null,null,null,null,null,null,null,null,null,null,null,null,null,null,null,null,null,null,null,null,null,null,null,null,null,null,null,{"$f":"GC3","v":240},{"$f":"GD17","v":1.3352856722565458},{"$f":"GD18","v":0.90690900876140401},-3.3601582386472133E-3,1,-1.1381878716723E-3,1,"c",null,null,null,null,null,null,null,null,null,null,null,null,null,null,null,null,null,null,null,null,null,null,null,null,null,null,null,null,null,null,null,null,null,null,null,null,null,null,null,null,null,null,null,null,null,null,null,null,null,null,null,null,null,null,null,null,null,null,null,null,null,null,null,null,null,null,null,null,null,null,null,null,null,null,null,null,null,null,null,null,null,null,null,null,null,null,null,null,null,null,null,null,null,null,null,null,null,null,null,null,null,null,null,null,null,null,null,null,null,null,null,null,null,null,null,null,null,null,null,null,null,null,null,{"$f":"LD3","v":240},{"$f":"LE17","v":1.4170025666778261},{"$f":"LE18","v":0.92140913094116494},-1.1123952152991973E-3,1,-6.2552301547255922E-4,1,"c"]
[3,10.8,100,21,80,0.91,0.42,100,1,0.51,1.7843137254901962,0.82352941176470584,null,{"$f":"CC3","v":310},{"$f":"CD17","v":1.053364753196971},{"$f":"CD18","v":0.92749748504006002},1.7036084007150296,0,1.049019723516432,0,"d",null,null,null,null,null,null,null,null,null,null,null,null,null,null,null,null,null,null,null,null,null,null,null,null,null,null,null,null,null,null,null,null,null,null,null,null,null,null,null,null,null,null,null,null,null,null,null,null,null,null,null,null,null,null,null,null,null,null,null,null,null,null,null,null,null,null,null,null,null,null,null,null,null,null,null,null,null,null,null,null,null,null,null,null,null,null,null,null,null,null,null,null,null,null,null,null,null,null,null,null,null,null,null,null,null,null,null,null,null,null,null,null,null,null,null,null,null,null,null,null,null,null,{"$f":"HC3","v":310},{"$f":"HD17","v":1.2842030102224269},{"$f":"HD18","v":0.90192454702036973},1.7595648997008055,0,1.0387179822699419,0,"d",null,null,null,null,null,null,null,null,null,null,null,null,null,null,null,null,null,null,null,null,null,null,null,null,null,null,null,null,null,null,null,null,null,null,null,null,null,null,null,null,null,null,null,null,null,null,null,null,null,null,null,null,null,null,null,null,null,null,null,null,null,null,null,null,null,null,null,null,null,null,null,null,null,null,null,null,null,null,null,null,null,null,null,null,null,null,null,null,null,null,null,null,null,null,null,null,null,null,null,null,null,null,null,null,null,null,null,null,null,null,null,null,null,null,null,null,null,null,null,null,null,null,null,{"$f":"MD3","v":310},{"$f":"ME17","v":1.3775581924967033},{"$f":"ME18","v":0.91010952951573221},1.6355759028390815,0,1.0202463012658893,0,"d"]
[3,11.6,100,21,90,1,0.41,100,1,0.51,1.9607843137254901,0.8039215686274509,null,{"$f":"DC3","v":380},{"$f":"DD17","v":1.0224916178314236},{"$f":"DD18","v":0.94408892057037241},0,0,0,0,"e",null,null,null,null,null,null,null,null,null,null,null,null,null,null,null,null,null,null,null,null,null,null,null,null,null,null,null,null,null,null,null,null,null,null,null,null,null,null,null,null,null,null,null,null,null,null,null,null,null,null,null,null,null,null,null,null,null,null,null,null,null,null,null,null,null,null,null,null,null,null,null,null,null,null,null,null,null,null,null,null,null,null,null,null,null,null,null,null,null,null,null,null,null,null,null,null,null,null,null,null,null,null,null,null,null,null,null,null,null,null,null,null,null,null,null,null,null,null,null,null,null,null,{"$f":"IC3","v":380},{"$f":"ID17","v":1.2479634932830441},{"$f":"ID18","v":0.89856078082083113},0,0,0,0,"e",null,null,null,null,null,null,null,null,null,null,null,null,null,null,null,null,null,null,null,null,null,null,null,null,null,null,null,null,null,null,null,null,null,null,null,null,null,null,null,null,null,null,null,null,null,null,null,null,null,null,null,null,null,null,null,null,null,null,null,null,null,null,null,null,null,null,null,null,null,null,null,null,null,null,null,null,null,null,null,null,null,null,null,null,null,null,null,null,null,null,null,null,null,null,null,null,null,null,null,null,null,null,null,null,null,null,null,null,null,null,null,null,null,null,null,null,null,null,null,null,null,null,null,{"$f":"ND3","v":380},{"$f":"NE17","v":1.350653721682848},{"$f":"NE18","v":0.90433275072045494},0,0,0,0,"e"]
[3,12.3,100,21,99,1.0900000000000001,0.39,100,1,{"$f":"IF(F28/G28=1,F28,J27)","v":0.51},2.1372549019607843,0.76470588235294124]
[3,5.3,100,21,1,0.55000000000000004,0.55000000000000004,200,0,0.55000000000000004,1,1,null,null,null,null,null,null,null,null,null,null,null,"Wassermassenstrom wk","Korrektur"]
[3,6.2,100,21,50,0.74,0.52,200,1,0.55000000000000004,{"$f":"F30/J30","v":1.3454545454545452},0.94545454545454544,null,null,null,null,null,null,null,null,null,null,null,null,"Total","Total","Total","Sensibel","Sensibel","Sensibel","Koeffizienten Total",null,null,"Korrektur Total \nbei wk","Koeffizienten Total",null,null,"Korrektur Sensibel\nbei wk"]
[3,6.6,100,21,60,0.85,0.52,200,1,{"$f":"IF(F31/G31=1,F31,J30)","v":0.55000000000000004},{"$f":"F31/J31","v":1.5454545454545452},0.94545454545454544,null,"x = Volumenstrom",null,null,"y = Total",null,"y = Sensibel",null,null,null,null,null,{"$f":"I2","v":100},{"$f":"I3","v":200},{"$f":"I4","v":300},{"$f":"I2","v":100},{"$f":"I3","v":200},{"$f":"I4","v":300},null,null,null,null,null,null,null,null,null,null,null,null,null,null,null,null,null,null,null,null,null,null,null,null,null,null,null,null,null,null,null,null,null,null,null,null,null,null,null,null,null,null,null,null,null,null,null,null,null,null,null,null,null,null,null,null,null,null,null,null,null,null,null,null,null,null,null,null,null,null,null,null,null,null,null,null,null,null,null,null,null,null,null,null,null,null,null,null,null,null,null,null,null,null,null,null,null,null,null,null,null,null,null,null,null,null,null,null,null,null,null,null,null,"x = Volumenstrom",null,null,"y = Total",null,"y = Sensibel",null,null,null,null,null,null,null,null,null,null,null,null,null,null,null,null,null,null,null,null,null,null,null,null,null,null,null,null,null,null,null,null,null,null,null,null,null,null,null,null,null,null,null,null,null,null,null,null,null,null,null,null,null,null,null,null,null,null,null,null,null,null,null,null,null,null,null,null,null,null,null,null,null,null,null,null,null,null,null,null,null,null,null,null,null,null,null,null,null,null,null,null,null,null,null,null,null,null,null,null,null,null,null,null,null,null,null,null,null,null,null,null,null,null,null,null,null,null,null,null,null,null,null,null,null,"x = Volumenstrom",null,null,"y = Total",null,"y = Sensibel"]
[3,7.1,100,21,70,0.96,0.51,200,1,0.55000000000000004,{"$f":"F32/J32","v":1.7454545454545451},0.92727272727272725,null,{"$f":"'Master-Auswertung_V52-V67'!F252","v":148.92458599346639},null,null,{"$f":"IF(Q$23*$N32^R$23+Q$24*$N32^R$24+Q$25*$N32^R$25+Q$26*$N32^R$26+Q$27*$N32^R$27<1,1,Q$23*$N32^R$23+Q$24*$N32^R$24+Q$25*$N32^R$25+Q$26*$N32^R$26+Q$27*$N32^R$27)","v":1.2313221762441082},null,{"$f":"IF(S$23*$N32^T$23+S$24*$N32^T$24+S$25*$N32^T$25+S$26*$N32^T$26+S$27*$N32^T$27>1,1,S$23*$N32^T$23+S$24*$N32^T$24+S$25*$N32^T$25+S$26*$N32^T$26+S$27*$N32^T$27)","v":0.90018200901732481},null,null,{"$f":"'Master-Auswertung_V52-V67'!$A$247","v":"Baugröße 630"},null,{"$f":"VKL!$I$13","v":200},{"$f":"Q32","v":1.2313221762441082},{"$f":"EQ32","v":1.4227206924048619},{"$f":"JR32","v":1.4871441227237172},{"$f":"S32","v":0.90018200901732481},{"$f":"ES32","v":0.93017384576603135},{"$f":"JT32","v":0.9477026493762899},{"$f":"LINEST(TRANSPOSE(Y32:AA32),TRANSPOSE($Y$31:$AA$31)^{0,1,2},0,0)","v":-6.3487542920949269E-6},3.8186114492360173E-3,0.91294857424145548,{"$f":"AE32*X32^2+AF32*X32+AG32","v":1.4227206924048619},{"$f":"LINEST(TRANSPOSE(AB32:AD32),TRANSPOSE($AB$31:$AD$31)^{0,1,2},0,0)","v":-6.2315165692241739E-7},4.8686386456379326E-4,0.85772713913016962,{"$f":"AI32*X32^2+AJ32*X32+AK32","v":0.93017384576603157},null,null,null,null,null,null,null,null,null,null,null,null,null,null,null,null,null,null,null,null,null,null,null,null,null,null,null,null,null,null,null,null,null,null,null,null,null,null,null,null,null,null,null,null,null,null,null,null,null,null,null,null,null,null,null,null,null,null,null,null,null,null,null,null,null,null,null,null,null,null,null,null,null,null,null,null,null,null,null,null,null,null,null,null,null,null,null,null,null,null,null,null,null,null,null,null,null,null,null,null,null,null,null,null,null,{"$f":"$N32","v":148.92458599346639},null,null,{"$f":"IF(EQ$23*$N32^ER$23+EQ$24*$N32^ER$24+EQ$25*$N32^ER$25+EQ$26*$N32^ER$26+EQ$27*$N32^ER$27<1,1,EQ$23*$N32^ER$23+EQ$24*$N32^ER$24+EQ$25*$N32^ER$25+EQ$26*$N32^ER$26+EQ$27*$N32^ER$27)","v":1.4227206924048619},null,{"$f":"IF(ES$23*$N32^ET$23+ES$24*$N32^ET$24+ES$25*$N32^ET$25+ES$26*$N32^ET$26+ES$27*$N32^ET$27>1,1,ES$23*$N32^ET$23+ES$24*$N32^ET$24+ES$25*$N32^ET$25+ES$26*$N32^ET$26+ES$27*$N32^ET$27)","v":0.93017384576603135},null,null,{"$f":"'Master-Auswertung_V52-V67'!$A$247","v":"Baugröße 630"},null,null,null,null,null,null,null,null,null,null,null,null,null,null,null,null,null,null,null,null,null,null,null,null,null,null,null,null,null,null,null,null,null,null,null,null,null,null,null,null,null,null,null,null,null,null,null,null,null,null,null,null,null,null,null,null,null,null,null,null,null,null,null,null,null,null,null,null,null,null,null,null,null,null,null,null,null,null,null,null,null,null,null,null,null,null,null,null,null,null,null,null,null,null,null,null,null,null,null,null,null,null,null,null,null,null,null,null,null,null,null,null,null,null,null,null,null,null,null,null,null,null,{"$f":"$N32","v":148.92458599346639},null,null,{"$f":"IF(JR$23*$N32^JS$23+JR$24*$N32^JS$24+JR$25*$N32^JS$25+JR$26*$N32^JS$26+JR$27*$N32^JS$27<1,1,JR$23*$N32^JS$23+JR$24*$N32^JS$24+JR$25*$N32^JS$25+JR$26*$N32^JS$26+JR$27*$N32^JS$27)","v":1.4871441227237172},null,{"$f":"IF(JT$23*$N32^JU$23+JT$24*$N32^JU$24+JT$25*$N32^JU$25+JT$26*$N32^JU$26+JT$27*$N32^JU$27>1,1,JT$23*$N32^JU$23+JT$24*$N32^JU$24+JT$25*$N32^JU$25+JT$26*$N32^JU$26+JT$27*$N32^JU$27)","v":0.9477026493762899},null,null,{"$f":"'Master-Auswertung_V52-V67'!$A$247","v":"Baugröße 630"}]
[3,7.6,100,21,80,1.07,0.5,200,1,0.55000000000000004,1.9454545454545453,0.90909090909090906,null,{"$f":"'Master-Auswertung_V52-V67'!F253","v":186.28618205970795},null,null,1.1687245361635004,null,0.89779898968922378,null,null,{"$f":"'Master-Auswertung_V52-V67'!$A$247","v":"Baugröße 630"},null,{"$f":"VKL!$I$13","v":200},{"$f":"Q33","v":1.1687245361635004},{"$f":"EQ33","v":1.3778693830057147},{"$f":"JR33","v":1.4563107503380408},{"$f":"S33","v":0.89779898968922378},{"$f":"ES33","v":0.91801414216460986},{"$f":"JT33","v":0.93549106264824278},{"$f":"LINEST(TRANSPOSE(Y33:AA33),TRANSPOSE($Y$31:$AA$31)^{0,1,2},0,0)","v":-6.5351739754944325E-6},4.0520006610704744E-3,0.82887620981139687,1.3778693830057145,{"$f":"LINEST(TRANSPOSE(AB33:AD33),TRANSPOSE($AB$31:$AD$31)^{0,1,2},0,0)","v":-1.3691159958764984E-7},2.4322500463015492E-4,0.87484560522208465,0.91801414216460964,null,null,null,null,null,null,null,null,null,null,null,null,null,null,null,null,null,null,null,null,null,null,null,null,null,null,null,null,null,null,null,null,null,null,null,null,null,null,null,null,null,null,null,null,null,null,null,null,null,null,null,null,null,null,null,null,null,null,null,null,null,null,null,null,null,null,null,null,null,null,null,null,null,null,null,null,null,null,null,null,null,null,null,null,null,null,null,null,null,null,null,null,null,null,null,null,null,null,null,null,null,null,null,null,null,{"$f":"$N33","v":186.28618205970795},null,null,1.3778693830057147,null,0.91801414216460986,null,null,{"$f":"'Master-Auswertung_V52-V67'!$A$247","v":"Baugröße 630"},null,null,null,null,null,null,null,null,null,null,null,null,null,null,null,null,null,null,null,null,null,null,null,null,null,null,null,null,null,null,null,null,null,null,null,null,null,null,null,null,null,null,null,null,null,null,null,null,null,null,null,null,null,null,null,null,null,null,null,null,null,null,null,null,null,null,null,null,null,null,null,null,null,null,null,null,null,null,null,null,null,null,null,null,null,null,null,null,null,null,null,null,null,null,null,null,null,null,null,null,null,null,null,null,null,null,null,null,null,null,null,null,null,null,null,null,null,null,null,null,null,null,{"$f":"$N33","v":186.28618205970795},null,null,1.4563107503380408,null,0.93549106264824278,null,null,{"$f":"'Master-Auswertung_V52-V67'!$A$247","v":"Baugröße 630"}]
[3,8.1,100,21,90,1.19,0.49,200,1,0.55000000000000004,2.1636363636363636,0.89090909090909087,null,{"$f":"'Master-Auswertung_V52-V67'!F254","v":233.01996760539745},null,null,1.1122028710412304,null,0.90558403084639849,null,null,{"$f":"'Master-Auswertung_V52-V67'!$A$247","v":"Baugröße 630"},null,{"$f":"VKL!$I$13","v":200},{"$f":"Q34","v":1.1122028710412304},1.3359129200844166,1.4220636411224992,{"$f":"S34","v":0.90558403084639849},0.90844776164902741,0.92325797699797574,{"$f":"LINEST(TRANSPOSE(Y34:AA34),TRANSPOSE($Y$31:$AA$31)^{0,1,2},0,0)","v":-6.8779664002551858E-6},4.3004904105084178E-3,0.7509334939929404,1.3359129200844166,{"$f":"LINEST(TRANSPOSE(AB34:AD34),TRANSPOSE($AB$31:$AD$31)^{0,1,2},0,0)","v":5.9732422731594529E-7},-1.5055996016849114E-4,0.91466678459008766,0.90844776164902719,null,null,null,null,null,null,null,null,null,null,null,null,null,null,null,null,null,null,null,null,null,null,null,null,null,null,null,null,null,null,null,null,null,null,null,null,null,null,null,null,null,null,null,null,null,null,null,null,null,null,null,null,null,null,null,null,null,null,null,null,null,null,null,null,null,null,null,null,null,null,null,null,null,null,null,null,null,null,null,null,null,null,null,null,null,null,null,null,null,null,null,null,null,null,null,null,null,null,null,null,null,null,null,null,null,233.01996760539745,null,null,1.3359129200844166,null,0.90844776164902741,null,null,{"$f":"'Master-Auswertung_V52-V67'!$A$247","v":"Baugröße 630"},null,null,null,null,null,null,null,null,null,null,null,null,null,null,null,null,null,null,null,null,null,null,null,null,null,null,null,null,null,null,null,null,null,null,null,null,null,null,null,null,null,null,null,null,null,null,null,null,null,null,null,null,null,null,null,null,null,null,null,null,null,null,null,null,null,null,null,null,null,null,null,null,null,null,null,null,null,null,null,null,null,null,null,null,null,null,null,null,null,null,null,null,null,null,null,null,null,null,null,null,null,null,null,null,null,null,null,null,null,null,null,null,null,null,null,null,null,null,null,null,null,null,233.01996760539745,null,null,1.4220636411224992,null,0.92325797699797574,null,null,{"$f":"'Master-Auswertung_V52-V67'!$A$247","v":"Baugröße 630"}]
[3,8.5,100,21,99,1.29,0.49,200,1,0.55000000000000004,2.3454545454545452,0.89090909090909087,null,{"$f":"'Master-Auswertung_V52-V67'!F255","v":291.47705215899106},null,null,1.0662173326433004,null,0.92357747525260603,null,null,{"$f":"'Master-Auswertung_V52-V67'!$A$247","v":"Baugröße 630"},null,{"$f":"VKL!$I$13","v":200},{"$f":"Q35","v":1.0662173326433004},1.2976715272013273,1.3866602584729426,{"$f":"S35","v":0.92357747525260603},0.90256771013997539,0.91239059889923524,{"$f":"LINEST(TRANSPOSE(Y35:AA35),TRANSPOSE($Y$31:$AA$31)^{0,1,2},0,0)","v":-7.1232731643205627E-6},4.4515238948764366E-3,0.69229767479886217,1.2976715272013271,{"$f":"LINEST(TRANSPOSE(AB35:AD35),TRANSPOSE($AB$31:$AD$31)^{0,1,2},0,0)","v":1.5416326935945128E-6},-6.7258745920465931E-4,0.97541989423712661,0.90256771013997528,null,null,null,null,null,null,null,null,null,null,null,null,null,null,null,null,null,null,null,null,null,null,null,null,null,null,null,null,null,null,null,null,null,null,null,null,null,null,null,null,null,null,null,null,null,null,null,null,null,null,null,null,null,null,null,null,null,null,null,null,null,null,null,null,null,null,null,null,null,null,null,null,null,null,null,null,null,null,null,null,null,null,null,null,null,null,null,null,null,null,null,null,null,null,null,null,null,null,null,null,null,null,null,null,null,291.47705215899106,null,null,1.2976715272013273,null,0.90256771013997539,null,null,{"$f":"'Master-Auswertung_V52-V67'!$A$247","v":"Baugröße 630"},null,null,null,null,null,null,null,null,null,null,null,null,null,null,null,null,null,null,null,null,null,null,null,null,null,null,null,null,null,null,null,null,null,null,null,null,null,null,null,null,null,null,null,null,null,null,null,null,null,null,null,null,null,null,null,null,null,null,null,null,null,null,null,null,null,null,null,null,null,null,null,null,null,null,null,null,null,null,null,null,null,null,null,null,null,null,null,null,null,null,null,null,null,null,null,null,null,null,null,null,null,null,null,null,null,null,null,null,null,null,null,null,null,null,null,null,null,null,null,null,null,null,291.47705215899106,null,null,1.3866602584729426,null,0.91239059889923524,null,null,{"$f":"'Master-Auswertung_V52-V67'!$A$247","v":"Baugröße 630"}]
[3,4.5999999999999996,100,21,1,0.56000000000000005,0.56000000000000005,300,0,0.56000000000000005,1,1,null,{"$f":"'Master-Auswertung_V52-V67'!F266","v":139.69402283391284},null,null,1.2495994221895494,null,0.90234214674179325,null,null,{"$f":"'Master-Auswertung_V52-V67'!$A$261","v":"Baugröße 800"},null,{"$f":"VKL!$I$13","v":200},{"$f":"Q36","v":1.2495994221895494},1.4357110589136486,1.4952037834748835,{"$f":"S36","v":0.90234214674179325},0.93392125113754254,0.95106738552993131,{"$f":"LINEST(TRANSPOSE(Y36:AA36),TRANSPOSE($Y$31:$AA$31)^{0,1,2},0,0)","v":-6.330945608143191E-6},3.7604000496839467E-3,0.93686887330258684,1.4357110589136486,{"$f":"LINEST(TRANSPOSE(AB36:AD36),TRANSPOSE($AB$31:$AD$31)^{0,1,2},0,0)","v":-7.2164850016801996E-7},5.322855940078986E-4,0.85633007234268355,0.93392125113754243,null,null,null,null,null,null,null,null,null,null,null,null,null,null,null,null,null,null,null,null,null,null,null,null,null,null,null,null,null,null,null,null,null,null,null,null,null,null,null,null,null,null,null,null,null,null,null,null,null,null,null,null,null,null,null,null,null,null,null,null,null,null,null,null,null,null,null,null,null,null,null,null,null,null,null,null,null,null,null,null,null,null,null,null,null,null,null,null,null,null,null,null,null,null,null,null,null,null,null,null,null,null,null,null,null,139.69402283391284,null,null,1.4357110589136486,null,0.93392125113754254,null,null,{"$f":"'Master-Auswertung_V52-V67'!$A$261","v":"Baugröße 800"},null,null,null,null,null,null,null,null,null,null,null,null,null,null,null,null,null,null,null,null,null,null,null,null,null,null,null,null,null,null,null,null,null,null,null,null,null,null,null,null,null,null,null,null,null,null,null,null,null,null,null,null,null,null,null,null,null,null,null,null,null,null,null,null,null,null,null,null,null,null,null,null,null,null,null,null,null,null,null,null,null,null,null,null,null,null,null,null,null,null,null,null,null,null,null,null,null,null,null,null,null,null,null,null,null,null,null,null,null,null,null,null,null,null,null,null,null,null,null,null,null,null,139.69402283391284,null,null,1.4952037834748835,null,0.95106738552993131,null,null,{"$f":"'Master-Auswertung_V52-V67'!$A$261","v":"Baugröße 800"}]
[3,5.2,100,21,50,0.77,0.54,300,1,0.56000000000000005,1.375,0.9642857142857143,null,{"$f":"'Master-Auswertung_V52-V67'!F267","v":174.73952118343757},null,null,1.1862331321062578,null,0.89754871668139147,null,null,{"$f":"'Master-Auswertung_V52-V67'!$A$261","v":"Baugröße 800"},null,{"$f":"VKL!$I$13","v":200},1.1862331321062578,1.3905014423231363,1.4655255019511217,0.89754871668139147,0.92128970007085698,0.93902793172442611,{"$f":"LINEST(TRANSPOSE(Y37:AA37),TRANSPOSE($Y$31:$AA$31)^{0,1,2},0,0)","v":-6.4622125294446692E-6},3.9813468610021864E-3,0.85272057130048606,1.3905014423231365,{"$f":"LINEST(TRANSPOSE(AB37:AD37),TRANSPOSE($AB$31:$AD$31)^{0,1,2},0,0)","v":-3.0013758679487421E-7},3.2745110993312145E-4,0.86780498155602748,0.92128970007085675,null,null,null,null,null,null,null,null,null,null,null,null,null,null,null,null,null,null,null,null,null,null,null,null,null,null,null,null,null,null,null,null,null,null,null,null,null,null,null,null,null,null,null,null,null,null,null,null,null,null,null,null,null,null,null,null,null,null,null,null,null,null,null,null,null,null,null,null,null,null,null,null,null,null,null,null,null,null,null,null,null,null,null,null,null,null,null,null,null,null,null,null,null,null,null,null,null,null,null,null,null,null,null,null,null,174.73952118343757,null,null,1.3905014423231363,null,0.92128970007085698,null,null,{"$f":"'Master-Auswertung_V52-V67'!$A$261","v":"Baugröße 800"},null,null,null,null,null,null,null,null,null,null,null,null,null,null,null,null,null,null,null,null,null,null,null,null,null,null,null,null,null,null,null,null,null,null,null,null,null,null,null,null,null,null,null,null,null,null,null,null,null,null,null,null,null,null,null,null,null,null,null,null,null,null,null,null,null,null,null,null,null,null,null,null,null,null,null,null,null,null,null,null,null,null,null,null,null,null,null,null,null,null,null,null,null,null,null,null,null,null,null,null,null,null,null,null,null,null,null,null,null,null,null,null,null,null,null,null,null,null,null,null,null,null,174.73952118343757,null,null,1.4655255019511217,null,0.93902793172442611,null,null,{"$f":"'Master-Auswertung_V52-V67'!$A$261","v":"Baugröße 800"}]
[3,5.5,100,21,60,0.88,0.53,300,1,0.56000000000000005,1.5714285714285714,0.9464285714285714,null,{"$f":"'Master-Auswertung_V52-V67'!F268","v":218.57527244750682},null,null,1.1274351646776721,null,0.90221845923481137,null,null,{"$f":"'Master-Auswertung_V52-V67'!$A$261","v":"Baugröße 800"},null,{"$f":"VKL!$I$13","v":200},1.1274351646776721,1.3474947667487078,1.4321111334829539,0.90221845923481137,0.91083652009193172,0.92669008949202225,{"$f":"LINEST(TRANSPOSE(Y38:AA38),TRANSPOSE($Y$31:$AA$31)^{0,1,2},0,0)","v":-6.7721617668394856E-6},4.2322445507622045E-3,0.7719323272698464,1.3474947667487078,{"$f":"LINEST(TRANSPOSE(AB38:AD38),TRANSPOSE($AB$31:$AD$31)^{0,1,2},0,0)","v":3.6177542714850545E-7},-2.2352019573348061E-5,0.90083590692066084,0.9108365200919315,null,null,null,null,null,null,null,null,null,null,null,null,null,null,null,null,null,null,null,null,null,null,null,null,null,null,null,null,null,null,null,null,null,null,null,null,null,null,null,null,null,null,null,null,null,null,null,null,null,null,null,null,null,null,null,null,null,null,null,null,null,null,null,null,null,null,null,null,null,null,null,null,null,null,null,null,null,null,null,null,null,null,null,null,null,null,null,null,null,null,null,null,null,null,null,null,null,null,null,null,null,null,null,null,null,218.57527244750682,null,null,1.3474947667487078,null,0.91083652009193172,null,null,{"$f":"'Master-Auswertung_V52-V67'!$A$261","v":"Baugröße 800"},null,null,null,null,null,null,null,null,null,null,null,null,null,null,null,null,null,null,null,null,null,null,null,null,null,null,null,null,null,null,null,null,null,null,null,null,null,null,null,null,null,null,null,null,null,null,null,null,null,null,null,null,null,null,null,null,null,null,null,null,null,null,null,null,null,null,null,null,null,null,null,null,null,null,null,null,null,null,null,null,null,null,null,null,null,null,null,null,null,null,null,null,null,null,null,null,null,null,null,null,null,null,null,null,null,null,null,null,null,null,null,null,null,null,null,null,null,null,null,null,null,null,218.57527244750682,null,null,1.4321111334829539,null,0.92669008949202225,null,null,{"$f":"'Master-Auswertung_V52-V67'!$A$261","v":"Baugröße 800"}]
[3,5.9,100,21,70,1,0.53,300,1,0.56000000000000005,1.7857142857142856,0.9464285714285714,null,{"$f":"'Master-Auswertung_V52-V67'!F269","v":273.40845080236602},null,null,1.0781769544773587,null,0.91765908195535695,null,null,{"$f":"'Master-Auswertung_V52-V67'!$A$261","v":"Baugröße 800"},null,{"$f":"VKL!$I$13","v":200},1.0781769544773587,1.3083741563275662,1.3966719228289908,0.91765908195535695,0.9038619357131159,0.9152469154575581,{"$f":"LINEST(TRANSPOSE(Y39:AA39),TRANSPOSE($Y$31:$AA$31)^{0,1,2},0,0)","v":-7.0949717674391082E-6},4.4304635487338057E-3,0.70608031727836884,1.3083741563275657,{"$f":"LINEST(TRANSPOSE(AB39:AD39),TRANSPOSE($AB$31:$AD$31)^{0,1,2},0,0)","v":1.2591062993341359E-6},-5.1570335222264944E-4,0.95663835418428045,0.90386193571311602,null,null,null,null,null,null,null,null,null,null,null,null,null,null,null,null,null,null,null,null,null,null,null,null,null,null,null,null,null,null,null,null,null,null,null,null,null,null,null,null,null,null,null,null,null,null,null,null,null,null,null,null,null,null,null,null,null,null,null,null,null,null,null,null,null,null,null,null,null,null,null,null,null,null,null,null,null,null,null,null,null,null,null,null,null,null,null,null,null,null,null,null,null,null,null,null,null,null,null,null,null,null,null,null,null,273.40845080236602,null,null,1.3083741563275662,null,0.9038619357131159,null,null,{"$f":"'Master-Auswertung_V52-V67'!$A$261","v":"Baugröße 800"},null,null,null,null,null,null,null,null,null,null,null,null,null,null,null,null,null,null,null,null,null,null,null,null,null,null,null,null,null,null,null,null,null,null,null,null,null,null,null,null,null,null,null,null,null,null,null,null,null,null,null,null,null,null,null,null,null,null,null,null,null,null,null,null,null,null,null,null,null,null,null,null,null,null,null,null,null,null,null,null,null,null,null,null,null,null,null,null,null,null,null,null,null,null,null,null,null,null,null,null,null,null,null,null,null,null,null,null,null,null,null,null,null,null,null,null,null,null,null,null,null,null,273.40845080236602,null,null,1.3966719228289908,null,0.9152469154575581,null,null,{"$f":"'Master-Auswertung_V52-V67'!$A$261","v":"Baugröße 800"}]
[3,6.2,100,21,80,1.1200000000000001,0.52,300,1,0.56000000000000005,2,0.92857142857142849,null,{"$f":"'Master-Auswertung_V52-V67'!F280","v":133.88782010959676},null,null,1.2617158363112786,null,0.90406473907683549,null,null,{"$f":"'Master-Auswertung_V52-V67'!$A$275","v":"Baugröße 1000"},null,{"$f":"VKL!$I$13","v":200},1.2617158363112786,1.4443110586798951,1.5003596677072928,0.90406473907683549,0.93644364076659459,0.95325615767492744,{"$f":"LINEST(TRANSPOSE(Y40:AA40),TRANSPOSE($Y$31:$AA$31)^{0,1,2},0,0)","v":-6.3273306670609389E-6},3.7241514238044483E-3,0.95257400060144248,1.4443110586798946,{"$f":"LINEST(TRANSPOSE(AB40:AD40),TRANSPOSE($AB$31:$AD$31)^{0,1,2},0,0)","v":-7.783192390713415E-7},5.5728478861899781E-4,0.8561194526056487,0.93644364076659459,null,null,null,null,null,null,null,null,null,null,null,null,null,null,null,null,null,null,null,null,null,null,null,null,null,null,null,null,null,null,null,null,null,null,null,null,null,null,null,null,null,null,null,null,null,null,null,null,null,null,null,null,null,null,null,null,null,null,null,null,null,null,null,null,null,null,null,null,null,null,null,null,null,null,null,null,null,null,null,null,null,null,null,null,null,null,null,null,null,null,null,null,null,null,null,null,null,null,null,null,null,null,null,null,null,133.88782010959676,null,null,1.4443110586798951,null,0.93644364076659459,null,null,{"$f":"'Master-Auswertung_V52-V67'!$A$275","v":"Baugröße 1000"},null,null,null,null,null,null,null,null,null,null,null,null,null,null,null,null,null,null,null,null,null,null,null,null,null,null,null,null,null,null,null,null,null,null,null,null,null,null,null,null,null,null,null,null,null,null,null,null,null,null,null,null,null,null,null,null,null,null,null,null,null,null,null,null,null,null,null,null,null,null,null,null,null,null,null,null,null,null,null,null,null,null,null,null,null,null,null,null,null,null,null,null,null,null,null,null,null,null,null,null,null,null,null,null,null,null,null,null,null,null,null,null,null,null,null,null,null,null,null,null,null,null,133.88782010959676,null,null,1.5003596677072928,null,0.95325615767492744,null,null,{"$f":"'Master-Auswertung_V52-V67'!$A$275","v":"Baugröße 1000"}]
[3,6.5,100,21,90,1.23,0.52,300,1,0.56000000000000005,2.1964285714285712,0.92857142857142849,null,{"$f":"'Master-Auswertung_V52-V67'!F281","v":167.47697736926554},null,null,1.1980605132909283,null,0.89781867755219646,null,null,{"$f":"'Master-Auswertung_V52-V67'!$A$275","v":"Baugröße 1000"},null,{"$f":"VKL!$I$13","v":200},1.1980605132909283,1.3989872220760993,1.4714673469708699,0.89781867755219646,0.92356308864507985,0.94136026676240037,{"$f":"LINEST(TRANSPOSE(Y41:AA41),TRANSPOSE($Y$31:$AA$31)^{0,1,2},0,0)","v":-6.4223291945200242E-6},3.9359658462077198E-3,0.86868722061535597,1.3989872220760988,{"$f":"LINEST(TRANSPOSE(AB41:AD41),TRANSPOSE($AB$31:$AD$31)^{0,1,2},0,0)","v":-3.9736164877813825E-7},3.7665260556227448E-4,0.86412703348375042,0.92356308864507974,null,null,null,null,null,null,null,null,null,null,null,null,null,null,null,null,null,null,null,null,null,null,null,null,null,null,null,null,null,null,null,null,null,null,null,null,null,null,null,null,null,null,null,null,null,null,null,null,null,null,null,null,null,null,null,null,null,null,null,null,null,null,null,null,null,null,null,null,null,null,null,null,null,null,null,null,null,null,null,null,null,null,null,null,null,null,null,null,null,null,null,null,null,null,null,null,null,null,null,null,null,null,null,null,null,167.47697736926554,null,null,1.3989872220760993,null,0.92356308864507985,null,null,{"$f":"'Master-Auswertung_V52-V67'!$A$275","v":"Baugröße 1000"},null,null,null,null,null,null,null,null,null,null,null,null,null,null,null,null,null,null,null,null,null,null,null,null,null,null,null,null,null,null,null,null,null,null,null,null,null,null,null,null,null,null,null,null,null,null,null,null,null,null,null,null,null,null,null,null,null,null,null,null,null,null,null,null,null,null,null,null,null,null,null,null,null,null,null,null,null,null,null,null,null,null,null,null,null,null,null,null,null,null,null,null,null,null,null,null,null,null,null,null,null,null,null,null,null,null,null,null,null,null,null,null,null,null,null,null,null,null,null,null,null,null,167.47697736926554,null,null,1.4714673469708699,null,0.94136026676240037,null,null,{"$f":"'Master-Auswertung_V52-V67'!$A$275","v":"Baugröße 1000"}]
[3,6.8,100,21,99,1.34,0.51,300,1,0.56000000000000005,2.3928571428571428,0.9107142857142857,null,{"$f":"'Master-Auswertung_V52-V67'!F282","v":209.49286974805347},null,null,1.1379850201300481,null,0.90049321348358025,null,null,{"$f":"'Master-Auswertung_V52-V67'!$A$275","v":"Baugröße 1000"},null,{"$f":"VKL!$I$13","v":200},1.1379850201300481,1.3553675492656683,1.4386788918495546,0.90049321348358025,0.91258323459303559,0.92900613259954534,{"$f":"LINEST(TRANSPOSE(Y42:AA42),TRANSPOSE($Y$31:$AA$31)^{0,1,2},0,0)","v":-6.7035593275866779E-6},4.1848930896322047E-3,0.78653130444269448,1.3553675492656683,{"$f":"LINEST(TRANSPOSE(AB42:AD42),TRANSPOSE($AB$31:$AD$31)^{0,1,2},0,0)","v":2.166438448527018E-7},5.5907057638745947E-5,0.89273606927117832,0.91258323459303559,null,null,null,null,null,null,null,null,null,null,null,null,null,null,null,null,null,null,null,null,null,null,null,null,null,null,null,null,null,null,null,null,null,null,null,null,null,null,null,null,null,null,null,null,null,null,null,null,null,null,null,null,null,null,null,null,null,null,null,null,null,null,null,null,null,null,null,null,null,null,null,null,null,null,null,null,null,null,null,null,null,null,null,null,null,null,null,null,null,null,null,null,null,null,null,null,null,null,null,null,null,null,null,null,null,209.49286974805347,null,null,1.3553675492656683,null,0.91258323459303559,null,null,{"$f":"'Master-Auswertung_V52-V67'!$A$275","v":"Baugröße 1000"},null,null,null,null,null,null,null,null,null,null,null,null,null,null,null,null,null,null,null,null,null,null,null,null,null,null,null,null,null,null,null,null,null,null,null,null,null,null,null,null,null,null,null,null,null,null,null,null,null,null,null,null,null,null,null,null,null,null,null,null,null,null,null,null,null,null,null,null,null,null,null,null,null,null,null,null,null,null,null,null,null,null,null,null,null,null,null,null,null,null,null,null,null,null,null,null,null,null,null,null,null,null,null,null,null,null,null,null,null,null,null,null,null,null,null,null,null,null,null,null,null,null,209.49286974805347,null,null,1.4386788918495546,null,0.92900613259954534,null,null,{"$f":"'Master-Auswertung_V52-V67'!$A$275","v":"Baugröße 1000"}]
[3,7.6,100,22,1,0.54,0.54,100,0,0.54,1,1,null,{"$f":"'Master-Auswertung_V52-V67'!F283","v":262.04941330963209},null,null,1.0866243946822982,null,0.9140067527092397,null,null,{"$f":"'Master-Auswertung_V52-V67'!$A$275","v":"Baugröße 1000"},null,{"$f":"VKL!$I$13","v":200},1.0866243946822982,1.3155269725416374,1.4033998869694546,0.9140067527092397,0.90488486469983442,0.91726923883670441,{"$f":"LINEST(TRANSPOSE(Y43:AA43),TRANSPOSE($Y$31:$AA$31)^{0,1,2},0,0)","v":-7.0514831715761139E-6},4.4044707300662294E-3,0.71669215339143599,1.3155269725416372,{"$f":"LINEST(TRANSPOSE(AB43:AD43),TRANSPOSE($AB$31:$AD$31)^{0,1,2},0,0)","v":1.0753131073137483E-6},-4.1381281228817466E-4,0.94463490286491925,0.9048848646998342,null,null,null,null,null,null,null,null,null,null,null,null,null,null,null,null,null,null,null,null,null,null,null,null,null,null,null,null,null,null,null,null,null,null,null,null,null,null,null,null,null,null,null,null,null,null,null,null,null,null,null,null,null,null,null,null,null,null,null,null,null,null,null,null,null,null,null,null,null,null,null,null,null,null,null,null,null,null,null,null,null,null,null,null,null,null,null,null,null,null,null,null,null,null,null,null,null,null,null,null,null,null,null,null,null,262.04941330963209,null,null,1.3155269725416374,null,0.90488486469983442,null,null,{"$f":"'Master-Auswertung_V52-V67'!$A$275","v":"Baugröße 1000"},null,null,null,null,null,null,null,null,null,null,null,null,null,null,null,null,null,null,null,null,null,null,null,null,null,null,null,null,null,null,null,null,null,null,null,null,null,null,null,null,null,null,null,null,null,null,null,null,null,null,null,null,null,null,null,null,null,null,null,null,null,null,null,null,null,null,null,null,null,null,null,null,null,null,null,null,null,null,null,null,null,null,null,null,null,null,null,null,null,null,null,null,null,null,null,null,null,null,null,null,null,null,null,null,null,null,null,null,null,null,null,null,null,null,null,null,null,null,null,null,null,null,262.04941330963209,null,null,1.4033998869694546,null,0.91726923883670441,null,null,{"$f":"'Master-Auswertung_V52-V67'!$A$275","v":"Baugröße 1000"}]
[3,8.8000000000000007,100,22,50,0.67,0.49,100,1,0.54,1.2407407407407407,0.90740740740740733,null,{"$f":"'Master-Auswertung_V52-V67'!F294","v":129.72338588563326},null,null,1.2707094232947191,null,0.90548109211642847,null,null,{"$f":"'Master-Auswertung_V52-V67'!$A$289","v":"Baugröße 1200"},null,{"$f":"VKL!$I$13","v":200},{"$f":"Q44","v":1.2707094232947191},1.4506904282944819,1.504098051703922,{"$f":"S44","v":0.90548109211642847},0.93833385944210057,0.95486070502382658,{"$f":"LINEST(TRANSPOSE(Y44:AA44),TRANSPOSE($Y$31:$AA$31)^{0,1,2},0,0)","v":-6.3286690795161203E-6},3.6984107738524626E-3,0.96415503670463387,{"$f":"AE44*X44^2+AF44*X44+AG44","v":1.4506904282944815},{"$f":"LINEST(TRANSPOSE(AB44:AD44),TRANSPOSE($AB$31:$AD$31)^{0,1,2},0,0)","v":-8.1629608719729887E-7},5.7341649941591031E-4,0.85630240304681049,{"$f":"AI44*X44^2+AJ44*X44+AK44","v":0.93833385944210057},null,null,null,null,null,null,null,null,null,null,null,null,null,null,null,null,null,null,null,null,null,null,null,null,null,null,null,null,null,null,null,null,null,null,null,null,null,null,null,null,null,null,null,null,null,null,null,null,null,null,null,null,null,null,null,null,null,null,null,null,null,null,null,null,null,null,null,null,null,null,null,null,null,null,null,null,null,null,null,null,null,null,null,null,null,null,null,null,null,null,null,null,null,null,null,null,null,null,null,null,null,null,null,null,null,129.72338588563326,null,null,1.4506904282944819,null,0.93833385944210057,null,null,{"$f":"'Master-Auswertung_V52-V67'!$A$289","v":"Baugröße 1200"},null,null,null,null,null,null,null,null,null,null,null,null,null,null,null,null,null,null,null,null,null,null,null,null,null,null,null,null,null,null,null,null,null,null,null,null,null,null,null,null,null,null,null,null,null,null,null,null,null,null,null,null,null,null,null,null,null,null,null,null,null,null,null,null,null,null,null,null,null,null,null,null,null,null,null,null,null,null,null,null,null,null,null,null,null,null,null,null,null,null,null,null,null,null,null,null,null,null,null,null,null,null,null,null,null,null,null,null,null,null,null,null,null,null,null,null,null,null,null,null,null,null,129.72338588563326,null,null,1.504098051703922,null,0.95486070502382658,null,null,{"$f":"'Master-Auswertung_V52-V67'!$A$289","v":"Baugröße 1200"}]
[3,9.6,100,22,60,0.78,0.47,100,1,0.54,1.4444444444444444,0.87037037037037024,null,{"$f":"'Master-Auswertung_V52-V67'!F295","v":162.26770291289614},null,null,1.2069483062312094,null,0.89823086782726191,null,null,{"$f":"'Master-Auswertung_V52-V67'!$A$289","v":"Baugröße 1200"},null,{"$f":"VKL!$I$13","v":200},{"$f":"Q45","v":1.2069483062312094},1.4053450384014072,1.4757975544545641,{"$f":"S45","v":0.89823086782726191},0.92530000404646084,0.94308502234146785,{"$f":"LINEST(TRANSPOSE(Y45:AA45),TRANSPOSE($Y$31:$AA$31)^{0,1,2},0,0)","v":-6.3972108058520546E-6},3.9031305634575986E-3,0.88060735794396938,{"$f":"AE45*X45^2+AF45*X45+AG45","v":1.405345038401407},{"$f":"LINEST(TRANSPOSE(AB45:AD45),TRANSPOSE($AB$31:$AD$31)^{0,1,2},0,0)","v":-4.642058962096102E-7},4.0995313105487351E-4,0.86187761368387061,{"$f":"AI45*X45^2+AJ45*X45+AK45","v":0.92530000404646096},null,null,null,null,null,null,null,null,null,null,null,null,null,null,null,null,null,null,null,null,null,null,null,null,null,null,null,null,null,null,null,null,null,null,null,null,null,null,null,null,null,null,null,null,null,null,null,null,null,null,null,null,null,null,null,null,null,null,null,null,null,null,null,null,null,null,null,null,null,null,null,null,null,null,null,null,null,null,null,null,null,null,null,null,null,null,null,null,null,null,null,null,null,null,null,null,null,null,null,null,null,null,null,null,null,162.26770291289614,null,null,1.4053450384014072,null,0.92530000404646084,null,null,{"$f":"'Master-Auswertung_V52-V67'!$A$289","v":"Baugröße 1200"},null,null,null,null,null,null,null,null,null,null,null,null,null,null,null,null,null,null,null,null,null,null,null,null,null,null,null,null,null,null,null,null,null,null,null,null,null,null,null,null,null,null,null,null,null,null,null,null,null,null,null,null,null,null,null,null,null,null,null,null,null,null,null,null,null,null,null,null,null,null,null,null,null,null,null,null,null,null,null,null,null,null,null,null,null,null,null,null,null,null,null,null,null,null,null,null,null,null,null,null,null,null,null,null,null,null,null,null,null,null,null,null,null,null,null,null,null,null,null,null,null,null,162.26770291289614,null,null,1.4757975544545641,null,0.94308502234146785,null,null,{"$f":"'Master-Auswertung_V52-V67'!$A$289","v":"Baugröße 1200"}]
[3,10.5,100,22,70,0.88,0.46,100,1,0.54,1.6296296296296295,0.85185185185185186,null,{"$f":"'Master-Auswertung_V52-V67'!F296","v":202.97668222310872},null,null,1.1460491112244737,null,0.8994713082034349,null,null,{"$f":"'Master-Auswertung_V52-V67'!$A$289","v":"Baugröße 1200"},null,{"$f":"VKL!$I$13","v":200},{"$f":"Q46","v":1.1460491112244737},1.3613242537409045,1.4435076025130114,{"$f":"S46","v":0.8994713082034349},0.9139623909155542,0.93074408525418295,{"$f":"LINEST(TRANSPOSE(Y46:AA46),TRANSPOSE($Y$31:$AA$31)^{0,1,2},0,0)","v":-6.654589687216163E-6},4.1491283313291544E-3,0.7976821749637204,{"$f":"AE46*X46^2+AF46*X46+AG46","v":1.3613242537409047},{"$f":"LINEST(TRANSPOSE(AB46:AD46),TRANSPOSE($AB$31:$AD$31)^{0,1,2},0,0)","v":1.1453058132545349E-7},1.1055165272355918E-4,0.8872708371178244,{"$f":"AI46*X46^2+AJ46*X46+AK46","v":0.91396239091555442},null,null,null,null,null,null,null,null,null,null,null,null,null,null,null,null,null,null,null,null,null,null,null,null,null,null,null,null,null,null,null,null,null,null,null,null,null,null,null,null,null,null,null,null,null,null,null,null,null,null,null,null,null,null,null,null,null,null,null,null,null,null,null,null,null,null,null,null,null,null,null,null,null,null,null,null,null,null,null,null,null,null,null,null,null,null,null,null,null,null,null,null,null,null,null,null,null,null,null,null,null,null,null,null,null,202.97668222310872,null,null,1.3613242537409045,null,0.9139623909155542,null,null,{"$f":"'Master-Auswertung_V52-V67'!$A$289","v":"Baugröße 1200"},null,null,null,null,null,null,null,null,null,null,null,null,null,null,null,null,null,null,null,null,null,null,null,null,null,null,null,null,null,null,null,null,null,null,null,null,null,null,null,null,null,null,null,null,null,null,null,null,null,null,null,null,null,null,null,null,null,null,null,null,null,null,null,null,null,null,null,null,null,null,null,null,null,null,null,null,null,null,null,null,null,null,null,null,null,null,null,null,null,null,null,null,null,null,null,null,null,null,null,null,null,null,null,null,null,null,null,null,null,null,null,null,null,null,null,null,null,null,null,null,null,null,202.97668222310872,null,null,1.4435076025130114,null,0.93074408525418295,null,null,{"$f":"'Master-Auswertung_V52-V67'!$A$289","v":"Baugröße 1200"}]
[3,11.4,100,22,80,0.98,0.44,100,1,0.54,1.8148148148148147,0.81481481481481477,null,{"$f":"'Master-Auswertung_V52-V67'!F297","v":253.89875679279646},null,null,1.0931915354981632,null,0.91147709116168807,null,null,{"$f":"'Master-Auswertung_V52-V67'!$A$289","v":"Baugröße 1200"},null,{"$f":"VKL!$I$13","v":200},{"$f":"Q47","v":1.0931915354981632},1.320915202013238,1.4084293961809511,{"$f":"S47","v":0.91147709116168807},0.90573713815915902,0.91883039637990871,{"$f":"LINEST(TRANSPOSE(Y47:AA47),TRANSPOSE($Y$31:$AA$31)^{0,1,2},0,0)","v":-7.0104736173680845E-6},4.3803787503611741E-3,0.72525839663572644,{"$f":"AE47*X47^2+AF47*X47+AG47","v":1.320915202013238},{"$f":"LINEST(TRANSPOSE(AB47:AD47),TRANSPOSE($AB$31:$AD$31)^{0,1,2},0,0)","v":9.4166056116392999E-7},-3.3989769837446777E-4,0.93605025538749553,{"$f":"AI47*X47^2+AJ47*X47+AK47","v":0.90573713815915924},null,null,null,null,null,null,null,null,null,null,null,null,null,null,null,null,null,null,null,null,null,null,null,null,null,null,null,null,null,null,null,null,null,null,null,null,null,null,null,null,null,null,null,null,null,null,null,null,null,null,null,null,null,null,null,null,null,null,null,null,null,null,null,null,null,null,null,null,null,null,null,null,null,null,null,null,null,null,null,null,null,null,null,null,null,null,null,null,null,null,null,null,null,null,null,null,null,null,null,null,null,null,null,null,null,253.89875679279646,null,null,1.320915202013238,null,0.90573713815915902,null,null,{"$f":"'Master-Auswertung_V52-V67'!$A$289","v":"Baugröße 1200"},null,null,null,null,null,null,null,null,null,null,null,null,null,null,null,null,null,null,null,null,null,null,null,null,null,null,null,null,null,null,null,null,null,null,null,null,null,null,null,null,null,null,null,null,null,null,null,null,null,null,null,null,null,null,null,null,null,null,null,null,null,null,null,null,null,null,null,null,null,null,null,null,null,null,null,null,null,null,null,null,null,null,null,null,null,null,null,null,null,null,null,null,null,null,null,null,null,null,null,null,null,null,null,null,null,null,null,null,null,null,null,null,null,null,null,null,null,null,null,null,null,null,253.89875679279646,null,null,1.4084293961809511,null,0.91883039637990871,null,null,{"$f":"'Master-Auswertung_V52-V67'!$A$289","v":"Baugröße 1200"}]
[3,12.3,100,22,90,1.08,0.43,100,1,0.54,2,0.79629629629629628]
[3,13,100,22,99,1.17,0.41,100,1,0.54,2.1666666666666665,0.75925925925925919]
[3,5.5,100,22,1,0.57999999999999996,0.57999999999999996,200,0,0.57999999999999996,1,1]
[3,6.4,100,22,50,0.8,0.55000000000000004,200,1,0.57999999999999996,1.3793103448275863,0.94827586206896564]
[3,6.9,100,22,60,0.92,0.54,200,1,0.57999999999999996,1.5862068965517244,0.93103448275862077]
[3,7.4,100,22,70,1.04,0.53,200,1,0.57999999999999996,1.7931034482758623,0.91379310344827602]
[3,8,100,22,80,1.1599999999999999,0.53,200,1,0.57999999999999996,2,0.91379310344827602]
[3,8.5,100,22,90,1.28,0.52,200,1,0.57999999999999996,2.2068965517241383,0.89655172413793116]
[3,8.9,100,22,99,1.38,0.51,200,1,0.57999999999999996,2.3793103448275863,0.8793103448275863]
[3,4.7,100,22,1,0.59,0.59,300,0,0.59,1,1]
[3,5.4,100,22,50,0.83,0.56999999999999995,300,1,0.59,1.4067796610169492,0.96610169491525422]
[3,5.7,100,22,60,0.96,0.56000000000000005,300,1,0.59,1.6271186440677967,0.94915254237288149]
[3,6.1,100,22,70,1.08,0.56000000000000005,300,1,0.59,1.8305084745762714,0.94915254237288149,null,null,null,null,null,null,null,null,null,null,null,null,null,null,null,null,null,null,null,null,null,null,null,null,null,null,null,null,null,null,4,3,2,1,0]
[3,6.4,100,22,80,1.2,0.55000000000000004,300,1,0.59,2.0338983050847457,0.93220338983050854,null,null,null,null,null,null,null,null,null,null,null,null,null,null,null,null,null,null,null,null,null,null,null,null,null,null,null,null,null,null,2.3098985833020001E-8,-6.07620718899582E-6,5.7406363346773604E-4,-1.2212985053876601E-3,0.61172223999672903,null,"y = 0,00000002309898583302x4 - 0,00000607620718899582x3 + 0,00057406363346773600x2 - 0,00122129850538766000x + 0,61172223999672900000\nR² = 0,99999798376960600000",null,null,null,null,"R² = 0,99999798376960600000"]
[3,6.8,100,22,90,1.33,0.54,300,1,0.59,2.2542372881355934,0.91525423728813571,null,null,null,null,null,null,null,null,null,null,null,null,null,null,null,null,null,null,null,null,null,null,null,null,null,null,null,null,null,null,4,3,2,1,0,null,"y = 0,00000000219901325220x4 - 0,00000229974268309632x3 + 0,00052359233017303100x2 - 0,04991694757763310000x + 2,09643715232244000000\nR² = 0,99999052809959700000",null,null,null,null,"R² = 0,99999052809959700000"]
[3,7.1,100,22,99,1.44,0.54,300,1,0.59,2.4406779661016951,0.91525423728813571,null,null,null,null,null,null,null,null,null,null,null,null,null,null,null,null,null,null,null,null,null,null,null,null,null,null,null,null,null,null,2.1990132522000002E-9,-2.2997426830963201E-6,5.2359233017303098E-4,-4.9916947577633097E-2,2.0964371523224399]
[3,7.8,100,23,1,0.56000000000000005,0.56000000000000005,100,0,0.56000000000000005,1,1]
[3,9.3000000000000007,100,23,50,0.73,0.51,100,1,0.56000000000000005,1.3035714285714284,0.9107142857142857]
[3,10.199999999999999,100,23,60,0.84,0.49,100,1,0.56000000000000005,1.4999999999999998,0.87499999999999989,null,{"$f":"CONCATENATE(E5,E6,B11, \" % relFeuchte; \",E8)","v":"6 °C Vorlauf; 100 kg/h Kühlwasser; 50 % relFeuchte; 26 °C Ansaugtemp; "}]
[3,11.1,100,23,70,0.94,0.48,100,1,0.56000000000000005,1.6785714285714284,0.85714285714285698]
[3,12,100,23,80,1.05,0.46,100,1,0.56000000000000005,1.875,0.8214285714285714,null,"BG800"]
[3,12.9,100,23,90,1.1599999999999999,0.44,100,1,0.56000000000000005,2.0714285714285712,0.7857142857142857,null,{"$f":"CONCATENATE(N68,\"; \",E5,B11, \" % relFeuchte; \",E8)","v":"BG800; 6 °C Vorlauf; 50 % relFeuchte; 26 °C Ansaugtemp; "}]
[3,13.8,100,23,99,1.26,0.43,100,1,0.56000000000000005,2.25,0.76785714285714279]
[3,5.6,100,23,1,0.61,0.61,200,0,0.61,1,1]
[3,6.7,100,23,50,0.86,0.57999999999999996,200,1,0.61,1.4098360655737705,0.95081967213114749]
[3,7.2,100,23,60,0.99,0.56999999999999995,200,1,0.61,1.6229508196721312,0.93442622950819665,null,null,"Ansaugtemperatur:","Kühlwasservorlauf1):","Kühlwasservorlauf \nkondensierender Betrieb2):","relative Feuchte:","Nennkühlwassermenge wOK:","Ist-Kühlwassermenge wK:"]
[3,7.8,100,23,70,1.1200000000000001,0.56000000000000005,200,1,0.61,1.8360655737704921,0.91803278688524603,null,"Minimal",{"$f":"MIN(D$22:D$10221)","v":21},null,{"$f":"MIN(A$22:A$10221)","v":3},1]
[3,8.3000000000000007,100,23,80,1.24,0.55000000000000004,200,1,0.61,2.0327868852459017,0.90163934426229519,null,"Maximal",{"$f":"MAX(D$22:D$10221)","v":27},null,{"$f":"MAX(A$22:A$10221)","v":16},99]
[3,8.9,100,23,90,1.37,0.54,200,1,0.61,2.2459016393442623,0.88524590163934436]
[3,9.4,100,23,99,1.48,0.53,200,1,0.61,2.4262295081967213,0.86885245901639352]
[3,4.8,100,23,1,0.62,0.62,300,0,0.62,1,1]
[3,5.6,100,23,50,0.9,0.59,300,1,0.62,1.4516129032258065,0.95161290322580638]
[3,5.9,100,23,60,1.03,0.59,300,1,0.62,1.6612903225806452,0.95161290322580638]
[3,6.3,100,23,70,1.1599999999999999,0.57999999999999996,300,1,0.62,1.8709677419354838,0.93548387096774188]
[3,6.7,100,23,80,1.29,0.56999999999999995,300,1,0.62,2.0806451612903225,0.91935483870967738]
[3,7.1,100,23,90,1.42,0.56999999999999995,300,1,0.62,2.290322580645161,0.91935483870967738]
[3,7.4,100,23,99,1.54,0.56000000000000005,300,1,0.62,2.4838709677419355,0.90322580645161299]
[3,8.1,100,24,1,0.59,0.59,100,0,0.59,1,1]
[3,9.6999999999999993,100,24,50,0.79,0.53,100,{"$f":"IF(F86<>G86,1,0)","v":1},0.59,{"$f":"F86/J86","v":1.3389830508474578},0.89830508474576276]
[3,10.7,100,24,60,0.9,0.51,100,1,0.59,1.5254237288135595,{"$f":"G87/J87","v":0.86440677966101698}]
[3,11.7,100,24,70,1.01,0.5,100,1,0.59,1.7118644067796611,0.84745762711864414]
[3,12.7,100,24,80,1.1299999999999999,0.48,100,1,{"$f":"IF(F89/G89=1,F89,J88)","v":0.59},1.9152542372881356,0.81355932203389836]
[3,13.7,100,24,90,1.24,0.46,100,1,0.59,2.1016949152542375,0.77966101694915257]
[3,14.5,100,24,99,1.35,0.45,100,1,0.59,2.2881355932203391,0.76271186440677974]
[3,5.7,100,24,1,0.63,0.63,200,0,0.63,1,1]
[3,7,100,24,50,0.93,0.6,200,1,0.63,1.4761904761904763,0.95238095238095233]
[3,7.6,100,24,60,1.06,0.59,200,1,0.63,1.6825396825396826,0.9365079365079364]
[3,8.1,100,24,70,1.2,0.57999999999999996,200,1,0.63,1.9047619047619047,0.92063492063492058]
[3,8.6999999999999993,100,24,80,1.33,0.56999999999999995,200,1,0.63,2.1111111111111112,0.90476190476190466]
[3,9.3000000000000007,100,24,90,1.47,0.56000000000000005,200,1,0.63,2.3333333333333335,0.88888888888888895]
[3,9.8000000000000007,100,24,99,1.59,0.56000000000000005,200,1,0.63,2.5238095238095237,0.88888888888888895]
[3,4.8,100,24,1,0.65,0.65,300,0,0.65,1,1]
[3,5.8,100,24,50,0.97,0.62,300,1,0.65,1.4923076923076921,0.95384615384615379]
[3,6.2,100,24,60,1.1100000000000001,0.61,300,1,0.65,1.7076923076923078,0.93846153846153846]
[3,6.6,100,24,70,1.24,0.61,300,1,0.65,1.9076923076923076,0.93846153846153846]
[3,7,100,24,80,1.39,0.6,300,1,0.65,2.1384615384615384,0.92307692307692302]
[3,7.4,100,24,90,1.52,0.59,300,1,0.65,2.3384615384615386,0.90769230769230758]
[3,7.7,100,24,99,1.65,0.59,300,1,0.65,2.5384615384615383,0.90769230769230758]
[3,8.3000000000000007,100,25,1,0.62,0.62,100,0,0.62,1,1]
[3,10.199999999999999,100,25,50,0.84,0.55000000000000004,100,1,0.62,1.3548387096774193,0.88709677419354849]
[3,11.3,100,25,60,0.97,0.53,100,1,0.62,1.564516129032258,0.85483870967741937]
[3,12.3,100,25,70,1.0900000000000001,0.51,100,1,0.62,1.7580645161290325,0.82258064516129037]
[3,13.4,100,25,80,1.21,0.5,100,1,0.62,1.9516129032258065,0.80645161290322587]
[3,14.4,100,25,90,1.33,0.48,100,1,0.62,2.145161290322581,0.77419354838709675]
[3,15.3,100,25,99,1.44,0.46,100,1,0.62,2.32258064516129,0.74193548387096775]
[3,5.8,100,25,1,0.66,0.66,200,0,0.66,1,1]
[3,7.3,100,25,50,1,0.63,200,1,0.66,1.5151515151515151,0.95454545454545447]
[3,7.9,100,25,60,1.1399999999999999,0.62,200,1,0.66,1.7272727272727271,0.93939393939393934]
[3,8.5,100,25,70,1.28,0.61,200,1,0.66,1.9393939393939394,0.9242424242424242]
[3,9.1,100,25,80,1.42,0.6,200,1,0.66,2.1515151515151514,0.90909090909090906]
[3,9.6999999999999993,100,25,90,1.57,0.59,200,1,0.66,2.3787878787878789,0.89393939393939381]
[3,10.3,100,25,99,1.7,0.57999999999999996,200,1,0.66,2.5757575757575757,0.87878787878787867]
[3,4.9000000000000004,100,25,1,0.67,0.67,300,0,0.67,1,1]
[3,6,100,25,50,1.04,0.65,300,1,0.67,1.5522388059701493,0.97014925373134331]
[3,6.4,100,25,60,1.18,0.64,300,1,0.67,1.761194029850746,0.95522388059701491]
[3,6.8,100,25,70,1.33,0.63,300,1,0.67,1.9850746268656716,0.94029850746268651]
[3,7.2,100,25,80,1.48,0.63,300,1,0.67,2.2089552238805967,0.94029850746268651]
[3,7.7,100,25,90,1.63,0.62,300,1,0.67,2.4328358208955221,0.9253731343283581]
[3,8,100,25,99,1.76,0.61,300,1,0.67,2.6268656716417911,0.91044776119402981]
[3,8.5,100,26,1,0.64,0.64,100,0,0.64,1,1]
[3,10.7,100,26,50,0.9,0.56999999999999995,100,1,0.64,1.40625,0.89062499999999989]
[3,11.8,100,26,60,1.03,0.55000000000000004,100,1,0.64,1.609375,0.859375]
[3,12.9,100,26,70,1.1599999999999999,0.53,100,1,0.64,1.8124999999999998,0.828125]
[3,14,100,26,80,1.29,0.51,100,1,0.64,2.015625,0.796875]
[3,15.2,100,26,90,1.42,0.49,100,1,0.64,2.21875,0.765625]
[3,16.100000000000001,100,26,99,1.53,0.48,100,1,0.64,2.390625,0.75]
[3,6,100,26,1,0.69,0.69,200,0,0.69,1,1]
[3,7.6,100,26,50,1.07,0.65,200,1,0.69,1.5507246376811596,0.94202898550724645]
[3,8.1999999999999993,100,26,60,1.22,0.64,200,1,0.69,1.7681159420289856,0.92753623188405809]
[3,8.9,100,26,70,1.37,0.63,200,1,0.69,1.985507246376812,0.91304347826086962]
[3,9.5,100,26,80,1.52,0.62,200,1,0.69,2.2028985507246377,0.89855072463768126]
[3,10.199999999999999,100,26,90,1.67,0.61,200,1,0.69,2.4202898550724639,0.88405797101449279]
[3,10.7,100,26,99,1.81,0.6,200,1,0.69,2.6231884057971016,0.86956521739130443]
[3,5,100,26,1,0.7,0.7,300,0,0.7,1,1]
[3,6.2,100,26,50,1.1100000000000001,0.67,300,1,0.7,1.5857142857142859,0.9571428571428573]
[3,6.6,100,26,60,1.26,0.67,300,1,0.7,1.8,0.9571428571428573]
[3,7.1,100,26,70,1.42,0.66,300,1,0.7,2.0285714285714285,0.94285714285714295]
[3,7.5,100,26,80,1.58,0.65,300,1,0.7,2.2571428571428576,0.92857142857142871]
[3,8,100,26,90,1.74,0.64,300,1,0.7,2.4857142857142858,0.91428571428571437]
[3,8.4,100,26,99,1.88,0.63,300,1,0.7,2.6857142857142859,0.9]
[3,8.8000000000000007,100,27,1,0.67,0.67,100,0,0.67,1,1]
[3,11.3,100,27,50,0.97,0.59,100,1,0.67,1.4477611940298507,0.88059701492537301]
[3,12.4,100,27,60,1.1000000000000001,0.56999999999999995,100,{"$f":"IF(F150<>G150,1,0)","v":1},0.67,{"$f":"F150/J150","v":1.6417910447761195},0.85074626865671632]
[3,13.6,100,27,70,1.24,0.55000000000000004,100,1,0.67,1.8507462686567162,{"$f":"G151/J151","v":0.82089552238805974}]
[3,14.8,100,27,80,1.37,0.53,100,1,0.67,2.044776119402985,0.79104477611940294]
[3,15.9,100,27,90,1.51,0.51,100,1,{"$f":"IF(F153/G153=1,F153,J152)","v":0.67},2.2537313432835822,0.76119402985074625]
[3,17,100,27,99,1.63,0.49,100,1,0.67,2.4328358208955221,0.73134328358208944]
[3,6.1,100,27,1,0.72,0.72,200,0,0.72,1,1]
[3,7.9,100,27,50,1.1399999999999999,0.68,200,1,0.72,1.5833333333333333,0.94444444444444453]
[3,8.6,100,27,60,1.3,0.66,200,1,0.72,1.8055555555555556,0.91666666666666674]
[3,9.1999999999999993,100,27,70,1.46,0.65,200,1,0.72,2.0277777777777777,0.90277777777777779]
[3,9.9,100,27,80,1.62,0.64,200,1,0.72,2.2500000000000004,0.88888888888888895]
[3,10.6,100,27,90,1.78,0.63,200,1,0.72,2.4722222222222223,0.875]
[3,11.2,100,27,99,1.92,0.62,200,1,0.72,2.6666666666666665,0.86111111111111116]
[3,5.0999999999999996,100,27,1,0.73,0.73,300,0,0.73,1,1]
[3,6.4,100,27,50,1.18,0.7,300,1,0.73,1.6164383561643836,0.95890410958904104]
[3,6.9,100,27,60,1.35,0.69,300,1,0.73,1.8493150684931507,0.9452054794520548]
[3,7.3,100,27,70,1.52,0.68,300,1,0.73,2.0821917808219177,0.93150684931506855]
[3,7.8,100,27,80,1.68,0.67,300,1,0.73,2.3013698630136985,0.91780821917808231]
[3,8.3000000000000007,100,27,90,1.85,0.67,300,1,0.73,2.5342465753424661,0.91780821917808231]
[3,8.6999999999999993,100,27,99,2,0.66,300,1,0.73,2.7397260273972601,0.90410958904109595]
[3,9,170,21,1,0.7,0.7,100,0,0.7,1,1]
[3,9.6999999999999993,170,21,50,0.78,0.64,100,1,0.7,1.1142857142857143,0.91428571428571437]
[3,10.7,170,21,60,0.9,0.6,100,1,0.7,1.2857142857142858,0.85714285714285721]
[3,11.7,170,21,70,1.02,0.56000000000000005,100,1,0.7,1.4571428571428573,0.80000000000000016]
[3,12.7,170,21,80,1.1299999999999999,0.53,100,1,0.7,1.6142857142857143,0.75714285714285723]
[3,13.7,170,21,90,1.25,0.49,100,1,0.7,1.7857142857142858,0.70000000000000007]
[3,14.6,170,21,99,1.36,0.46,100,1,0.7,1.9428571428571431,0.65714285714285725]
[3,6.5,170,21,1,0.81,0.81,200,0,0.81,1,1]
[3,7.4,170,21,50,1.03,0.75,200,1,0.81,1.2716049382716048,0.92592592592592582]
[3,8.1,170,21,60,1.18,0.73,200,1,0.81,1.4567901234567899,0.90123456790123446]
[3,8.6999999999999993,170,21,70,1.34,0.71,200,1,0.81,1.654320987654321,0.87654320987654311]
[3,9.4,170,21,80,1.5,0.68,200,1,0.81,1.8518518518518516,0.83950617283950613]
[3,10.1,170,21,90,1.66,0.66,200,1,0.81,2.0493827160493825,0.81481481481481477]
[3,10.7,170,21,99,1.8,0.64,200,1,0.81,2.2222222222222223,0.79012345679012341]
[3,5.4,170,21,1,0.84,0.84,300,0,0.84,1,1]
[3,6.2,170,21,50,1.1100000000000001,0.79,300,1,0.84,1.3214285714285716,0.94047619047619058]
[3,6.7,170,21,60,1.28,0.78,300,1,0.84,1.5238095238095239,0.9285714285714286]
[3,7.1,170,21,70,1.45,0.76,300,1,0.84,1.7261904761904763,0.90476190476190477]
[3,7.6,170,21,80,1.62,0.74,300,1,0.84,1.9285714285714288,0.88095238095238093]
[3,8.1,170,21,90,1.79,0.73,300,1,0.84,2.1309523809523809,0.86904761904761907]
[3,8.6,170,21,99,1.95,0.71,300,1,0.84,2.3214285714285716,0.84523809523809523]
[3,9.4,170,22,1,0.74,0.74,100,0,0.74,1,1]
[3,10.3,170,22,50,0.85,0.66,100,1,0.74,1.1486486486486487,0.891891891891892]
[3,11.3,170,22,60,0.97,0.62,100,1,0.74,1.3108108108108107,0.83783783783783783]
[3,12.4,170,22,70,1.1000000000000001,0.59,100,1,0.74,1.4864864864864866,0.79729729729729726]
[3,13.5,170,22,80,1.22,0.55000000000000004,100,1,0.74,1.6486486486486487,0.74324324324324331]
[3,14.5,170,22,90,1.35,0.51,100,1,0.74,1.8243243243243246,0.68918918918918926]
[3,15.5,170,22,99,1.46,0.48,100,1,0.74,1.972972972972973,0.64864864864864868]
[3,6.6,170,22,1,0.85,0.85,200,0,0.85,1,1]
[3,7.8,170,22,50,1.1200000000000001,0.79,200,1,0.85,1.3176470588235296,0.92941176470588238]
[3,8.5,170,22,60,1.28,0.76,200,1,0.85,1.5058823529411764,0.89411764705882357]
[3,9.1999999999999993,170,22,70,1.45,0.74,200,1,0.85,1.7058823529411764,0.87058823529411766]
[3,9.9,170,22,80,1.61,0.72,200,1,0.85,1.8941176470588237,0.84705882352941175]
[3,10.6,170,22,90,1.78,0.69,200,1,0.85,2.0941176470588236,0.81176470588235294]
[3,11.3,170,22,99,1.93,0.67,200,1,0.85,2.2705882352941176,0.78823529411764715]
[3,5.5,170,22,1,0.88,0.88,300,0,0.88,1,1]
[3,6.4,170,22,50,1.21,0.83,300,1,0.88,1.375,0.94318181818181812]
[3,7,170,22,60,1.39,0.81,300,1,0.88,1.5795454545454544,0.92045454545454553]
[3,7.5,170,22,70,1.57,0.8,300,1,0.88,1.7840909090909092,0.90909090909090917]
[3,8,170,22,80,1.75,0.78,300,1,0.88,1.9886363636363635,0.88636363636363635]
[3,8.5,170,22,90,1.93,0.76,300,1,0.88,2.1931818181818179,0.86363636363636365]
[3,9,170,22,99,2.09,0.74,300,1,0.88,2.375,0.84090909090909094]
[3,9.6999999999999993,170,23,1,0.78,0.78,100,0,0.78,1,1]
[3,10.8,170,23,50,0.91,0.69,100,1,0.78,1.1666666666666667,0.88461538461538447]
[3,12,170,23,60,1.05,0.65,100,1,0.78,1.3461538461538463,0.83333333333333337]
[3,13.1,170,23,70,1.18,0.61,100,{"$f":"IF(F214<>G214,1,0)","v":1},0.78,{"$f":"F214/J214","v":1.5128205128205128},0.78205128205128205]
[3,14.3,170,23,80,1.31,0.56999999999999995,100,1,0.78,1.6794871794871795,{"$f":"G215/J215","v":0.73076923076923073}]
[3,15.4,170,23,90,1.44,0.53,100,1,0.78,1.846153846153846,0.67948717948717952]
[3,16.399999999999999,170,23,99,1.56,0.5,100,1,{"$f":"IF(F217/G217=1,F217,J216)","v":0.78},2,0.64102564102564097]
[3,6.8,170,23,1,0.89,0.89,200,0,0.89,1,1]
[3,8.1999999999999993,170,23,50,1.2,0.82,200,1,0.89,1.348314606741573,0.92134831460674149]
[3,8.9,170,23,60,1.38,0.8,200,1,0.89,1.5505617977528088,0.89887640449438211]
[3,9.6999999999999993,170,23,70,1.56,0.77,200,1,0.89,1.752808988764045,0.8651685393258427]
[3,10.4,170,23,80,1.74,0.75,200,1,0.89,1.9550561797752808,0.84269662921348309]
[3,11.2,170,23,90,1.91,0.72,200,1,0.89,2.1460674157303368,0.8089887640449438]
[3,11.9,170,23,99,2.0699999999999998,0.7,200,1,0.89,2.3258426966292132,0.78651685393258419]
[3,5.6,170,23,1,0.93,0.93,300,0,0.93,1,1]
[3,6.7,170,23,50,1.31,0.87,300,1,0.93,1.4086021505376345,0.93548387096774188]
[3,7.3,170,23,60,1.5,0.85,300,1,0.93,1.6129032258064515,0.91397849462365588]
[3,7.8,170,23,70,1.69,0.83,300,1,0.93,1.8172043010752688,0.89247311827956977]
[3,8.4,170,23,80,1.88,0.81,300,1,0.93,2.021505376344086,0.87096774193548387]
[3,8.9,170,23,90,2.0699999999999998,0.79,300,1,0.93,2.225806451612903,0.84946236559139787]
[3,9.4,170,23,99,2.25,0.78,300,1,0.93,2.4193548387096775,0.83870967741935487]
[3,10,170,24,1,0.82,0.82,100,0,0.82,1,1]
[3,11.4,170,24,50,0.98,0.72,100,1,0.82,1.1951219512195121,0.87804878048780488]
[3,12.7,170,24,60,1.1299999999999999,0.67,100,1,0.82,1.3780487804878048,0.81707317073170738]
[3,13.9,170,24,70,1.27,0.63,100,1,0.82,1.5487804878048781,0.76829268292682928]
[3,15.1,170,24,80,1.41,0.59,100,1,0.82,1.7195121951219512,0.71951219512195119]
[3,16.3,170,24,90,1.55,0.55000000000000004,100,1,0.82,1.8902439024390245,0.67073170731707321]
[3,17.3,170,24,99,1.67,0.51,100,1,0.82,2.0365853658536586,0.62195121951219512]
[3,7,170,24,1,0.94,0.94,200,0,0.94,1,1]
[3,8.6,170,24,50,1.3,0.86,200,1,0.94,1.3829787234042554,0.91489361702127658]
[3,9.4,170,24,60,1.49,0.83,200,1,0.94,1.5851063829787235,0.88297872340425532]
[3,10.199999999999999,170,24,70,1.67,0.8,200,1,0.94,1.7765957446808511,0.85106382978723416]
[3,11,170,24,80,1.86,0.78,200,1,0.94,1.9787234042553195,0.82978723404255328]
[3,11.8,170,24,90,2.0499999999999998,0.75,200,1,0.94,2.1808510638297873,0.79787234042553201]
[3,12.5,170,24,99,2.2200000000000002,0.73,200,1,0.94,2.3617021276595747,0.77659574468085113]
[3,5.8,170,24,1,0.97,0.97,300,0,0.97,1,1]
[3,7,170,24,50,1.41,0.91,300,1,0.97,1.4536082474226804,0.93814432989690733]
[3,7.6,170,24,60,1.61,0.89,300,1,0.97,1.6597938144329898,0.91752577319587636]
[3,8.1999999999999993,170,24,70,1.81,0.87,300,1,0.97,1.865979381443299,0.89690721649484539]
[3,8.8000000000000007,170,24,80,2.02,0.85,300,1,0.97,2.0824742268041239,0.87628865979381443]
[3,9.3000000000000007,170,24,90,2.2200000000000002,0.83,300,1,0.97,2.2886597938144333,0.85567010309278346]
[3,9.9,170,24,99,2.4,0.81,300,1,0.97,2.4742268041237114,0.83505154639175261]
[3,10.3,170,25,1,0.86,0.86,100,0,0.86,1,1]
[3,12.1,170,25,50,1.06,0.74,100,1,0.86,1.2325581395348839,0.86046511627906974]
[3,13.4,170,25,60,1.21,0.7,100,1,0.86,1.4069767441860466,0.81395348837209303]
[3,14.6,170,25,70,1.36,0.65,100,1,0.86,1.5813953488372094,0.7558139534883721]
[3,15.9,170,25,80,1.5,0.61,100,1,0.86,1.7441860465116279,0.70930232558139539]
[3,17.2,170,25,90,1.65,0.56999999999999995,100,1,0.86,1.9186046511627906,0.66279069767441856]
[3,18.3,170,25,99,1.78,0.53,100,1,0.86,2.0697674418604652,0.61627906976744196]
[3,7.2,170,25,1,0.98,0.98,200,0,0.98,1,1]
[3,9,170,25,50,1.39,0.89,200,1,0.98,1.4183673469387754,0.90816326530612246]
[3,9.8000000000000007,170,25,60,1.59,0.86,200,1,0.98,1.6224489795918369,0.87755102040816324]
[3,10.7,170,25,70,1.79,0.83,200,1,0.98,1.8265306122448981,0.84693877551020402]
[3,11.5,170,25,80,1.99,0.81,200,1,0.98,2.0306122448979593,0.82653061224489799]
[3,12.4,170,25,90,2.19,0.78,200,1,0.98,2.2346938775510203,0.79591836734693877]
[3,13.2,170,25,99,2.37,0.75,200,1,0.98,2.4183673469387759,0.76530612244897955]
[3,5.9,170,25,1,1.02,1.02,300,0,1.02,1,1]
[3,7.3,170,25,50,1.51,0.94,300,1,1.02,1.4803921568627452,0.92156862745098034]
[3,7.9,170,25,60,1.72,0.92,300,1,1.02,1.6862745098039216,0.90196078431372551]
[3,8.5,170,25,70,1.94,0.9,300,1,1.02,1.9019607843137254,0.88235294117647056]
[3,9.1999999999999993,170,25,80,2.16,0.88,300,1,1.02,2.1176470588235294,0.86274509803921573]
[3,9.8000000000000007,170,25,90,2.38,0.86,300,1,1.02,2.333333333333333,0.84313725490196079]
[3,10.3,170,25,99,2.57,0.84,300,1,1.02,2.5196078431372548,0.82352941176470584]
[3,10.7,170,26,1,0.9,0.9,100,0,0.9,1,1]
[3,12.7,170,26,50,1.1299999999999999,0.77,100,1,0.9,1.2555555555555553,0.85555555555555551]
[3,14.1,170,26,60,1.29,0.72,100,1,0.9,1.4333333333333333,0.79999999999999993]
[3,15.4,170,26,70,1.45,0.67,100,1,0.9,1.6111111111111109,0.74444444444444446]
[3,16.7,170,26,80,1.6,0.63,100,{"$f":"IF(F278<>G278,1,0)","v":1},0.9,{"$f":"F278/J278","v":1.7777777777777779},0.7]
[3,18.100000000000001,170,26,90,1.76,0.57999999999999996,100,1,0.9,1.9555555555555555,{"$f":"G279/J279","v":0.64444444444444438}]
[3,19.3,170,26,99,1.89,0.54,100,1,0.9,2.0999999999999996,0.6]
[3,7.4,170,26,1,1.02,1.02,200,0,{"$f":"IF(F281/G281=1,F281,J280)","v":1.02},1,1]
[3,9.4,170,26,50,1.49,0.92,200,1,1.02,1.4607843137254901,0.90196078431372551]
[3,10.3,170,26,60,1.7,0.89,200,1,1.02,1.6666666666666665,0.87254901960784315]
[3,11.2,170,26,70,1.91,0.86,200,1,1.02,1.8725490196078429,0.84313725490196079]
[3,12.1,170,26,80,2.12,0.83,200,1,1.02,2.0784313725490198,0.81372549019607843]
[3,13,170,26,90,2.34,0.81,200,1,1.02,2.2941176470588234,0.79411764705882359]
[3,13.8,170,26,99,2.5299999999999998,0.78,200,1,1.02,2.4803921568627447,0.76470588235294124]
[3,6,170,26,1,1.06,1.06,300,0,1.06,1,1]
[3,7.6,170,26,50,1.61,0.98,300,1,1.06,1.5188679245283019,0.92452830188679236]
[3,8.3000000000000007,170,26,60,1.84,0.96,300,1,1.06,1.7358490566037736,0.90566037735849048]
[3,8.9,170,26,70,2.0699999999999998,0.94,300,1,1.06,1.952830188679245,0.88679245283018859]
[3,9.6,170,26,80,2.2999999999999998,0.91,300,1,1.06,2.1698113207547167,0.85849056603773588]
[3,10.199999999999999,170,26,90,2.5299999999999998,0.89,300,1,1.06,2.3867924528301883,0.83962264150943389]
[3,10.8,170,26,99,2.74,0.87,300,1,1.06,2.5849056603773586,0.820754716981132]
[3,11,170,27,1,0.93,0.93,100,0,0.93,1,1]
[3,13.4,170,27,50,1.21,0.79,100,1,0.93,1.3010752688172043,0.84946236559139787]
[3,14.8,170,27,60,1.37,0.74,100,1,0.93,1.4731182795698925,0.79569892473118276]
[3,16.2,170,27,70,1.54,0.69,100,1,0.93,1.6559139784946235,0.74193548387096764]
[3,17.600000000000001,170,27,80,1.7,0.64,100,1,0.93,1.8279569892473118,0.68817204301075263]
[3,19,170,27,90,1.87,0.6,100,1,0.93,2.010752688172043,0.64516129032258063]
[3,20.3,170,27,99,2.0099999999999998,0.56000000000000005,100,1,0.93,2.161290322580645,0.60215053763440862]
[3,7.6,170,27,1,1.06,1.06,200,0,1.06,1,1]
[3,9.8000000000000007,170,27,50,1.59,0.96,200,1,1.06,1.5,0.90566037735849048]
[3,10.8,170,27,60,1.82,0.93,200,1,1.06,1.7169811320754718,0.87735849056603776]
[3,11.7,170,27,70,2.04,0.89,200,1,1.06,1.9245283018867925,0.83962264150943389]
[3,12.7,170,27,80,2.2599999999999998,0.86,200,1,1.06,2.132075471698113,0.81132075471698106]
[3,13.7,170,27,90,2.4900000000000002,0.83,200,1,1.06,2.3490566037735849,0.78301886792452824]
[3,14.5,170,27,99,2.69,0.8,200,1,1.06,2.5377358490566038,0.75471698113207553]
[3,6.2,170,27,1,1.1000000000000001,1.1000000000000001,300,0,1.1000000000000001,1,1]
[3,7.9,170,27,50,1.73,1.02,300,1,1.1000000000000001,1.5727272727272725,0.92727272727272725]
[3,8.6,170,27,60,1.97,0.99,300,1,1.1000000000000001,1.7909090909090908,0.89999999999999991]
[3,9.3000000000000007,170,27,70,2.21,0.97,300,1,1.1000000000000001,2.0090909090909088,0.88181818181818172]
[3,10,170,27,80,2.4500000000000002,0.94,300,1,1.1000000000000001,2.2272727272727271,0.85454545454545439]
[3,10.7,170,27,90,2.7,0.92,300,1,1.1000000000000001,2.4545454545454546,0.83636363636363631]
[3,11.3,170,27,99,2.92,0.9,300,1,1.1000000000000001,2.6545454545454543,0.81818181818181812]
[3,10.1,240,21,1,0.83,0.83,100,0,0.83,1,1]
[3,10.4,240,21,50,0.86,0.76,100,1,0.83,1.036144578313253,0.9156626506024097]
[3,11.5,240,21,60,0.99,0.7,100,1,0.83,1.1927710843373494,0.84337349397590355]
[3,12.6,240,21,70,1.1200000000000001,0.64,100,1,0.83,1.3493975903614459,0.77108433734939763]
[3,13.7,240,21,80,1.25,0.59,100,1,0.83,1.5060240963855422,0.71084337349397586]
[3,14.8,240,21,90,1.38,0.54,100,1,0.83,1.6626506024096386,0.65060240963855431]
[3,15.8,240,21,99,1.49,0.49,100,1,0.83,1.7951807228915664,0.59036144578313254]
[3,7.3,240,21,1,0.99,0.99,200,0,0.99,1,1]
[3,8.1999999999999993,240,21,50,1.21,0.91,200,1,0.99,1.2222222222222221,0.91919191919191923]
[3,9,240,21,60,1.4,0.88,200,1,0.99,1.4141414141414141,0.88888888888888895]
[3,9.8000000000000007,240,21,70,1.58,0.84,200,1,0.99,1.595959595959596,0.84848484848484851]
[3,10.6,240,21,80,1.77,0.8,200,1,0.99,1.7878787878787878,0.80808080808080818]
[3,11.4,240,21,90,1.95,0.76,200,1,0.99,1.9696969696969697,0.76767676767676774]
[3,12.1,240,21,99,2.12,0.73,200,1,0.99,2.1414141414141414,0.73737373737373735]
[3,6,240,21,1,1.05,1.05,300,0,1.05,1,1]
[3,6.9,240,21,50,1.35,0.98,300,1,1.05,1.2857142857142858,0.93333333333333324]
[3,7.5,240,21,60,1.56,0.95,300,1,1.05,1.4857142857142858,0.90476190476190466]
[3,8,240,21,70,1.77,0.92,300,1,1.05,1.6857142857142857,0.87619047619047619]
[3,8.6,240,21,80,1.97,0.89,300,1,1.05,1.8761904761904762,0.84761904761904761]
[3,9.1999999999999993,240,21,90,2.1800000000000002,0.86,300,1,1.05,2.0761904761904764,0.81904761904761902]
[3,9.8000000000000007,240,21,99,2.37,0.84,300,1,1.05,2.2571428571428571,0.79999999999999993]
[3,10.5,240,22,1,0.87,0.87,100,0,0.87,1,1]
[3,11,240,22,50,0.94,0.79,100,1,0.87,1.0804597701149425,0.90804597701149425]
[3,12.2,240,22,60,1.07,0.73,100,1,0.87,1.2298850574712645,0.83908045977011492]
[3,13.4,240,22,70,1.21,0.67,100,1,0.87,1.3908045977011494,0.77011494252873569]
[3,14.5,240,22,80,1.35,0.61,100,1,0.87,1.5517241379310347,0.70114942528735635]
[3,15.7,240,22,90,1.48,0.56000000000000005,100,{"$f":"IF(F342<>G342,1,0)","v":1},0.87,{"$f":"F342/J342","v":1.7011494252873562},0.64367816091954033]
[3,16.7,240,22,99,1.6,0.51,100,1,0.87,1.8390804597701151,{"$f":"G343/J343","v":0.5862068965517242}]
[3,7.5,240,22,1,1.05,1.05,200,0,1.05,1,1]
[3,8.6,240,22,50,1.32,0.96,200,1,{"$f":"IF(F345/G345=1,F345,J344)","v":1.05},1.2571428571428571,0.91428571428571426]
[3,9.5,240,22,60,1.51,0.92,200,1,1.05,1.4380952380952381,0.87619047619047619]
[3,10.3,240,22,70,1.71,0.88,200,1,1.05,1.6285714285714286,0.83809523809523812]
[3,11.2,240,22,80,1.9,0.83,200,1,1.05,1.8095238095238093,0.79047619047619044]
[3,12,240,22,90,2.1,0.8,200,1,1.05,2,0.76190476190476186]
[3,12.8,240,22,99,2.2799999999999998,0.76,200,1,1.05,2.1714285714285713,0.72380952380952379]
[3,6.2,240,22,1,1.1100000000000001,1.1100000000000001,300,0,1.1100000000000001,1,1]
[3,7.2,240,22,50,1.47,1.02,300,1,1.1100000000000001,1.3243243243243241,0.91891891891891886]
[3,7.8,240,22,60,1.69,0.99,300,1,1.1100000000000001,1.5225225225225223,0.89189189189189177]
[3,8.5,240,22,70,1.91,0.96,300,1,1.1100000000000001,1.7207207207207205,0.8648648648648648]
[3,9.1,240,22,80,2.13,0.93,300,1,1.1100000000000001,1.9189189189189186,0.83783783783783783]
[3,9.6999999999999993,240,22,90,2.35,0.9,300,1,1.1100000000000001,2.1171171171171168,0.81081081081081074]
[3,10.3,240,22,99,2.5499999999999998,0.87,300,1,1.1100000000000001,2.2972972972972969,0.78378378378378366]
[3,10.9,240,23,1,0.92,0.92,100,0,0.92,1,1]
[3,11.7,240,23,50,1.01,0.82,100,1,0.92,1.0978260869565217,0.89130434782608692]
[3,12.9,240,23,60,1.1599999999999999,0.76,100,1,0.92,1.2608695652173911,0.82608695652173914]
[3,14.2,240,23,70,1.3,0.69,100,1,0.92,1.4130434782608696,0.74999999999999989]
[3,15.4,240,23,80,1.44,0.63,100,1,0.92,1.5652173913043477,0.68478260869565211]
[3,16.600000000000001,240,23,90,1.59,0.57999999999999996,100,1,0.92,1.7282608695652173,0.63043478260869557]
[3,17.7,240,23,99,1.71,0.52,100,1,0.92,1.8586956521739129,0.56521739130434778]
[3,7.7,240,23,1,1.1000000000000001,1.1000000000000001,200,0,1.1000000000000001,1,1]
[3,9.1,240,23,50,1.42,1,200,1,1.1000000000000001,1.2909090909090908,0.90909090909090906]
[3,10,240,23,60,1.63,0.95,200,1,1.1000000000000001,1.4818181818181817,0.86363636363636354]
[3,10.9,240,23,70,1.84,0.91,200,1,1.1000000000000001,1.6727272727272726,0.82727272727272727]
[3,11.8,240,23,80,2.0499999999999998,0.87,200,1,1.1000000000000001,1.8636363636363633,0.79090909090909089]
[3,12.7,240,23,90,2.2599999999999998,0.83,200,1,1.1000000000000001,2.0545454545454542,0.75454545454545441]
[3,13.5,240,23,99,2.44,0.79,200,1,1.1000000000000001,2.2181818181818178,0.71818181818181814]
[3,6.3,240,23,1,1.1599999999999999,1.1599999999999999,300,0,1.1599999999999999,1,1]
[3,7.5,240,23,50,1.59,1.07,300,1,1.1599999999999999,1.3706896551724139,0.9224137931034484]
[3,8.1999999999999993,240,23,60,1.82,1.04,300,1,1.1599999999999999,1.5689655172413794,0.89655172413793116]
[3,8.9,240,23,70,2.06,1,300,1,1.1599999999999999,1.7758620689655173,0.86206896551724144]
[3,9.5,240,23,80,2.29,0.97,300,1,1.1599999999999999,1.9741379310344829,0.8362068965517242]
[3,10.199999999999999,240,23,90,2.52,0.94,300,1,1.1599999999999999,2.1724137931034484,0.81034482758620696]
[3,10.8,240,23,99,2.73,0.91,300,1,1.1599999999999999,2.353448275862069,0.78448275862068972]
[3,11.3,240,24,1,0.97,0.97,100,0,0.97,1,1]
[3,12.3,240,24,50,1.0900000000000001,0.85,100,1,0.97,1.1237113402061856,0.87628865979381443]
[3,13.7,240,24,60,1.24,0.78,100,1,0.97,1.2783505154639176,0.80412371134020622]
[3,15,240,24,70,1.39,0.72,100,1,0.97,1.4329896907216495,0.74226804123711343]
[3,16.3,240,24,80,1.55,0.65,100,1,0.97,1.597938144329897,0.67010309278350522]
[3,17.600000000000001,240,24,90,1.7,0.59,100,1,0.97,1.7525773195876289,0.60824742268041232]
[3,18.7,240,24,99,1.83,0.54,100,1,0.97,1.8865979381443301,0.55670103092783507]
[3,7.9,240,24,1,1.1599999999999999,1.1599999999999999,200,0,1.1599999999999999,1,1]
[3,9.6,240,24,50,1.53,1.03,200,1,1.1599999999999999,1.3189655172413794,0.88793103448275867]
[3,10.5,240,24,60,1.75,0.99,200,1,1.1599999999999999,1.5086206896551726,0.85344827586206906]
[3,11.5,240,24,70,1.97,0.95,200,1,1.1599999999999999,1.6982758620689655,0.81896551724137934]
[3,12.4,240,24,80,2.19,0.9,200,1,1.1599999999999999,1.8879310344827587,0.77586206896551735]
[3,13.4,240,24,90,2.42,0.86,200,1,1.1599999999999999,2.0862068965517242,0.74137931034482762]
[3,14.2,240,24,99,2.61,0.82,200,1,1.1599999999999999,2.25,0.7068965517241379]
[3,6.5,240,24,1,1.22,1.22,300,0,1.22,1,1]
[3,7.9,240,24,50,1.71,1.1100000000000001,300,1,1.22,1.401639344262295,0.90983606557377061]
[3,8.6,240,24,60,1.96,1.08,300,1,1.22,1.6065573770491803,0.88524590163934436]
[3,9.3000000000000007,240,24,70,2.21,1.04,300,1,1.22,1.8114754098360655,0.85245901639344268]
[3,10,240,24,80,2.4500000000000002,1.01,300,1,1.22,2.0081967213114758,0.82786885245901642]
[3,10.7,240,24,90,2.7,0.97,300,1,1.22,2.2131147540983607,0.79508196721311475]
[3,11.4,240,24,99,2.93,0.94,300,1,1.22,2.4016393442622954,0.77049180327868849]
[3,11.7,240,25,1,1.01,1.01,100,0,1.01,1,1]
[3,13,240,25,50,1.17,0.87,100,1,1.01,1.1584158415841583,0.86138613861386137]
[3,14.4,240,25,60,1.33,0.81,100,1,1.01,1.3168316831683169,0.80198019801980203]
[3,15.8,240,25,70,1.49,0.74,100,1,1.01,1.4752475247524752,0.73267326732673266]
[3,17.2,240,25,80,1.65,0.67,100,1,1.01,1.6336633663366336,0.6633663366336634]
[3,18.5,240,25,90,1.81,0.61,100,1,1.01,1.7920792079207921,0.60396039603960394]
[3,19.7,240,25,99,1.95,0.55000000000000004,100,{"$f":"IF(F406<>G406,1,0)","v":1},1.01,{"$f":"F406/J406","v":1.9306930693069306},0.54455445544554459]
[3,8.1999999999999993,240,25,1,1.21,1.21,200,0,1.21,1,{"$f":"G407/J407","v":1}]
[3,10.1,240,25,50,1.65,1.07,200,1,1.21,1.3636363636363635,0.88429752066115708]
[3,11.1,240,25,60,1.88,1.03,200,1,{"$f":"IF(F409/G409=1,F409,J408)","v":1.21},1.5537190082644627,0.85123966942148765]
[3,12.1,240,25,70,2.11,0.98,200,1,1.21,1.7438016528925619,0.80991735537190079]
[3,13.1,240,25,80,2.35,0.93,200,1,1.21,1.9421487603305787,0.76859504132231415]
[3,14.1,240,25,90,2.58,0.89,200,1,1.21,2.1322314049586777,0.73553719008264462]
[3,15,240,25,99,2.79,0.85,200,1,1.21,2.3057851239669422,0.7024793388429752]
[3,6.6,240,25,1,1.27,1.27,300,0,1.27,1,1]
[3,8.1999999999999993,240,25,50,1.84,1.1599999999999999,300,1,1.27,1.4488188976377954,0.91338582677165348]
[3,9,240,25,60,2.1,1.1200000000000001,300,1,1.27,1.6535433070866141,0.88188976377952766]
[3,9.8000000000000007,240,25,70,2.36,1.08,300,1,1.27,1.8582677165354329,0.85039370078740162]
[3,10.5,240,25,80,2.63,1.05,300,1,1.27,2.0708661417322833,0.82677165354330706]
[3,11.3,240,25,90,2.89,1.01,300,1,1.27,2.2755905511811023,0.79527559055118113]
[3,11.9,240,25,99,3.13,0.98,300,1,1.27,2.4645669291338583,0.77165354330708658]
[3,12.1,240,26,1,1.06,1.06,100,0,1.06,1,1]
[3,13.7,240,26,50,1.25,0.9,100,1,1.06,1.1792452830188678,0.84905660377358494]
[3,15.2,240,26,60,1.42,0.83,100,1,1.06,1.3396226415094339,0.78301886792452824]
[3,16.600000000000001,240,26,70,1.59,0.76,100,1,1.06,1.5,0.71698113207547165]
[3,18.100000000000001,240,26,80,1.76,0.69,100,1,1.06,1.6603773584905659,0.65094339622641506]
[3,19.5,240,26,90,1.92,0.62,100,1,1.06,1.811320754716981,0.58490566037735847]
[3,20.7,240,26,99,2.0699999999999998,0.56000000000000005,100,1,1.06,1.952830188679245,0.52830188679245282]
[3,8.4,240,26,1,1.26,1.26,200,0,1.26,1,1]
[3,10.6,240,26,50,1.76,1.1100000000000001,200,1,1.26,1.3968253968253967,0.88095238095238104]
[3,11.6,240,26,60,2.0099999999999998,1.06,200,1,1.26,1.5952380952380951,0.84126984126984128]
[3,12.7,240,26,70,2.2599999999999998,1.01,200,1,1.26,1.7936507936507935,0.80158730158730163]
[3,13.7,240,26,80,2.5099999999999998,0.96,200,1,1.26,1.9920634920634919,0.76190476190476186]
[3,14.8,240,26,90,2.75,0.91,200,1,1.26,2.1825396825396823,0.72222222222222221]
[3,15.8,240,26,99,2.97,0.87,200,1,1.26,2.3571428571428572,0.69047619047619047]
[3,6.8,240,26,1,1.33,1.33,300,0,1.33,1,1]
[3,8.6,240,26,50,1.97,1.2,300,1,1.33,1.481203007518797,0.90225563909774431]
[3,9.4,240,26,60,2.25,1.1599999999999999,300,1,1.33,1.6917293233082706,0.87218045112781939]
[3,10.199999999999999,240,26,70,2.5299999999999998,1.1200000000000001,300,1,1.33,1.9022556390977441,0.8421052631578948]
[3,11,240,26,80,2.8,1.08,300,1,1.33,2.1052631578947367,0.81203007518796988]
[3,11.8,240,26,90,3.08,1.04,300,1,1.33,2.3157894736842106,0.78195488721804507]
[3,12.5,240,26,99,3.34,1.01,300,1,1.33,2.5112781954887216,0.75939849624060152]
[3,12.5,240,27,1,1.1000000000000001,1.1000000000000001,100,0,1.1000000000000001,1,1]
[3,14.4,240,27,50,1.33,0.93,100,1,1.1000000000000001,1.209090909090909,0.84545454545454546]
[3,16,240,27,60,1.51,0.85,100,1,1.1000000000000001,1.3727272727272726,0.7727272727272726]
[3,17.5,240,27,70,1.69,0.78,100,1,1.1000000000000001,1.5363636363636362,0.70909090909090911]
[3,19,240,27,80,1.87,0.71,100,1,1.1000000000000001,1.7,0.64545454545454539]
[3,20.5,240,27,90,2.04,0.64,100,1,1.1000000000000001,1.8545454545454545,0.58181818181818179]
[3,21.8,240,27,99,2.19,0.57999999999999996,100,1,1.1000000000000001,1.9909090909090907,0.52727272727272723]
[3,8.6,240,27,1,1.32,1.32,200,0,1.32,1,1]
[3,11.1,240,27,50,1.88,1.1499999999999999,200,1,1.32,1.4242424242424241,0.8712121212121211]
[3,12.2,240,27,60,2.14,1.1000000000000001,200,1,1.32,1.6212121212121213,0.83333333333333337]
[3,13.3,240,27,70,2.41,1.04,200,1,1.32,1.8257575757575757,0.78787878787878785]
[3,14.4,240,27,80,2.67,0.99,200,1,1.32,2.0227272727272725,0.75]
[3,15.6,240,27,90,2.93,0.94,200,1,1.32,2.2196969696969697,0.71212121212121204]
[3,16.600000000000001,240,27,99,3.16,0.9,200,1,1.32,2.393939393939394,0.68181818181818177]
[3,7,240,27,1,1.39,1.39,300,0,1.39,1,1]
[3,9,240,27,50,2.1,1.24,300,1,1.39,1.510791366906475,0.8920863309352518]
[3,9.8000000000000007,240,27,60,2.4,1.2,300,1,1.39,1.7266187050359714,0.86330935251798568]
[3,10.7,240,27,70,2.69,1.1599999999999999,300,1,1.39,1.9352517985611513,0.83453237410071945]
[3,11.5,240,27,80,2.99,1.1200000000000001,300,1,1.39,2.1510791366906479,0.80575539568345333]
[3,12.4,240,27,90,3.29,1.08,300,1,1.39,2.3669064748201443,0.7769784172661871]
[3,13.2,240,27,99,3.55,1.04,300,1,1.39,2.5539568345323742,0.74820143884892099]
[3,10.8,310,21,1,0.92,0.92,100,0,0.92,1,1]
[3,10.8,310,21,50,0.91,0.85,100,1,0.92,0.98913043478260865,0.92391304347826075]
[3,12,310,21,60,1.05,0.78,100,1,0.92,1.1413043478260869,0.84782608695652173]
[3,13.2,310,21,70,1.19,0.71,100,1,0.92,1.2934782608695652,0.77173913043478248]
[3,14.3,310,21,80,1.32,0.64,100,1,0.92,1.4347826086956521,0.69565217391304346]
[3,15.5,310,21,90,1.45,0.56999999999999995,100,1,0.92,1.576086956521739,0.61956521739130421]
[3,16.5,310,21,99,1.57,0.51,100,1,0.92,1.7065217391304348,0.55434782608695654]
[3,7.9,310,21,1,1.1399999999999999,1.1399999999999999,200,{"$f":"IF(F470<>G470,1,0)","v":0},1.1399999999999999,{"$f":"F470/J470","v":1},1]
[3,8.8000000000000007,310,21,50,1.34,1.04,200,1,1.1399999999999999,1.1754385964912282,{"$f":"G471/J471","v":0.91228070175438603}]
[3,9.6,310,21,60,1.55,0.98,200,1,1.1399999999999999,1.3596491228070178,0.85964912280701755]
[3,10.5,310,21,70,1.75,0.93,200,1,{"$f":"IF(F473/G473=1,F473,J472)","v":1.1399999999999999},1.5350877192982457,0.81578947368421062]
[3,11.4,310,21,80,1.95,0.88,200,1,1.1399999999999999,1.7105263157894739,0.77192982456140358]
[3,12.2,310,21,90,2.16,0.83,200,1,1.1399999999999999,1.8947368421052635,0.72807017543859653]
[3,13,310,21,99,2.34,0.79,200,1,1.1399999999999999,2.0526315789473686,0.69298245614035092]
[3,6.5,310,21,1,1.21,1.21,300,0,1.21,1,1]
[3,7.4,310,21,50,1.53,1.1200000000000001,300,1,1.21,1.2644628099173554,0.92561983471074394]
[3,8,310,21,60,1.77,1.08,300,1,1.21,1.4628099173553719,0.89256198347107452]
[3,8.6999999999999993,310,21,70,2,1.04,300,1,1.21,1.6528925619834711,0.85950413223140498]
[3,9.4,310,21,80,2.23,1,300,1,1.21,1.8429752066115703,0.82644628099173556]
[3,10.1,310,21,90,2.4700000000000002,0.96,300,1,1.21,2.0413223140495869,0.79338842975206614]
[3,10.7,310,21,99,2.68,0.92,300,1,1.21,2.2148760330578514,0.76033057851239672]
[3,11.3,310,22,1,0.97,0.97,100,0,0.97,1,1]
[3,11.5,310,22,50,0.99,0.89,100,1,0.97,1.0206185567010309,0.91752577319587636]
[3,12.7,310,22,60,1.1399999999999999,0.81,100,1,0.97,1.1752577319587627,0.83505154639175261]
[3,14,310,22,70,1.28,0.73,100,1,0.97,1.3195876288659794,0.75257731958762886]
[3,15.2,310,22,80,1.42,0.66,100,1,0.97,1.4639175257731958,0.68041237113402064]
[3,16.399999999999999,310,22,90,1.56,0.59,100,1,0.97,1.6082474226804124,0.60824742268041232]
[3,17.5,310,22,99,1.69,0.52,100,1,0.97,1.7422680412371134,0.53608247422680411]
[3,8.1,310,22,1,1.2,1.2,200,0,1.2,1,1]
[3,9.3000000000000007,310,22,50,1.46,1.08,200,1,1.2,1.2166666666666668,0.90000000000000013]
[3,10.199999999999999,310,22,60,1.67,1.03,200,1,1.2,1.3916666666666666,0.85833333333333339]
[3,11.1,310,22,70,1.89,0.97,200,1,1.2,1.575,0.80833333333333335]
[3,12,310,22,80,2.11,0.92,200,1,1.2,1.7583333333333333,0.76666666666666672]
[3,12.9,310,22,90,2.3199999999999998,0.86,200,1,1.2,1.9333333333333333,0.71666666666666667]
[3,13.8,310,22,99,2.5099999999999998,0.82,200,1,1.2,2.0916666666666668,0.68333333333333335]
[3,6.7,310,22,1,1.28,1.28,300,0,1.28,1,1]
[3,7.7,310,22,50,1.66,1.17,300,1,1.28,1.296875,0.91406249999999989]
[3,8.5,310,22,60,1.91,1.1299999999999999,300,1,1.28,1.4921875,0.88281249999999989]
[3,9.1999999999999993,310,22,70,2.16,1.08,300,1,1.28,1.6875,0.84375]
[3,9.9,310,22,80,2.41,1.04,300,1,1.28,1.8828125,0.8125]
[3,10.6,310,22,90,2.66,1,300,1,1.28,2.078125,0.78125]
[3,11.2,310,22,99,2.88,0.96,300,1,1.28,2.25,0.75]
[3,11.7,310,23,1,1.02,1.02,100,0,1.02,1,1]
[3,12.2,310,23,50,1.07,0.92,100,1,1.02,1.0490196078431373,0.90196078431372551]
[3,13.5,310,23,60,1.22,0.84,100,1,1.02,1.196078431372549,0.82352941176470584]
[3,14.8,310,23,70,1.37,0.76,100,1,1.02,1.3431372549019609,0.74509803921568629]
[3,16.100000000000001,310,23,80,1.52,0.68,100,1,1.02,1.4901960784313726,0.66666666666666674]
[3,17.3,310,23,90,1.67,0.6,100,1,1.02,1.6372549019607843,0.58823529411764708]
[3,18.5,310,23,99,1.8,0.54,100,1,1.02,1.7647058823529411,0.52941176470588236]
[3,8.4,310,23,1,1.26,1.26,200,0,1.26,1,1]
[3,9.8000000000000007,310,23,50,1.58,1.1299999999999999,200,1,1.26,1.253968253968254,0.89682539682539675]
[3,10.7,310,23,60,1.81,1.07,200,1,1.26,1.4365079365079365,0.8492063492063493]
[3,11.7,310,23,70,2.0299999999999998,1.01,200,1,1.26,1.6111111111111109,0.80158730158730163]
[3,12.7,310,23,80,2.2599999999999998,0.95,200,1,1.26,1.7936507936507935,0.75396825396825395]
[3,13.7,310,23,90,2.4900000000000002,0.9,200,1,1.26,1.9761904761904763,0.7142857142857143]
[3,14.6,310,23,99,2.69,0.85,200,1,1.26,2.1349206349206349,0.67460317460317454]
[3,6.8,310,23,1,1.35,1.35,300,0,1.35,1,1]
[3,8.1,310,23,50,1.8,1.22,300,1,1.35,1.3333333333333333,0.90370370370370368]
[3,8.9,310,23,60,2.06,1.18,300,1,1.35,1.5259259259259259,0.874074074074074]
[3,9.6,310,23,70,2.33,1.1299999999999999,300,1,1.35,1.7259259259259259,0.83703703703703691]
[3,10.4,310,23,80,2.59,1.08,300,1,1.35,1.9185185185185183,0.8]
[3,11.2,310,23,90,2.86,1.04,300,1,1.35,2.1185185185185182,0.77037037037037037]
[3,11.8,310,23,99,3.09,1,300,1,1.35,2.2888888888888888,0.7407407407407407]
[3,12.2,310,24,1,1.07,1.07,100,0,1.07,1,1]
[3,12.9,310,24,50,1.1499999999999999,0.95,100,1,1.07,1.0747663551401867,0.8878504672897195]
[3,14.3,310,24,60,1.31,0.87,100,1,1.07,1.2242990654205608,0.81308411214953269]
[3,15.6,310,24,70,1.47,0.78,100,1,1.07,1.3738317757009344,0.7289719626168224]
[3,17,310,24,80,1.63,0.7,100,1,1.07,1.5233644859813082,0.65420560747663548]
[3,18.3,310,24,90,1.78,0.62,100,1,1.07,1.6635514018691588,0.57943925233644855]
[3,19.5,310,24,99,1.92,0.55000000000000004,100,1,1.07,1.7943925233644857,0.5140186915887851]
[3,8.6999999999999993,310,24,1,1.32,1.32,200,0,1.32,1,1]
[3,10.3,310,24,50,1.7,1.17,200,{"$f":"IF(F534<>G534,1,0)","v":1},1.32,{"$f":"F534/J534","v":1.2878787878787878},0.88636363636363624]
[3,11.3,310,24,60,1.94,1.1100000000000001,200,1,1.32,1.4696969696969695,{"$f":"G535/J535","v":0.84090909090909094}]
[3,12.4,310,24,70,2.1800000000000002,1.05,200,1,1.32,1.6515151515151516,0.79545454545454541]
[3,13.4,310,24,80,2.42,0.99,200,1,{"$f":"IF(F537/G537=1,F537,J536)","v":1.32},1.8333333333333333,0.75]
[3,14.4,310,24,90,2.67,0.93,200,1,1.32,2.0227272727272725,0.70454545454545459]
[3,15.4,310,24,99,2.88,0.87,200,1,1.32,2.1818181818181817,0.65909090909090906]
[3,7,310,24,1,1.41,1.41,300,0,1.41,1,1]
[3,8.5,310,24,50,1.94,1.27,300,1,1.41,1.375886524822695,0.90070921985815611]
[3,9.3000000000000007,310,24,60,2.2200000000000002,1.23,300,1,1.41,1.5744680851063833,0.87234042553191493]
[3,10.1,310,24,70,2.5,1.18,300,1,1.41,1.773049645390071,0.83687943262411346]
[3,10.9,310,24,80,2.78,1.1299999999999999,300,1,1.41,1.9716312056737588,0.80141843971631199]
[3,11.7,310,24,90,3.06,1.08,300,1,1.41,2.1702127659574471,0.76595744680851074]
[3,12.5,310,24,99,3.31,1.03,300,1,1.41,2.3475177304964543,0.73049645390070927]
[3,12.6,310,25,1,1.1200000000000001,1.1200000000000001,100,0,1.1200000000000001,1,1]
[3,13.6,310,25,50,1.24,0.98,100,1,1.1200000000000001,1.107142857142857,0.87499999999999989]
[3,15.1,310,25,60,1.41,0.89,100,1,1.1200000000000001,1.2589285714285712,0.7946428571428571]
[3,16.5,310,25,70,1.57,0.81,100,1,1.1200000000000001,1.4017857142857142,0.7232142857142857]
[3,17.899999999999999,310,25,80,1.74,0.72,100,1,1.1200000000000001,1.5535714285714284,0.64285714285714279]
[3,19.3,310,25,90,1.9,0.64,100,1,1.1200000000000001,1.6964285714285712,0.5714285714285714]
[3,20.5,310,25,99,2.04,0.56000000000000005,100,1,1.1200000000000001,1.8214285714285714,0.5]
[3,8.9,310,25,1,1.38,1.38,200,0,1.38,1,1]
[3,10.8,310,25,50,1.82,1.21,200,1,1.38,1.318840579710145,0.87681159420289856]
[3,11.9,310,25,60,2.08,1.1499999999999999,200,1,1.38,1.5072463768115945,0.83333333333333337]
[3,13,310,25,70,2.34,1.08,200,1,1.38,1.6956521739130435,0.78260869565217406]
[3,14.1,310,25,80,2.59,1.02,200,1,1.38,1.8768115942028987,0.73913043478260876]
[3,15.2,310,25,90,2.85,0.96,200,1,1.38,2.0652173913043481,0.69565217391304346]
[3,16.2,310,25,99,3.08,0.9,200,1,1.38,2.2318840579710146,0.65217391304347838]
[3,7.2,310,25,1,1.48,1.48,300,0,1.48,1,1]
[3,8.9,310,25,50,2.08,1.32,300,1,1.48,1.4054054054054055,0.891891891891892]
[3,9.8000000000000007,310,25,60,2.38,1.27,300,1,1.48,1.6081081081081081,0.85810810810810811]
[3,10.6,310,25,70,2.67,1.22,300,1,1.48,1.8040540540540539,0.82432432432432434]
[3,11.5,310,25,80,2.97,1.1599999999999999,300,1,1.48,2.006756756756757,0.78378378378378377]
[3,12.3,310,25,90,3.27,1.1100000000000001,300,1,1.48,2.2094594594594597,0.75000000000000011]
[3,13.1,310,25,99,3.54,1.07,300,1,1.48,2.3918918918918921,0.72297297297297303]
[3,13.1,310,26,1,1.17,1.17,100,0,1.17,1,1]
[3,14.3,310,26,50,1.32,1.01,100,1,1.17,1.1282051282051284,0.86324786324786329]
[3,15.9,310,26,60,1.5,0.92,100,1,1.17,1.2820512820512822,0.78632478632478642]
[3,17.399999999999999,310,26,70,1.68,0.83,100,1,1.17,1.4358974358974359,0.70940170940170943]
[3,18.899999999999999,310,26,80,1.85,0.74,100,1,1.17,1.5811965811965814,0.63247863247863256]
[3,20.3,310,26,90,2.02,0.65,100,1,1.17,1.7264957264957266,0.55555555555555558]
[3,21.6,310,26,99,2.16,0.56999999999999995,100,1,1.17,1.8461538461538465,0.48717948717948717]
[3,9.1999999999999993,310,26,1,1.45,1.45,200,0,1.45,1,1]
[3,11.4,310,26,50,1.95,1.25,200,1,1.45,1.3448275862068966,0.86206896551724144]
[3,12.5,310,26,60,2.2200000000000002,1.19,200,1,1.45,1.5310344827586209,0.82068965517241377]
[3,13.7,310,26,70,2.4900000000000002,1.1200000000000001,200,1,1.45,1.7172413793103449,0.77241379310344838]
[3,14.9,310,26,80,2.77,1.05,200,1,1.45,1.9103448275862069,0.72413793103448276]
[3,16,310,26,90,3.04,0.98,200,1,1.45,2.0965517241379312,0.67586206896551726]
[3,17.100000000000001,310,26,99,3.27,0.93,200,1,1.45,2.2551724137931037,0.64137931034482765]
[3,7.4,310,26,1,1.54,1.54,300,0,1.54,1,1]
[3,9.4,310,26,50,2.23,1.37,300,1,1.54,1.448051948051948,0.88961038961038963]
[3,10.3,310,26,60,2.54,1.31,300,1,1.54,1.6493506493506493,0.85064935064935066]
[3,11.2,310,26,70,2.86,1.26,300,1,1.54,1.857142857142857,0.81818181818181812]
[3,12.1,310,26,80,3.17,1.2,300,1,1.54,2.0584415584415585,0.77922077922077915]
[3,13,310,26,90,3.49,1.1499999999999999,300,1,1.54,2.2662337662337664,0.74675324675324672]
[3,13.8,310,26,99,3.77,1.1000000000000001,300,1,1.54,2.448051948051948,0.7142857142857143]
[3,13.5,310,27,1,1.22,1.22,100,0,1.22,1,1]
[3,15.1,310,27,50,1.41,1.04,100,1,1.22,1.1557377049180328,0.85245901639344268]
[3,16.7,310,27,60,1.6,0.94,100,1,1.22,1.3114754098360657,0.77049180327868849]
[3,18.3,310,27,70,1.78,0.84,100,1,1.22,1.459016393442623,0.68852459016393441]
[3,19.8,310,27,80,1.96,0.75,100,1,1.22,1.6065573770491803,0.61475409836065575]
[3,21.3,310,27,90,2.14,0.66,100,1,1.22,1.7540983606557379,0.54098360655737709]
[3,22.7,310,27,99,2.29,0.57999999999999996,100,1,1.22,1.8770491803278688,0.47540983606557374]
[3,9.5,310,27,1,1.51,1.51,200,0,1.51,1,1]
[3,11.9,310,27,50,2.08,1.3,200,1,1.51,1.3774834437086092,0.86092715231788086]
[3,13.2,310,27,60,2.37,1.22,200,{"$f":"IF(F598<>G598,1,0)","v":1},1.51,{"$f":"F598/J598","v":1.5695364238410596},0.80794701986754969]
[3,14.4,310,27,70,2.66,1.1499999999999999,200,1,1.51,1.76158940397351,{"$f":"G599/J599","v":0.76158940397350983}]
[3,15.6,310,27,80,2.94,1.08,200,1,1.51,1.9470198675496688,0.71523178807947019]
[3,16.8,310,27,90,3.23,1.01,200,1,{"$f":"IF(F601/G601=1,F601,J600)","v":1.51},2.1390728476821192,0.66887417218543044]
[3,17.899999999999999,310,27,99,3.48,0.95,200,1,1.51,2.3046357615894038,0.62913907284768211]
[3,7.6,310,27,1,1.61,1.61,300,0,1.61,1,1]
[3,9.8000000000000007,310,27,50,2.38,1.42,300,1,1.61,1.4782608695652173,0.88198757763975144]
[3,10.8,310,27,60,2.71,1.36,300,1,1.61,1.6832298136645962,0.84472049689440998]
[3,11.7,310,27,70,3.05,1.3,300,1,1.61,1.8944099378881984,0.80745341614906829]
[3,12.7,310,27,80,3.38,1.24,300,1,1.61,2.0993788819875774,0.77018633540372661]
[3,13.6,310,27,90,3.72,1.18,300,1,1.61,2.31055900621118,0.73291925465838503]
[3,14.5,310,27,99,4.01,1.1299999999999999,300,1,1.61,2.4906832298136643,0.70186335403726696]
[3,11.4,380,21,1,0.98,0.98,100,0,0.98,1,1]
[3,11.4,380,21,50,0.98,0.98,100,0,0.98,1,1]
[3,12.4,380,21,60,1.0900000000000001,0.85,100,1,0.98,1.1122448979591837,0.86734693877551017]
[3,13.6,380,21,70,1.23,0.76,100,1,0.98,1.2551020408163265,0.77551020408163263]
[3,14.7,380,21,80,1.37,0.67,100,1,0.98,1.3979591836734695,0.68367346938775519]
[3,15.9,380,21,90,1.5,0.59,100,1,0.98,1.5306122448979591,0.60204081632653061]
[3,17,380,21,99,1.63,0.51,100,1,0.98,1.6632653061224489,0.52040816326530615]
[3,8.4,380,21,1,1.25,1.25,200,0,1.25,1,1]
[3,9.1999999999999993,380,21,50,1.44,1.1399999999999999,200,1,1.25,1.1519999999999999,0.91199999999999992]
[3,10.1,380,21,60,1.66,1.07,200,1,1.25,1.3279999999999998,0.85600000000000009]
[3,11,380,21,70,1.87,1.01,200,1,1.25,1.496,0.80800000000000005]
[3,12,380,21,80,2.09,0.94,200,1,1.25,1.6719999999999999,0.752]
[3,12.9,380,21,90,2.31,0.88,200,1,1.25,1.8480000000000001,0.70399999999999996]
[3,13.7,380,21,99,2.5,0.82,200,1,1.25,2,0.65599999999999992]
[3,6.9,380,21,1,1.35,1.35,300,0,1.35,1,1]
[3,7.8,380,21,50,1.67,1.24,300,1,1.35,1.2370370370370369,0.9185185185185184]
[3,8.5,380,21,60,1.92,1.19,300,1,1.35,1.4222222222222221,0.88148148148148142]
[3,9.1999999999999993,380,21,70,2.1800000000000002,1.1299999999999999,300,1,1.35,1.6148148148148149,0.83703703703703691]
[3,10,380,21,80,2.4300000000000002,1.08,300,1,1.35,1.8,0.8]
[3,10.7,380,21,90,2.69,1.03,300,1,1.35,1.9925925925925925,0.76296296296296295]
[3,11.3,380,21,99,2.92,0.98,300,1,1.35,2.162962962962963,0.72592592592592586]
[3,11.9,380,22,1,1.04,1.04,100,0,1.04,1,1]
[3,11.8,380,22,50,1.03,0.97,100,1,1.04,0.99038461538461542,0.9326923076923076]
[3,13.1,380,22,60,1.18,0.88,100,1,1.04,1.1346153846153846,0.84615384615384615]
[3,14.4,380,22,70,1.33,0.78,100,1,1.04,1.278846153846154,0.75]
[3,15.6,380,22,80,1.47,0.7,100,1,1.04,1.4134615384615383,0.67307692307692302]
[3,16.899999999999999,380,22,90,1.62,0.61,100,1,1.04,1.5576923076923077,0.58653846153846145]
[3,18,380,22,99,1.74,0.53,100,1,1.04,1.6730769230769229,0.50961538461538458]
[3,8.6,380,22,1,1.32,1.32,200,0,1.32,1,1]
[3,9.6999999999999993,380,22,50,1.56,1.19,200,1,1.32,1.1818181818181819,0.90151515151515138]
[3,10.7,380,22,60,1.79,1.1200000000000001,200,1,1.32,1.356060606060606,0.84848484848484851]
[3,11.7,380,22,70,2.02,1.05,200,1,1.32,1.5303030303030303,0.79545454545454541]
[3,12.7,380,22,80,2.25,0.98,200,1,1.32,1.7045454545454544,0.74242424242424243]
[3,13.6,380,22,90,2.48,0.91,200,1,1.32,1.8787878787878787,0.68939393939393934]
[3,14.5,380,22,99,2.69,0.85,200,1,1.32,2.0378787878787876,0.64393939393939392]
[3,7.1,380,22,1,1.42,1.42,300,0,1.42,1,1]
[3,8.1999999999999993,380,22,50,1.81,1.29,300,1,1.42,1.2746478873239437,0.90845070422535223]
[3,9,380,22,60,2.08,1.24,300,1,1.42,1.4647887323943662,0.87323943661971837]
[3,9.6999999999999993,380,22,70,2.35,1.18,300,1,1.42,1.654929577464789,0.83098591549295775]
[3,10.5,380,22,80,2.62,1.1299999999999999,300,1,1.42,1.8450704225352115,0.79577464788732388]
[3,11.3,380,22,90,2.9,1.07,300,1,1.42,2.0422535211267605,0.75352112676056349]
[3,12,380,22,99,3.14,1.02,300,1,1.42,2.211267605633803,0.71830985915492962]
[3,12.4,380,23,1,1.0900000000000001,1.0900000000000001,100,0,1.0900000000000001,1,1]
[3,12.5,380,23,50,1.1100000000000001,1,100,1,1.0900000000000001,1.0183486238532111,0.9174311926605504]
[3,13.9,380,23,60,1.27,0.9,100,1,1.0900000000000001,1.165137614678899,0.82568807339449535]
[3,15.2,380,23,70,1.42,0.81,100,1,1.0900000000000001,1.3027522935779814,0.74311926605504586]
[3,16.5,380,23,80,1.58,0.72,100,1,1.0900000000000001,1.4495412844036697,0.66055045871559626]
[3,17.8,380,23,90,1.73,0.63,100,1,1.0900000000000001,1.5871559633027521,0.57798165137614677]
[3,19,380,23,99,1.86,0.55000000000000004,100,1,1.0900000000000001,1.7064220183486238,0.50458715596330272]
[3,8.9,380,23,1,1.39,1.39,200,0,1.39,1,1]
[3,10.199999999999999,380,23,50,1.69,1.23,200,1,1.39,1.2158273381294964,0.8848920863309353]
[3,11.3,380,23,60,1.93,1.1599999999999999,200,1,1.39,1.3884892086330936,0.83453237410071945]
[3,12.3,380,23,70,2.1800000000000002,1.0900000000000001,200,{"$f":"IF(F662<>G662,1,0)","v":1},1.39,{"$f":"F662/J662","v":1.5683453237410074},0.78417266187050372]
[3,13.4,380,23,80,2.42,1.02,200,1,1.39,1.7410071942446044,{"$f":"G663/J663","v":0.73381294964028787}]
[3,14.4,380,23,90,2.66,0.95,200,1,1.39,1.9136690647482018,0.68345323741007191]
[3,15.3,380,23,99,2.88,0.89,200,1,{"$f":"IF(F665/G665=1,F665,J664)","v":1.39},2.0719424460431655,0.64028776978417268]
[3,7.3,380,23,1,1.5,1.5,300,0,1.5,1,1]
[3,8.6,380,23,50,1.96,1.35,300,1,1.5,1.3066666666666666,0.9]
[3,9.4,380,23,60,2.25,1.29,300,1,1.5,1.5,0.86]
[3,10.199999999999999,380,23,70,2.5299999999999998,1.23,300,1,1.5,1.6866666666666665,0.82]
[3,11.1,380,23,80,2.82,1.17,300,1,1.5,1.88,0.77999999999999992]
[3,11.9,380,23,90,3.11,1.1100000000000001,300,1,1.5,2.0733333333333333,0.7400000000000001]
[3,12.6,380,23,99,3.37,1.06,300,1,1.5,2.2466666666666666,0.70666666666666667]
[3,12.8,380,24,1,1.1499999999999999,1.1499999999999999,100,0,1.1499999999999999,1,1]
[3,13.3,380,24,50,1.2,1.03,100,1,1.1499999999999999,1.0434782608695652,0.89565217391304353]
[3,14.7,380,24,60,1.36,0.93,100,1,1.1499999999999999,1.1826086956521742,0.80869565217391315]
[3,16.100000000000001,380,24,70,1.52,0.83,100,1,1.1499999999999999,1.3217391304347827,0.72173913043478266]
[3,17.5,380,24,80,1.69,0.74,100,1,1.1499999999999999,1.4695652173913045,0.64347826086956528]
[3,18.8,380,24,90,1.84,0.64,100,1,1.1499999999999999,1.6,0.55652173913043479]
[3,20,380,24,99,1.98,0.56000000000000005,100,1,1.1499999999999999,1.7217391304347827,0.48695652173913051]
[3,9.1999999999999993,380,24,1,1.46,1.46,200,0,1.46,1,1]
[3,10.8,380,24,50,1.82,1.28,200,1,1.46,1.2465753424657535,0.87671232876712335]
[3,11.9,380,24,60,2.08,1.21,200,1,1.46,1.4246575342465755,0.82876712328767121]
[3,13,380,24,70,2.34,1.1299999999999999,200,1,1.46,1.6027397260273972,0.77397260273972601]
[3,14.1,380,24,80,2.59,1.05,200,1,1.46,1.773972602739726,0.71917808219178092]
[3,15.2,380,24,90,2.85,0.98,200,1,1.46,1.952054794520548,0.67123287671232879]
[3,16.2,380,24,99,3.08,0.91,200,1,1.46,2.1095890410958904,0.62328767123287676]
[3,7.5,380,24,1,1.57,1.57,300,0,1.57,1,1]
[3,9,380,24,50,2.11,1.4,300,1,1.57,1.3439490445859872,0.89171974522292985]
[3,9.9,380,24,60,2.42,1.34,300,1,1.57,1.5414012738853502,0.85350318471337583]
[3,10.8,380,24,70,2.72,1.28,300,1,1.57,1.7324840764331211,0.81528662420382159]
[3,11.7,380,24,80,3.03,1.21,300,1,1.57,1.9299363057324839,0.7707006369426751]
[3,12.5,380,24,90,3.33,1.1499999999999999,300,1,1.57,2.1210191082802545,0.73248407643312097]
[3,13.3,380,24,99,3.6,1.0900000000000001,300,1,1.57,2.2929936305732483,0.69426751592356695]
[3,13.3,380,25,1,1.2,1.2,100,0,1.2,1,1]
[3,14,380,25,50,1.28,1.07,100,1,1.2,1.0666666666666667,0.89166666666666672]
[3,15.5,380,25,60,1.46,0.96,100,1,1.2,1.2166666666666668,0.8]
[3,17,380,25,70,1.63,0.86,100,1,1.2,1.3583333333333334,0.71666666666666667]
[3,18.399999999999999,380,25,80,1.8,0.76,100,1,1.2,1.5,0.63333333333333341]
[3,19.8,380,25,90,1.96,0.66,100,1,1.2,1.6333333333333333,0.55000000000000004]
[3,21.1,380,25,99,2.1,0.56999999999999995,100,1,1.2,1.7500000000000002,0.47499999999999998]
[3,9.5,380,25,1,1.52,1.52,200,0,1.52,1,1]
[3,11.4,380,25,50,1.95,1.33,200,1,1.52,1.2828947368421053,0.875]
[3,12.5,380,25,60,2.23,1.24,200,1,1.52,1.4671052631578947,0.81578947368421051]
[3,13.7,380,25,70,2.5,1.1599999999999999,200,1,1.52,1.6447368421052631,0.76315789473684204]
[3,14.9,380,25,80,2.77,1.08,200,1,1.52,1.8223684210526316,0.71052631578947367]
[3,16,380,25,90,3.04,1.01,200,1,1.52,2,0.66447368421052633]
[3,17.100000000000001,380,25,99,3.28,0.94,200,1,1.52,2.1578947368421053,0.61842105263157887]
[3,7.7,380,25,1,1.64,1.64,300,0,1.64,1,1]
[3,9.5,380,25,50,2.27,1.46,300,1,1.64,1.3841463414634148,0.8902439024390244]
[3,10.4,380,25,60,2.59,1.39,300,1,1.64,1.5792682926829269,0.84756097560975607]
[3,11.3,380,25,70,2.92,1.32,300,1,1.64,1.7804878048780488,0.80487804878048785]
[3,12.3,380,25,80,3.24,1.25,300,1,1.64,1.9756097560975612,0.76219512195121952]
[3,13.2,380,25,90,3.56,1.19,300,1,1.64,2.1707317073170733,0.72560975609756095]
[3,14,380,25,99,3.85,1.1299999999999999,300,1,1.64,2.3475609756097562,0.68902439024390238]
[3,13.8,380,26,1,1.26,1.26,100,0,1.26,1,1]
[3,14.8,380,26,50,1.37,1.1000000000000001,100,1,1.26,1.0873015873015874,0.87301587301587313]
[3,16.3,380,26,60,1.55,0.99,100,1,1.26,1.2301587301587302,0.7857142857142857]
[3,17.899999999999999,380,26,70,1.73,0.88,100,1,1.26,1.373015873015873,0.69841269841269837]
[3,19.399999999999999,380,26,80,1.91,0.77,100,1,1.26,1.5158730158730158,0.61111111111111116]
[3,20.8,380,26,90,2.08,0.67,100,1,1.26,1.6507936507936509,0.53174603174603174]
[3,22.1,380,26,99,2.23,0.57999999999999996,100,1,1.26,1.7698412698412698,0.46031746031746029]
[3,9.8000000000000007,380,26,1,1.59,1.59,200,0,1.59,1,1]
[3,12,380,26,50,2.09,1.37,200,1,1.59,1.3144654088050314,0.86163522012578619]
[3,13.2,380,26,60,2.38,1.28,200,1,1.59,1.4968553459119496,0.80503144654088044]
[3,14.4,380,26,70,2.67,1.2,200,1,1.59,1.6792452830188678,0.75471698113207542]
[3,15.7,380,26,80,2.95,1.1200000000000001,200,{"$f":"IF(F726<>G726,1,0)","v":1},1.59,{"$f":"F726/J726","v":1.8553459119496856},0.70440251572327051]
[3,16.899999999999999,380,26,90,3.24,1.04,200,1,1.59,2.0377358490566038,{"$f":"G727/J727","v":0.65408805031446537}]
[3,18,380,26,99,3.49,0.96,200,1,1.59,2.1949685534591197,0.60377358490566035]
[3,7.9,380,26,1,1.72,1.72,300,0,{"$f":"IF(F729/G729=1,F729,J728)","v":1.72},1,1]
[3,9.9,380,26,50,2.4300000000000002,1.51,300,1,1.72,1.4127906976744187,0.87790697674418605]
[3,10.9,380,26,60,2.77,1.44,300,1,1.72,1.6104651162790697,0.83720930232558133]
[3,11.9,380,26,70,3.11,1.36,300,1,1.72,1.8081395348837208,0.79069767441860472]
[3,12.9,380,26,80,3.46,1.29,300,1,1.72,2.0116279069767442,0.75]
[3,13.9,380,26,90,3.8,1.23,300,1,1.72,2.2093023255813953,0.71511627906976749]
[3,14.7,380,26,99,4.0999999999999996,1.17,300,1,1.72,2.3837209302325579,0.68023255813953487]
[3,14.3,380,27,1,1.31,1.31,100,0,1.31,1,1]
[3,15.5,380,27,50,1.46,1.1299999999999999,100,1,1.31,1.114503816793893,0.86259541984732813]
[3,17.2,380,27,60,1.65,1.01,100,1,1.31,1.2595419847328244,0.77099236641221369]
[3,18.8,380,27,70,1.84,0.9,100,1,1.31,1.4045801526717556,0.68702290076335881]
[3,20.399999999999999,380,27,80,2.02,0.79,100,1,1.31,1.5419847328244274,0.60305343511450382]
[3,21.9,380,27,90,2.2000000000000002,0.68,100,1,1.31,1.6793893129770994,0.51908396946564883]
[3,23.2,380,27,99,2.35,0.59,100,1,1.31,1.7938931297709924,0.45038167938931295]
[3,10.1,380,27,1,1.66,1.66,200,0,1.66,1,1]
[3,12.6,380,27,50,2.23,1.41,200,1,1.66,1.3433734939759037,0.8493975903614458]
[3,13.9,380,27,60,2.54,1.32,200,1,1.66,1.530120481927711,0.79518072289156638]
[3,15.2,380,27,70,2.84,1.23,200,1,1.66,1.7108433734939759,0.74096385542168675]
[3,16.5,380,27,80,3.14,1.1499999999999999,200,1,1.66,1.8915662650602412,0.69277108433734935]
[3,17.8,380,27,90,3.44,1.06,200,1,1.66,2.072289156626506,0.63855421686746994]
[3,18.899999999999999,380,27,99,3.71,0.98,200,1,1.66,2.2349397590361448,0.59036144578313254]
[3,8.1,380,27,1,1.79,1.79,300,0,1.79,1,1]
[3,10.4,380,27,50,2.6,1.56,300,1,1.79,1.4525139664804469,0.87150837988826813]
[3,11.5,380,27,60,2.96,1.48,300,1,1.79,1.6536312849162011,0.82681564245810057]
[3,12.5,380,27,70,3.32,1.41,300,1,1.79,1.8547486033519551,0.7877094972067038]
[3,13.5,380,27,80,3.68,1.33,300,1,1.79,2.0558659217877095,0.74301675977653636]
[3,14.6,380,27,90,4.04,1.26,300,1,1.79,2.2569832402234637,0.7039106145251397]
[3,15.5,380,27,99,4.37,1.2,300,1,1.79,2.441340782122905,0.67039106145251393]
[4,8.1,100,21,1,0.48,0.48,100,0,0.48,1,1]
[4,8.9,100,21,50,0.56999999999999995,0.44,100,1,0.48,1.1875,0.91666666666666674]
[4,9.6999999999999993,100,21,60,0.67,0.43,100,1,0.48,1.3958333333333335,0.89583333333333337]
[4,10.5,100,21,70,0.76,0.41,100,1,0.48,1.5833333333333335,0.85416666666666663]
[4,11.4,100,21,80,0.86,0.4,100,1,0.48,1.7916666666666667,0.83333333333333337]
[4,12.2,100,21,90,0.95,0.38,100,1,0.48,1.9791666666666667,0.79166666666666674]
[4,12.9,100,21,99,1.04,0.37,100,1,0.48,2.166666666666667,0.77083333333333337]
[4,6.2,100,21,1,0.52,0.52,200,0,0.52,1,1]
[4,6.9,100,21,50,0.68,0.5,200,1,0.52,1.3076923076923077,0.96153846153846145]
[4,7.4,100,21,60,0.79,0.49,200,1,0.52,1.5192307692307692,0.94230769230769229]
[4,7.9,100,21,70,0.91,0.48,200,1,0.52,1.75,0.92307692307692302]
[4,8.4,100,21,80,1.02,0.47,200,1,0.52,1.9615384615384615,0.90384615384615374]
[4,8.8000000000000007,100,21,90,1.1299999999999999,0.47,200,1,0.52,2.1730769230769229,0.90384615384615374]
[4,9.3000000000000007,100,21,99,1.23,0.46,200,1,0.52,2.3653846153846154,0.88461538461538458]
[4,5.5,100,21,1,0.53,0.53,300,0,0.53,1,1]
[4,6,100,21,50,0.71,0.51,300,1,0.53,1.3396226415094339,0.96226415094339623]
[4,6.4,100,21,60,0.83,0.51,300,1,0.53,1.5660377358490565,0.96226415094339623]
[4,6.7,100,21,70,0.94,0.5,300,1,0.53,1.7735849056603772,0.94339622641509424]
[4,7,100,21,80,1.06,0.49,300,1,0.53,2,0.92452830188679236]
[4,7.4,100,21,90,1.18,0.49,300,1,0.53,2.2264150943396226,0.92452830188679236]
[4,7.7,100,21,99,1.28,0.48,300,1,0.53,2.4150943396226414,0.90566037735849048]
[4,8.4,100,22,1,0.51,0.51,100,0,0.51,1,1]
[4,9.4,100,22,50,0.63,0.47,100,1,0.51,1.2352941176470589,0.92156862745098034]
[4,10.199999999999999,100,22,60,0.73,0.45,100,1,0.51,1.4313725490196079,0.88235294117647056]
[4,11.1,100,22,70,0.83,0.43,100,1,0.51,1.6274509803921569,0.84313725490196079]
[4,12,100,22,80,0.93,0.42,100,1,0.51,1.8235294117647058,0.82352941176470584]
[4,12.8,100,22,90,1.03,0.4,100,1,0.51,2.0196078431372548,0.78431372549019607]
[4,13.6,100,22,99,1.1200000000000001,0.39,100,1,0.51,2.1960784313725492,0.76470588235294124]
[4,6.3,100,22,1,0.55000000000000004,0.55000000000000004,200,0,0.55000000000000004,1,1]
[4,7.2,100,22,50,0.74,0.52,200,1,0.55000000000000004,1.3454545454545452,0.94545454545454544]
[4,7.7,100,22,60,0.86,0.52,200,1,0.55000000000000004,1.5636363636363635,0.94545454545454544]
[4,8.1999999999999993,100,22,70,0.98,0.51,200,1,0.55000000000000004,1.7818181818181817,0.92727272727272725]
[4,8.6999999999999993,100,22,80,1.1000000000000001,0.5,200,1,0.55000000000000004,2,0.90909090909090906]
[4,9.1999999999999993,100,22,90,1.22,0.49,200,{"$f":"IF(F790<>G790,1,0)","v":1},0.55000000000000004,{"$f":"F790/J790","v":2.2181818181818178},0.89090909090909087]
[4,9.6999999999999993,100,22,99,1.33,0.48,200,1,0.55000000000000004,2.418181818181818,{"$f":"G791/J791","v":0.87272727272727257}]
[4,5.6,100,22,1,0.56000000000000005,0.56000000000000005,300,0,0.56000000000000005,1,1]
[4,6.2,100,22,50,0.77,0.54,300,1,{"$f":"IF(F793/G793=1,F793,J792)","v":0.56000000000000005},1.375,0.9642857142857143]
[4,6.6,100,22,60,0.9,0.53,300,1,0.56000000000000005,1.607142857142857,0.9464285714285714]
[4,6.9,100,22,70,1.02,0.53,300,1,0.56000000000000005,1.8214285714285714,0.9464285714285714]
[4,7.3,100,22,80,1.1499999999999999,0.52,300,1,0.56000000000000005,2.0535714285714284,0.92857142857142849]
[4,7.6,100,22,90,1.27,0.51,300,1,0.56000000000000005,2.2678571428571428,0.9107142857142857]
[4,8,100,22,99,1.38,0.51,300,1,0.56000000000000005,2.464285714285714,0.9107142857142857]
[4,8.6,100,23,1,0.54,0.54,100,0,0.54,1,1]
[4,9.8000000000000007,100,23,50,0.68,0.49,100,1,0.54,1.2592592592592593,0.90740740740740733]
[4,10.8,100,23,60,0.79,0.47,100,1,0.54,1.462962962962963,0.87037037037037024]
[4,11.7,100,23,70,0.9,0.45,100,1,0.54,1.6666666666666665,0.83333333333333326]
[4,12.6,100,23,80,1,0.44,100,1,0.54,1.8518518518518516,0.81481481481481477]
[4,13.5,100,23,90,1.1100000000000001,0.42,100,1,0.54,2.0555555555555558,0.77777777777777768]
[4,14.3,100,23,99,1.2,0.41,100,1,0.54,2.2222222222222219,0.75925925925925919]
[4,6.5,100,23,1,0.57999999999999996,0.57999999999999996,200,0,0.57999999999999996,1,1]
[4,7.5,100,23,50,0.81,0.55000000000000004,200,1,0.57999999999999996,1.3965517241379313,0.94827586206896564]
[4,8,100,23,60,0.93,0.54,200,1,0.57999999999999996,1.6034482758620692,0.93103448275862077]
[4,8.5,100,23,70,1.06,0.53,200,1,0.57999999999999996,1.827586206896552,0.91379310344827602]
[4,9.1,100,23,80,1.19,0.52,200,1,0.57999999999999996,2.0517241379310347,0.89655172413793116]
[4,9.6,100,23,90,1.31,0.51,200,1,0.57999999999999996,2.2586206896551726,0.8793103448275863]
[4,10.1,100,23,99,1.43,0.51,200,1,0.57999999999999996,2.4655172413793105,0.8793103448275863]
[4,5.7,100,23,1,0.59,0.59,300,0,0.59,1,1]
[4,6.4,100,23,50,0.84,0.56999999999999995,300,1,0.59,1.423728813559322,0.96610169491525422]
[4,6.8,100,23,60,0.97,0.56000000000000005,300,1,0.59,1.6440677966101696,0.94915254237288149]
[4,7.2,100,23,70,1.1000000000000001,0.55000000000000004,300,1,0.59,1.8644067796610171,0.93220338983050854]
[4,7.5,100,23,80,1.24,0.55000000000000004,300,1,0.59,2.1016949152542375,0.93220338983050854]
[4,7.9,100,23,90,1.37,0.54,300,1,0.59,2.3220338983050852,0.91525423728813571]
[4,8.1999999999999993,100,23,99,1.49,0.53,300,1,0.59,2.5254237288135593,0.89830508474576276]
[4,8.8000000000000007,100,24,1,0.56000000000000005,0.56000000000000005,100,0,0.56000000000000005,1,1]
[4,10.3,100,24,50,0.74,0.51,100,1,0.56000000000000005,1.3214285714285714,0.9107142857142857]
[4,11.3,100,24,60,0.85,0.49,100,1,0.56000000000000005,1.5178571428571426,0.87499999999999989]
[4,12.3,100,24,70,0.96,0.47,100,1,0.56000000000000005,1.714285714285714,0.83928571428571419]
[4,13.2,100,24,80,1.08,0.46,100,1,0.56000000000000005,1.9285714285714286,0.8214285714285714]
[4,14.2,100,24,90,1.19,0.44,100,1,0.56000000000000005,2.1249999999999996,0.7857142857142857]
[4,15.1,100,24,99,1.29,0.42,100,1,0.56000000000000005,2.3035714285714284,0.74999999999999989]
[4,6.6,100,24,1,0.61,0.61,200,0,0.61,1,1]
[4,7.7,100,24,50,0.87,0.56999999999999995,200,1,0.61,1.4262295081967213,0.93442622950819665]
[4,8.3000000000000007,100,24,60,1.01,0.56000000000000005,200,1,0.61,1.6557377049180328,0.91803278688524603]
[4,8.9,100,24,70,1.1399999999999999,0.56000000000000005,200,1,0.61,1.8688524590163933,0.91803278688524603]
[4,9.5,100,24,80,1.28,0.55000000000000004,200,1,0.61,2.098360655737705,0.90163934426229519]
[4,10,100,24,90,1.41,0.54,200,1,0.61,2.3114754098360657,0.88524590163934436]
[4,10.6,100,24,99,1.53,0.53,200,1,0.61,2.5081967213114753,0.86885245901639352]
[4,5.8,100,24,1,0.62,0.62,300,0,0.62,1,1]
[4,6.6,100,24,50,0.91,0.59,300,1,0.62,1.467741935483871,0.95161290322580638]
[4,7,100,24,60,1.05,0.59,300,1,0.62,1.6935483870967742,0.95161290322580638]
[4,7.4,100,24,70,1.19,0.57999999999999996,300,1,0.62,1.9193548387096773,0.93548387096774188]
[4,7.8,100,24,80,1.33,0.56999999999999995,300,1,0.62,2.145161290322581,0.91935483870967738]
[4,8.1999999999999993,100,24,90,1.47,0.56999999999999995,300,1,0.62,2.370967741935484,0.91935483870967738]
[4,8.6,100,24,99,1.6,0.56000000000000005,300,1,0.62,2.580645161290323,0.90322580645161299]
[4,9.1,100,25,1,0.59,0.59,100,0,0.59,1,1]
[4,10.8,100,25,50,0.8,0.53,100,1,0.59,1.3559322033898307,0.89830508474576276]
[4,11.8,100,25,60,0.92,0.51,100,1,0.59,1.5593220338983051,0.86440677966101698]
[4,12.9,100,25,70,1.04,0.49,100,1,0.59,1.7627118644067798,0.83050847457627119]
[4,13.9,100,25,80,1.1599999999999999,0.47,100,1,0.59,1.9661016949152541,0.79661016949152541]
[4,14.9,100,25,90,1.28,0.46,100,1,0.59,2.1694915254237288,0.77966101694915257]
[4,15.9,100,25,99,1.38,0.44,100,1,0.59,2.3389830508474576,0.74576271186440679]
[4,6.7,100,25,1,0.63,0.63,200,0,0.63,1,1]
[4,8,100,25,50,0.94,0.6,200,1,0.63,1.4920634920634919,0.95238095238095233]
[4,8.6,100,25,60,1.08,0.59,200,1,0.63,1.7142857142857144,0.9365079365079364]
[4,9.3000000000000007,100,25,70,1.23,0.57999999999999996,200,1,0.63,1.9523809523809523,0.92063492063492058]
[4,9.9,100,25,80,1.37,0.56999999999999995,200,1,0.63,2.1746031746031749,0.90476190476190466]
[4,10.5,100,25,90,1.51,0.56000000000000005,200,1,0.63,2.3968253968253967,0.88888888888888895]
[4,11,100,25,99,1.64,0.55000000000000004,200,{"$f":"IF(F854<>G854,1,0)","v":1},0.63,{"$f":"F854/J854","v":2.6031746031746028},0.87301587301587313]
[4,5.8,100,25,1,0.64,0.64,300,0,0.64,1,{"$f":"G855/J855","v":1}]
[4,6.8,100,25,50,0.98,0.62,300,1,0.64,1.53125,0.96875]
[4,7.2,100,25,60,1.1299999999999999,0.61,300,1,{"$f":"IF(F857/G857=1,F857,J856)","v":0.64},1.7656249999999998,0.953125]
[4,7.6,100,25,70,1.28,0.6,300,1,0.64,2,0.9375]
[4,8.1,100,25,80,1.42,0.6,300,1,0.64,2.21875,0.9375]
[4,8.5,100,25,90,1.57,0.59,300,1,0.64,2.453125,0.92187499999999989]
[4,8.9,100,25,99,1.71,0.57999999999999996,300,1,0.64,2.671875,0.90624999999999989]
[4,9.3000000000000007,100,26,1,0.62,0.62,100,0,0.62,1,1]
[4,11.3,100,26,50,0.85,0.55000000000000004,100,1,0.62,1.3709677419354838,0.88709677419354849]
[4,12.4,100,26,60,0.98,0.53,100,1,0.62,1.5806451612903225,0.85483870967741937]
[4,13.5,100,26,70,1.1100000000000001,0.51,100,1,0.62,1.7903225806451615,0.82258064516129037]
[4,14.6,100,26,80,1.24,0.49,100,1,0.62,2,0.79032258064516125]
[4,15.7,100,26,90,1.36,0.47,100,1,0.62,2.1935483870967745,0.75806451612903225]
[4,16.7,100,26,99,1.48,0.46,100,1,0.62,2.3870967741935485,0.74193548387096775]
[4,6.8,100,26,1,0.66,0.66,200,0,0.66,1,1]
[4,8.3000000000000007,100,26,50,1.01,0.62,200,1,0.66,1.5303030303030303,0.93939393939393934]
[4,9,100,26,60,1.1599999999999999,0.61,200,1,0.66,1.7575757575757573,0.9242424242424242]
[4,9.6,100,26,70,1.31,0.6,200,1,0.66,1.9848484848484849,0.90909090909090906]
[4,10.3,100,26,80,1.46,0.59,200,1,0.66,2.2121212121212119,0.89393939393939381]
[4,10.9,100,26,90,1.61,0.57999999999999996,200,1,0.66,2.4393939393939394,0.87878787878787867]
[4,11.5,100,26,99,1.75,0.56999999999999995,200,1,0.66,2.6515151515151514,0.86363636363636354]
[4,5.9,100,26,1,0.67,0.67,300,0,0.67,1,1]
[4,7,100,26,50,1.05,0.64,300,1,0.67,1.5671641791044777,0.95522388059701491]
[4,7.5,100,26,60,1.21,0.64,300,1,0.67,1.8059701492537312,0.95522388059701491]
[4,7.9,100,26,70,1.37,0.63,300,1,0.67,2.044776119402985,0.94029850746268651]
[4,8.3000000000000007,100,26,80,1.52,0.62,300,1,0.67,2.2686567164179103,0.9253731343283581]
[4,8.8000000000000007,100,26,90,1.68,0.61,300,1,0.67,2.5074626865671639,0.91044776119402981]
[4,9.1999999999999993,100,26,99,1.82,0.61,300,1,0.67,2.716417910447761,0.91044776119402981]
[4,9.5,100,27,1,0.65,0.65,100,0,0.65,1,1]
[4,11.9,100,27,50,0.92,0.56999999999999995,100,1,0.65,1.4153846153846155,0.87692307692307681]
[4,13,100,27,60,1.05,0.55000000000000004,100,1,0.65,1.6153846153846154,0.84615384615384615]
[4,14.2,100,27,70,1.19,0.53,100,1,0.65,1.8307692307692307,0.81538461538461537]
[4,15.3,100,27,80,1.32,0.51,100,1,0.65,2.0307692307692307,0.7846153846153846]
[4,16.5,100,27,90,1.46,0.49,100,1,0.65,2.2461538461538462,0.75384615384615383]
[4,17.5,100,27,99,1.58,0.47,100,1,0.65,2.430769230769231,0.72307692307692306]
[4,7,100,27,1,0.69,0.69,200,0,0.69,1,1]
[4,8.6,100,27,50,1.08,0.65,200,1,0.69,1.5652173913043481,0.94202898550724645]
[4,9.3000000000000007,100,27,60,1.24,0.64,200,1,0.69,1.7971014492753625,0.92753623188405809]
[4,10,100,27,70,1.4,0.63,200,1,0.69,2.0289855072463769,0.91304347826086962]
[4,10.7,100,27,80,1.56,0.62,200,1,0.69,2.2608695652173916,0.89855072463768126]
[4,11.4,100,27,90,1.72,0.6,200,1,0.69,2.4927536231884058,0.86956521739130443]
[4,12,100,27,99,1.87,0.6,200,1,0.69,2.7101449275362324,0.86956521739130443]
[4,6,100,27,1,0.7,0.7,300,0,0.7,1,1]
[4,7.2,100,27,50,1.1299999999999999,0.67,300,1,0.7,1.6142857142857143,0.9571428571428573]
[4,7.7,100,27,60,1.29,0.66,300,1,0.7,1.842857142857143,0.94285714285714295]
[4,8.1999999999999993,100,27,70,1.46,0.65,300,1,0.7,2.0857142857142859,0.92857142857142871]
[4,8.6,100,27,80,1.62,0.65,300,1,0.7,2.3142857142857145,0.92857142857142871]
[4,9.1,100,27,90,1.79,0.64,300,1,0.7,2.5571428571428574,0.91428571428571437]
[4,9.5,100,27,99,1.94,0.63,300,1,0.7,2.7714285714285714,0.9]
[4,9.6999999999999993,170,21,1,0.67,0.67,100,0,0.67,1,1]
[4,10.1,170,21,50,0.72,0.61,100,1,0.67,1.0746268656716418,0.91044776119402981]
[4,11.2,170,21,60,0.83,0.56999999999999995,100,1,0.67,1.2388059701492535,0.85074626865671632]
[4,12.2,170,21,70,0.95,0.54,100,1,0.67,1.4179104477611939,0.80597014925373134]
[4,13.2,170,21,80,1.07,0.5,100,1,0.67,1.5970149253731343,0.74626865671641784]
[4,14.2,170,21,90,1.18,0.46,100,1,0.67,1.761194029850746,0.68656716417910446]
[4,15.1,170,21,99,1.29,0.43,100,1,0.67,1.9253731343283582,0.64179104477611937]
[4,7.3,170,21,1,0.76,0.76,200,0,0.76,1,1]
[4,8.1,170,21,50,0.95,0.71,200,1,0.76,1.25,0.93421052631578938]
[4,8.6999999999999993,170,21,60,1.1000000000000001,0.69,200,1,0.76,1.4473684210526316,0.9078947368421052]
[4,9.4,170,21,70,1.26,0.67,200,1,0.76,1.6578947368421053,0.88157894736842113]
[4,10.1,170,21,80,1.42,0.65,200,1,0.76,1.8684210526315788,0.85526315789473684]
[4,10.7,170,21,90,1.57,0.63,200,1,0.76,2.0657894736842106,0.82894736842105265]
[4,11.4,170,21,99,1.71,0.61,200,1,0.76,2.25,0.80263157894736836]
[4,6.3,170,21,1,0.79,0.79,300,{"$f":"IF(F918<>G918,1,0)","v":0},0.79,{"$f":"F918/J918","v":1},1]
[4,6.9,170,21,50,1.03,0.75,300,1,0.79,1.3037974683544304,{"$f":"G919/J919","v":0.94936708860759489}]
[4,7.4,170,21,60,1.2,0.74,300,1,0.79,1.5189873417721518,0.93670886075949367]
[4,7.9,170,21,70,1.37,0.72,300,1,{"$f":"IF(F921/G921=1,F921,J920)","v":0.79},1.7341772151898736,0.91139240506329111]
[4,8.4,170,21,80,1.54,0.7,300,1,0.79,1.9493670886075949,0.88607594936708856]
[4,8.9,170,21,90,1.71,0.69,300,1,0.79,2.1645569620253164,0.87341772151898722]
[4,9.3000000000000007,170,21,99,1.86,0.67,300,1,0.79,2.3544303797468356,0.84810126582278478]
[4,10,170,22,1,0.71,0.71,100,0,0.71,1,1]
[4,10.7,170,22,50,0.78,0.64,100,1,0.71,1.0985915492957747,0.90140845070422537]
[4,11.8,170,22,60,0.91,0.6,100,1,0.71,1.2816901408450705,0.84507042253521125]
[4,12.9,170,22,70,1.03,0.56000000000000005,100,1,0.71,1.4507042253521127,0.78873239436619724]
[4,13.9,170,22,80,1.1599999999999999,0.52,100,1,0.71,1.6338028169014085,0.73239436619718312]
[4,15,170,22,90,1.28,0.49,100,1,0.71,1.8028169014084507,0.6901408450704225]
[4,15.9,170,22,99,1.39,0.45,100,1,0.71,1.9577464788732395,0.63380281690140849]
[4,7.5,170,22,1,0.81,0.81,200,0,0.81,1,1]
[4,8.4,170,22,50,1.04,0.75,200,1,0.81,1.2839506172839505,0.92592592592592582]
[4,9.1,170,22,60,1.2,0.73,200,1,0.81,1.4814814814814814,0.90123456790123446]
[4,9.9,170,22,70,1.37,0.7,200,1,0.81,1.691358024691358,0.86419753086419737]
[4,10.6,170,22,80,1.53,0.68,200,1,0.81,1.8888888888888888,0.83950617283950613]
[4,11.3,170,22,90,1.7,0.66,200,1,0.81,2.0987654320987654,0.81481481481481477]
[4,11.9,170,22,99,1.85,0.64,200,1,0.81,2.2839506172839505,0.79012345679012341]
[4,6.4,170,22,1,0.84,0.84,300,0,0.84,1,1]
[4,7.2,170,22,50,1.1200000000000001,0.79,300,1,0.84,1.3333333333333335,0.94047619047619058]
[4,7.7,170,22,60,1.3,0.77,300,1,0.84,1.5476190476190477,0.91666666666666674]
[4,8.1999999999999993,170,22,70,1.48,0.76,300,1,0.84,1.7619047619047619,0.90476190476190477]
[4,8.8000000000000007,170,22,80,1.67,0.74,300,1,0.84,1.9880952380952381,0.88095238095238093]
[4,9.3000000000000007,170,22,90,1.85,0.72,300,1,0.84,2.2023809523809526,0.8571428571428571]
[4,9.6999999999999993,170,22,99,2.0099999999999998,0.71,300,1,0.84,2.3928571428571428,0.84523809523809523]
[4,10.4,170,23,1,0.74,0.74,100,0,0.74,1,1]
[4,11.3,170,23,50,0.85,0.66,100,1,0.74,1.1486486486486487,0.891891891891892]
[4,12.4,170,23,60,0.98,0.62,100,1,0.74,1.3243243243243243,0.83783783783783783]
[4,13.6,170,23,70,1.1100000000000001,0.57999999999999996,100,1,0.74,1.5000000000000002,0.78378378378378377]
[4,14.7,170,23,80,1.25,0.54,100,1,0.74,1.6891891891891893,0.72972972972972983]
[4,15.8,170,23,90,1.38,0.51,100,1,0.74,1.8648648648648647,0.68918918918918926]
[4,16.8,170,23,99,1.49,0.47,100,1,0.74,2.0135135135135136,0.63513513513513509]
[4,7.6,170,23,1,0.85,0.85,200,0,0.85,1,1]
[4,8.8000000000000007,170,23,50,1.1299999999999999,0.78,200,1,0.85,1.3294117647058823,0.91764705882352948]
[4,9.6,170,23,60,1.3,0.76,200,1,0.85,1.5294117647058825,0.89411764705882357]
[4,10.3,170,23,70,1.48,0.74,200,1,0.85,1.7411764705882353,0.87058823529411766]
[4,11.1,170,23,80,1.65,0.71,200,1,0.85,1.9411764705882353,0.83529411764705885]
[4,11.8,170,23,90,1.83,0.69,200,1,0.85,2.1529411764705886,0.81176470588235294]
[4,12.5,170,23,99,1.99,0.66,200,1,0.85,2.3411764705882354,0.77647058823529413]
[4,6.5,170,23,1,0.88,0.88,300,0,0.88,1,1]
[4,7.5,170,23,50,1.22,0.83,300,1,0.88,1.3863636363636362,0.94318181818181812]
[4,8,170,23,60,1.41,0.81,300,1,0.88,1.6022727272727271,0.92045454545454553]
[4,8.6,170,23,70,1.6,0.79,300,1,0.88,1.8181818181818183,0.89772727272727282]
[4,9.1,170,23,80,1.8,0.77,300,1,0.88,2.0454545454545454,0.875]
[4,9.6999999999999993,170,23,90,1.99,0.76,300,1,0.88,2.2613636363636362,0.86363636363636365]
[4,10.199999999999999,170,23,99,2.16,0.74,300,1,0.88,2.4545454545454546,0.84090909090909094]
[4,10.7,170,24,1,0.78,0.78,100,0,0.78,1,1]
[4,11.9,170,24,50,0.92,0.69,100,1,0.78,1.1794871794871795,0.88461538461538447]
[4,13.1,170,24,60,1.06,0.65,100,1,0.78,1.358974358974359,0.83333333333333337]
[4,14.3,170,24,70,1.2,0.61,100,1,0.78,1.5384615384615383,0.78205128205128205]
[4,15.5,170,24,80,1.34,0.56000000000000005,100,1,0.78,1.7179487179487181,0.71794871794871795]
[4,16.7,170,24,90,1.48,0.52,100,1,0.78,1.8974358974358974,0.66666666666666663]
[4,17.7,170,24,99,1.6,0.49,100,1,0.78,2.0512820512820515,0.62820512820512819]
[4,7.8,170,24,1,0.89,0.89,200,0,0.89,1,1]
[4,9.1999999999999993,170,24,50,1.22,0.82,200,1,0.89,1.3707865168539326,0.92134831460674149]
[4,10,170,24,60,1.4,0.79,200,1,0.89,1.5730337078651684,0.88764044943820231]
[4,10.8,170,24,70,1.59,0.77,200,1,0.89,1.7865168539325844,0.8651685393258427]
[4,11.6,170,24,80,1.78,0.74,200,1,0.89,2,0.8314606741573034]
[4,12.4,170,24,90,1.97,0.72,200,1,0.89,2.2134831460674156,0.8089887640449438]
[4,13.2,170,24,99,2.13,0.69,200,1,0.89,2.393258426966292,0.77528089887640439]
[4,6.6,170,24,1,0.93,0.93,300,0,0.93,1,1]
[4,7.8,170,24,50,1.32,0.87,300,{"$f":"IF(F982<>G982,1,0)","v":1},0.93,{"$f":"F982/J982","v":1.4193548387096775},0.93548387096774188]
[4,8.4,170,24,60,1.52,0.85,300,1,0.93,1.6344086021505375,{"$f":"G983/J983","v":0.91397849462365588}]
[4,8.9,170,24,70,1.73,0.83,300,1,0.93,1.8602150537634408,0.89247311827956977]
[4,9.5,170,24,80,1.93,0.81,300,1,{"$f":"IF(F985/G985=1,F985,J984)","v":0.93},2.075268817204301,0.87096774193548387]
[4,10.1,170,24,90,2.14,0.79,300,1,0.93,2.3010752688172045,0.84946236559139787]
[4,10.6,170,24,99,2.3199999999999998,0.77,300,1,0.93,2.4946236559139781,0.82795698924731176]
[4,11,170,25,1,0.82,0.82,100,0,0.82,1,1]
[4,12.5,170,25,50,0.99,0.72,100,1,0.82,1.2073170731707317,0.87804878048780488]
[4,13.8,170,25,60,1.1399999999999999,0.67,100,1,0.82,1.3902439024390243,0.81707317073170738]
[4,15.1,170,25,70,1.29,0.63,100,1,0.82,1.5731707317073171,0.76829268292682928]
[4,16.3,170,25,80,1.44,0.57999999999999996,100,1,0.82,1.7560975609756098,0.70731707317073167]
[4,17.600000000000001,170,25,90,1.58,0.54,100,1,0.82,1.9268292682926831,0.65853658536585369]
[4,18.7,170,25,99,1.71,0.5,100,1,0.82,2.0853658536585367,0.6097560975609756]
[4,8,170,25,1,0.94,0.94,200,0,0.94,1,1]
[4,9.6,170,25,50,1.31,0.85,200,1,0.94,1.3936170212765959,0.9042553191489362]
[4,10.5,170,25,60,1.51,0.83,200,1,0.94,1.6063829787234043,0.88297872340425532]
[4,11.3,170,25,70,1.71,0.8,200,1,0.94,1.8191489361702129,0.85106382978723416]
[4,12.2,170,25,80,1.91,0.77,200,1,0.94,2.0319148936170213,0.81914893617021278]
[4,13,170,25,90,2.11,0.74,200,1,0.94,2.2446808510638299,0.78723404255319152]
[4,13.8,170,25,99,2.29,0.72,200,1,0.94,2.4361702127659575,0.76595744680851063]
[4,6.8,170,25,1,0.97,0.97,300,0,0.97,1,1]
[4,8.1,170,25,50,1.42,0.9,300,1,0.97,1.4639175257731958,0.92783505154639179]
[4,8.6999999999999993,170,25,60,1.64,0.88,300,1,0.97,1.6907216494845361,0.90721649484536082]
[4,9.3000000000000007,170,25,70,1.86,0.86,300,1,0.97,1.9175257731958764,0.88659793814432986]
[4,9.9,170,25,80,2.0699999999999998,0.84,300,1,0.97,2.134020618556701,0.865979381443299]
[4,10.5,170,25,90,2.29,0.82,300,1,0.97,2.3608247422680413,0.84536082474226804]
[4,11.1,170,25,99,2.48,0.8,300,1,0.97,2.5567010309278353,0.82474226804123718]
[4,11.4,170,26,1,0.86,0.86,100,0,0.86,1,1]
[4,13.2,170,26,50,1.07,0.74,100,1,0.86,1.2441860465116279,0.86046511627906974]
[4,14.5,170,26,60,1.22,0.69,100,1,0.86,1.4186046511627908,0.80232558139534882]
[4,15.8,170,26,70,1.38,0.65,100,1,0.86,1.6046511627906976,0.7558139534883721]
[4,17.2,170,26,80,1.53,0.6,100,1,0.86,1.7790697674418605,0.69767441860465118]
[4,18.5,170,26,90,1.69,0.56000000000000005,100,1,0.86,1.9651162790697674,0.65116279069767447]
[4,19.600000000000001,170,26,99,1.82,0.52,100,1,0.86,2.1162790697674421,0.60465116279069775]
[4,8.1999999999999993,170,26,1,0.98,0.98,200,0,0.98,1,1]
[4,10.1,170,26,50,1.41,0.89,200,1,0.98,1.4387755102040816,0.90816326530612246]
[4,10.9,170,26,60,1.62,0.86,200,1,0.98,1.653061224489796,0.87755102040816324]
[4,11.8,170,26,70,1.83,0.83,200,1,0.98,1.8673469387755104,0.84693877551020402]
[4,12.8,170,26,80,2.04,0.8,200,1,0.98,2.0816326530612246,0.81632653061224492]
[4,13.7,170,26,90,2.25,0.77,200,1,0.98,2.295918367346939,0.7857142857142857]
[4,14.5,170,26,99,2.44,0.74,200,1,0.98,2.489795918367347,0.75510204081632648]
[4,6.9,170,26,1,1.01,1.01,300,0,1.01,1,1]
[4,8.4,170,26,50,1.53,0.94,300,1,1.01,1.5148514851485149,0.93069306930693063]
[4,9,170,26,60,1.76,0.92,300,1,1.01,1.7425742574257426,0.91089108910891092]
[4,9.6999999999999993,170,26,70,1.99,0.9,300,1,1.01,1.9702970297029703,0.8910891089108911]
[4,10.3,170,26,80,2.2200000000000002,0.87,300,1,1.01,2.1980198019801982,0.86138613861386137]
[4,11,170,26,90,2.4500000000000002,0.85,300,1,1.01,2.4257425742574257,0.84158415841584155]
[4,11.6,170,26,99,2.65,0.83,300,1,1.01,2.6237623762376239,0.82178217821782173]
[4,11.7,170,27,1,0.9,0.9,100,0,0.9,1,1]
[4,13.8,170,27,50,1.1399999999999999,0.77,100,1,0.9,1.2666666666666666,0.85555555555555551]
[4,15.2,170,27,60,1.31,0.72,100,1,0.9,1.4555555555555555,0.79999999999999993]
[4,16.600000000000001,170,27,70,1.47,0.67,100,1,0.9,1.6333333333333333,0.74444444444444446]
[4,18,170,27,80,1.63,0.62,100,1,0.9,1.8111111111111109,0.68888888888888888]
[4,19.399999999999999,170,27,90,1.79,0.56999999999999995,100,1,0.9,1.9888888888888889,0.6333333333333333]
[4,20.6,170,27,99,1.94,0.53,100,1,0.9,2.1555555555555554,0.58888888888888891]
[4,8.4,170,27,1,1.02,1.02,200,0,1.02,1,1]
[4,10.5,170,27,50,1.51,0.92,200,1,1.02,1.4803921568627452,0.90196078431372551]
[4,11.4,170,27,60,1.73,0.89,200,1,1.02,1.696078431372549,0.87254901960784315]
[4,12.4,170,27,70,1.96,0.86,200,1,1.02,1.9215686274509802,0.84313725490196079]
[4,13.4,170,27,80,2.1800000000000002,0.83,200,1,1.02,2.1372549019607843,0.81372549019607843]
[4,14.3,170,27,90,2.4,0.8,200,1,1.02,2.3529411764705883,0.78431372549019607]
[4,15.2,170,27,99,2.6,0.77,200,1,1.02,2.5490196078431371,0.75490196078431371]
[4,7,170,27,1,1.06,1.06,300,0,1.06,1,1]
[4,8.6999999999999993,170,27,50,1.64,0.98,300,1,1.06,1.5471698113207546,0.92452830188679236]
[4,9.4,170,27,60,1.88,0.95,300,{"$f":"IF(F1046<>G1046,1,0)","v":1},1.06,{"$f":"F1046/J1046","v":1.7735849056603772},0.89622641509433953]
[4,10.1,170,27,70,2.13,0.93,300,1,1.06,2.0094339622641506,{"$f":"G1047/J1047","v":0.87735849056603776}]
[4,10.8,170,27,80,2.37,0.91,300,1,1.06,2.2358490566037736,0.85849056603773588]
[4,11.5,170,27,90,2.61,0.88,300,1,{"$f":"IF(F1049/G1049=1,F1049,J1048)","v":1.06},2.4622641509433958,0.83018867924528295]
[4,12.1,170,27,99,2.83,0.86,300,1,1.06,2.6698113207547167,0.81132075471698106]
[4,10.7,240,21,1,0.79,0.79,100,0,0.79,1,1]
[4,10.8,240,21,50,0.79,0.73,100,1,0.79,1,0.92405063291139233]
[4,11.9,240,21,60,0.92,0.67,100,1,0.79,1.1645569620253164,0.84810126582278478]
[4,13,240,21,70,1.05,0.62,100,1,0.79,1.3291139240506329,0.78481012658227844]
[4,14.1,240,21,80,1.18,0.56000000000000005,100,1,0.79,1.4936708860759491,0.70886075949367089]
[4,15.2,240,21,90,1.3,0.51,100,1,0.79,1.6455696202531644,0.64556962025316456]
[4,16.100000000000001,240,21,99,1.41,0.46,100,1,0.79,1.7848101265822782,0.58227848101265822]
[4,8,240,21,1,0.94,0.94,200,0,0.94,1,1]
[4,8.8000000000000007,240,21,50,1.1200000000000001,0.87,200,1,0.94,1.1914893617021278,0.92553191489361708]
[4,9.6,240,21,60,1.3,0.83,200,1,0.94,1.3829787234042554,0.88297872340425532]
[4,10.4,240,21,70,1.49,0.8,200,1,0.94,1.5851063829787235,0.85106382978723416]
[4,11.2,240,21,80,1.67,0.76,200,1,0.94,1.7765957446808511,0.8085106382978724]
[4,11.9,240,21,90,1.85,0.72,200,1,0.94,1.968085106382979,0.76595744680851063]
[4,12.6,240,21,99,2.02,0.69,200,1,0.94,2.1489361702127661,0.73404255319148937]
[4,6.8,240,21,1,0.99,0.99,300,0,0.99,1,1]
[4,7.6,240,21,50,1.25,0.93,300,1,0.99,1.2626262626262625,0.93939393939393945]
[4,8.1999999999999993,240,21,60,1.46,0.9,300,1,0.99,1.4747474747474747,0.90909090909090917]
[4,8.6999999999999993,240,21,70,1.66,0.87,300,1,0.99,1.6767676767676767,0.87878787878787878]
[4,9.3000000000000007,240,21,80,1.87,0.84,300,1,0.99,1.8888888888888891,0.84848484848484851]
[4,9.9,240,21,90,2.0699999999999998,0.82,300,1,0.99,2.0909090909090908,0.82828282828282829]
[4,10.5,240,21,99,2.2599999999999998,0.79,300,1,0.99,2.2828282828282824,0.79797979797979801]
[4,11.1,240,22,1,0.83,0.83,100,0,0.83,1,1]
[4,11.4,240,22,50,0.86,0.76,100,1,0.83,1.036144578313253,0.9156626506024097]
[4,12.6,240,22,60,1,0.7,100,1,0.83,1.2048192771084338,0.84337349397590355]
[4,13.7,240,22,70,1.1399999999999999,0.64,100,1,0.83,1.3734939759036144,0.77108433734939763]
[4,14.9,240,22,80,1.27,0.57999999999999996,100,1,0.83,1.530120481927711,0.6987951807228916]
[4,16.100000000000001,240,22,90,1.4,0.53,100,1,0.83,1.6867469879518071,0.63855421686746994]
[4,17.100000000000001,240,22,99,1.52,0.48,100,1,0.83,1.8313253012048194,0.57831325301204817]
[4,8.3000000000000007,240,22,1,0.99,0.99,200,0,0.99,1,1]
[4,9.1999999999999993,240,22,50,1.22,0.91,200,1,0.99,1.2323232323232323,0.91919191919191923]
[4,10.1,240,22,60,1.42,0.87,200,1,0.99,1.4343434343434343,0.87878787878787878]
[4,10.9,240,22,70,1.61,0.83,200,1,0.99,1.6262626262626263,0.83838383838383834]
[4,11.7,240,22,80,1.81,0.79,200,1,0.99,1.8282828282828283,0.79797979797979801]
[4,12.6,240,22,90,2,0.76,200,1,0.99,2.0202020202020203,0.76767676767676774]
[4,13.3,240,22,99,2.1800000000000002,0.72,200,1,0.99,2.202020202020202,0.72727272727272729]
[4,7,240,22,1,1.05,1.05,300,0,1.05,1,1]
[4,7.9,240,22,50,1.37,0.98,300,1,1.05,1.3047619047619048,0.93333333333333324]
[4,8.5,240,22,60,1.58,0.95,300,1,1.05,1.5047619047619047,0.90476190476190466]
[4,9.1999999999999993,240,22,70,1.8,0.92,300,1,1.05,1.7142857142857142,0.87619047619047619]
[4,9.8000000000000007,240,22,80,2.02,0.88,300,1,1.05,1.9238095238095236,0.83809523809523812]
[4,10.4,240,22,90,2.2400000000000002,0.86,300,1,1.05,2.1333333333333333,0.81904761904761902]
[4,11,240,22,99,2.44,0.83,300,1,1.05,2.3238095238095235,0.79047619047619044]
[4,11.5,240,23,1,0.88,0.88,100,0,0.88,1,1]
[4,12.1,240,23,50,0.94,0.79,100,1,0.88,1.0681818181818181,0.89772727272727282]
[4,13.3,240,23,60,1.08,0.73,100,1,0.88,1.2272727272727273,0.82954545454545447]
[4,14.5,240,23,70,1.23,0.67,100,1,0.88,1.3977272727272727,0.76136363636363635]
[4,15.7,240,23,80,1.37,0.61,100,1,0.88,1.5568181818181819,0.69318181818181812]
[4,17,240,23,90,1.51,0.55000000000000004,100,1,0.88,1.7159090909090908,0.625]
[4,18,240,23,99,1.63,0.5,100,1,0.88,1.8522727272727271,0.56818181818181823]
[4,8.5,240,23,1,1.05,1.05,200,0,1.05,1,1]
[4,9.6999999999999993,240,23,50,1.33,0.95,200,1,1.05,1.2666666666666666,0.90476190476190466]
[4,10.6,240,23,60,1.53,0.91,200,1,1.05,1.4571428571428571,0.8666666666666667]
[4,11.5,240,23,70,1.74,0.87,200,1,1.05,1.657142857142857,0.82857142857142851]
[4,12.4,240,23,80,1.95,0.83,200,1,1.05,1.857142857142857,0.79047619047619044]
[4,13.2,240,23,90,2.15,0.79,200,1,1.05,2.0476190476190474,0.75238095238095237]
[4,14,240,23,99,2.34,0.75,200,1,1.05,2.2285714285714282,0.7142857142857143]
[4,7.2,240,23,1,1.1000000000000001,1.1000000000000001,300,0,1.1000000000000001,1,1]
[4,8.1999999999999993,240,23,50,1.49,1.02,300,1,1.1000000000000001,1.3545454545454545,0.92727272727272725]
[4,8.9,240,23,60,1.72,0.99,300,1,1.1000000000000001,1.5636363636363635,0.89999999999999991]
[4,9.6,240,23,70,1.95,0.96,300,{"$f":"IF(F1110<>G1110,1,0)","v":1},1.1000000000000001,{"$f":"F1110/J1110","v":1.7727272727272725},0.87272727272727257]
[4,10.199999999999999,240,23,80,2.1800000000000002,0.93,300,1,1.1000000000000001,1.9818181818181817,{"$f":"G1111/J1111","v":0.84545454545454546}]
[4,10.9,240,23,90,2.42,0.89,300,1,1.1000000000000001,2.1999999999999997,0.80909090909090908]
[4,11.5,240,23,99,2.63,0.86,300,1,{"$f":"IF(F1113/G1113=1,F1113,J1112)","v":1.1000000000000001},2.3909090909090907,0.78181818181818175]
[4,11.9,240,24,1,0.92,0.92,100,0,0.92,1,1]
[4,12.7,240,24,50,1.02,0.82,100,1,0.92,1.1086956521739131,0.89130434782608692]
[4,14,240,24,60,1.17,0.75,100,1,0.92,1.2717391304347825,0.81521739130434778]
[4,15.3,240,24,70,1.32,0.69,100,1,0.92,1.4347826086956521,0.74999999999999989]
[4,16.600000000000001,240,24,80,1.47,0.63,100,1,0.92,1.5978260869565217,0.68478260869565211]
[4,17.899999999999999,240,24,90,1.62,0.56999999999999995,100,1,0.92,1.7608695652173914,0.61956521739130421]
[4,19,240,24,99,1.75,0.51,100,1,0.92,1.9021739130434783,0.55434782608695654]
[4,8.6999999999999993,240,24,1,1.1000000000000001,1.1000000000000001,200,0,1.1000000000000001,1,1]
[4,10.199999999999999,240,24,50,1.44,0.99,200,1,1.1000000000000001,1.3090909090909089,0.89999999999999991]
[4,11.1,240,24,60,1.66,0.95,200,1,1.1000000000000001,1.5090909090909088,0.86363636363636354]
[4,12,240,24,70,1.88,0.91,200,1,1.1000000000000001,1.7090909090909088,0.82727272727272727]
[4,13,240,24,80,2.09,0.86,200,1,1.1000000000000001,1.8999999999999997,0.78181818181818175]
[4,13.9,240,24,90,2.31,0.82,200,1,1.1000000000000001,2.1,0.74545454545454537]
[4,14.8,240,24,99,2.5099999999999998,0.78,200,1,1.1000000000000001,2.2818181818181813,0.70909090909090911]
[4,7.3,240,24,1,1.1599999999999999,1.1599999999999999,300,0,1.1599999999999999,1,1]
[4,8.6,240,24,50,1.61,1.07,300,1,1.1599999999999999,1.3879310344827589,0.9224137931034484]
[4,9.3000000000000007,240,24,60,1.85,1.03,300,1,1.1599999999999999,1.5948275862068968,0.88793103448275867]
[4,10,240,24,70,2.1,1,300,1,1.1599999999999999,1.8103448275862071,0.86206896551724144]
[4,10.7,240,24,80,2.35,0.96,300,1,1.1599999999999999,2.0258620689655173,0.82758620689655171]
[4,11.4,240,24,90,2.6,0.93,300,1,1.1599999999999999,2.2413793103448278,0.80172413793103459]
[4,12.1,240,24,99,2.82,0.9,300,1,1.1599999999999999,2.4310344827586206,0.77586206896551735]
[4,12.3,240,25,1,0.97,0.97,100,0,0.97,1,1]
[4,13.4,240,25,50,1.1000000000000001,0.85,100,1,0.97,1.1340206185567012,0.87628865979381443]
[4,14.8,240,25,60,1.26,0.78,100,1,0.97,1.2989690721649485,0.80412371134020622]
[4,16.100000000000001,240,25,70,1.42,0.71,100,1,0.97,1.4639175257731958,0.73195876288659789]
[4,17.5,240,25,80,1.57,0.65,100,1,0.97,1.6185567010309279,0.67010309278350522]
[4,18.8,240,25,90,1.73,0.57999999999999996,100,1,0.97,1.7835051546391754,0.59793814432989689]
[4,20,240,25,99,1.87,0.53,100,1,0.97,1.927835051546392,0.54639175257731964]
[4,9,240,25,1,1.1599999999999999,1.1599999999999999,200,0,1.1599999999999999,1,1]
[4,10.6,240,25,50,1.55,1.03,200,1,1.1599999999999999,1.3362068965517242,0.88793103448275867]
[4,11.6,240,25,60,1.78,0.99,200,1,1.1599999999999999,1.5344827586206897,0.85344827586206906]
[4,12.6,240,25,70,2.0099999999999998,0.94,200,1,1.1599999999999999,1.732758620689655,0.81034482758620696]
[4,13.6,240,25,80,2.25,0.89,200,1,1.1599999999999999,1.9396551724137931,0.76724137931034486]
[4,14.6,240,25,90,2.48,0.85,200,1,1.1599999999999999,2.1379310344827589,0.73275862068965525]
[4,15.5,240,25,99,2.69,0.81,200,1,1.1599999999999999,2.3189655172413794,0.69827586206896564]
[4,7.5,240,25,1,1.22,1.22,300,0,1.22,1,1]
[4,8.9,240,25,50,1.73,1.1100000000000001,300,1,1.22,1.4180327868852458,0.90983606557377061]
[4,9.6999999999999993,240,25,60,1.99,1.07,300,1,1.22,1.6311475409836065,0.87704918032786894]
[4,10.4,240,25,70,2.2599999999999998,1.04,300,1,1.22,1.8524590163934425,0.85245901639344268]
[4,11.2,240,25,80,2.52,1,300,1,1.22,2.0655737704918034,0.81967213114754101]
[4,12,240,25,90,2.78,0.97,300,1,1.22,2.278688524590164,0.79508196721311475]
[4,12.6,240,25,99,3.02,0.93,300,1,1.22,2.4754098360655736,0.76229508196721318]
[4,12.7,240,26,1,1.02,1.02,100,0,1.02,1,1]
[4,14.1,240,26,50,1.18,0.87,100,1,1.02,1.1568627450980391,0.8529411764705882]
[4,15.5,240,26,60,1.35,0.8,100,1,1.02,1.3235294117647058,0.78431372549019607]
[4,17,240,26,70,1.51,0.73,100,1,1.02,1.4803921568627452,0.71568627450980393]
[4,18.399999999999999,240,26,80,1.68,0.66,100,1,1.02,1.6470588235294117,0.6470588235294118]
[4,19.8,240,26,90,1.84,0.6,100,1,1.02,1.803921568627451,0.58823529411764708]
[4,21,240,26,99,1.98,0.54,100,1,1.02,1.9411764705882353,0.52941176470588236]
[4,9.1999999999999993,240,26,1,1.21,1.21,200,0,1.21,1,1]
[4,11.1,240,26,50,1.67,1.07,200,1,1.21,1.3801652892561984,0.88429752066115708]
[4,12.2,240,26,60,1.91,1.02,200,1,1.21,1.5785123966942149,0.84297520661157033]
[4,13.3,240,26,70,2.16,0.97,200,1,1.21,1.785123966942149,0.80165289256198347]
[4,14.3,240,26,80,2.4,0.92,200,1,1.21,1.9834710743801653,0.76033057851239672]
[4,15.4,240,26,90,2.65,0.87,200,1,1.21,2.1900826446280992,0.71900826446280997]
[4,16.3,240,26,99,2.87,0.83,200,1,1.21,2.3719008264462813,0.68595041322314043]
[4,7.6,240,26,1,1.27,1.27,300,0,1.27,1,1]
[4,9.3000000000000007,240,26,50,1.86,1.1599999999999999,300,1,1.27,1.4645669291338583,0.91338582677165348]
[4,10.1,240,26,60,2.14,1.1200000000000001,300,1,1.27,1.6850393700787403,0.88188976377952766]
[4,10.9,240,26,70,2.42,1.08,300,1,1.27,1.905511811023622,0.85039370078740162]
[4,11.7,240,26,80,2.7,1.04,300,{"$f":"IF(F1174<>G1174,1,0)","v":1},1.27,{"$f":"F1174/J1174","v":2.1259842519685042},0.81889763779527558]
[4,12.5,240,26,90,2.98,1,300,1,1.27,2.3464566929133857,{"$f":"G1175/J1175","v":0.78740157480314954}]
[4,13.2,240,26,99,3.23,0.96,300,1,1.27,2.5433070866141732,0.75590551181102361]
[4,13.1,240,27,1,1.06,1.06,100,0,{"$f":"IF(F1177/G1177=1,F1177,J1176)","v":1.06},1,1]
[4,14.8,240,27,50,1.26,0.9,100,1,1.06,1.1886792452830188,0.84905660377358494]
[4,16.3,240,27,60,1.44,0.83,100,1,1.06,1.3584905660377358,0.78301886792452824]
[4,17.8,240,27,70,1.61,0.75,100,1,1.06,1.5188679245283019,0.70754716981132071]
[4,19.3,240,27,80,1.79,0.68,100,1,1.06,1.6886792452830188,0.64150943396226412]
[4,20.8,240,27,90,1.96,0.61,100,1,1.06,1.8490566037735847,0.57547169811320753]
[4,22.1,240,27,99,2.11,0.55000000000000004,100,1,1.06,1.9905660377358489,0.51886792452830188]
[4,9.4,240,27,1,1.26,1.26,200,0,1.26,1,1]
[4,11.6,240,27,50,1.78,1.1100000000000001,200,1,1.26,1.4126984126984128,0.88095238095238104]
[4,12.8,240,27,60,2.04,1.06,200,1,1.26,1.6190476190476191,0.84126984126984128]
[4,13.9,240,27,70,2.31,1,200,1,1.26,1.8333333333333333,0.79365079365079361]
[4,15,240,27,80,2.56,0.95,200,1,1.26,2.0317460317460316,0.75396825396825395]
[4,16.100000000000001,240,27,90,2.82,0.9,200,1,1.26,2.2380952380952381,0.7142857142857143]
[4,17.100000000000001,240,27,99,3.06,0.86,200,1,1.26,2.4285714285714284,0.68253968253968256]
[4,7.8,240,27,1,1.33,1.33,300,0,1.33,1,1]
[4,9.6999999999999993,240,27,50,2,1.2,300,1,1.33,1.5037593984962405,0.90225563909774431]
[4,10.5,240,27,60,2.29,1.1599999999999999,300,1,1.33,1.7218045112781954,0.87218045112781939]
[4,11.4,240,27,70,2.59,1.1200000000000001,300,1,1.33,1.9473684210526314,0.8421052631578948]
[4,12.2,240,27,80,2.88,1.07,300,1,1.33,2.1654135338345863,0.80451127819548873]
[4,13.1,240,27,90,3.18,1.03,300,1,1.33,2.3909774436090228,0.77443609022556392]
[4,13.8,240,27,99,3.44,1,300,1,1.33,2.5864661654135337,0.75187969924812026]
[4,11.4,310,21,1,0.87,0.87,100,0,0.87,1,1]
[4,11.4,310,21,50,0.87,0.87,100,0,0.87,1,1]
[4,12.4,310,21,60,0.97,0.75,100,1,0.87,1.1149425287356323,0.86206896551724144]
[4,13.5,310,21,70,1.1100000000000001,0.68,100,1,0.87,1.2758620689655173,0.7816091954022989]
[4,14.6,310,21,80,1.24,0.61,100,1,0.87,1.4252873563218391,0.70114942528735635]
[4,15.8,310,21,90,1.37,0.54,100,1,0.87,1.5747126436781611,0.62068965517241381]
[4,16.8,310,21,99,1.49,0.48,100,1,0.87,1.7126436781609196,0.55172413793103448]
[4,8.6,310,21,1,1.08,1.08,200,0,1.08,1,1]
[4,9.3000000000000007,310,21,50,1.24,0.99,200,1,1.08,1.1481481481481481,0.91666666666666663]
[4,10.199999999999999,310,21,60,1.44,0.94,200,1,1.08,1.3333333333333333,0.87037037037037024]
[4,11,310,21,70,1.64,0.89,200,1,1.08,1.5185185185185184,0.82407407407407407]
[4,11.9,310,21,80,1.84,0.84,200,1,1.08,1.7037037037037037,0.77777777777777768]
[4,12.8,310,21,90,2.04,0.79,200,1,1.08,1.8888888888888888,0.73148148148148151]
[4,13.5,310,21,99,2.2200000000000002,0.74,200,1,1.08,2.0555555555555558,0.68518518518518512]
[4,7.3,310,21,1,1.1499999999999999,1.1499999999999999,300,0,1.1499999999999999,1,1]
[4,8,310,21,50,1.41,1.07,300,1,1.1499999999999999,1.2260869565217392,0.93043478260869583]
[4,8.6999999999999993,310,21,60,1.65,1.03,300,1,1.1499999999999999,1.4347826086956521,0.89565217391304353]
[4,9.4,310,21,70,1.88,0.99,300,1,1.1499999999999999,1.6347826086956523,0.86086956521739133]
[4,10,310,21,80,2.11,0.95,300,1,1.1499999999999999,1.8347826086956522,0.82608695652173914]
[4,10.7,310,21,90,2.34,0.91,300,1,1.1499999999999999,2.0347826086956524,0.79130434782608705]
[4,11.3,310,21,99,2.5499999999999998,0.87,300,1,1.1499999999999999,2.2173913043478262,0.75652173913043486]
[4,11.9,310,22,1,0.92,0.92,100,0,0.92,1,1]
[4,11.9,310,22,50,0.92,0.85,100,1,0.92,1,0.92391304347826075]
[4,13.1,310,22,60,1.06,0.78,100,1,0.92,1.1521739130434783,0.84782608695652173]
[4,14.3,310,22,70,1.2,0.7,100,1,0.92,1.3043478260869563,0.76086956521739124]
[4,15.5,310,22,80,1.34,0.63,100,1,0.92,1.4565217391304348,0.68478260869565211]
[4,16.7,310,22,90,1.48,0.56000000000000005,100,1,0.92,1.6086956521739129,0.60869565217391308]
[4,17.8,310,22,99,1.6,0.49,100,1,0.92,1.7391304347826086,0.53260869565217384]
[4,8.9,310,22,1,1.1399999999999999,1.1399999999999999,200,0,1.1399999999999999,1,1]
[4,9.8000000000000007,310,22,50,1.35,1.04,200,1,1.1399999999999999,1.1842105263157896,0.91228070175438603]
[4,10.7,310,22,60,1.56,0.98,200,1,1.1399999999999999,1.3684210526315792,0.85964912280701755]
[4,11.6,310,22,70,1.78,0.93,200,1,1.1399999999999999,1.56140350877193,0.81578947368421062]
[4,12.5,310,22,80,1.99,0.88,200,1,1.1399999999999999,1.7456140350877194,0.77192982456140358]
[4,13.5,310,22,90,2.21,0.82,200,1,1.1399999999999999,1.9385964912280702,0.7192982456140351]
[4,14.3,310,22,99,2.4,0.77,200,1,1.1399999999999999,2.1052631578947367,0.67543859649122817]
[4,7.5,310,22,1,1.21,1.21,300,0,1.21,1,1]
[4,8.4,310,22,50,1.54,1.1200000000000001,300,1,1.21,1.2727272727272727,0.92561983471074394]
[4,9.1,310,22,60,1.79,1.08,300,1,1.21,1.4793388429752068,0.89256198347107452]
[4,9.8000000000000007,310,22,70,2.04,1.04,300,1,1.21,1.6859504132231407,0.85950413223140498]
[4,10.5,310,22,80,2.29,0.99,300,1,1.21,1.8925619834710745,0.81818181818181823]
[4,11.2,310,22,90,2.5299999999999998,0.95,300,{"$f":"IF(F1238<>G1238,1,0)","v":1},1.21,{"$f":"F1238/J1238","v":2.0909090909090908},0.7851239669421487]
[4,11.9,310,22,99,2.76,0.91,300,1,1.21,2.28099173553719,{"$f":"G1239/J1239","v":0.75206611570247939}]
[4,12.3,310,23,1,0.97,0.97,100,0,0.97,1,1]
[4,12.5,310,23,50,0.99,0.89,100,1,{"$f":"IF(F1241/G1241=1,F1241,J1240)","v":0.97},1.0206185567010309,0.91752577319587636]
[4,13.8,310,23,60,1.1399999999999999,0.81,100,1,0.97,1.1752577319587627,0.83505154639175261]
[4,15.1,310,23,70,1.29,0.73,100,1,0.97,1.329896907216495,0.75257731958762886]
[4,16.399999999999999,310,23,80,1.44,0.65,100,1,0.97,1.4845360824742269,0.67010309278350522]
[4,17.600000000000001,310,23,90,1.59,0.57999999999999996,100,1,0.97,1.6391752577319589,0.59793814432989689]
[4,18.7,310,23,99,1.72,0.51,100,1,0.97,1.7731958762886597,0.52577319587628868]
[4,9.1,310,23,1,1.2,1.2,200,0,1.2,1,1]
[4,10.3,310,23,50,1.47,1.08,200,1,1.2,1.2250000000000001,0.90000000000000013]
[4,11.3,310,23,60,1.7,1.02,200,1,1.2,1.4166666666666667,0.85000000000000009]
[4,12.2,310,23,70,1.92,0.97,200,1,1.2,1.6,0.80833333333333335]
[4,13.2,310,23,80,2.15,0.91,200,1,1.2,1.7916666666666667,0.75833333333333341]
[4,14.2,310,23,90,2.38,0.85,200,1,1.2,1.9833333333333334,0.70833333333333337]
[4,15.1,310,23,99,2.58,0.8,200,1,1.2,2.1500000000000004,0.66666666666666674]
[4,7.7,310,23,1,1.28,1.28,300,0,1.28,1,1]
[4,8.8000000000000007,310,23,50,1.68,1.17,300,1,1.28,1.3125,0.91406249999999989]
[4,9.5,310,23,60,1.94,1.1299999999999999,300,1,1.28,1.515625,0.88281249999999989]
[4,10.3,310,23,70,2.2000000000000002,1.08,300,1,1.28,1.71875,0.84375]
[4,11,310,23,80,2.4700000000000002,1.03,300,1,1.28,1.9296875000000002,0.8046875]
[4,11.8,310,23,90,2.73,0.99,300,1,1.28,2.1328125,0.7734375]
[4,12.5,310,23,99,2.97,0.95,300,1,1.28,2.3203125,0.7421875]
[4,12.8,310,24,1,1.02,1.02,100,0,1.02,1,1]
[4,13.2,310,24,50,1.08,0.92,100,1,1.02,1.0588235294117647,0.90196078431372551]
[4,14.6,310,24,60,1.23,0.83,100,1,1.02,1.2058823529411764,0.81372549019607843]
[4,15.9,310,24,70,1.39,0.75,100,1,1.02,1.3627450980392155,0.73529411764705876]
[4,17.3,310,24,80,1.55,0.67,100,1,1.02,1.5196078431372548,0.65686274509803921]
[4,18.600000000000001,310,24,90,1.7,0.59,100,1,1.02,1.6666666666666665,0.57843137254901955]
[4,19.8,310,24,99,1.83,0.53,100,1,1.02,1.7941176470588236,0.51960784313725494]
[4,9.4,310,24,1,1.26,1.26,200,0,1.26,1,1]
[4,10.8,310,24,50,1.59,1.1299999999999999,200,1,1.26,1.2619047619047619,0.89682539682539675]
[4,11.8,310,24,60,1.83,1.07,200,1,1.26,1.4523809523809523,0.8492063492063493]
[4,12.9,310,24,70,2.0699999999999998,1,200,1,1.26,1.6428571428571428,0.79365079365079361]
[4,13.9,310,24,80,2.31,0.94,200,1,1.26,1.8333333333333333,0.74603174603174593]
[4,14.9,310,24,90,2.5499999999999998,0.89,200,1,1.26,2.0238095238095237,0.70634920634920639]
[4,15.9,310,24,99,2.77,0.83,200,1,1.26,2.1984126984126986,0.65873015873015872]
[4,7.8,310,24,1,1.35,1.35,300,0,1.35,1,1]
[4,9.1999999999999993,310,24,50,1.82,1.22,300,1,1.35,1.3481481481481481,0.90370370370370368]
[4,10,310,24,60,2.1,1.17,300,1,1.35,1.5555555555555556,0.86666666666666659]
[4,10.8,310,24,70,2.37,1.1200000000000001,300,1,1.35,1.7555555555555555,0.82962962962962961]
[4,11.6,310,24,80,2.65,1.08,300,1,1.35,1.9629629629629628,0.8]
[4,12.4,310,24,90,2.93,1.03,300,1,1.35,2.1703703703703705,0.76296296296296295]
[4,13.1,310,24,99,3.18,0.98,300,1,1.35,2.3555555555555556,0.72592592592592586]
[4,13.2,310,25,1,1.07,1.07,100,0,1.07,1,1]
[4,13.9,310,25,50,1.1599999999999999,0.95,100,1,1.07,1.0841121495327102,0.8878504672897195]
[4,15.4,310,25,60,1.33,0.86,100,1,1.07,1.2429906542056075,0.80373831775700932]
[4,16.8,310,25,70,1.49,0.77,100,1,1.07,1.3925233644859811,0.71962616822429903]
[4,18.2,310,25,80,1.65,0.69,100,1,1.07,1.542056074766355,0.64485981308411211]
[4,19.600000000000001,310,25,90,1.81,0.61,100,1,1.07,1.6915887850467288,0.57009345794392519]
[4,20.8,310,25,99,1.95,0.54,100,1,1.07,1.8224299065420559,0.50467289719626174]
[4,9.6999999999999993,310,25,1,1.32,1.32,200,0,1.32,1,1]
[4,11.3,310,25,50,1.71,1.17,200,1,1.32,1.2954545454545454,0.88636363636363624]
[4,12.4,310,25,60,1.97,1.1000000000000001,200,1,1.32,1.4924242424242424,0.83333333333333337]
[4,13.5,310,25,70,2.2200000000000002,1.04,200,1,1.32,1.6818181818181819,0.78787878787878785]
[4,14.6,310,25,80,2.48,0.98,200,1,1.32,1.8787878787878787,0.74242424242424243]
[4,15.7,310,25,90,2.73,0.91,200,1,1.32,2.0681818181818179,0.68939393939393934]
[4,16.7,310,25,99,2.96,0.86,200,1,1.32,2.2424242424242422,0.65151515151515149]
[4,8,310,25,1,1.41,1.41,300,0,1.41,1,1]
[4,9.6,310,25,50,1.96,1.27,300,1,1.41,1.3900709219858156,0.90070921985815611]
[4,10.4,310,25,60,2.25,1.22,300,1,1.41,1.595744680851064,0.86524822695035464]
[4,11.3,310,25,70,2.5499999999999998,1.17,300,1,1.41,1.8085106382978724,0.82978723404255317]
[4,12.1,310,25,80,2.85,1.1200000000000001,300,1,1.41,2.021276595744681,0.79432624113475192]
[4,13,310,25,90,3.14,1.07,300,1,1.41,2.2269503546099294,0.75886524822695045]
[4,13.7,310,25,99,3.41,1.02,300,{"$f":"IF(F1302<>G1302,1,0)","v":1},1.41,{"$f":"F1302/J1302","v":2.418439716312057},0.72340425531914898]
[4,13.7,310,26,1,1.1299999999999999,1.1299999999999999,100,0,1.1299999999999999,1,{"$f":"G1303/J1303","v":1}]
[4,14.7,310,26,50,1.24,0.98,100,1,1.1299999999999999,1.097345132743363,0.86725663716814161]
[4,16.2,310,26,60,1.42,0.89,100,1,{"$f":"IF(F1305/G1305=1,F1305,J1304)","v":1.1299999999999999},1.2566371681415929,0.78761061946902666]
[4,17.7,310,26,70,1.59,0.8,100,1,1.1299999999999999,1.4070796460176993,0.70796460176991161]
[4,19.100000000000001,310,26,80,1.76,0.71,100,1,1.1299999999999999,1.5575221238938055,0.62831858407079644]
[4,20.6,310,26,90,1.93,0.62,100,1,1.1299999999999999,1.7079646017699117,0.54867256637168149]
[4,21.8,310,26,99,2.08,0.55000000000000004,100,1,1.1299999999999999,1.8407079646017701,0.48672566371681425]
[4,9.9,310,26,1,1.38,1.38,200,0,1.38,1,1]
[4,11.9,310,26,50,1.84,1.21,200,1,1.38,1.3333333333333335,0.87681159420289856]
[4,13.1,310,26,60,2.11,1.1399999999999999,200,1,1.38,1.5289855072463769,0.82608695652173914]
[4,14.2,310,26,70,2.38,1.08,200,1,1.38,1.7246376811594204,0.78260869565217406]
[4,15.4,310,26,80,2.65,1.01,200,1,1.38,1.9202898550724639,0.73188405797101452]
[4,16.5,310,26,90,2.92,0.94,200,1,1.38,2.1159420289855073,0.6811594202898551]
[4,17.5,310,26,99,3.15,0.88,200,1,1.38,2.2826086956521738,0.63768115942028991]
[4,8.1999999999999993,310,26,1,1.48,1.48,300,0,1.48,1,1]
[4,10,310,26,50,2.11,1.32,300,1,1.48,1.4256756756756757,0.891891891891892]
[4,10.9,310,26,60,2.42,1.26,300,1,1.48,1.6351351351351351,0.85135135135135132]
[4,11.8,310,26,70,2.73,1.21,300,1,1.48,1.8445945945945945,0.81756756756756754]
[4,12.7,310,26,80,3.05,1.1499999999999999,300,1,1.48,2.0608108108108105,0.77702702702702697]
[4,13.6,310,26,90,3.36,1.1000000000000001,300,1,1.48,2.2702702702702702,0.74324324324324331]
[4,14.4,310,26,99,3.64,1.05,300,1,1.48,2.4594594594594597,0.70945945945945954]
[4,14.1,310,27,1,1.18,1.18,100,0,1.18,1,1]
[4,15.4,310,27,50,1.33,1.01,100,1,1.18,1.1271186440677967,0.85593220338983056]
[4,17,310,27,60,1.51,0.91,100,1,1.18,1.2796610169491527,0.77118644067796616]
[4,18.600000000000001,310,27,70,1.7,0.82,100,1,1.18,1.4406779661016949,0.69491525423728817]
[4,20.100000000000001,310,27,80,1.87,0.73,100,1,1.18,1.5847457627118646,0.61864406779661019]
[4,21.6,310,27,90,2.0499999999999998,0.64,100,1,1.18,1.7372881355932204,0.5423728813559322]
[4,22.9,310,27,99,2.2000000000000002,0.56000000000000005,100,1,1.18,1.8644067796610171,0.47457627118644075]
[4,10.199999999999999,310,27,1,1.45,1.45,200,0,1.45,1,1]
[4,12.5,310,27,50,1.97,1.25,200,1,1.45,1.3586206896551725,0.86206896551724144]
[4,13.7,310,27,60,2.2599999999999998,1.18,200,1,1.45,1.5586206896551724,0.81379310344827582]
[4,14.9,310,27,70,2.54,1.1100000000000001,200,1,1.45,1.7517241379310347,0.76551724137931043]
[4,16.100000000000001,310,27,80,2.83,1.04,200,1,1.45,1.9517241379310346,0.71724137931034493]
[4,17.3,310,27,90,3.11,0.97,200,1,1.45,2.1448275862068966,0.66896551724137931]
[4,18.399999999999999,310,27,99,3.36,0.91,200,1,1.45,2.317241379310345,0.62758620689655176]
[4,8.4,310,27,1,1.54,1.54,300,0,1.54,1,1]
[4,10.5,310,27,50,2.2599999999999998,1.37,300,1,1.54,1.4675324675324675,0.88961038961038963]
[4,11.4,310,27,60,2.59,1.31,300,1,1.54,1.6818181818181817,0.85064935064935066]
[4,12.4,310,27,70,2.92,1.25,300,1,1.54,1.8961038961038961,0.81168831168831168]
[4,13.3,310,27,80,3.25,1.19,300,1,1.54,2.1103896103896105,0.77272727272727271]
[4,14.3,310,27,90,3.59,1.1399999999999999,300,1,1.54,2.331168831168831,0.74025974025974017]
[4,15.1,310,27,99,3.89,1.08,300,1,1.54,2.5259740259740262,0.70129870129870131]
[4,12,380,21,1,0.93,0.93,100,0,0.93,1,1]
[4,12,380,21,50,0.93,0.93,100,0,0.93,1,1]
[4,12.7,380,21,60,1.01,0.81,100,1,0.93,1.086021505376344,0.87096774193548387]
[4,13.9,380,21,70,1.1499999999999999,0.73,100,1,0.93,1.236559139784946,0.78494623655913975]
[4,15,380,21,80,1.29,0.64,100,1,0.93,1.3870967741935483,0.68817204301075263]
[4,16.2,380,21,90,1.42,0.56000000000000005,100,1,0.93,1.5268817204301073,0.60215053763440862]
[4,17.2,380,21,99,1.54,0.49,100,1,0.93,1.6559139784946235,0.5268817204301075]
[4,9.1,380,21,1,1.18,1.18,200,0,1.18,1,1]
[4,9.6999999999999993,380,21,50,1.32,1.0900000000000001,200,1,1.18,1.1186440677966103,0.92372881355932213]
[4,10.6,380,21,60,1.54,1.03,200,1,1.18,1.3050847457627119,0.87288135593220351]
[4,11.5,380,21,70,1.76,0.96,200,1,1.18,1.4915254237288136,0.81355932203389836]
[4,12.5,380,21,80,1.97,0.9,200,1,1.18,1.6694915254237288,0.76271186440677974]
[4,13.4,380,21,90,2.1800000000000002,0.83,200,1,1.18,1.8474576271186443,0.70338983050847459]
[4,14.2,380,21,99,2.38,0.78,200,1,1.18,2.0169491525423728,0.66101694915254239]
[4,7.6,380,21,1,1.28,1.28,300,0,1.28,1,1]
[4,8.4,380,21,50,1.54,1.18,300,1,1.28,1.203125,0.92187499999999989]
[4,9.1,380,21,60,1.79,1.1299999999999999,300,1,1.28,1.3984375,0.88281249999999989]
[4,9.8000000000000007,380,21,70,2.0499999999999998,1.08,300,1,1.28,1.6015624999999998,0.84375]
[4,10.6,380,21,80,2.2999999999999998,1.03,300,1,1.28,1.7968749999999998,0.8046875]
[4,11.3,380,21,90,2.5499999999999998,0.98,300,1,1.28,1.9921874999999998,0.765625]
[4,12,380,21,99,2.78,0.93,300,1,1.28,2.171875,0.7265625]
[4,12.5,380,22,1,0.99,0.99,100,{"$f":"IF(F1366<>G1366,1,0)","v":0},0.99,{"$f":"F1366/J1366","v":1},1]
[4,12.4,380,22,50,0.98,0.98,100,0,0.98,1,{"$f":"G1367/J1367","v":1}]
[4,13.4,380,22,60,1.1000000000000001,0.84,100,1,0.98,1.1224489795918369,0.8571428571428571]
[4,14.7,380,22,70,1.24,0.75,100,1,{"$f":"IF(F1369/G1369=1,F1369,J1368)","v":0.98},1.2653061224489797,0.76530612244897955]
[4,15.9,380,22,80,1.39,0.67,100,1,0.98,1.4183673469387754,0.68367346938775519]
[4,17.100000000000001,380,22,90,1.53,0.57999999999999996,100,1,0.98,1.5612244897959184,0.59183673469387754]
[4,18.2,380,22,99,1.65,0.51,100,1,0.98,1.6836734693877551,0.52040816326530615]
[4,9.4,380,22,1,1.25,1.25,200,0,1.25,1,1]
[4,10.199999999999999,380,22,50,1.45,1.1399999999999999,200,1,1.25,1.1599999999999999,0.91199999999999992]
[4,11.2,380,22,60,1.68,1.07,200,1,1.25,1.3439999999999999,0.85600000000000009]
[4,12.2,380,22,70,1.9,1,200,1,1.25,1.52,0.8]
[4,13.1,380,22,80,2.13,0.94,200,1,1.25,1.704,0.752]
[4,14.1,380,22,90,2.36,0.87,200,1,1.25,1.8879999999999999,0.69599999999999995]
[4,15,380,22,99,2.56,0.81,200,1,1.25,2.048,0.64800000000000002]
[4,7.9,380,22,1,1.35,1.35,300,0,1.35,1,1]
[4,8.8000000000000007,380,22,50,1.68,1.24,300,1,1.35,1.2444444444444442,0.9185185185185184]
[4,9.6,380,22,60,1.95,1.18,300,1,1.35,1.4444444444444444,0.874074074074074]
[4,10.3,380,22,70,2.2200000000000002,1.1299999999999999,300,1,1.35,1.6444444444444444,0.83703703703703691]
[4,11.1,380,22,80,2.4900000000000002,1.07,300,1,1.35,1.8444444444444446,0.79259259259259263]
[4,11.9,380,22,90,2.76,1.02,300,1,1.35,2.0444444444444443,0.75555555555555554]
[4,12.6,380,22,99,3,0.97,300,1,1.35,2.2222222222222219,0.71851851851851845]
[4,12.9,380,23,1,1.04,1.04,100,0,1.04,1,1]
[4,12.8,380,23,50,1.03,0.97,100,1,1.04,0.99038461538461542,0.9326923076923076]
[4,14.2,380,23,60,1.19,0.87,100,1,1.04,1.1442307692307692,0.83653846153846145]
[4,15.5,380,23,70,1.34,0.78,100,1,1.04,1.2884615384615385,0.75]
[4,16.8,380,23,80,1.49,0.69,100,1,1.04,1.4326923076923077,0.66346153846153844]
[4,18.100000000000001,380,23,90,1.64,0.6,100,1,1.04,1.5769230769230769,0.57692307692307687]
[4,19.2,380,23,99,1.77,0.52,100,1,1.04,1.7019230769230769,0.5]
[4,9.6999999999999993,380,23,1,1.32,1.32,200,0,1.32,1,1]
[4,10.7,380,23,50,1.57,1.19,200,1,1.32,1.1893939393939394,0.90151515151515138]
[4,11.8,380,23,60,1.81,1.1100000000000001,200,1,1.32,1.3712121212121211,0.84090909090909094]
[4,12.8,380,23,70,2.06,1.04,200,1,1.32,1.5606060606060606,0.78787878787878785]
[4,13.8,380,23,80,2.2999999999999998,0.97,200,1,1.32,1.7424242424242422,0.73484848484848475]
[4,14.9,380,23,90,2.54,0.9,200,1,1.32,1.9242424242424241,0.68181818181818177]
[4,15.8,380,23,99,2.75,0.84,200,1,1.32,2.083333333333333,0.63636363636363635]
[4,8.1,380,23,1,1.42,1.42,300,0,1.42,1,1]
[4,9.1999999999999993,380,23,50,1.83,1.29,300,1,1.42,1.2887323943661972,0.90845070422535223]
[4,10,380,23,60,2.12,1.24,300,1,1.42,1.4929577464788735,0.87323943661971837]
[4,10.9,380,23,70,2.4,1.18,300,1,1.42,1.6901408450704225,0.83098591549295775]
[4,11.7,380,23,80,2.69,1.1200000000000001,300,1,1.42,1.8943661971830987,0.78873239436619724]
[4,12.5,380,23,90,2.97,1.06,300,1,1.42,2.091549295774648,0.74647887323943674]
[4,13.2,380,23,99,3.23,1.01,300,1,1.42,2.274647887323944,0.71126760563380287]
[4,13.4,380,24,1,1.1000000000000001,1.1000000000000001,100,0,1.1000000000000001,1,1]
[4,13.6,380,24,50,1.1100000000000001,1,100,1,1.1000000000000001,1.009090909090909,0.90909090909090906]
[4,15,380,24,60,1.28,0.91,100,1,1.1000000000000001,1.1636363636363636,0.82727272727272727]
[4,16.399999999999999,380,24,70,1.44,0.81,100,1,1.1000000000000001,1.3090909090909089,0.73636363636363633]
[4,17.7,380,24,80,1.6,0.71,100,1,1.1000000000000001,1.4545454545454546,0.64545454545454539]
[4,19.100000000000001,380,24,90,1.75,0.62,100,1,1.1000000000000001,1.5909090909090908,0.5636363636363636]
[4,20.2,380,24,99,1.89,0.54,100,1,1.1000000000000001,1.718181818181818,0.49090909090909091]
[4,10,380,24,1,1.39,1.39,200,0,1.39,1,1]
[4,11.3,380,24,50,1.7,1.23,200,1,1.39,1.2230215827338129,0.8848920863309353]
[4,12.4,380,24,60,1.96,1.1599999999999999,200,1,1.39,1.4100719424460433,0.83453237410071945]
[4,13.5,380,24,70,2.21,1.08,200,1,1.39,1.5899280575539569,0.7769784172661871]
[4,14.6,380,24,80,2.4700000000000002,1.01,200,1,1.39,1.7769784172661873,0.72661870503597126]
[4,15.7,380,24,90,2.72,0.93,200,1,1.39,1.956834532374101,0.66906474820143891]
[4,16.600000000000001,380,24,99,2.95,0.87,200,1,1.39,2.1223021582733814,0.62589928057553956]
[4,8.3000000000000007,380,24,1,1.5,1.5,300,0,1.5,1,1]
[4,9.6999999999999993,380,24,50,1.98,1.35,300,1,1.5,1.32,0.9]
[4,10.5,380,24,60,2.2799999999999998,1.29,300,1,1.5,1.5199999999999998,0.86]
[4,11.4,380,24,70,2.59,1.23,300,1,1.5,1.7266666666666666,0.82]
[4,12.3,380,24,80,2.89,1.1599999999999999,300,1,1.5,1.9266666666666667,0.77333333333333332]
[4,13.1,380,24,90,3.19,1.1000000000000001,300,1,1.5,2.1266666666666665,0.73333333333333339]
[4,13.9,380,24,99,3.46,1.05,300,1,1.5,2.3066666666666666,0.70000000000000007]
[4,13.9,380,25,1,1.1499999999999999,1.1499999999999999,100,0,1.1499999999999999,1,1]
[4,14.3,380,25,50,1.2,1.04,100,{"$f":"IF(F1430<>G1430,1,0)","v":1},1.1499999999999999,{"$f":"F1430/J1430","v":1.0434782608695652},0.90434782608695663]
[4,15.8,380,25,60,1.37,0.93,100,1,1.1499999999999999,1.1913043478260872,{"$f":"G1431/J1431","v":0.80869565217391315}]
[4,17.2,380,25,70,1.54,0.83,100,1,1.1499999999999999,1.3391304347826087,0.72173913043478266]
[4,18.7,380,25,80,1.71,0.73,100,1,{"$f":"IF(F1433/G1433=1,F1433,J1432)","v":1.1499999999999999},1.4869565217391305,0.63478260869565217]
[4,20.100000000000001,380,25,90,1.87,0.63,100,1,1.1499999999999999,1.6260869565217393,0.5478260869565218]
[4,21.3,380,25,99,2.0099999999999998,0.55000000000000004,100,1,1.1499999999999999,1.7478260869565216,0.47826086956521746]
[4,10.199999999999999,380,25,1,1.46,1.46,200,0,1.46,1,1]
[4,11.9,380,25,50,1.83,1.28,200,1,1.46,1.2534246575342467,0.87671232876712335]
[4,13,380,25,60,2.11,1.2,200,1,1.46,1.4452054794520548,0.82191780821917804]
[4,14.2,380,25,70,2.37,1.1200000000000001,200,1,1.46,1.6232876712328768,0.76712328767123295]
[4,15.3,380,25,80,2.65,1.04,200,1,1.46,1.8150684931506849,0.71232876712328774]
[4,16.5,380,25,90,2.91,0.96,200,1,1.46,1.993150684931507,0.65753424657534243]
[4,17.5,380,25,99,3.15,0.9,200,1,1.46,2.1575342465753424,0.61643835616438358]
[4,8.5,380,25,1,1.57,1.57,300,0,1.57,1,1]
[4,10.1,380,25,50,2.14,1.4,300,1,1.57,1.3630573248407643,0.89171974522292985]
[4,11,380,25,60,2.46,1.34,300,1,1.57,1.5668789808917196,0.85350318471337583]
[4,11.9,380,25,70,2.78,1.27,300,1,1.57,1.770700636942675,0.80891719745222923]
[4,12.9,380,25,80,3.1,1.2,300,1,1.57,1.9745222929936306,0.76433121019108274]
[4,13.8,380,25,90,3.42,1.1399999999999999,300,1,1.57,2.1783439490445859,0.72611464968152861]
[4,14.6,380,25,99,3.71,1.08,300,1,1.57,2.363057324840764,0.68789808917197459]
[4,14.4,380,26,1,1.21,1.21,100,0,1.21,1,1]
[4,15,380,26,50,1.29,1.07,100,1,1.21,1.0661157024793388,0.88429752066115708]
[4,16.600000000000001,380,26,60,1.47,0.96,100,1,1.21,1.2148760330578512,0.79338842975206614]
[4,18.100000000000001,380,26,70,1.64,0.85,100,1,1.21,1.3553719008264462,0.7024793388429752]
[4,19.600000000000001,380,26,80,1.82,0.75,100,1,1.21,1.5041322314049588,0.6198347107438017]
[4,21.1,380,26,90,1.99,0.65,100,1,1.21,1.6446280991735538,0.53719008264462809]
[4,22.3,380,26,99,2.14,0.56000000000000005,100,1,1.21,1.7685950413223142,0.46280991735537197]
[4,10.5,380,26,1,1.53,1.53,200,0,1.53,1,1]
[4,12.4,380,26,50,1.97,1.32,200,1,1.53,1.2875816993464051,0.86274509803921573]
[4,13.7,380,26,60,2.2599999999999998,1.24,200,1,1.53,1.4771241830065358,0.81045751633986929]
[4,14.9,380,26,70,2.54,1.1499999999999999,200,1,1.53,1.6601307189542485,0.75163398692810446]
[4,16.100000000000001,380,26,80,2.83,1.07,200,1,1.53,1.8496732026143792,0.69934640522875824]
[4,17.3,380,26,90,3.11,0.99,200,1,1.53,2.0326797385620914,0.6470588235294118]
[4,18.399999999999999,380,26,99,3.36,0.92,200,1,1.53,2.1960784313725488,0.60130718954248363]
[4,8.6999999999999993,380,26,1,1.65,1.65,300,0,1.65,1,1]
[4,10.6,380,26,50,2.2999999999999998,1.45,300,1,1.65,1.3939393939393938,0.87878787878787878]
[4,11.5,380,26,60,2.64,1.38,300,1,1.65,1.6,0.83636363636363631]
[4,12.5,380,26,70,2.98,1.31,300,1,1.65,1.8060606060606061,0.79393939393939406]
[4,13.5,380,26,80,3.32,1.25,300,1,1.65,2.0121212121212122,0.75757575757575757]
[4,14.5,380,26,90,3.66,1.17,300,1,1.65,2.2181818181818183,0.70909090909090911]
[4,15.3,380,26,99,3.96,1.1200000000000001,300,1,1.65,2.4,0.67878787878787894]
[4,14.8,380,27,1,1.26,1.26,100,0,1.26,1,1]
[4,15.8,380,27,50,1.38,1.1000000000000001,100,1,1.26,1.0952380952380951,0.87301587301587313]
[4,17.399999999999999,380,27,60,1.57,0.99,100,1,1.26,1.246031746031746,0.7857142857142857]
[4,19,380,27,70,1.75,0.87,100,1,1.26,1.3888888888888888,0.69047619047619047]
[4,20.6,380,27,80,1.93,0.76,100,1,1.26,1.5317460317460316,0.60317460317460314]
[4,22.1,380,27,90,2.11,0.66,100,1,1.26,1.6746031746031744,0.52380952380952384]
[4,23.4,380,27,99,2.2599999999999998,0.56999999999999995,100,1,1.26,1.7936507936507935,0.45238095238095233]
[4,10.8,380,27,1,1.59,1.59,200,0,1.59,1,1]
[4,13,380,27,50,2.11,1.37,200,1,1.59,1.3270440251572326,0.86163522012578619]
[4,14.4,380,27,60,2.41,1.28,200,1,1.59,1.5157232704402517,0.80503144654088044]
[4,15.6,380,27,70,2.72,1.19,200,1,1.59,1.7106918238993711,0.74842767295597479]
[4,16.899999999999999,380,27,80,3.01,1.1000000000000001,200,1,1.59,1.8930817610062891,0.69182389937106925]
[4,18.2,380,27,90,3.31,1.02,200,1,1.59,2.0817610062893079,0.64150943396226412]
[4,19.399999999999999,380,27,99,3.58,0.94,200,1,1.59,2.2515723270440251,0.5911949685534591]
[4,8.9,380,27,1,1.72,1.72,300,0,1.72,1,1]
[4,11,380,27,50,2.46,1.5,300,1,1.72,1.430232558139535,0.87209302325581395]
[4,12.1,380,27,60,2.82,1.43,300,1,1.72,1.6395348837209303,0.83139534883720922]
[4,13.1,380,27,70,3.18,1.36,300,1,1.72,1.8488372093023258,0.79069767441860472]
[4,14.1,380,27,80,3.54,1.28,300,1,1.72,2.058139534883721,0.7441860465116279]
[4,15.2,380,27,90,3.9,1.21,300,1,1.72,2.2674418604651163,0.70348837209302328]
[4,16.100000000000001,380,27,99,4.2300000000000004,1.1499999999999999,300,1,1.72,2.4593023255813957,0.66860465116279066]
[5,8.9,100,21,1,0.45,0.45,100,0,0.45,1,1]
[5,9.5,100,21,50,0.52,0.42,100,1,0.45,1.1555555555555557,0.93333333333333324]
[5,10.3,100,21,60,0.62,0.41,100,{"$f":"IF(F1494<>G1494,1,0)","v":1},0.45,{"$f":"F1494/J1494","v":1.3777777777777778},0.91111111111111098]
[5,11.1,100,21,70,0.71,0.39,100,1,0.45,1.5777777777777777,{"$f":"G1495/J1495","v":0.8666666666666667}]
[5,11.9,100,21,80,0.81,0.38,100,1,0.45,1.8,0.84444444444444444]
[5,12.7,100,21,90,0.9,0.36,100,1,{"$f":"IF(F1497/G1497=1,F1497,J1496)","v":0.45},2,0.79999999999999993]
[5,13.5,100,21,99,0.99,0.35,100,1,0.45,2.1999999999999997,0.77777777777777768]
[5,7.1,100,21,1,0.49,0.49,200,0,0.49,1,1]
[5,7.7,100,21,50,0.62,0.47,200,1,0.49,1.2653061224489797,0.95918367346938771]
[5,8.1999999999999993,100,21,60,0.74,0.46,200,1,0.49,1.510204081632653,0.93877551020408168]
[5,8.6,100,21,70,0.85,0.45,200,1,0.49,1.7346938775510203,0.91836734693877553]
[5,9.1,100,21,80,0.96,0.45,200,1,0.49,1.9591836734693877,0.91836734693877553]
[5,9.6,100,21,90,1.07,0.44,200,1,0.49,2.1836734693877551,0.89795918367346939]
[5,10,100,21,99,1.18,0.43,200,1,0.49,2.4081632653061225,0.87755102040816324]
[5,6.4,100,21,1,0.5,0.5,300,0,0.5,1,1]
[5,6.9,100,21,50,0.65,0.48,300,1,0.5,1.3,0.96]
[5,7.2,100,21,60,0.77,0.48,300,1,0.5,1.54,0.96]
[5,7.5,100,21,70,0.89,0.47,300,1,0.5,1.78,0.94]
[5,7.9,100,21,80,1,0.47,300,1,0.5,2,0.94]
[5,8.1999999999999993,100,21,90,1.1200000000000001,0.46,300,1,0.5,2.2400000000000002,0.92]
[5,8.5,100,21,99,1.22,0.46,300,1,0.5,2.44,0.92]
[5,9.1,100,22,1,0.48,0.48,100,0,0.48,1,1]
[5,10,100,22,50,0.57999999999999996,0.44,100,1,0.48,1.2083333333333333,0.91666666666666674]
[5,10.8,100,22,60,0.68,0.43,100,1,0.48,1.4166666666666667,0.89583333333333337]
[5,11.7,100,22,70,0.78,0.41,100,1,0.48,1.6250000000000002,0.85416666666666663]
[5,12.5,100,22,80,0.88,0.4,100,1,0.48,1.8333333333333335,0.83333333333333337]
[5,13.4,100,22,90,0.98,0.38,100,1,0.48,2.0416666666666665,0.79166666666666674]
[5,14.2,100,22,99,1.07,0.37,100,1,0.48,2.229166666666667,0.77083333333333337]
[5,7.2,100,22,1,0.52,0.52,200,0,0.52,1,1]
[5,7.9,100,22,50,0.69,0.5,200,1,0.52,1.3269230769230769,0.96153846153846145]
[5,8.5,100,22,60,0.81,0.49,200,1,0.52,1.5576923076923077,0.94230769230769229]
[5,9,100,22,70,0.93,0.48,200,1,0.52,1.7884615384615385,0.92307692307692302]
[5,9.5,100,22,80,1.04,0.47,200,1,0.52,2,0.90384615384615374]
[5,10,100,22,90,1.1599999999999999,0.46,200,1,0.52,2.2307692307692304,0.88461538461538458]
[5,10.4,100,22,99,1.27,0.46,200,1,0.52,2.4423076923076921,0.88461538461538458]
[5,6.5,100,22,1,0.53,0.53,300,0,0.53,1,1]
[5,7,100,22,50,0.72,0.51,300,1,0.53,1.3584905660377358,0.96226415094339623]
[5,7.4,100,22,60,0.84,0.5,300,1,0.53,1.5849056603773584,0.94339622641509424]
[5,7.8,100,22,70,0.96,0.5,300,1,0.53,1.811320754716981,0.94339622641509424]
[5,8.1,100,22,80,1.0900000000000001,0.49,300,1,0.53,2.0566037735849059,0.92452830188679236]
[5,8.5,100,22,90,1.21,0.49,300,1,0.53,2.283018867924528,0.92452830188679236]
[5,8.8000000000000007,100,22,99,1.32,0.48,300,1,0.53,2.4905660377358489,0.90566037735849048]
[5,9.4,100,23,1,0.51,0.51,100,0,0.51,1,1]
[5,10.4,100,23,50,0.63,0.47,100,1,0.51,1.2352941176470589,0.92156862745098034]
[5,11.3,100,23,60,0.74,0.45,100,1,0.51,1.4509803921568627,0.88235294117647056]
[5,12.2,100,23,70,0.84,0.43,100,1,0.51,1.6470588235294117,0.84313725490196079]
[5,13.2,100,23,80,0.95,0.41,100,1,0.51,1.8627450980392155,0.8039215686274509]
[5,14.1,100,23,90,1.06,0.4,100,1,0.51,2.0784313725490198,0.78431372549019607]
[5,14.9,100,23,99,1.1499999999999999,0.38,100,1,0.51,2.2549019607843137,0.74509803921568629]
[5,7.3,100,23,1,0.55000000000000004,0.55000000000000004,200,0,0.55000000000000004,1,1]
[5,8.1999999999999993,100,23,50,0.75,0.52,200,1,0.55000000000000004,1.3636363636363635,0.94545454545454544]
[5,8.8000000000000007,100,23,60,0.88,0.51,200,1,0.55000000000000004,1.5999999999999999,0.92727272727272725]
[5,9.3000000000000007,100,23,70,1,0.5,200,1,0.55000000000000004,1.8181818181818181,0.90909090909090906]
[5,9.8000000000000007,100,23,80,1.1299999999999999,0.5,200,1,0.55000000000000004,2.0545454545454542,0.90909090909090906]
[5,10.4,100,23,90,1.26,0.49,200,1,0.55000000000000004,2.2909090909090906,0.89090909090909087]
[5,10.9,100,23,99,1.37,0.48,200,1,0.55000000000000004,2.4909090909090907,0.87272727272727257]
[5,6.6,100,23,1,0.56000000000000005,0.56000000000000005,300,0,0.56000000000000005,1,1]
[5,7.2,100,23,50,0.78,0.54,300,1,0.56000000000000005,1.3928571428571428,0.9642857142857143]
[5,7.6,100,23,60,0.91,0.53,300,1,0.56000000000000005,1.625,0.9464285714285714]
[5,8,100,23,70,1.05,0.52,300,1,0.56000000000000005,1.875,0.92857142857142849]
[5,8.4,100,23,80,1.18,0.52,300,1,0.56000000000000005,2.1071428571428568,0.92857142857142849]
[5,8.6999999999999993,100,23,90,1.31,0.51,300,1,0.56000000000000005,2.339285714285714,0.9107142857142857]
[5,9.1,100,23,99,1.43,0.51,300,1,0.56000000000000005,2.5535714285714284,0.9107142857142857]
[5,9.6,100,24,1,0.54,0.54,100,0,0.54,1,1]
[5,10.9,100,24,50,0.69,0.49,100,1,0.54,1.2777777777777777,0.90740740740740733]
[5,11.9,100,24,60,0.8,0.47,100,1,0.54,1.4814814814814814,0.87037037037037024]
[5,12.8,100,24,70,0.91,0.45,100,{"$f":"IF(F1558<>G1558,1,0)","v":1},0.54,{"$f":"F1558/J1558","v":1.6851851851851851},0.83333333333333326]
[5,13.8,100,24,80,1.03,0.43,100,1,0.54,1.9074074074074074,{"$f":"G1559/J1559","v":0.79629629629629628}]
[5,14.8,100,24,90,1.1399999999999999,0.42,100,1,0.54,2.1111111111111107,0.77777777777777768]
[5,15.6,100,24,99,1.24,0.4,100,1,{"$f":"IF(F1561/G1561=1,F1561,J1560)","v":0.54},2.2962962962962963,0.7407407407407407]
[5,7.5,100,24,1,0.57999999999999996,0.57999999999999996,200,0,0.57999999999999996,1,1]
[5,8.5,100,24,50,0.82,0.55000000000000004,200,1,0.57999999999999996,1.4137931034482758,0.94827586206896564]
[5,9.1,100,24,60,0.95,0.54,200,1,0.57999999999999996,1.6379310344827587,0.93103448275862077]
[5,9.6999999999999993,100,24,70,1.08,0.53,200,1,0.57999999999999996,1.8620689655172415,0.91379310344827602]
[5,10.199999999999999,100,24,80,1.22,0.52,200,1,0.57999999999999996,2.103448275862069,0.89655172413793116]
[5,10.8,100,24,90,1.35,0.51,200,1,0.57999999999999996,2.327586206896552,0.8793103448275863]
[5,11.3,100,24,99,1.47,0.5,200,1,0.57999999999999996,2.5344827586206899,0.86206896551724144]
[5,6.7,100,24,1,0.57999999999999996,0.57999999999999996,300,0,0.57999999999999996,1,1]
[5,7.4,100,24,50,0.85,0.56000000000000005,300,1,0.57999999999999996,1.4655172413793105,0.9655172413793105]
[5,7.8,100,24,60,0.99,0.56000000000000005,300,1,0.57999999999999996,1.7068965517241381,0.9655172413793105]
[5,8.1999999999999993,100,24,70,1.1299999999999999,0.55000000000000004,300,1,0.57999999999999996,1.9482758620689655,0.94827586206896564]
[5,8.6,100,24,80,1.27,0.54,300,1,0.57999999999999996,2.1896551724137931,0.93103448275862077]
[5,9,100,24,90,1.41,0.54,300,1,0.57999999999999996,2.4310344827586206,0.93103448275862077]
[5,9.4,100,24,99,1.54,0.53,300,1,0.57999999999999996,2.6551724137931036,0.91379310344827602]
[5,9.8000000000000007,100,25,1,0.56000000000000005,0.56000000000000005,100,0,0.56000000000000005,1,1]
[5,11.4,100,25,50,0.75,0.51,100,1,0.56000000000000005,1.3392857142857142,0.9107142857142857]
[5,12.4,100,25,60,0.86,0.49,100,1,0.56000000000000005,1.5357142857142856,0.87499999999999989]
[5,13.4,100,25,70,0.98,0.47,100,1,0.56000000000000005,1.7499999999999998,0.83928571428571419]
[5,14.5,100,25,80,1.1000000000000001,0.45,100,1,0.56000000000000005,1.9642857142857142,0.80357142857142849]
[5,15.5,100,25,90,1.22,0.43,100,1,0.56000000000000005,2.1785714285714284,0.76785714285714279]
[5,16.399999999999999,100,25,99,1.33,0.42,100,1,0.56000000000000005,2.375,0.74999999999999989]
[5,7.6,100,25,1,0.6,0.6,200,0,0.6,1,1]
[5,8.8000000000000007,100,25,50,0.88,0.56999999999999995,200,1,0.6,1.4666666666666668,0.95]
[5,9.4,100,25,60,1.03,0.56000000000000005,200,1,0.6,1.7166666666666668,0.93333333333333346]
[5,10,100,25,70,1.17,0.55000000000000004,200,1,0.6,1.95,0.91666666666666674]
[5,10.6,100,25,80,1.31,0.54,200,1,0.6,2.1833333333333336,0.90000000000000013]
[5,11.2,100,25,90,1.45,0.53,200,1,0.6,2.4166666666666665,0.88333333333333341]
[5,11.8,100,25,99,1.58,0.53,200,1,0.6,2.6333333333333337,0.88333333333333341]
[5,6.8,100,25,1,0.61,0.61,300,0,0.61,1,1]
[5,7.6,100,25,50,0.92,0.59,300,1,0.61,1.5081967213114755,0.96721311475409832]
[5,8.1,100,25,60,1.07,0.57999999999999996,300,1,0.61,1.7540983606557379,0.95081967213114749]
[5,8.5,100,25,70,1.22,0.57999999999999996,300,1,0.61,2,0.95081967213114749]
[5,8.9,100,25,80,1.37,0.56999999999999995,300,1,0.61,2.2459016393442623,0.93442622950819665]
[5,9.3000000000000007,100,25,90,1.51,0.56000000000000005,300,1,0.61,2.4754098360655736,0.91803278688524603]
[5,9.6999999999999993,100,25,99,1.65,0.56000000000000005,300,1,0.61,2.7049180327868854,0.91803278688524603]
[5,10.1,100,26,1,0.59,0.59,100,0,0.59,1,1]
[5,11.9,100,26,50,0.8,0.53,100,1,0.59,1.3559322033898307,0.89830508474576276]
[5,13,100,26,60,0.93,0.51,100,1,0.59,1.5762711864406782,0.86440677966101698]
[5,14.1,100,26,70,1.06,0.49,100,1,0.59,1.7966101694915255,0.83050847457627119]
[5,15.2,100,26,80,1.18,0.47,100,1,0.59,2,0.79661016949152541]
[5,16.3,100,26,90,1.31,0.45,100,1,0.59,2.2203389830508478,0.76271186440677974]
[5,17.2,100,26,99,1.43,0.43,100,1,0.59,2.4237288135593222,0.72881355932203395]
[5,7.7,100,26,1,0.63,0.63,200,0,0.63,1,1]
[5,9.1,100,26,50,0.95,0.6,200,1,0.63,1.5079365079365079,0.95238095238095233]
[5,9.6999999999999993,100,26,60,1.1000000000000001,0.59,200,1,0.63,1.7460317460317463,0.9365079365079364]
[5,10.4,100,26,70,1.26,0.57999999999999996,200,1,0.63,2,0.92063492063492058]
[5,11,100,26,80,1.41,0.56999999999999995,200,1,0.63,2.2380952380952381,0.90476190476190466]
[5,11.7,100,26,90,1.56,0.56000000000000005,200,1,0.63,2.4761904761904763,0.88888888888888895]
[5,12.3,100,26,99,1.69,0.55000000000000004,200,1,0.63,2.6825396825396823,0.87301587301587313]
[5,6.8,100,26,1,0.64,0.64,300,0,0.64,1,1]
[5,7.8,100,26,50,0.99,0.62,300,1,0.64,1.546875,0.96875]
[5,8.3000000000000007,100,26,60,1.1499999999999999,0.61,300,1,0.64,1.7968749999999998,0.953125]
[5,8.6999999999999993,100,26,70,1.31,0.6,300,1,0.64,2.046875,0.9375]
[5,9.1999999999999993,100,26,80,1.47,0.59,300,1,0.64,2.296875,0.92187499999999989]
[5,9.6,100,26,90,1.62,0.59,300,1,0.64,2.53125,0.92187499999999989]
[5,10,100,26,99,1.76,0.57999999999999996,300,1,0.64,2.75,0.90624999999999989]
[5,10.3,100,27,1,0.62,0.62,100,0,0.62,1,1]
[5,12.4,100,27,50,0.87,0.55000000000000004,100,1,0.62,1.403225806451613,0.88709677419354849]
[5,13.6,100,27,60,1,0.53,100,1,0.62,1.6129032258064517,0.85483870967741937]
[5,14.7,100,27,70,1.1299999999999999,0.51,100,1,0.62,1.8225806451612903,0.82258064516129037]
[5,15.9,100,27,80,1.27,0.49,100,{"$f":"IF(F1622<>G1622,1,0)","v":1},0.62,{"$f":"F1622/J1622","v":2.0483870967741935},0.79032258064516125]
[5,17,100,27,90,1.4,0.47,100,1,0.62,2.258064516129032,{"$f":"G1623/J1623","v":0.75806451612903225}]
[5,18.100000000000001,100,27,99,1.52,0.45,100,1,0.62,2.4516129032258065,0.72580645161290325]
[5,7.8,100,27,1,0.66,0.66,200,0,{"$f":"IF(F1625/G1625=1,F1625,J1624)","v":0.66},1,1]
[5,9.4,100,27,50,1.03,0.62,200,1,0.66,1.5606060606060606,0.93939393939393934]
[5,10.1,100,27,60,1.19,0.61,200,1,0.66,1.8030303030303028,0.9242424242424242]
[5,10.8,100,27,70,1.34,0.6,200,1,0.66,2.0303030303030303,0.90909090909090906]
[5,11.5,100,27,80,1.5,0.59,200,1,0.66,2.2727272727272725,0.89393939393939381]
[5,12.1,100,27,90,1.66,0.57999999999999996,200,1,0.66,2.5151515151515147,0.87878787878787867]
[5,12.8,100,27,99,1.81,0.56999999999999995,200,1,0.66,2.7424242424242422,0.86363636363636354]
[5,6.9,100,27,1,0.67,0.67,300,0,0.67,1,1]
[5,8.1,100,27,50,1.07,0.64,300,1,0.67,1.5970149253731343,0.95522388059701491]
[5,8.5,100,27,60,1.24,0.63,300,1,0.67,1.8507462686567162,0.94029850746268651]
[5,9,100,27,70,1.4,0.63,300,1,0.67,2.08955223880597,0.94029850746268651]
[5,9.5,100,27,80,1.57,0.62,300,1,0.67,2.3432835820895521,0.9253731343283581]
[5,10,100,27,90,1.73,0.61,300,1,0.67,2.5820895522388057,0.91044776119402981]
[5,10.4,100,27,99,1.88,0.6,300,1,0.67,2.805970149253731,0.89552238805970141]
[5,10.4,170,21,1,0.63,0.63,100,0,0.63,1,1]
[5,10.6,170,21,50,0.65,0.57999999999999996,100,1,0.63,1.0317460317460319,0.92063492063492058]
[5,11.6,170,21,60,0.77,0.54,100,1,0.63,1.2222222222222223,0.85714285714285721]
[5,12.6,170,21,70,0.89,0.51,100,1,0.63,1.4126984126984128,0.80952380952380953]
[5,13.6,170,21,80,1,0.47,100,1,0.63,1.5873015873015872,0.74603174603174593]
[5,14.6,170,21,90,1.1200000000000001,0.44,100,1,0.63,1.7777777777777779,0.69841269841269837]
[5,15.5,170,21,99,1.22,0.41,100,1,0.63,1.9365079365079365,0.6507936507936507]
[5,8.1,170,21,1,0.72,0.72,200,0,0.72,1,1]
[5,8.6999999999999993,170,21,50,0.87,0.68,200,1,0.72,1.2083333333333335,0.94444444444444453]
[5,9.4,170,21,60,1.02,0.66,200,1,0.72,1.4166666666666667,0.91666666666666674]
[5,10.1,170,21,70,1.18,0.63,200,1,0.72,1.6388888888888888,0.875]
[5,10.7,170,21,80,1.33,0.61,200,1,0.72,1.8472222222222223,0.84722222222222221]
[5,11.4,170,21,90,1.49,0.59,200,1,0.72,2.0694444444444446,0.81944444444444442]
[5,12,170,21,99,1.63,0.56999999999999995,200,1,0.72,2.2638888888888888,0.79166666666666663]
[5,7.1,170,21,1,0.75,0.75,300,0,0.75,1,1]
[5,7.7,170,21,50,0.94,0.71,300,1,0.75,1.2533333333333332,0.94666666666666666]
[5,8.1999999999999993,170,21,60,1.1100000000000001,0.7,300,1,0.75,1.4800000000000002,0.93333333333333324]
[5,8.6999999999999993,170,21,70,1.28,0.68,300,1,0.75,1.7066666666666668,0.90666666666666673]
[5,9.1,170,21,80,1.45,0.66,300,1,0.75,1.9333333333333333,0.88]
[5,9.6,170,21,90,1.62,0.65,300,1,0.75,2.16,0.8666666666666667]
[5,10.1,170,21,99,1.77,0.63,300,1,0.75,2.36,0.84]
[5,10.7,170,22,1,0.67,0.67,100,0,0.67,1,1]
[5,11.2,170,22,50,0.72,0.61,100,1,0.67,1.0746268656716418,0.91044776119402981]
[5,12.2,170,22,60,0.84,0.56999999999999995,100,1,0.67,1.2537313432835819,0.85074626865671632]
[5,13.3,170,22,70,0.97,0.53,100,1,0.67,1.4477611940298507,0.79104477611940294]
[5,14.3,170,22,80,1.0900000000000001,0.5,100,1,0.67,1.6268656716417911,0.74626865671641784]
[5,15.4,170,22,90,1.21,0.46,100,1,0.67,1.8059701492537312,0.68656716417910446]
[5,16.3,170,22,99,1.32,0.43,100,1,0.67,1.9701492537313432,0.64179104477611937]
[5,8.3000000000000007,170,22,1,0.76,0.76,200,0,0.76,1,1]
[5,9.1,170,22,50,0.96,0.71,200,1,0.76,1.263157894736842,0.93421052631578938]
[5,9.8000000000000007,170,22,60,1.1200000000000001,0.69,200,1,0.76,1.4736842105263159,0.9078947368421052]
[5,10.5,170,22,70,1.28,0.67,200,1,0.76,1.6842105263157894,0.88157894736842113]
[5,11.2,170,22,80,1.45,0.64,200,1,0.76,1.9078947368421051,0.84210526315789469]
[5,11.9,170,22,90,1.62,0.62,200,1,0.76,2.1315789473684212,0.81578947368421051]
[5,12.6,170,22,99,1.76,0.6,200,1,0.76,2.3157894736842106,0.78947368421052633]
[5,7.3,170,22,1,0.79,0.79,300,0,0.79,1,1]
[5,8,170,22,50,1.04,0.75,300,1,0.79,1.3164556962025316,0.94936708860759489]
[5,8.5,170,22,60,1.22,0.73,300,1,0.79,1.5443037974683542,0.92405063291139233]
[5,9,170,22,70,1.4,0.72,300,1,0.79,1.7721518987341771,0.91139240506329111]
[5,9.5,170,22,80,1.58,0.7,300,1,0.79,2,0.88607594936708856]
[5,10,170,22,90,1.76,0.68,300,1,0.79,2.2278481012658227,0.86075949367088611]
[5,10.5,170,22,99,1.92,0.67,300,1,0.79,2.4303797468354427,0.84810126582278478]
[5,11.1,170,23,1,0.71,0.71,100,0,0.71,1,1]
[5,11.7,170,23,50,0.79,0.64,100,1,0.71,1.1126760563380282,0.90140845070422537]
[5,12.9,170,23,60,0.92,0.6,100,1,0.71,1.295774647887324,0.84507042253521125]
[5,14,170,23,70,1.05,0.56000000000000005,100,1,0.71,1.4788732394366197,0.78873239436619724]
[5,15.1,170,23,80,1.18,0.52,100,1,0.71,1.6619718309859155,0.73239436619718312]
[5,16.2,170,23,90,1.31,0.48,100,{"$f":"IF(F1686<>G1686,1,0)","v":1},0.71,{"$f":"F1686/J1686","v":1.8450704225352115},0.676056338028169]
[5,17.2,170,23,99,1.42,0.44,100,1,0.71,2,{"$f":"G1687/J1687","v":0.61971830985915499}]
[5,8.5,170,23,1,0.81,0.81,200,0,0.81,1,1]
[5,9.5,170,23,50,1.04,0.75,200,1,{"$f":"IF(F1689/G1689=1,F1689,J1688)","v":0.81},1.2839506172839505,0.92592592592592582]
[5,10.199999999999999,170,23,60,1.22,0.72,200,1,0.81,1.5061728395061726,0.88888888888888884]
[5,11,170,23,70,1.4,0.7,200,1,0.81,1.7283950617283947,0.86419753086419737]
[5,11.7,170,23,80,1.57,0.68,200,1,0.81,1.9382716049382716,0.83950617283950613]
[5,12.5,170,23,90,1.75,0.65,200,1,0.81,2.1604938271604937,0.80246913580246915]
[5,13.2,170,23,99,1.9,0.63,200,1,0.81,2.3456790123456788,0.77777777777777768]
[5,7.4,170,23,1,0.84,0.84,300,0,0.84,1,1]
[5,8.1999999999999993,170,23,50,1.1299999999999999,0.79,300,1,0.84,1.3452380952380951,0.94047619047619058]
[5,8.8000000000000007,170,23,60,1.33,0.77,300,1,0.84,1.5833333333333335,0.91666666666666674]
[5,9.3000000000000007,170,23,70,1.52,0.75,300,1,0.84,1.8095238095238095,0.8928571428571429]
[5,9.9,170,23,80,1.71,0.74,300,1,0.84,2.0357142857142856,0.88095238095238093]
[5,10.4,170,23,90,1.9,0.72,300,1,0.84,2.2619047619047619,0.8571428571428571]
[5,10.9,170,23,99,2.0699999999999998,0.7,300,1,0.84,2.464285714285714,0.83333333333333326]
[5,11.4,170,24,1,0.75,0.75,100,0,0.75,1,1]
[5,12.3,170,24,50,0.86,0.66,100,1,0.75,1.1466666666666667,0.88]
[5,13.5,170,24,60,0.99,0.62,100,1,0.75,1.32,0.82666666666666666]
[5,14.7,170,24,70,1.1299999999999999,0.57999999999999996,100,1,0.75,1.5066666666666666,0.77333333333333332]
[5,15.9,170,24,80,1.27,0.54,100,1,0.75,1.6933333333333334,0.72000000000000008]
[5,17.100000000000001,170,24,90,1.41,0.5,100,1,0.75,1.88,0.66666666666666663]
[5,18.100000000000001,170,24,99,1.53,0.46,100,1,0.75,2.04,0.6133333333333334]
[5,8.6,170,24,1,0.85,0.85,200,0,0.85,1,1]
[5,9.9,170,24,50,1.1399999999999999,0.78,200,1,0.85,1.3411764705882352,0.91764705882352948]
[5,10.7,170,24,60,1.32,0.76,200,1,0.85,1.5529411764705883,0.89411764705882357]
[5,11.5,170,24,70,1.51,0.73,200,1,0.85,1.7764705882352942,0.85882352941176465]
[5,12.3,170,24,80,1.69,0.71,200,1,0.85,1.9882352941176471,0.83529411764705885]
[5,13.1,170,24,90,1.88,0.68,200,1,0.85,2.2117647058823531,0.8]
[5,13.8,170,24,99,2.0499999999999998,0.66,200,1,0.85,2.4117647058823528,0.77647058823529413]
[5,7.5,170,24,1,0.88,0.88,300,0,0.88,1,1]
[5,8.5,170,24,50,1.24,0.83,300,1,0.88,1.4090909090909092,0.94318181818181812]
[5,9.1,170,24,60,1.44,0.81,300,1,0.88,1.6363636363636362,0.92045454545454553]
[5,9.6999999999999993,170,24,70,1.64,0.79,300,1,0.88,1.8636363636363635,0.89772727272727282]
[5,10.3,170,24,80,1.84,0.77,300,1,0.88,2.0909090909090908,0.875]
[5,10.9,170,24,90,2.0499999999999998,0.75,300,1,0.88,2.3295454545454541,0.85227272727272729]
[5,11.4,170,24,99,2.23,0.73,300,1,0.88,2.5340909090909092,0.82954545454545447]
[5,11.7,170,25,1,0.78,0.78,100,0,0.78,1,1]
[5,13,170,25,50,0.93,0.69,100,1,0.78,1.1923076923076923,0.88461538461538447]
[5,14.2,170,25,60,1.07,0.64,100,1,0.78,1.3717948717948718,0.82051282051282048]
[5,15.5,170,25,70,1.22,0.6,100,1,0.78,1.5641025641025641,0.76923076923076916]
[5,16.7,170,25,80,1.36,0.56000000000000005,100,1,0.78,1.7435897435897436,0.71794871794871795]
[5,18,170,25,90,1.51,0.52,100,1,0.78,1.9358974358974359,0.66666666666666663]
[5,19.100000000000001,170,25,99,1.64,0.48,100,1,0.78,2.1025641025641022,0.61538461538461531]
[5,8.8000000000000007,170,25,1,0.89,0.89,200,0,0.89,1,1]
[5,10.3,170,25,50,1.23,0.82,200,1,0.89,1.3820224719101124,0.92134831460674149]
[5,11.1,170,25,60,1.43,0.79,200,1,0.89,1.6067415730337078,0.88764044943820231]
[5,12,170,25,70,1.63,0.76,200,1,0.89,1.8314606741573032,0.8539325842696629]
[5,12.8,170,25,80,1.82,0.74,200,1,0.89,2.0449438202247192,0.8314606741573034]
[5,13.7,170,25,90,2.02,0.71,200,1,0.89,2.2696629213483144,0.797752808988764]
[5,14.4,170,25,99,2.2000000000000002,0.68,200,1,0.89,2.4719101123595508,0.76404494382022481]
[5,7.6,170,25,1,0.92,0.92,300,0,0.92,1,1]
[5,8.8000000000000007,170,25,50,1.34,0.87,300,1,0.92,1.4565217391304348,0.94565217391304346]
[5,9.4,170,25,60,1.55,0.84,300,1,0.92,1.6847826086956521,0.91304347826086951]
[5,10.1,170,25,70,1.77,0.82,300,1,0.92,1.9239130434782608,0.89130434782608692]
[5,10.7,170,25,80,1.98,0.8,300,1,0.92,2.152173913043478,0.86956521739130432]
[5,11.3,170,25,90,2.2000000000000002,0.78,300,1,0.92,2.3913043478260869,0.84782608695652173]
[5,11.8,170,25,99,2.39,0.76,300,1,0.92,2.597826086956522,0.82608695652173914]
[5,12.1,170,26,1,0.82,0.82,100,0,0.82,1,1]
[5,13.6,170,26,50,1,0.71,100,1,0.82,1.2195121951219512,0.86585365853658536]
[5,14.9,170,26,60,1.1599999999999999,0.67,100,1,0.82,1.4146341463414633,0.81707317073170738]
[5,16.2,170,26,70,1.31,0.62,100,1,0.82,1.5975609756097562,0.75609756097560976]
[5,17.600000000000001,170,26,80,1.46,0.57999999999999996,100,1,0.82,1.7804878048780488,0.70731707317073167]
[5,18.899999999999999,170,26,90,1.61,0.53,100,1,0.82,1.9634146341463417,0.64634146341463417]
[5,20,170,26,99,1.75,0.49,100,{"$f":"IF(F1750<>G1750,1,0)","v":1},0.82,{"$f":"F1750/J1750","v":2.1341463414634148},0.59756097560975607]
[5,9,170,26,1,0.94,0.94,200,0,0.94,1,{"$f":"G1751/J1751","v":1}]
[5,10.7,170,26,50,1.33,0.85,200,1,0.94,1.4148936170212767,0.9042553191489362]
[5,11.6,170,26,60,1.54,0.82,200,1,{"$f":"IF(F1753/G1753=1,F1753,J1752)","v":0.94},1.6382978723404256,0.87234042553191493]
[5,12.5,170,26,70,1.75,0.79,200,1,0.94,1.8617021276595747,0.84042553191489366]
[5,13.4,170,26,80,1.96,0.76,200,1,0.94,2.0851063829787235,0.8085106382978724]
[5,14.3,170,26,90,2.17,0.74,200,1,0.94,2.3085106382978724,0.78723404255319152]
[5,15.1,170,26,99,2.35,0.71,200,1,0.94,2.5000000000000004,0.75531914893617025]
[5,7.8,170,26,1,0.97,0.97,300,0,0.97,1,1]
[5,9.1,170,26,50,1.44,0.9,300,1,0.97,1.4845360824742269,0.92783505154639179]
[5,9.8000000000000007,170,26,60,1.67,0.88,300,1,0.97,1.7216494845360824,0.90721649484536082]
[5,10.4,170,26,70,1.9,0.86,300,1,0.97,1.9587628865979381,0.88659793814432986]
[5,11.1,170,26,80,2.13,0.84,300,1,0.97,2.1958762886597936,0.865979381443299]
[5,11.7,170,26,90,2.36,0.81,300,1,0.97,2.4329896907216493,0.83505154639175261]
[5,12.3,170,26,99,2.56,0.79,300,1,0.97,2.6391752577319587,0.81443298969072175]
[5,12.4,170,27,1,0.86,0.86,100,0,0.86,1,1]
[5,14.2,170,27,50,1.08,0.74,100,1,0.86,1.2558139534883721,0.86046511627906974]
[5,15.6,170,27,60,1.24,0.69,100,1,0.86,1.4418604651162792,0.80232558139534882]
[5,17,170,27,70,1.4,0.64,100,1,0.86,1.6279069767441861,0.7441860465116279]
[5,18.399999999999999,170,27,80,1.56,0.59,100,1,0.86,1.8139534883720931,0.68604651162790697]
[5,19.8,170,27,90,1.72,0.55000000000000004,100,1,0.86,2,0.63953488372093026]
[5,21,170,27,99,1.86,0.51,100,1,0.86,2.1627906976744189,0.59302325581395354]
[5,9.1999999999999993,170,27,1,0.98,0.98,200,0,0.98,1,1]
[5,11.1,170,27,50,1.43,0.88,200,1,0.98,1.4591836734693877,0.89795918367346939]
[5,12.1,170,27,60,1.65,0.85,200,1,0.98,1.6836734693877551,0.86734693877551017]
[5,13,170,27,70,1.87,0.82,200,1,0.98,1.9081632653061227,0.83673469387755095]
[5,14,170,27,80,2.09,0.79,200,1,0.98,2.1326530612244898,0.80612244897959184]
[5,14.9,170,27,90,2.3199999999999998,0.76,200,1,0.98,2.3673469387755102,0.77551020408163263]
[5,15.8,170,27,99,2.5099999999999998,0.74,200,1,0.98,2.5612244897959182,0.75510204081632648]
[5,7.9,170,27,1,1.01,1.01,300,0,1.01,1,1]
[5,9.4,170,27,50,1.55,0.94,300,1,1.01,1.5346534653465347,0.93069306930693063]
[5,10.1,170,27,60,1.79,0.92,300,1,1.01,1.7722772277227723,0.91089108910891092]
[5,10.8,170,27,70,2.04,0.89,300,1,1.01,2.0198019801980198,0.88118811881188119]
[5,11.5,170,27,80,2.2799999999999998,0.87,300,1,1.01,2.2574257425742572,0.86138613861386137]
[5,12.2,170,27,90,2.52,0.85,300,1,1.01,2.495049504950495,0.84158415841584155]
[5,12.8,170,27,99,2.74,0.83,300,1,1.01,2.7128712871287131,0.82178217821782173]
[5,11.4,240,21,1,0.74,0.74,100,0,0.74,1,1]
[5,11.3,240,21,50,0.74,0.74,100,0,0.74,1,1]
[5,12.3,240,21,60,0.85,0.64,100,1,0.74,1.1486486486486487,0.86486486486486491]
[5,13.4,240,21,70,0.98,0.59,100,1,0.74,1.3243243243243243,0.79729729729729726]
[5,14.5,240,21,80,1.1000000000000001,0.53,100,1,0.74,1.4864864864864866,0.71621621621621623]
[5,15.5,240,21,90,1.23,0.48,100,1,0.74,1.6621621621621621,0.64864864864864868]
[5,16.5,240,21,99,1.34,0.43,100,1,0.74,1.810810810810811,0.58108108108108103]
[5,8.8000000000000007,240,21,1,0.89,0.89,200,0,0.89,1,1]
[5,9.4,240,21,50,1.02,0.83,200,1,0.89,1.146067415730337,0.93258426966292129]
[5,10.199999999999999,240,21,60,1.2,0.79,200,1,0.89,1.348314606741573,0.88764044943820231]
[5,10.9,240,21,70,1.39,0.75,200,1,0.89,1.5617977528089886,0.84269662921348309]
[5,11.7,240,21,80,1.57,0.72,200,1,0.89,1.7640449438202248,0.8089887640449438]
[5,12.5,240,21,90,1.75,0.68,200,1,0.89,1.9662921348314606,0.76404494382022481]
[5,13.2,240,21,99,1.91,0.65,200,1,0.89,2.1460674157303368,0.7303370786516854]
[5,7.7,240,21,1,0.93,0.93,300,0,0.93,1,1]
[5,8.3000000000000007,240,21,50,1.1399999999999999,0.88,300,1,0.93,1.225806451612903,0.94623655913978488]
[5,8.9,240,21,60,1.35,0.86,300,1,0.93,1.4516129032258065,0.92473118279569888]
[5,9.4,240,21,70,1.55,0.83,300,1,0.93,1.6666666666666665,0.89247311827956977]
[5,10,240,21,80,1.76,0.8,300,1,0.93,1.8924731182795698,0.86021505376344087]
[5,10.6,240,21,90,1.97,0.77,300,1,0.93,2.118279569892473,0.82795698924731176]
[5,11.2,240,21,99,2.15,0.74,300,1,0.93,2.311827956989247,0.79569892473118276]
[5,11.8,240,22,1,0.79,0.79,100,0,0.79,1,1]
[5,11.8,240,22,50,0.79,0.73,100,1,0.79,1,0.92405063291139233]
[5,13,240,22,60,0.93,0.67,100,1,0.79,1.1772151898734178,0.84810126582278478]
[5,14.1,240,22,70,1.06,0.61,100,1,0.79,1.3417721518987342,0.77215189873417711]
[5,15.3,240,22,80,1.2,0.56000000000000005,100,1,0.79,1.5189873417721518,0.70886075949367089]
[5,16.399999999999999,240,22,90,1.33,0.5,100,1,0.79,1.6835443037974684,0.63291139240506322]
[5,17.399999999999999,240,22,99,1.44,0.45,100,1,0.79,1.8227848101265822,0.569620253164557]
[5,9,240,22,1,0.94,0.94,200,{"$f":"IF(F1814<>G1814,1,0)","v":0},0.94,{"$f":"F1814/J1814","v":1},1]
[5,9.8000000000000007,240,22,50,1.1200000000000001,0.87,200,1,0.94,1.1914893617021278,{"$f":"G1815/J1815","v":0.92553191489361708}]
[5,10.7,240,22,60,1.32,0.83,200,1,0.94,1.4042553191489364,0.88297872340425532]
[5,11.5,240,22,70,1.51,0.79,200,1,{"$f":"IF(F1817/G1817=1,F1817,J1816)","v":0.94},1.6063829787234043,0.84042553191489366]
[5,12.3,240,22,80,1.71,0.75,200,1,0.94,1.8191489361702129,0.79787234042553201]
[5,13.1,240,22,90,1.9,0.71,200,1,0.94,2.021276595744681,0.75531914893617025]
[5,13.9,240,22,99,2.0699999999999998,0.68,200,1,0.94,2.2021276595744679,0.72340425531914898]
[5,7.8,240,22,1,0.99,0.99,300,0,0.99,1,1]
[5,8.6,240,22,50,1.26,0.93,300,1,0.99,1.2727272727272727,0.93939393939393945]
[5,9.1999999999999993,240,22,60,1.48,0.9,300,1,0.99,1.494949494949495,0.90909090909090917]
[5,9.8000000000000007,240,22,70,1.7,0.87,300,1,0.99,1.7171717171717171,0.87878787878787878]
[5,10.5,240,22,80,1.91,0.84,300,1,0.99,1.9292929292929293,0.84848484848484851]
[5,11.1,240,22,90,2.13,0.81,300,1,0.99,2.1515151515151514,0.81818181818181823]
[5,11.7,240,22,99,2.33,0.78,300,1,0.99,2.3535353535353538,0.78787878787878796]
[5,12.2,240,23,1,0.83,0.83,100,0,0.83,1,1]
[5,12.4,240,23,50,0.87,0.76,100,1,0.83,1.0481927710843375,0.9156626506024097]
[5,13.7,240,23,60,1.01,0.7,100,1,0.83,1.2168674698795181,0.84337349397590355]
[5,14.9,240,23,70,1.1499999999999999,0.64,100,1,0.83,1.3855421686746987,0.77108433734939763]
[5,16.100000000000001,240,23,80,1.29,0.57999999999999996,100,1,0.83,1.5542168674698795,0.6987951807228916]
[5,17.3,240,23,90,1.43,0.52,100,1,0.83,1.7228915662650603,0.62650602409638556]
[5,18.3,240,23,99,1.55,0.47,100,1,0.83,1.8674698795180724,0.5662650602409639]
[5,9.3000000000000007,240,23,1,0.99,0.99,200,0,0.99,1,1]
[5,10.3,240,23,50,1.23,0.91,200,1,0.99,1.2424242424242424,0.91919191919191923]
[5,11.2,240,23,60,1.44,0.87,200,1,0.99,1.4545454545454546,0.87878787878787878]
[5,12,240,23,70,1.64,0.83,200,1,0.99,1.6565656565656566,0.83838383838383834]
[5,12.9,240,23,80,1.85,0.79,200,1,0.99,1.8686868686868687,0.79797979797979801]
[5,13.8,240,23,90,2.0499999999999998,0.75,200,1,0.99,2.0707070707070705,0.75757575757575757]
[5,14.6,240,23,99,2.2400000000000002,0.71,200,1,0.99,2.262626262626263,0.71717171717171713]
[5,8,240,23,1,1.05,1.05,300,0,1.05,1,1]
[5,8.9,240,23,50,1.38,0.97,300,1,1.05,1.3142857142857141,0.92380952380952375]
[5,9.6,240,23,60,1.61,0.94,300,1,1.05,1.5333333333333334,0.89523809523809517]
[5,10.3,240,23,70,1.84,0.91,300,1,1.05,1.7523809523809524,0.8666666666666667]
[5,10.9,240,23,80,2.0699999999999998,0.88,300,1,1.05,1.9714285714285711,0.83809523809523812]
[5,11.6,240,23,90,2.31,0.85,300,1,1.05,2.2000000000000002,0.80952380952380942]
[5,12.2,240,23,99,2.52,0.82,300,1,1.05,2.4,0.78095238095238084]
[5,12.6,240,24,1,0.88,0.88,100,0,0.88,1,1]
[5,13.1,240,24,50,0.94,0.79,100,1,0.88,1.0681818181818181,0.89772727272727282]
[5,14.4,240,24,60,1.0900000000000001,0.73,100,1,0.88,1.2386363636363638,0.82954545454545447]
[5,15.7,240,24,70,1.24,0.66,100,1,0.88,1.4090909090909092,0.75]
[5,16.899999999999999,240,24,80,1.39,0.6,100,1,0.88,1.5795454545454544,0.68181818181818177]
[5,18.2,240,24,90,1.54,0.54,100,1,0.88,1.75,0.61363636363636365]
[5,19.3,240,24,99,1.67,0.49,100,1,0.88,1.8977272727272727,0.55681818181818177]
[5,9.5,240,24,1,1.05,1.05,200,0,1.05,1,1]
[5,10.7,240,24,50,1.34,0.95,200,1,1.05,1.2761904761904763,0.90476190476190466]
[5,11.7,240,24,60,1.56,0.91,200,1,1.05,1.4857142857142858,0.8666666666666667]
[5,12.6,240,24,70,1.78,0.86,200,1,1.05,1.6952380952380952,0.81904761904761902]
[5,13.5,240,24,80,1.99,0.82,200,1,1.05,1.8952380952380952,0.78095238095238084]
[5,14.5,240,24,90,2.21,0.78,200,1,1.05,2.1047619047619048,0.74285714285714288]
[5,15.3,240,24,99,2.41,0.74,200,1,1.05,2.2952380952380951,0.7047619047619047]
[5,8.1999999999999993,240,24,1,1.1000000000000001,1.1000000000000001,300,0,1.1000000000000001,1,1]
[5,9.3000000000000007,240,24,50,1.5,1.02,300,1,1.1000000000000001,1.3636363636363635,0.92727272727272725]
[5,10,240,24,60,1.75,0.99,300,1,1.1000000000000001,1.5909090909090908,0.89999999999999991]
[5,10.7,240,24,70,1.99,0.95,300,1,1.1000000000000001,1.8090909090909089,0.86363636363636354]
[5,11.4,240,24,80,2.2400000000000002,0.92,300,1,1.1000000000000001,2.0363636363636366,0.83636363636363631]
[5,12.1,240,24,90,2.4900000000000002,0.89,300,1,1.1000000000000001,2.2636363636363637,0.80909090909090908]
[5,12.7,240,24,99,2.71,0.85,300,1,1.1000000000000001,2.4636363636363634,0.7727272727272726]
[5,12.9,240,25,1,0.93,0.93,100,0,0.93,1,1]
[5,13.8,240,25,50,1.02,0.82,100,1,0.93,1.096774193548387,0.88172043010752676]
[5,15.1,240,25,60,1.18,0.75,100,1,0.93,1.268817204301075,0.80645161290322576]
[5,16.5,240,25,70,1.34,0.68,100,1,0.93,1.4408602150537635,0.73118279569892475]
[5,17.8,240,25,80,1.49,0.62,100,1,0.93,1.6021505376344085,0.66666666666666663]
[5,19.100000000000001,240,25,90,1.65,0.56000000000000005,100,1,0.93,1.7741935483870965,0.60215053763440862]
[5,20.3,240,25,99,1.78,0.5,100,1,0.93,1.9139784946236558,0.5376344086021505]
[5,9.6999999999999993,240,25,1,1.1000000000000001,1.1000000000000001,200,0,1.1000000000000001,1,1]
[5,11.2,240,25,50,1.45,0.99,200,{"$f":"IF(F1878<>G1878,1,0)","v":1},1.1000000000000001,{"$f":"F1878/J1878","v":1.3181818181818181},0.89999999999999991]
[5,12.2,240,25,60,1.68,0.94,200,1,1.1000000000000001,1.5272727272727271,{"$f":"G1879/J1879","v":0.85454545454545439}]
[5,13.2,240,25,70,1.91,0.9,200,1,1.1000000000000001,1.7363636363636361,0.81818181818181812]
[5,14.2,240,25,80,2.14,0.85,200,1,{"$f":"IF(F1881/G1881=1,F1881,J1880)","v":1.1000000000000001},1.9454545454545453,0.7727272727272726]
[5,15.2,240,25,90,2.37,0.81,200,1,1.1000000000000001,2.1545454545454543,0.73636363636363633]
[5,16.100000000000001,240,25,99,2.58,0.77,200,1,1.1000000000000001,2.3454545454545452,0.7]
[5,8.3000000000000007,240,25,1,1.1599999999999999,1.1599999999999999,300,0,1.1599999999999999,1,1]
[5,9.6,240,25,50,1.63,1.07,300,1,1.1599999999999999,1.4051724137931034,0.9224137931034484]
[5,10.4,240,25,60,1.89,1.03,300,1,1.1599999999999999,1.6293103448275863,0.88793103448275867]
[5,11.1,240,25,70,2.15,0.99,300,1,1.1599999999999999,1.853448275862069,0.85344827586206906]
[5,11.9,240,25,80,2.41,0.96,300,1,1.1599999999999999,2.077586206896552,0.82758620689655171]
[5,12.6,240,25,90,2.67,0.92,300,1,1.1599999999999999,2.3017241379310347,0.79310344827586221]
[5,13.3,240,25,99,2.91,0.89,300,1,1.1599999999999999,2.5086206896551726,0.76724137931034486]
[5,13.3,240,26,1,0.97,0.97,100,0,0.97,1,1]
[5,14.4,240,26,50,1.1000000000000001,0.85,100,1,0.97,1.1340206185567012,0.87628865979381443]
[5,15.9,240,26,60,1.27,0.78,100,1,0.97,1.3092783505154639,0.80412371134020622]
[5,17.3,240,26,70,1.43,0.71,100,1,0.97,1.4742268041237112,0.73195876288659789]
[5,18.7,240,26,80,1.6,0.64,100,1,0.97,1.6494845360824744,0.65979381443298968]
[5,20.100000000000001,240,26,90,1.76,0.56999999999999995,100,1,0.97,1.8144329896907216,0.58762886597938135]
[5,21.3,240,26,99,1.9,0.51,100,1,0.97,1.9587628865979381,0.52577319587628868]
[5,10,240,26,1,1.1599999999999999,1.1599999999999999,200,0,1.1599999999999999,1,1]
[5,11.7,240,26,50,1.57,1.03,200,1,1.1599999999999999,1.3534482758620692,0.88793103448275867]
[5,12.8,240,26,60,1.81,0.98,200,1,1.1599999999999999,1.5603448275862071,0.84482758620689657]
[5,13.8,240,26,70,2.06,0.93,200,1,1.1599999999999999,1.7758620689655173,0.80172413793103459]
[5,14.9,240,26,80,2.2999999999999998,0.88,200,1,1.1599999999999999,1.9827586206896552,0.75862068965517249]
[5,15.9,240,26,90,2.54,0.84,200,1,1.1599999999999999,2.1896551724137931,0.72413793103448276]
[5,16.899999999999999,240,26,99,2.76,0.79,200,1,1.1599999999999999,2.3793103448275863,0.68103448275862077]
[5,8.5,240,26,1,1.22,1.22,300,0,1.22,1,1]
[5,10,240,26,50,1.76,1.1100000000000001,300,1,1.22,1.4426229508196722,0.90983606557377061]
[5,10.8,240,26,60,2.0299999999999998,1.07,300,1,1.22,1.6639344262295082,0.87704918032786894]
[5,11.6,240,26,70,2.31,1.03,300,1,1.22,1.8934426229508197,0.84426229508196726]
[5,12.4,240,26,80,2.59,0.99,300,1,1.22,2.122950819672131,0.81147540983606559]
[5,13.2,240,26,90,2.86,0.96,300,1,1.22,2.3442622950819674,0.78688524590163933]
[5,13.9,240,26,99,3.11,0.92,300,1,1.22,2.5491803278688523,0.75409836065573776]
[5,13.7,240,27,1,1.02,1.02,100,0,1.02,1,1]
[5,15.2,240,27,50,1.18,0.87,100,1,1.02,1.1568627450980391,0.8529411764705882]
[5,16.7,240,27,60,1.36,0.8,100,1,1.02,1.3333333333333335,0.78431372549019607]
[5,18.2,240,27,70,1.53,0.73,100,1,1.02,1.5,0.71568627450980393]
[5,19.7,240,27,80,1.7,0.66,100,1,1.02,1.6666666666666665,0.6470588235294118]
[5,21.1,240,27,90,1.87,0.59,100,1,1.02,1.8333333333333335,0.57843137254901955]
[5,22.4,240,27,99,2.02,0.53,100,1,1.02,1.9803921568627452,0.51960784313725494]
[5,10.199999999999999,240,27,1,1.21,1.21,200,0,1.21,1,1]
[5,12.2,240,27,50,1.68,1.07,200,1,1.21,1.3884297520661157,0.88429752066115708]
[5,13.3,240,27,60,1.94,1.02,200,1,1.21,1.6033057851239669,0.84297520661157033]
[5,14.4,240,27,70,2.2000000000000002,0.96,200,1,1.21,1.8181818181818183,0.79338842975206614]
[5,15.6,240,27,80,2.46,0.91,200,1,1.21,2.0330578512396693,0.75206611570247939]
[5,16.7,240,27,90,2.72,0.86,200,1,1.21,2.2479338842975207,0.71074380165289253]
[5,17.7,240,27,99,2.95,0.82,200,1,1.21,2.4380165289256199,0.6776859504132231]
[5,8.6,240,27,1,1.27,1.27,300,0,1.27,1,1]
[5,10.4,240,27,50,1.89,1.1499999999999999,300,1,1.27,1.4881889763779526,0.90551181102362199]
[5,11.2,240,27,60,2.1800000000000002,1.1100000000000001,300,1,1.27,1.7165354330708662,0.87401574803149618]
[5,12.1,240,27,70,2.48,1.07,300,1,1.27,1.9527559055118109,0.84251968503937014]
[5,12.9,240,27,80,2.77,1.03,300,1,1.27,2.1811023622047245,0.8110236220472441]
[5,13.8,240,27,90,3.06,0.99,300,1,1.27,2.409448818897638,0.77952755905511806]
[5,14.5,240,27,99,3.33,0.95,300,1,1.27,2.6220472440944884,0.74803149606299213]
[5,12,310,21,1,0.82,0.82,100,0,0.82,1,1]
[5,12,310,21,50,0.82,0.82,100,0,0.82,1,1]
[5,12.7,310,21,60,0.9,0.72,100,1,0.82,1.0975609756097562,0.87804878048780488]
[5,13.8,310,21,70,1.03,0.65,100,1,0.82,1.2560975609756098,0.79268292682926833]
[5,15,310,21,80,1.1599999999999999,0.57999999999999996,100,1,0.82,1.4146341463414633,0.70731707317073167]
[5,16.100000000000001,310,21,90,1.29,0.51,100,1,0.82,1.5731707317073171,0.62195121951219512]
[5,17.100000000000001,310,21,99,1.41,0.45,100,1,0.82,1.7195121951219512,0.54878048780487809]
[5,9.3000000000000007,310,21,1,1.01,1.01,200,0,1.01,1,1]
[5,9.8000000000000007,310,21,50,1.1299999999999999,0.94,200,1,1.01,1.1188118811881187,0.93069306930693063]
[5,10.7,310,21,60,1.33,0.89,200,{"$f":"IF(F1942<>G1942,1,0)","v":1},1.01,{"$f":"F1942/J1942","v":1.3168316831683169},0.88118811881188119]
[5,11.6,310,21,70,1.53,0.84,200,1,1.01,1.5148514851485149,{"$f":"G1943/J1943","v":0.83168316831683164}]
[5,12.4,310,21,80,1.73,0.79,200,1,1.01,1.7128712871287128,0.78217821782178221]
[5,13.3,310,21,90,1.93,0.74,200,1,{"$f":"IF(F1945/G1945=1,F1945,J1944)","v":1.01},1.9108910891089108,0.73267326732673266]
[5,14,310,21,99,2.11,0.7,200,1,1.01,2.0891089108910892,0.69306930693069302]
[5,8.1,310,21,1,1.08,1.08,300,0,1.08,1,1]
[5,8.6999999999999993,310,21,50,1.29,1.01,300,1,1.08,1.1944444444444444,0.93518518518518512]
[5,9.4,310,21,60,1.52,0.98,300,1,1.08,1.4074074074074074,0.90740740740740733]
[5,10,310,21,70,1.76,0.94,300,1,1.08,1.6296296296296295,0.87037037037037024]
[5,10.7,310,21,80,1.99,0.9,300,1,1.08,1.8425925925925926,0.83333333333333326]
[5,11.3,310,21,90,2.2200000000000002,0.86,300,1,1.08,2.0555555555555558,0.79629629629629628]
[5,11.9,310,21,99,2.4300000000000002,0.82,300,1,1.08,2.25,0.75925925925925919]
[5,12.5,310,22,1,0.87,0.87,100,0,0.87,1,1]
[5,12.5,310,22,50,0.87,0.87,100,0,0.87,1,1]
[5,13.4,310,22,60,0.98,0.75,100,1,0.87,1.1264367816091954,0.86206896551724144]
[5,14.6,310,22,70,1.1200000000000001,0.67,100,1,0.87,1.2873563218390807,0.77011494252873569]
[5,15.8,310,22,80,1.26,0.6,100,1,0.87,1.4482758620689655,0.68965517241379304]
[5,17,310,22,90,1.4,0.53,100,1,0.87,1.6091954022988504,0.60919540229885061]
[5,18,310,22,99,1.52,0.47,100,1,0.87,1.7471264367816093,0.54022988505747127]
[5,9.6,310,22,1,1.08,1.08,200,0,1.08,1,1]
[5,10.3,310,22,50,1.24,0.99,200,1,1.08,1.1481481481481481,0.91666666666666663]
[5,11.2,310,22,60,1.45,0.94,200,1,1.08,1.3425925925925926,0.87037037037037024]
[5,12.2,310,22,70,1.67,0.88,200,1,1.08,1.5462962962962961,0.81481481481481477]
[5,13.1,310,22,80,1.88,0.83,200,1,1.08,1.7407407407407405,0.76851851851851838]
[5,14,310,22,90,2.09,0.78,200,1,1.08,1.9351851851851849,0.72222222222222221]
[5,14.8,310,22,99,2.2799999999999998,0.73,200,1,1.08,2.1111111111111107,0.67592592592592582]
[5,8.3000000000000007,310,22,1,1.1499999999999999,1.1499999999999999,300,0,1.1499999999999999,1,1]
[5,9.1,310,22,50,1.42,1.07,300,1,1.1499999999999999,1.2347826086956522,0.93043478260869583]
[5,9.8000000000000007,310,22,60,1.67,1.03,300,1,1.1499999999999999,1.4521739130434783,0.89565217391304353]
[5,10.5,310,22,70,1.91,0.98,300,1,1.1499999999999999,1.6608695652173913,0.85217391304347834]
[5,11.2,310,22,80,2.16,0.94,300,1,1.1499999999999999,1.8782608695652177,0.81739130434782614]
[5,11.9,310,22,90,2.41,0.9,300,1,1.1499999999999999,2.0956521739130438,0.78260869565217395]
[5,12.5,310,22,99,2.63,0.86,300,1,1.1499999999999999,2.2869565217391306,0.74782608695652175]
[5,12.9,310,23,1,0.92,0.92,100,0,0.92,1,1]
[5,12.9,310,23,50,0.92,0.86,100,1,0.92,1,0.93478260869565211]
[5,14.1,310,23,60,1.07,0.78,100,1,0.92,1.1630434782608696,0.84782608695652173]
[5,15.4,310,23,70,1.21,0.7,100,1,0.92,1.3152173913043477,0.76086956521739124]
[5,16.7,310,23,80,1.36,0.62,100,1,0.92,1.4782608695652175,0.67391304347826086]
[5,17.899999999999999,310,23,90,1.5,0.55000000000000004,100,1,0.92,1.6304347826086956,0.59782608695652173]
[5,19,310,23,99,1.63,0.48,100,1,0.92,1.7717391304347825,0.52173913043478259]
[5,9.9,310,23,1,1.1399999999999999,1.1399999999999999,200,0,1.1399999999999999,1,1]
[5,10.8,310,23,50,1.36,1.04,200,1,1.1399999999999999,1.192982456140351,0.91228070175438603]
[5,11.8,310,23,60,1.59,0.98,200,1,1.1399999999999999,1.3947368421052633,0.85964912280701755]
[5,12.8,310,23,70,1.81,0.92,200,1,1.1399999999999999,1.5877192982456143,0.80701754385964919]
[5,13.7,310,23,80,2.0299999999999998,0.87,200,1,1.1399999999999999,1.7807017543859649,0.76315789473684215]
[5,14.7,310,23,90,2.2599999999999998,0.81,200,1,1.1399999999999999,1.9824561403508771,0.71052631578947378]
[5,15.6,310,23,99,2.46,0.76,200,1,1.1399999999999999,2.1578947368421053,0.66666666666666674]
[5,8.5,310,23,1,1.22,1.22,300,0,1.22,1,1]
[5,9.5,310,23,50,1.56,1.1200000000000001,300,1,1.22,1.278688524590164,0.91803278688524603]
[5,10.199999999999999,310,23,60,1.82,1.07,300,1,1.22,1.4918032786885247,0.87704918032786894]
[5,10.9,310,23,70,2.08,1.03,300,1,1.22,1.7049180327868854,0.84426229508196726]
[5,11.7,310,23,80,2.34,0.98,300,1,1.22,1.9180327868852458,0.80327868852459017]
[5,12.4,310,23,90,2.6,0.94,300,1,1.22,2.1311475409836067,0.77049180327868849]
[5,13.1,310,23,99,2.84,0.9,300,1,1.22,2.3278688524590163,0.73770491803278693]
[5,13.4,310,24,1,0.98,0.98,100,0,0.98,1,1]
[5,13.5,310,24,50,1,0.89,100,1,0.98,1.0204081632653061,0.90816326530612246]
[5,14.9,310,24,60,1.1499999999999999,0.81,100,1,0.98,1.1734693877551019,0.82653061224489799]
[5,16.2,310,24,70,1.31,0.72,100,1,0.98,1.3367346938775511,0.73469387755102045]
[5,17.600000000000001,310,24,80,1.46,0.64,100,1,0.98,1.489795918367347,0.65306122448979598]
[5,11.9,310,25,70,2.42,1.1200000000000001,300,1,1.35,1.7925925925925925,0.82962962962962961]
[5,13,310,27,70,2.8,1.2,300,1,1.48,1.8918918918918919,0.81081081081081074]
[5,10.7,380,22,50,1.33,1.0900000000000001,200,1,1.19,1.1176470588235294,0.91596638655462193]
[5,15.8,380,23,70,1.26,0.75,100,1,0.99,1.2727272727272727,0.75757575757575757]
[5,14.5,380,24,99,3.32,1,300,1,1.43,2.3216783216783217,0.69930069930069938]
[6,10.9,100,21,60,0.56999999999999995,0.38,100,1,0.43,1.3255813953488371,0.88372093023255816]
[6,8.6999999999999993,100,21,80,0.94,0.44,300,1,0.47,2,0.93617021276595747]
[6,9.5,100,23,60,0.82,0.49,200,1,0.52,1.5769230769230769,0.94230769230769229]
[6,12.5,100,26,50,0.75,0.51,100,1,0.56000000000000005,1.3392857142857142,0.9107142857142857]
[6,10,100,26,80,1.4,0.56999999999999995,300,1,0.61,2.2950819672131146,0.93442622950819665]
[6,13.7,170,22,70,0.9,0.51,100,1,0.63,1.4285714285714286,0.80952380952380953]
[6,9.9,170,24,60,1.35,0.77,300,1,0.83,1.6265060240963858,0.92771084337349408]
[6,9.8000000000000007,170,26,1,0.89,0.89,200,0,0.89,1,1]
[6,13,170,27,90,2.4300000000000002,0.81,300,1,0.97,2.5051546391752582,{"$f":"G2519/J2519","v":0.83505154639175261}]
[6,14.4,240,23,90,1.95,0.71,200,1,0.94,2.0744680851063833,0.75531914893617025]
[6,14.1,240,25,50,0.95,0.79,100,1,0.88,1.0795454545454546,0.89772727272727282]
[6,11.8,240,25,70,2.04,0.95,300,1,1.1000000000000001,1.8545454545454545,0.86363636363636354]
[6,17.3,310,22,90,1.31,0.5,100,1,0.82,1.5975609756097562,0.6097560975609756]
[6,11.6,310,23,70,1.95,0.98,300,1,1.1499999999999999,1.6956521739130437,0.85217391304347834]
[6,14.5,310,25,70,1.99,0.95,200,1,1.2,1.6583333333333334,0.79166666666666663]
[6,16.3,310,27,99,3.62,0.99,300,1,1.41,2.5673758865248231,0.7021276595744681]
[6,9.6,380,21,50,1.27,1.07,300,1,1.1299999999999999,1.1238938053097347,0.94690265486725678]
[6,19.7,380,23,99,1.59,0.46,100,1,0.94,1.6914893617021278,0.48936170212765961]
[6,13.5,380,24,80,2.6,1.06,300,1,1.35,1.9259259259259258,0.78518518518518521]
[6,14,380,27,50,1.86,1.27,200,1,1.46,1.2739726027397262,0.86986301369863017]
[7,10.7,100,22,1,0.43,0.43,100,0,0.43,1,1]
[7,11.9,100,23,90,1.1399999999999999,0.43,200,1,0.49,2.3265306122448979,0.87755102040816324]
[7,16.2,100,26,80,1.08,0.43,100,1,0.54,2,0.79629629629629628]
[7,10.199999999999999,100,27,60,1.1100000000000001,0.57999999999999996,300,1,0.61,1.8196721311475412,0.95081967213114749]
[7,17.100000000000001,170,22,99,1.18,0.38,100,1,0.59,2,0.64406779661016955]
[7,12.3,170,24,90,1.86,0.67,300,1,0.79,2.3544303797468356,0.84810126582278478]
[7,13.8,170,26,70,1.57,0.72,200,1,0.85,1.8470588235294119,0.84705882352941175]
[7,13.7,240,22,60,0.78,0.61,100,1,0.7,1.1142857142857143,0.87142857142857144]
[7,9.6999999999999993,240,23,1,0.93,0.93,300,0,0.93,1,1]
[7,11,240,25,50,1.4,0.97,300,1,1.05,1.3333333333333333,0.92380952380952375]
[7,14.7,240,25,99,2.67,0.8,300,1,1.05,2.5428571428571427,0.76190476190476186]
[7,11.4,310,22,50,1.02,0.9,200,1,0.95,1.0736842105263158,0.94736842105263164]
[7,16,310,23,70,1.05,0.64,100,1,0.82,1.2804878048780488,0.78048780487804881]
[7,11.1,310,24,50,1.44,1.07,300,1,{"$f":"IF(F3481/G3481=1,F3481,J3480)","v":1.1499999999999999},1.2521739130434784,0.93043478260869583]
[7,19.8,310,27,99,2.98,0.79,200,{"$f":"IF(F3542<>G3542,1,0)","v":1},1.26,{"$f":"F3542/J3542","v":2.3650793650793651},0.62698412698412698]
[7,12.4,380,21,80,1.88,0.86,300,1,1.06,1.7735849056603772,0.81132075471698106]
[7,13.2,380,23,60,1.45,0.97,200,1,1.1200000000000001,1.294642857142857,0.86607142857142849]
[7,15.9,380,26,50,1.03,0.98,100,1,1.06,0.97169811320754718,0.92452830188679236]
[7,20.6,380,27,99,3.16,0.82,200,1,1.39,2.2733812949640289,0.58992805755395683]
[8,11.7,100,22,80,0.86,0.39,200,1,0.43,2,0.90697674418604657]
[8,10.3,100,24,60,0.81,0.47,300,1,0.49,1.653061224489796,0.95918367346938771]
[8,10.3,100,26,1,0.54,0.54,200,0,0.54,1,1]
[8,12.4,100,27,90,1.55,0.53,300,1,0.57999999999999996,2.6724137931034484,0.91379310344827602]
[8,12.9,170,23,70,1.1399999999999999,0.59,200,1,0.67,1.7014925373134326,0.88059701492537301]
[8,14.2,170,25,50,0.73,0.61,100,1,{"$f":"IF(F3929/G3929=1,F3929,J3928)","v":0.67},1.08955223880597,0.91044776119402981]
[8,12.3,170,25,70,1.49,0.71,300,1,0.79,1.8860759493670884,0.89873417721518978]
[8,17.399999999999999,240,22,90,1.0900000000000001,0.42,100,1,0.65,1.676923076923077,0.64615384615384608]
[8,12.3,240,23,70,1.5,0.77,300,1,0.88,1.7045454545454546,0.875]
[8,12.9,240,25,50,1.1399999999999999,0.86,200,1,0.94,1.2127659574468084,0.91489361702127658]
[8,16.899999999999999,240,26,60,1.03,0.69,100,1,0.84,1.2261904761904763,0.8214285714285714]
[8,10.6,310,21,50,0.91,0.85,300,1,0.88,1.0340909090909092,0.96590909090909083]
[8,19.8,310,23,99,1.37,0.4,100,1,0.78,1.7564102564102564,0.51282051282051289]
[8,14.1,310,24,80,2.13,0.88,300,1,1.08,1.9722222222222221,0.81481481481481477]
[8,23.8,310,27,99,1.83,0.46,100,1,0.99,1.8484848484848486,0.4646464646464647]
[8,14.7,380,22,1,0.78,0.78,100,0,0.78,1,1]
[8,16.7,380,23,90,2.02,0.72,200,1,1.05,1.9238095238095236,0.68571428571428561]
[8,20.5,380,26,80,1.46,0.64,100,1,1,1.46,0.64]
[8,14.4,380,27,60,2.25,1.22,300,1,1.43,1.5734265734265735,0.85314685314685312]
[9,14.7,100,22,80,0.66,0.31,100,1,0.37,1.783783783783784,0.83783783783783783]
[9,12.3,100,24,90,1.1599999999999999,0.43,300,1,0.46,2.5217391304347823,0.93478260869565211]
[9,13.3,100,26,70,1.01,0.47,200,1,0.51,1.9803921568627452,0.92156862745098034]
[9,19.100000000000001,100,27,90,1.17,0.38,100,1,0.51,2.2941176470588234,0.74509803921568629]
[9,10.9,170,23,1,0.65,0.65,300,0,0.65,1,1]
[9,16.899999999999999,170,25,99,1.83,0.55000000000000004,200,1,0.72,2.541666666666667,0.76388888888888895]
[9,14.8,170,25,99,2.0099999999999998,0.61,300,1,0.74,2.7162162162162158,0.82432432432432434]
[9,16.399999999999999,170,27,80,1.73,0.65,200,1,0.8,2.1624999999999996,0.8125]
[9,16.2,240,23,70,0.84,0.53,100,1,0.65,1.2923076923076922,0.81538461538461537]
[9,12,240,24,50,1.05,0.83,300,1,0.87,1.2068965517241379,0.95402298850574707]
[9,17.7,240,27,80,2.02,0.76,200,1,0.99,2.0404040404040402,0.76767676767676774]
[9,13.2,310,21,80,1.46,0.69,300,1,0.81,1.8024691358024689,0.85185185185185175]
[9,13.8,310,23,60,1.1200000000000001,0.8,200,1,0.89,1.258426966292135,0.89887640449438211]
[9,16.600000000000001,310,26,50,0.88,0.88,100,0,0.88,1,1]
[9,20.7,310,27,99,2.72,0.71,200,1,1.1399999999999999,2.3859649122807021,0.6228070175438597]
[9,13.5,380,22,60,1.06,0.83,200,1,0.91,1.1648351648351649,0.91208791208791207]
[9,13.5,380,24,60,1.57,1.01,300,1,1.1299999999999999,1.3893805309734515,0.89380530973451333]
[9,14.1,380,26,1,1.19,1.19,200,0,1.19,1,1]
[9,18,380,27,90,3.14,0.96,300,1,1.35,2.325925925925926,0.71111111111111103]
[10,13.5,100,23,80,0.82,0.36,200,1,0.4,2.0499999999999998,0.89999999999999991]
[10,11.8,100,24,1,0.42,0.42,200,0,0.42,1,1]
[10,12.6,100,25,70,0.9,0.44,300,1,0.46,1.9565217391304348,0.9565217391304347]
[10,13.1,100,27,50,0.72,0.49,200,1,0.51,1.4117647058823528,0.96078431372549011]
[10,13,170,23,70,1.05,0.56000000000000005,300,1,0.61,1.7213114754098362,0.91803278688524603]
[10,16.100000000000001,170,24,90,1.43,0.5,200,1,0.63,2.2698412698412698,0.79365079365079361]
[10,20.7,170,26,90,1.24,0.41,100,1,0.64,1.9375,0.640625]
[10,12.2,170,27,1,0.79,0.79,300,0,0.79,1,1]
[10,19.8,240,23,99,1.1399999999999999,0.34,100,1,0.61,1.8688524590163933,0.55737704918032793]
[10,14.7,240,24,80,1.65,0.69,300,1,0.82,2.0121951219512195,0.84146341463414631]
[10,21.1,240,27,80,1.29,0.52,100,1,0.8,1.6125,{"$f":"G5591/J5591","v":0.65}]
[10,15.4,310,22,1,0.63,0.63,100,0,0.63,1,1]
[10,17.100000000000001,310,23,90,1.65,0.6,200,1,0.82,2.0121951219512195,0.73170731707317072]
[10,20.6,310,26,80,1.24,0.55000000000000004,100,1,0.83,1.493975903614458,0.66265060240963869]
[10,15.1,310,27,60,1.79,1.01,300,1,1.1499999999999999,1.5565217391304349,0.87826086956521743]
[10,15.8,380,22,60,0.67,0.67,100,0,0.67,1,1]
[10,16.600000000000001,380,24,90,2.29,0.79,300,1,1.06,2.1603773584905661,0.74528301886792447]
[10,17.5,380,26,70,1.76,0.89,200,1,1.1200000000000001,1.5714285714285714,0.7946428571428571]
[10,23.3,380,27,90,1.54,0.5,100,1,0.95,1.6210526315789475,0.52631578947368418]
[11,12.4,100,21,70,0.5,0.3,300,1,0.31,1.6129032258064517,0.96774193548387089]
[11,12.1,100,23,50,0.4,0.36,300,1,0.37,1.0810810810810811,0.97297297297297292]
[11,14.6,100,25,99,1.26,0.39,300,1,0.43,2.9302325581395348,0.90697674418604657]
[11,15.8,100,27,80,1.1200000000000001,0.43,200,1,0.48,2.3333333333333335,{"$f":"G6039/J6039","v":0.89583333333333337}]
[11,16.399999999999999,170,23,70,0.63,0.4,100,1,0.48,1.3125,0.83333333333333337]
[11,12.9,170,24,50,0.67,0.59,300,1,0.6,1.1166666666666667,0.98333333333333328]
[11,15.8,170,27,60,1.1100000000000001,0.64,200,1,0.72,1.541666666666667,0.88888888888888895]
[11,14,240,21,80,1.06,0.52,300,1,0.57999999999999996,1.827586206896552,0.89655172413793116]
[11,14.4,240,23,60,0.8,0.62,200,1,0.66,1.2121212121212122,0.93939393939393934]
[11,17,240,26,50,0.7,0.7,100,0,0.7,1,1]
[11,20.7,240,27,99,2.25,0.59,200,1,0.89,2.5280898876404496,0.6629213483146067]
[11,14,310,22,1,0.7,0.7,200,0,0.7,1,1]
[11,14.4,310,24,60,1.17,0.81,300,{"$f":"IF(F6422<>G6422,1,0)","v":1},0.88,{"$f":"F6422/J6422","v":1.3295454545454544},0.92045454545454553]
[11,15.1,310,26,1,0.95,0.95,200,0,0.95,1,1]
[11,18.5,310,27,90,2.6,0.81,300,1,1.08,2.4074074074074074,0.75]
[11,13.2,380,21,1,0.76,0.76,300,0,0.76,1,1]
[11,20.6,380,24,90,1.1200000000000001,0.42,100,1,0.73,1.5342465753424659,0.57534246575342463]
[11,16,380,25,70,1.74,0.9,300,1,1.06,1.641509433962264,0.84905660377358494]
[11,16.2,380,27,50,1.21,1.04,200,1,1.1200000000000001,1.0803571428571428,0.92857142857142849]
[12,14.2,100,21,99,0.76,0.26,300,1,0.28000000000000003,2.714285714285714,0.92857142857142849]
[12,15.9,100,24,90,0.9,0.32,200,1,0.36,2.5,0.88888888888888895]
[12,17.7,100,26,70,0.66,0.34,100,1,{"$f":"IF(F6745/G6745=1,F6745,J6744)","v":0.4},1.65,0.85]
[12,13.3,100,27,1,0.46,0.46,300,0,0.46,1,1]
[12,19.8,170,23,99,0.9,0.27,100,1,0.44,2.0454545454545454,0.61363636363636365]
[12,15.3,170,24,80,1.1599999999999999,0.5,300,1,0.55000000000000004,2.1090909090909089,0.90909090909090906]
[12,17.3,170,27,70,1.22,0.57999999999999996,200,1,0.67,1.8208955223880596,0.86567164179104461]
[12,15.7,240,21,50,0.42,0.42,100,0,0.42,1,1]
[12,17.5,240,23,90,1.27,0.47,200,1,0.61,2.081967213114754,0.77049180327868849]
[12,20.7,240,26,80,1.02,0.45,100,1,0.66,1.5454545454545454,0.68181818181818177]
[12,15.8,240,27,60,1.34,0.79,300,1,0.87,1.5402298850574714,0.90804597701149425]
[12,15.8,310,21,80,0.89,0.48,200,1,0.56999999999999995,1.56140350877193,0.8421052631578948]
[12,14.9,310,24,60,1.03,0.76,300,1,0.81,1.2716049382716048,0.93827160493827155]
[12,18,310,26,70,1.39,0.73,200,1,{"$f":"IF(F7193/G7193=1,F7193,J7192)","v":0.89},1.5617977528089886,0.8202247191011236]
[12,23.4,310,27,90,1.32,0.43,100,1,0.78,1.6923076923076923,0.55128205128205121]
[12,14.5,380,21,70,0.88,0.63,300,1,0.68,1.2941176470588234,0.92647058823529405]
[12,19.2,380,23,99,1.67,0.49,200,1,0.77,2.1688311688311686,0.63636363636363635]
[12,19.100000000000001,380,25,99,2.46,0.68,300,1,0.98,2.510204081632653,0.69387755102040827]
[12,20.2,380,27,80,1.92,0.76,200,1,1.05,1.8285714285714285,0.72380952380952379]
[13,16.399999999999999,100,23,70,0.4,0.25,100,1,0.28000000000000003,1.4285714285714286,0.89285714285714279]
[13,14,100,24,50,0.34,0.34,300,0,0.34,1,1]
[13,14.8,100,27,1,0.42,0.42,200,0,0.42,1,1]
[13,14.9,170,21,80,0.66,0.34,300,1,0.37,1.783783783783784,0.91891891891891897]
[13,15.1,170,23,60,0.49,0.43,200,1,0.45,1.0888888888888888,0.95555555555555549]
[13,17.399999999999999,170,26,50,0.52,0.52,100,0,0.52,1,1]
[13,20.5,170,27,99,1.74,0.47,200,1,0.63,2.7619047619047619,0.74603174603174593]
[13,18.8,240,22,90,0.68,0.28000000000000003,100,1,0.43,1.5813953488372094,0.65116279069767447]
[13,16.3,240,22,90,1.1599999999999999,0.44,300,1,0.52,2.2307692307692304,0.84615384615384615]
[13,16.100000000000001,240,26,1,0.72,0.72,200,0,0.72,1,1]
[13,18.899999999999999,240,27,90,2.0499999999999998,0.64,300,1,0.81,2.5308641975308639,0.79012345679012341]
[13,14.6,310,21,1,0.55000000000000004,0.55000000000000004,300,0,0.55000000000000004,1,1]
[13,18.399999999999999,310,24,70,0.63,0.5,100,1,0.57999999999999996,1.0862068965517242,0.86206896551724144]
[13,16.8,310,25,70,1.31,0.72,300,1,0.81,1.6172839506172838,0.88888888888888884]
[13,16.8,310,27,50,0.89,0.89,200,0,0.89,1,1]
[13,17.100000000000001,380,21,99,1.41,0.45,300,1,0.6,2.35,0.75]
[13,19.399999999999999,380,24,90,1.5,0.54,200,1,0.77,1.948051948051948,0.70129870129870131]
[13,19.3,380,26,50,0.73,0.73,100,0,0.73,1,1]
[13,16,380,27,1,1.06,1.06,300,0,1.06,1,1]
[14,19.399999999999999,100,23,99,0.63,0.19,100,1,0.26,2.4230769230769229,0.73076923076923073]
[14,15.9,100,24,80,0.66,0.28999999999999998,300,1,0.3,2.2000000000000002,0.96666666666666667]
[14,17.2,100,27,70,0.75,0.36,200,1,0.39,1.9230769230769229,0.92307692307692302]
[14,17.600000000000001,100,27,99,1.27,0.36,300,1,0.4,3.1749999999999998,0.89999999999999991]
[14,17.8,170,23,90,0.89,0.33,200,1,0.4,2.2250000000000001,0.82499999999999996]
[14,15.9,170,24,1,0.45,0.45,200,0,0.45,1,1]
[14,16.600000000000001,170,27,60,0.89,0.56000000000000005,300,1,0.6,1.4833333333333334,0.93333333333333346]
[14,16.5,240,21,80,0.57999999999999996,0.34,200,1,0.39,1.487179487179487,0.87179487179487181]
[14,15.7,240,24,1,0.59,0.59,300,0,0.59,1,1]
[14,18.5,240,26,70,1.04,0.56999999999999995,200,1,0.66,1.5757575757575757,0.86363636363636354]
[14,23.4,240,27,90,1.0900000000000001,0.36,100,1,0.61,1.7868852459016396,0.5901639344262295]
[14,15.5,310,21,70,0.52,0.46,300,1,0.47,1.1063829787234043,0.97872340425531923]
[14,16.5,310,23,50,0.56999999999999995,0.56999999999999995,200,{"$f":"IF(F8598<>G8598,1,0)","v":0},0.56999999999999995,{"$f":"F8598/J8598","v":1},1]
[14,21,310,26,90,1.62,0.53,200,1,{"$f":"IF(F8665/G8665=1,F8665,J8664)","v":0.76},2.1315789473684212,0.69736842105263164]
[14,20.6,310,27,80,1.54,0.63,200,1,0.82,1.878048780487805,0.76829268292682928]
[14,18.399999999999999,380,23,70,0.51,0.51,100,0,0.51,1,1]
[14,16.2,380,24,50,0.75,0.75,300,0,0.75,1,1]
[14,24.2,380,26,99,1.18,0.3,100,1,0.68,1.7352941176470587,0.44117647058823523]
[15,15.8,100,21,70,0.18,0.18,200,0,0.18,1,1]
[15,16,100,23,60,0.24,0.24,200,0,0.24,1,1]
[15,17.5,100,25,1,0.28999999999999998,0.28999999999999998,100,0,0.28999999999999998,1,1]
[15,19.899999999999999,100,27,99,1.1299999999999999,0.31,200,1,0.36,3.1388888888888888,0.86111111111111116]
[15,17.399999999999999,170,22,70,0.28000000000000003,0.28000000000000003,100,0,0.28000000000000003,1,1]
[15,17.100000000000001,170,22,90,0.74,0.28999999999999998,300,1,0.32,2.3125,0.90624999999999989]
[15,17.399999999999999,170,24,70,0.56000000000000005,0.37,200,1,0.4,1.4000000000000001,0.92499999999999993]
[15,19.3,170,27,90,1.48,0.47,300,1,0.55000000000000004,2.6909090909090905,0.85454545454545439]
[15,16,240,21,1,0.35,0.35,300,0,0.35,1,1]
[15,18.7,240,24,50,0.43,0.43,100,0,0.43,1,1]
[15,17.600000000000001,240,25,70,0.9,0.53,300,1,0.57999999999999996,1.5517241379310347,0.91379310344827602]
[15,17.8,240,27,50,0.66,0.66,200,0,0.66,1,1]
[15,17.899999999999999,310,21,99,1,0.31,300,1,0.41,2.4390243902439024,{"$f":"G9303/J9303","v":0.75609756097560976}]
[15,19.899999999999999,310,24,90,1.1399999999999999,0.42,200,1,0.56999999999999995,2,0.73684210526315796]
[15,20.2,310,25,99,1.8,0.49,300,1,0.67,2.6865671641791042,0.73134328358208944]
[15,17.3,310,27,1,0.81,0.81,300,0,0.81,1,1]
[15,21.6,380,23,99,0.76,0.22,100,1,0.45,1.6888888888888889,0.48888888888888887]
[15,18.399999999999999,380,24,80,1.18,0.57999999999999996,300,1,0.68,1.7352941176470587,0.85294117647058809]
[15,21.9,380,25,99,1.6,0.43,200,1,0.7,2.285714285714286,0.61428571428571432]
[15,20.100000000000001,380,27,80,1.79,0.72,300,1,0.9,1.9888888888888889,0.79999999999999993]
[16,18.2,100,23,90,0.5,0.19,200,1,0.21,2.3809523809523809,0.90476190476190477]
[16,17,100,24,1,0.24,0.24,200,0,0.24,1,1]
[16,17.3,100,27,60,0.47,0.33,300,1,0.33,1.4242424242424241,1]
[16,17.2,170,21,80,0.28999999999999998,0.21,200,1,0.22,1.3181818181818181,0.95454545454545447]
[16,16.8,170,22,60,0.28000000000000003,0.28000000000000003,300,0,0.28000000000000003,1,1]
[16,20.100000000000001,170,24,99,0.96,0.28000000000000003,200,1,0.36,2.6666666666666665,0.7777777777777779]
[16,23.4,170,27,90,0.85,0.28000000000000003,100,1,0.44,1.9318181818181817,0.63636363636363646]
[16,16.8,240,21,70,0.28999999999999998,0.28999999999999998,300,0,0.28999999999999998,1,1]
[16,17.7,240,23,50,0.39,0.39,200,0,0.39,1,1]
[16,19.399999999999999,240,26,70,0.79,0.49,200,1,0.55000000000000004,1.4363636363636363,0.89090909090909087]
[16,21,240,27,80,1.1599999999999999,0.49,200,1,0.61,1.901639344262295,0.80327868852459017]
[16,19.2,310,23,70,0.37,0.37,100,0,0.37,1,1]
[16,17.600000000000001,310,24,50,0.54,0.54,300,0,0.54,1,1]
[16,24.3,310,26,99,0.97,0.25,100,1,0.53,1.8301886792452828,0.47169811320754712]
[16,17.5,380,21,50,0.35,0.35,200,0,0.35,1,1]
[16,18.100000000000001,380,23,60,0.49,0.49,200,0,0.49,1,1]
[16,20.399999999999999,380,25,1,0.51,0.51,100,0,0.51,1,1]
[16,17.899999999999999,380,25,60,0.68,0.68,300,0,{"$f":"IF(F10265/G10265=1,F10265,J10264)","v":0.68},1,1]
[17,18.5,100,22,80,0.17,0.13,100,1,0.14000000000000001,1.2142857142857142,0.92857142857142849]
[17,20.7,100,23,99,0.43,0.13,100,1,0.17,2.5294117647058822,0.76470588235294112]
[17,18.100000000000001,100,24,70,0.26,0.21,200,1,0.21,1.2380952380952381,1]
[17,19.5,100,27,90,0.88,0.28000000000000003,300,1,{"$f":"IF(F10457/G10457=1,F10457,J10456)","v":0.3},2.9333333333333336,0.93333333333333346]
[17,17.5,170,21,1,0.19,0.19,300,0,0.19,1,1]
[17,20.399999999999999,170,23,90,0.4,0.18,100,1,0.24,1.6666666666666667,0.75]
[17,20.9,170,25,80,0.45,0.26,100,1,0.32,1.40625,0.8125]
[17,18.899999999999999,170,27,50,0.44,0.44,200,0,0.44,1,1]
[17,18.7,240,21,99,0.61,0.19,300,1,0.23,2.652173913043478,0.82608695652173914]
[17,20.399999999999999,240,24,90,0.8,0.3,200,1,0.39,2.0512820512820515,0.76923076923076916]
[17,19.399999999999999,240,25,80,0.85,0.41,300,1,0.46,1.8478260869565215,0.89130434782608692]
[17,18.7,240,27,1,0.57999999999999996,0.57999999999999996,300,0,0.57999999999999996,1,1]
[17,21.8,310,23,99,0.56000000000000005,0.16,100,1,0.32,1.7500000000000002,0.5]
[17,19.2,310,24,80,0.77,0.42,300,1,0.47,1.6382978723404256,0.89361702127659581]
[17,22.3,310,25,99,1.22,0.33,200,1,0.51,2.392156862745098,0.6470588235294118]
[17,19.100000000000001,310,27,60,0.71,0.65,300,1,0.67,1.0597014925373134,0.97014925373134331]
[17,20.2,380,23,90,0.74,0.32,200,1,0.42,1.7619047619047619,0.76190476190476197]
[17,19.100000000000001,380,24,1,0.5,0.5,200,0,0.5,1,1]
[17,20.8,380,25,90,1.31,0.47,300,1,0.6,2.1833333333333336,0.78333333333333333]
[18,18.5,100,22,1,0.12,0.12,200,0,0.12,1,1]
[18,18.399999999999999,100,22,1,0.12,0.12,300,0,0.12,1,1]
[18,20.399999999999999,100,24,99,0.55000000000000004,0.16,200,1,0.18,3.0555555555555558,0.88888888888888895]
[18,23,100,27,90,0.59,0.19,100,1,0.25,2.36,0.76]
[18,18.399999999999999,170,21,70,0.14000000000000001,0.14000000000000001,300,0,0.14000000000000001,1,1]
[18,19,170,23,50,0.22,0.22,200,0,0.22,1,1]
[18,19.5,170,26,50,0.36,0.36,200,0,0.36,1,1]
[18,21.4,170,27,80,0.78,0.34,200,1,0.4,1.95,0.85]
[18,20.100000000000001,240,23,70,0.24,0.24,100,0,0.24,1,1]
[18,19,240,24,50,0.35,0.35,300,0,0.35,1,1]
[18,24.5,240,26,99,0.75,0.19,100,1,0.38,1.9736842105263157,0.5]
[18,20.3,310,21,99,0.27,0.09,100,1,0.16,1.6875,0.5625]
[18,19.399999999999999,310,23,60,0.32,0.32,200,0,0.32,1,1]
[18,21.2,310,25,1,0.37,0.37,100,0,0.37,1,1]
[18,19.399999999999999,310,25,60,0.47,0.47,300,0,0.47,1,1]
[18,20,380,22,80,0.23,0.23,100,0,0.23,1,1]
[18,20.5,380,23,80,0.28999999999999998,0.28999999999999998,100,0,0.28999999999999998,1,1]
[18,19.8,380,24,70,0.42,0.42,200,0,0.42,1,1]
[18,21.9,380,26,50,0.46,0.46,100,0,0.46,1,1]
[19,19.2,100,21,1,0.06,0.06,300,0,0.06,1,1]
[19,20.7,100,23,90,0.2,0.1,100,1,0.11,1.8181818181818183,0.90909090909090917]
[19,20.5,100,25,60,0.17,0.17,100,0,0.17,1,1]
[19,20,100,27,50,0.24,0.24,200,0,0.24,1,1]
[19,19.7,170,21,99,0.25,0.08,300,1,0.09,2.7777777777777777,0.88888888888888895]
[19,21,170,24,90,0.46,0.19,200,1,0.22,2.0909090909090908,0.86363636363636365]
[19,21.4,170,26,70,0.28000000000000003,0.28000000000000003,100,0,0.28000000000000003,1,1]
[19,19.899999999999999,170,26,50,0.32,0.32,300,0,0.32,1,1]
[19,22.1,240,23,99,0.36,0.11,100,1,0.19,1.8947368421052631,0.57894736842105265]
[19,20.100000000000001,240,24,80,0.39,0.28000000000000003,300,1,0.28999999999999998,1.3448275862068968,0.9655172413793105]
[19,22.7,240,25,99,0.86,0.23,200,1,0.33,2.606060606060606,0.69696969696969702]
[19,23.2,240,27,80,0.49,0.3,100,1,0.38,1.2894736842105263,0.78947368421052633]
[19,20.100000000000001,310,23,60,0.26,0.26,200,0,0.26,1,1]
[19,20.399999999999999,310,24,1,0.32,0.32,200,0,0.32,1,1]
[19,21.5,310,25,90,0.87,0.33,300,1,0.4,2.1749999999999998,0.82499999999999996]
[19,21.4,310,27,70,0.56999999999999995,0.48,200,1,0.51,1.1176470588235292,0.94117647058823528]
[19,20.2,380,22,90,0.28000000000000003,0.19,200,1,0.21,1.3333333333333335,0.90476190476190477]
[19,22.4,380,24,99,0.8,0.22,200,1,0.35,2.285714285714286,0.62857142857142867]
[19,24.8,380,27,90,0.67,0.28000000000000003,100,1,0.46,1.4565217391304348,0.60869565217391308]
[null,null,null,null,null,null,null,null,0,{"$error":"#DIV/0!"},{"$error":"#DIV/0!"},{"$error":"#DIV/0!"}]
[null,null,null,null,null,null,null,null,0,{"$error":"#DIV/0!"},{"$error":"#DIV/0!"},{"$f":"G12567/J12567","v":{"$error":"#DIV/0!"}}]
[null,null,null,null,null,null,null,null,0,{"$error":"#DIV/0!"},{"$error":"#DIV/0!"},{"$error":"#DIV/0!"}]
[null,null,null,null,null,null,null,null,0,{"$error":"#DIV/0!"},{"$error":"#DIV/0!"},{"$error":"#DIV/0!"}]
[null,null,null,null,null,null,null,null,0,{"$error":"#DIV/0!"},{"$error":"#DIV/0!"},{"$error":"#DIV/0!"}]
[null,null,null,null,null,null,null,null,0,{"$error":"#DIV/0!"},{"$error":"#DIV/0!"},{"$error":"#DIV/0!"}]
[null,null,null,null,null,null,null,null,0,{"$error":"#DIV/0!"},{"$error":"#DIV/0!"},{"$error":"#DIV/0!"}]
[null,null,null,null,null,null,null,null,0,{"$error":"#DIV/0!"},{"$error":"#DIV/0!"},{"$error":"#DIV/0!"}]
[null,null,null,null,null,null,null,null,0,{"$error":"#DIV/0!"},{"$error":"#DIV/0!"},{"$error":"#DIV/0!"}]
[null,null,null,null,null,null,null,null,0,{"$error":"#DIV/0!"},{"$error":"#DIV/0!"},{"$error":"#DIV/0!"}]
[null,null,null,null,null,null,null,null,0,{"$error":"#DIV/0!"},{"$error":"#DIV/0!"},{"$error":"#DIV/0!"}]
[null,null,null,null,null,null,null,null,0,{"$error":"#DIV/0!"},{"$error":"#DIV/0!"},{"$error":"#DIV/0!"}]
[null,null,null,null,null,null,null,null,0,{"$error":"#DIV/0!"},{"$error":"#DIV/0!"},{"$error":"#DIV/0!"}]
[null,null,null,null,null,null,null,null,0,{"$error":"#DIV/0!"},{"$error":"#DIV/0!"},{"$error":"#DIV/0!"}]
[null,null,null,null,null,null,null,null,0,{"$error":"#DIV/0!"},{"$error":"#DIV/0!"},{"$error":"#DIV/0!"}]
[null,null,null,null,null,null,null,null,0,{"$error":"#DIV/0!"},{"$error":"#DIV/0!"},{"$error":"#DIV/0!"}]
[null,null,null,null,null,null,null,null,0,{"$error":"#DIV/0!"},{"$error":"#DIV/0!"},{"$error":"#DIV/0!"}]
[null,null,null,null,null,null,null,null,0,{"$error":"#DIV/0!"},{"$error":"#DIV/0!"},{"$error":"#DIV/0!"}]
[null,null,null,null,null,null,null,null,0,{"$error":"#DIV/0!"},{"$error":"#DIV/0!"},{"$error":"#DIV/0!"}]
[null,null,null,null,null,null,null,null,0,{"$error":"#DIV/0!"},{"$error":"#DIV/0!"},{"$error":"#DIV/0!"}]
[null,null,null,null,null,null,null,null,0,{"$error":"#DIV/0!"},{"$error":"#DIV/0!"},{"$error":"#DIV/0!"}]
[null,null,null,null,null,null,null,null,0,{"$error":"#DIV/0!"},{"$error":"#DIV/0!"},{"$error":"#DIV/0!"}]
[null,null,null,null,null,null,null,null,0,{"$error":"#DIV/0!"},{"$error":"#DIV/0!"},{"$error":"#DIV/0!"}]
[null,null,null,null,null,null,null,null,0,{"$error":"#DIV/0!"},{"$error":"#DIV/0!"},{"$error":"#DIV/0!"}]
[null,null,null,null,null,null,null,null,0,{"$error":"#DIV/0!"},{"$error":"#DIV/0!"},{"$error":"#DIV/0!"}]
[null,null,null,null,null,null,null,null,0,{"$error":"#DIV/0!"},{"$error":"#DIV/0!"},{"$error":"#DIV/0!"}]
[null,null,null,null,null,null,null,null,0,{"$f":"IF(F13529/G13529=1,F13529,J13528)","v":{"$error":"#DIV/0!"}},{"$error":"#DIV/0!"},{"$error":"#DIV/0!"}]
[null,null,null,null,null,null,null,null,0,{"$error":"#DIV/0!"},{"$error":"#DIV/0!"},{"$error":"#DIV/0!"}]
[null,null,null,null,null,null,null,null,0,{"$error":"#DIV/0!"},{"$error":"#DIV/0!"},{"$error":"#DIV/0!"}]
[null,null,null,null,null,null,null,null,0,{"$error":"#DIV/0!"},{"$error":"#DIV/0!"},{"$error":"#DIV/0!"}]
[null,null,null,null,null,null,null,null,0,{"$error":"#DIV/0!"},{"$error":"#DIV/0!"},{"$error":"#DIV/0!"}]
[null,null,null,null,null,null,null,null,0,{"$error":"#DIV/0!"},{"$error":"#DIV/0!"},{"$error":"#DIV/0!"}]
[null,null,null,null,null,null,null,null,{"$f":"IF(F13782<>G13782,1,0)","v":0},{"$error":"#DIV/0!"},{"$f":"F13782/J13782","v":{"$error":"#DIV/0!"}},{"$error":"#DIV/0!"}]
[null,null,null,null,null,null,null,null,0,{"$error":"#DIV/0!"},{"$error":"#DIV/0!"},{"$error":"#DIV/0!"}]
[null,null,null,null,null,null,null,null,0,{"$error":"#DIV/0!"},{"$error":"#DIV/0!"},{"$error":"#DIV/0!"}]
[null,null,null,null,null,null,null,null,0,{"$error":"#DIV/0!"},{"$error":"#DIV/0!"},{"$error":"#DIV/0!"}]
[null,null,null,null,null,null,null,null,0,{"$error":"#DIV/0!"},{"$error":"#DIV/0!"},{"$error":"#DIV/0!"}]
[null,null,null,null,null,null,null,null,0,{"$error":"#DIV/0!"},{"$error":"#DIV/0!"},{"$error":"#DIV/0!"}]
[null,null,null,null,null,null,null,null,0,{"$error":"#DIV/0!"},{"$error":"#DIV/0!"},{"$error":"#DIV/0!"}]
[null,null,null,null,null,null,null,null,0,{"$error":"#DIV/0!"},{"$error":"#DIV/0!"},{"$error":"#DIV/0!"}]
[null,null,null,null,null,null,null,null,0,{"$error":"#DIV/0!"},{"$error":"#DIV/0!"},{"$error":"#DIV/0!"}]
[null,null,null,null,null,null,null,null,0,{"$error":"#DIV/0!"},{"$error":"#DIV/0!"},{"$error":"#DIV/0!"}]
[null,null,null,null,null,null,null,null,0,{"$error":"#DIV/0!"},{"$error":"#DIV/0!"},{"$error":"#DIV/0!"}]
[null,null,null,null,null,null,null,null,0,{"$error":"#DIV/0!"},{"$error":"#DIV/0!"},{"$error":"#DIV/0!"}]
[null,null,null,null,null,null,null,null,0,{"$error":"#DIV/0!"},{"$error":"#DIV/0!"},{"$error":"#DIV/0!"}]
[null,null,null,null,null,null,null,null,0,{"$error":"#DIV/0!"},{"$error":"#DIV/0!"},{"$error":"#DIV/0!"}]
[null,null,null,null,null,null,null,null,0,{"$error":"#DIV/0!"},{"$error":"#DIV/0!"},{"$error":"#DIV/0!"}]
[null,null,null,null,null,null,null,null,0,{"$error":"#DIV/0!"},{"$error":"#DIV/0!"},{"$error":"#DIV/0!"}]
[null,null,null,null,null,null,null,null,0,{"$error":"#DIV/0!"},{"$error":"#DIV/0!"},{"$error":"#DIV/0!"}]
[null,null,null,null,null,null,null,null,0,{"$error":"#DIV/0!"},{"$error":"#DIV/0!"},{"$error":"#DIV/0!"}]
[null,null,null,null,null,null,null,null,0,{"$error":"#DIV/0!"},{"$error":"#DIV/0!"},{"$error":"#DIV/0!"}]
[null,null,null,null,null,null,null,null,0,{"$error":"#DIV/0!"},{"$error":"#DIV/0!"},{"$error":"#DIV/0!"}]
[null,null,null,null,null,null,null,null,0,{"$error":"#DIV/0!"},{"$error":"#DIV/0!"},{"$error":"#DIV/0!"}]
[null,null,null,null,null,null,null,null,0,{"$error":"#DIV/0!"},{"$error":"#DIV/0!"},{"$error":"#DIV/0!"}]
[null,null,null,null,null,null,null,null,0,{"$error":"#DIV/0!"},{"$error":"#DIV/0!"},{"$error":"#DIV/0!"}]
[null,null,null,null,null,null,null,null,0,{"$error":"#DIV/0!"},{"$error":"#DIV/0!"},{"$error":"#DIV/0!"}]
[null,null,null,null,null,null,null,null,0,{"$error":"#DIV/0!"},{"$error":"#DIV/0!"},{"$error":"#DIV/0!"}]
[null,null,null,null,null,null,null,null,0,{"$error":"#DIV/0!"},{"$error":"#DIV/0!"},{"$error":"#DIV/0!"}]
[null,null,null,null,null,null,null,null,0,{"$error":"#DIV/0!"},{"$error":"#DIV/0!"},{"$error":"#DIV/0!"}]
[null,null,null,null,null,null,null,null,0,{"$error":"#DIV/0!"},{"$error":"#DIV/0!"},{"$error":"#DIV/0!"}]
[null,null,null,null,null,null,null,null,0,{"$error":"#DIV/0!"},{"$error":"#DIV/0!"},{"$error":"#DIV/0!"}]
[null,null,null,null,null,null,null,null,0,{"$error":"#DIV/0!"},{"$error":"#DIV/0!"},{"$error":"#DIV/0!"}]
[null,null,null,null,null,null,null,null,0,{"$error":"#DIV/0!"},{"$error":"#DIV/0!"},{"$error":"#DIV/0!"}]
[null,null,null,null,null,null,null,null,0,{"$error":"#DIV/0!"},{"$error":"#DIV/0!"},{"$error":"#DIV/0!"}]
[null,null,null,null,null,null,null,null,0,{"$error":"#DIV/0!"},{"$error":"#DIV/0!"},{"$error":"#DIV/0!"}]
[null,null,null,null,null,null,null,null,0,{"$error":"#DIV/0!"},{"$error":"#DIV/0!"},{"$error":"#DIV/0!"}]
[null,null,null,null,null,null,null,null,0,{"$error":"#DIV/0!"},{"$error":"#DIV/0!"},{"$error":"#DIV/0!"}]
[null,null,null,null,null,null,null,null,0,{"$error":"#DIV/0!"},{"$error":"#DIV/0!"},{"$error":"#DIV/0!"}]
[null,null,null,null,null,null,null,null,0,{"$error":"#DIV/0!"},{"$error":"#DIV/0!"},{"$error":"#DIV/0!"}]
[null,null,null,null,null,null,null,null,0,{"$error":"#DIV/0!"},{"$error":"#DIV/0!"},{"$error":"#DIV/0!"}]
[null,null,null,null,null,null,null,null,0,{"$error":"#DIV/0!"},{"$error":"#DIV/0!"},{"$error":"#DIV/0!"}]
[null,null,null,null,null,null,null,null,0,{"$error":"#DIV/0!"},{"$error":"#DIV/0!"},{"$error":"#DIV/0!"}]
[null,null,null,null,null,null,null,null,0,{"$error":"#DIV/0!"},{"$error":"#DIV/0!"},{"$error":"#DIV/0!"}]
[null,null,null,null,null,null,null,null,0,{"$error":"#DIV/0!"},{"$error":"#DIV/0!"},{"$error":"#DIV/0!"}]
[null,null,null,null,null,null,null,null,0,{"$error":"#DIV/0!"},{"$error":"#DIV/0!"},{"$error":"#DIV/0!"}]
[null,null,null,null,null,null,null,null,0,{"$error":"#DIV/0!"},{"$error":"#DIV/0!"},{"$error":"#DIV/0!"}]
[null,null,null,null,null,null,null,null,0,{"$error":"#DIV/0!"},{"$error":"#DIV/0!"},{"$error":"#DIV/0!"}]
[null,null,null,null,null,null,null,null,0,{"$error":"#DIV/0!"},{"$error":"#DIV/0!"},{"$error":"#DIV/0!"}]
[null,null,null,null,null,null,null,null,0,{"$error":"#DIV/0!"},{"$error":"#DIV/0!"},{"$error":"#DIV/0!"}]
[null,null,null,null,null,null,null,null,0,{"$error":"#DIV/0!"},{"$error":"#DIV/0!"},{"$error":"#DIV/0!"}]
[null,null,null,null,null,null,null,null,0,{"$error":"#DIV/0!"},{"$error":"#DIV/0!"},{"$error":"#DIV/0!"}]
[null,null,null,null,null,null,null,null,0,{"$error":"#DIV/0!"},{"$error":"#DIV/0!"},{"$error":"#DIV/0!"}]
[null,null,null,null,null,null,null,null,0,{"$error":"#DIV/0!"},{"$error":"#DIV/0!"},{"$error":"#DIV/0!"}]
[null,null,null,null,null,null,null,null,0,{"$error":"#DIV/0!"},{"$error":"#DIV/0!"},{"$error":"#DIV/0!"}]
[null,null,null,null,null,null,null,null,0,{"$error":"#DIV/0!"},{"$error":"#DIV/0!"},{"$error":"#DIV/0!"}]
[null,null,null,null,null,null,null,null,0,{"$error":"#DIV/0!"},{"$error":"#DIV/0!"},{"$error":"#DIV/0!"}]
[null,null,null,null,null,null,null,null,0,{"$error":"#DIV/0!"},{"$error":"#DIV/0!"},{"$error":"#DIV/0!"}]
[null,null,null,null,null,null,null,null,0,{"$error":"#DIV/0!"},{"$error":"#DIV/0!"},{"$error":"#DIV/0!"}]
[null,null,null,null,null,null,null,null,0,{"$error":"#DIV/0!"},{"$error":"#DIV/0!"},{"$error":"#DIV/0!"}]
[null,null,null,null,null,null,null,null,0,{"$error":"#DIV/0!"},{"$error":"#DIV/0!"},{"$error":"#DIV/0!"}]
[null,null,null,null,null,null,null,null,0,{"$error":"#DIV/0!"},{"$error":"#DIV/0!"},{"$error":"#DIV/0!"}]
[null,null,null,null,null,null,null,null,0,{"$error":"#DIV/0!"},{"$error":"#DIV/0!"},{"$error":"#DIV/0!"}]
[null,null,null,null,null,null,null,null,0,{"$error":"#DIV/0!"},{"$error":"#DIV/0!"},{"$f":"G16087/J16087","v":{"$error":"#DIV/0!"}}]
[null,null,null,null,null,null,null,null,0,{"$error":"#DIV/0!"},{"$error":"#DIV/0!"},{"$error":"#DIV/0!"}]
[null,null,null,null,null,null,null,null,0,{"$error":"#DIV/0!"},{"$error":"#DIV/0!"},{"$error":"#DIV/0!"}]
[null,null,null,null,null,null,null,null,0,{"$error":"#DIV/0!"},{"$error":"#DIV/0!"},{"$error":"#DIV/0!"}]
[null,null,null,null,null,null,null,null,0,{"$error":"#DIV/0!"},{"$error":"#DIV/0!"},{"$error":"#DIV/0!"}]
[null,null,null,null,null,null,null,null,0,{"$error":"#DIV/0!"},{"$error":"#DIV/0!"},{"$error":"#DIV/0!"}]
[null,null,null,null,null,null,null,null,0,{"$error":"#DIV/0!"},{"$error":"#DIV/0!"},{"$error":"#DIV/0!"}]
[null,null,null,null,null,null,null,null,0,{"$error":"#DIV/0!"},{"$error":"#DIV/0!"},{"$error":"#DIV/0!"}]
[null,null,null,null,null,null,null,null,0,{"$error":"#DIV/0!"},{"$error":"#DIV/0!"},{"$error":"#DIV/0!"}]
[null,null,null,null,null,null,null,null,{"$f":"IF(F16470<>G16470,1,0)","v":0},{"$error":"#DIV/0!"},{"$f":"F16470/J16470","v":{"$error":"#DIV/0!"}},{"$error":"#DIV/0!"}]
[null,null,null,null,null,null,null,null,0,{"$error":"#DIV/0!"},{"$error":"#DIV/0!"},{"$error":"#DIV/0!"}]
[null,null,null,null,null,null,null,null,0,{"$error":"#DIV/0!"},{"$error":"#DIV/0!"},{"$error":"#DIV/0!"}]
[null,null,null,null,null,null,null,null,0,{"$error":"#DIV/0!"},{"$error":"#DIV/0!"},{"$error":"#DIV/0!"}]
[null,null,null,null,null,null,null,null,0,{"$error":"#DIV/0!"},{"$error":"#DIV/0!"},{"$error":"#DIV/0!"}]
[null,null,null,null,null,null,null,null,0,{"$error":"#DIV/0!"},{"$error":"#DIV/0!"},{"$error":"#DIV/0!"}]
[null,null,null,null,null,null,null,null,0,{"$error":"#DIV/0!"},{"$error":"#DIV/0!"},{"$error":"#DIV/0!"}]
[null,null,null,null,null,null,null,null,0,{"$error":"#DIV/0!"},{"$error":"#DIV/0!"},{"$error":"#DIV/0!"}]
[null,null,null,null,null,null,null,null,0,{"$error":"#DIV/0!"},{"$error":"#DIV/0!"},{"$error":"#DIV/0!"}]
[null,null,null,null,null,null,null,null,0,{"$error":"#DIV/0!"},{"$error":"#DIV/0!"},{"$error":"#DIV/0!"}]
[null,null,null,null,null,null,null,null,0,{"$error":"#DIV/0!"},{"$error":"#DIV/0!"},{"$error":"#DIV/0!"}]
[null,null,null,null,null,null,null,null,0,{"$error":"#DIV/0!"},{"$error":"#DIV/0!"},{"$error":"#DIV/0!"}]
[null,null,null,null,null,null,null,null,0,{"$error":"#DIV/0!"},{"$error":"#DIV/0!"},{"$error":"#DIV/0!"}]
[null,null,null,null,null,null,null,null,0,{"$error":"#DIV/0!"},{"$error":"#DIV/0!"},{"$error":"#DIV/0!"}]
[null,null,null,null,null,null,null,null,0,{"$f":"IF(F16985/G16985=1,F16985,J16984)","v":{"$error":"#DIV/0!"}},{"$error":"#DIV/0!"},{"$error":"#DIV/0!"}]
[null,null,null,null,null,null,null,null,0,{"$error":"#DIV/0!"},{"$error":"#DIV/0!"},{"$error":"#DIV/0!"}]
[null,null,null,null,null,null,null,null,0,{"$error":"#DIV/0!"},{"$error":"#DIV/0!"},{"$error":"#DIV/0!"}]
[null,null,null,null,null,null,null,null,0,{"$error":"#DIV/0!"},{"$error":"#DIV/0!"},{"$error":"#DIV/0!"}]
[null,null,null,null,null,null,null,null,0,{"$error":"#DIV/0!"},{"$error":"#DIV/0!"},{"$error":"#DIV/0!"}]
[null,null,null,null,null,null,null,null,0,{"$error":"#DIV/0!"},{"$error":"#DIV/0!"},{"$error":"#DIV/0!"}]
[null,null,null,null,null,null,null,null,0,{"$f":"IF(F17241/G17241=1,F17241,J17240)","v":{"$error":"#DIV/0!"}},{"$error":"#DIV/0!"},{"$error":"#DIV/0!"}]
[null,null,null,null,null,null,null,null,0,{"$error":"#DIV/0!"},{"$error":"#DIV/0!"},{"$error":"#DIV/0!"}]
[null,null,null,null,null,null,null,null,0,{"$error":"#DIV/0!"},{"$error":"#DIV/0!"},{"$error":"#DIV/0!"}]
[null,null,null,null,null,null,null,null,0,{"$error":"#DIV/0!"},{"$error":"#DIV/0!"},{"$error":"#DIV/0!"}]
[null,null,null,null,null,null,null,null,0,{"$error":"#DIV/0!"},{"$error":"#DIV/0!"},{"$error":"#DIV/0!"}]
[null,null,null,null,null,null,null,null,0,{"$error":"#DIV/0!"},{"$error":"#DIV/0!"},{"$error":"#DIV/0!"}]
[null,null,null,null,null,null,null,null,0,{"$error":"#DIV/0!"},{"$error":"#DIV/0!"},{"$error":"#DIV/0!"}]
[null,null,null,null,null,null,null,null,0,{"$error":"#DIV/0!"},{"$error":"#DIV/0!"},{"$error":"#DIV/0!"}]
[null,null,null,null,null,null,null,null,0,{"$error":"#DIV/0!"},{"$error":"#DIV/0!"},{"$error":"#DIV/0!"}]
[null,null,null,null,null,null,null,null,0,{"$error":"#DIV/0!"},{"$error":"#DIV/0!"},{"$error":"#DIV/0!"}]
[null,null,null,null,null,null,null,null,0,{"$error":"#DIV/0!"},{"$error":"#DIV/0!"},{"$error":"#DIV/0!"}]
[null,null,null,null,null,null,null,null,0,{"$error":"#DIV/0!"},{"$error":"#DIV/0!"},{"$error":"#DIV/0!"}]
[null,null,null,null,null,null,null,null,0,{"$error":"#DIV/0!"},{"$error":"#DIV/0!"},{"$error":"#DIV/0!"}]
[null,null,null,null,null,null,null,null,0,{"$error":"#DIV/0!"},{"$error":"#DIV/0!"},{"$error":"#DIV/0!"}]
[null,null,null,null,null,null,null,null,0,{"$error":"#DIV/0!"},{"$error":"#DIV/0!"},{"$error":"#DIV/0!"}]
[null,null,null,null,null,null,null,null,0,{"$error":"#DIV/0!"},{"$error":"#DIV/0!"},{"$error":"#DIV/0!"}]
[null,null,null,null,null,null,null,null,0,{"$error":"#DIV/0!"},{"$error":"#DIV/0!"},{"$error":"#DIV/0!"}]
[null,null,null,null,null,null,null,null,0,{"$error":"#DIV/0!"},{"$error":"#DIV/0!"},{"$error":"#DIV/0!"}]
[null,null,null,null,null,null,null,null,0,{"$error":"#DIV/0!"},{"$error":"#DIV/0!"},{"$error":"#DIV/0!"}]
[null,null,null,null,null,null,null,null,0,{"$error":"#DIV/0!"},{"$error":"#DIV/0!"},{"$error":"#DIV/0!"}]
[null,null,null,null,null,null,null,null,0,{"$error":"#DIV/0!"},{"$error":"#DIV/0!"},{"$error":"#DIV/0!"}]
[null,null,null,null,null,null,null,null,0,{"$error":"#DIV/0!"},{"$error":"#DIV/0!"},{"$error":"#DIV/0!"}]
[null,null,null,null,null,null,null,null,0,{"$error":"#DIV/0!"},{"$error":"#DIV/0!"},{"$error":"#DIV/0!"}]
[null,null,null,null,null,null,null,null,0,{"$error":"#DIV/0!"},{"$error":"#DIV/0!"},{"$error":"#DIV/0!"}]
[null,null,null,null,null,null,null,null,0,{"$error":"#DIV/0!"},{"$error":"#DIV/0!"},{"$error":"#DIV/0!"}]
[null,null,null,null,null,null,null,null,0,{"$error":"#DIV/0!"},{"$error":"#DIV/0!"},{"$error":"#DIV/0!"}]
[null,null,null,null,null,null,null,null,0,{"$error":"#DIV/0!"},{"$error":"#DIV/0!"},{"$error":"#DIV/0!"}]
[null,null,null,null,null,null,null,null,0,{"$error":"#DIV/0!"},{"$error":"#DIV/0!"},{"$error":"#DIV/0!"}]
[null,null,null,null,null,null,null,null,0,{"$error":"#DIV/0!"},{"$error":"#DIV/0!"},{"$error":"#DIV/0!"}]
[null,null,null,null,null,null,null,null,0,{"$error":"#DIV/0!"},{"$error":"#DIV/0!"},{"$error":"#DIV/0!"}]
[null,null,null,null,null,null,null,null,0,{"$error":"#DIV/0!"},{"$error":"#DIV/0!"},{"$error":"#DIV/0!"}]
[null,null,null,null,null,null,null,null,0,{"$error":"#DIV/0!"},{"$error":"#DIV/0!"},{"$error":"#DIV/0!"}]
[null,null,null,null,null,null,null,null,0,{"$error":"#DIV/0!"},{"$error":"#DIV/0!"},{"$error":"#DIV/0!"}]
[null,null,null,null,null,null,null,null,0,{"$error":"#DIV/0!"},{"$error":"#DIV/0!"},{"$error":"#DIV/0!"}]
[null,null,null,null,null,null,null,null,0,{"$error":"#DIV/0!"},{"$error":"#DIV/0!"},{"$error":"#DIV/0!"}]
[null,null,null,null,null,null,null,null,0,{"$error":"#DIV/0!"},{"$error":"#DIV/0!"},{"$error":"#DIV/0!"}]
[null,null,null,null,null,null,null,null,0,{"$error":"#DIV/0!"},{"$error":"#DIV/0!"},{"$error":"#DIV/0!"}]
[null,null,null,null,null,null,null,null,{"$f":"IF(F18646<>G18646,1,0)","v":0},{"$error":"#DIV/0!"},{"$f":"F18646/J18646","v":{"$error":"#DIV/0!"}},{"$error":"#DIV/0!"}]
[null,null,null,null,null,null,null,null,0,{"$error":"#DIV/0!"},{"$error":"#DIV/0!"},{"$error":"#DIV/0!"}]
[null,null,null,null,null,null,null,null,0,{"$error":"#DIV/0!"},{"$error":"#DIV/0!"},{"$error":"#DIV/0!"}]
[null,null,null,null,null,null,null,null,0,{"$error":"#DIV/0!"},{"$error":"#DIV/0!"},{"$error":"#DIV/0!"}]
[null,null,null,null,null,null,null,null,0,{"$error":"#DIV/0!"},{"$error":"#DIV/0!"},{"$error":"#DIV/0!"}]
[null,null,null,null,null,null,null,null,0,{"$error":"#DIV/0!"},{"$error":"#DIV/0!"},{"$error":"#DIV/0!"}]
[null,null,null,null,null,null,null,null,0,{"$f":"IF(F18905/G18905=1,F18905,J18904)","v":{"$error":"#DIV/0!"}},{"$error":"#DIV/0!"},{"$error":"#DIV/0!"}]
[null,null,null,null,null,null,null,null,0,{"$error":"#DIV/0!"},{"$error":"#DIV/0!"},{"$error":"#DIV/0!"}]
[null,null,null,null,null,null,null,null,0,{"$error":"#DIV/0!"},{"$error":"#DIV/0!"},{"$error":"#DIV/0!"}]
[null,null,null,null,null,null,null,null,0,{"$error":"#DIV/0!"},{"$error":"#DIV/0!"},{"$error":"#DIV/0!"}]
[null,null,null,null,null,null,null,null,0,{"$error":"#DIV/0!"},{"$error":"#DIV/0!"},{"$error":"#DIV/0!"}]
[null,null,null,null,null,null,null,null,0,{"$error":"#DIV/0!"},{"$error":"#DIV/0!"},{"$error":"#DIV/0!"}]
[null,null,null,null,null,null,null,null,0,{"$error":"#DIV/0!"},{"$error":"#DIV/0!"},{"$error":"#DIV/0!"}]
[null,null,null,null,null,null,null,null,0,{"$error":"#DIV/0!"},{"$error":"#DIV/0!"},{"$error":"#DIV/0!"}]
[null,null,null,null,null,null,null,null,0,{"$error":"#DIV/0!"},{"$error":"#DIV/0!"},{"$error":"#DIV/0!"}]
[null,null,null,null,null,null,null,null,0,{"$error":"#DIV/0!"},{"$error":"#DIV/0!"},{"$error":"#DIV/0!"}]
[null,null,null,null,null,null,null,null,0,{"$error":"#DIV/0!"},{"$error":"#DIV/0!"},{"$error":"#DIV/0!"}]
[null,null,null,null,null,null,null,null,0,{"$error":"#DIV/0!"},{"$error":"#DIV/0!"},{"$error":"#DIV/0!"}]
[null,null,null,null,null,null,null,null,0,{"$error":"#DIV/0!"},{"$error":"#DIV/0!"},{"$f":"G19351/J19351","v":{"$error":"#DIV/0!"}}]
[null,null,null,null,null,null,null,null,0,{"$error":"#DIV/0!"},{"$error":"#DIV/0!"},{"$error":"#DIV/0!"}]
[null,null,null,null,null,null,null,null,0,{"$error":"#DIV/0!"},{"$error":"#DIV/0!"},{"$error":"#DIV/0!"}]
[null,null,null,null,null,null,null,null,0,{"$error":"#DIV/0!"},{"$error":"#DIV/0!"},{"$error":"#DIV/0!"}]
[null,null,null,null,null,null,null,null,0,{"$error":"#DIV/0!"},{"$error":"#DIV/0!"},{"$error":"#DIV/0!"}]
[null,null,null,null,null,null,null,null,0,{"$error":"#DIV/0!"},{"$error":"#DIV/0!"},{"$error":"#DIV/0!"}]
[null,null,null,null,null,null,null,null,0,{"$error":"#DIV/0!"},{"$error":"#DIV/0!"},{"$error":"#DIV/0!"}]
[null,null,null,null,null,null,null,null,0,{"$error":"#DIV/0!"},{"$error":"#DIV/0!"},{"$error":"#DIV/0!"}]
[null,null,null,null,null,null,null,null,0,{"$error":"#DIV/0!"},{"$error":"#DIV/0!"},{"$error":"#DIV/0!"}]
[null,null,null,null,null,null,null,null,0,{"$error":"#DIV/0!"},{"$error":"#DIV/0!"},{"$error":"#DIV/0!"}]
[null,null,null,null,null,null,null,null,0,{"$error":"#DIV/0!"},{"$error":"#DIV/0!"},{"$error":"#DIV/0!"}]
[null,null,null,null,null,null,null,null,0,{"$error":"#DIV/0!"},{"$error":"#DIV/0!"},{"$error":"#DIV/0!"}]
[null,null,null,null,null,null,null,null,0,{"$error":"#DIV/0!"},{"$error":"#DIV/0!"},{"$error":"#DIV/0!"}]
[null,null,null,null,null,null,null,null,0,{"$error":"#DIV/0!"},{"$error":"#DIV/0!"},{"$error":"#DIV/0!"}]
[null,null,null,null,null,null,null,null,0,{"$error":"#DIV/0!"},{"$error":"#DIV/0!"},{"$error":"#DIV/0!"}]
[null,null,null,null,null,null,null,null,0,{"$error":"#DIV/0!"},{"$error":"#DIV/0!"},{"$error":"#DIV/0!"}]
[null,null,null,null,null,null,null,null,0,{"$error":"#DIV/0!"},{"$error":"#DIV/0!"},{"$error":"#DIV/0!"}]
[null,null,null,null,null,null,null,null,0,{"$error":"#DIV/0!"},{"$error":"#DIV/0!"},{"$error":"#DIV/0!"}]
[null,null,null,null,null,null,null,null,0,{"$error":"#DIV/0!"},{"$error":"#DIV/0!"},{"$error":"#DIV/0!"}]
[null,null,null,null,null,null,null,null,0,{"$error":"#DIV/0!"},{"$error":"#DIV/0!"},{"$error":"#DIV/0!"}]
[null,null,null,null,null,null,null,null,0,{"$error":"#DIV/0!"},{"$error":"#DIV/0!"},{"$error":"#DIV/0!"}]
[null,null,null,null,null,null,null,null,0,{"$error":"#DIV/0!"},{"$error":"#DIV/0!"},{"$error":"#DIV/0!"}]
[null,null,null,null,null,null,null,null,0,{"$error":"#DIV/0!"},{"$error":"#DIV/0!"},{"$error":"#DIV/0!"}]
[null,null,null,null,null,null,null,null,0,{"$error":"#DIV/0!"},{"$error":"#DIV/0!"},{"$error":"#DIV/0!"}]
[null,null,null,null,null,null,null,null,0,{"$error":"#DIV/0!"},{"$error":"#DIV/0!"},{"$error":"#DIV/0!"}]
[null,null,null,null,null,null,null,null,0,{"$f":"IF(F20313/G20313=1,F20313,J20312)","v":{"$error":"#DIV/0!"}},{"$error":"#DIV/0!"},{"$error":"#DIV/0!"}]
[null,null,null,null,null,null,null,null,0,{"$error":"#DIV/0!"},{"$error":"#DIV/0!"},{"$error":"#DIV/0!"}]
[null,null,null,null,null,null,null,null,0,{"$error":"#DIV/0!"},{"$error":"#DIV/0!"},{"$error":"#DIV/0!"}]
[null,null,null,null,null,null,null,null,0,{"$error":"#DIV/0!"},{"$error":"#DIV/0!"},{"$error":"#DIV/0!"}]
[null,null,null,null,null,null,null,null,0,{"$f":"IF(F20505/G20505=1,F20505,J20504)","v":{"$error":"#DIV/0!"}},{"$error":"#DIV/0!"},{"$error":"#DIV/0!"}]
[null,null,null,null,null,null,null,null,0,{"$error":"#DIV/0!"},{"$error":"#DIV/0!"},{"$error":"#DIV/0!"}]
[null,null,null,null,null,null,null,null,0,{"$error":"#DIV/0!"},{"$error":"#DIV/0!"},{"$error":"#DIV/0!"}]
[null,null,null,null,null,null,null,null,0,{"$error":"#DIV/0!"},{"$error":"#DIV/0!"},{"$error":"#DIV/0!"}]
[null,null,null,null,null,null,null,null,0,{"$error":"#DIV/0!"},{"$error":"#DIV/0!"},{"$error":"#DIV/0!"}]
[null,null,null,null,null,null,null,null,0,{"$error":"#DIV/0!"},{"$error":"#DIV/0!"},{"$error":"#DIV/0!"}]
[null,null,null,null,null,null,null,null,0,{"$error":"#DIV/0!"},{"$error":"#DIV/0!"},{"$error":"#DIV/0!"}]
[null,null,null,null,null,null,null,null,0,{"$error":"#DIV/0!"},{"$error":"#DIV/0!"},{"$error":"#DIV/0!"}]
[null,null,null,null,null,null,null,null,0,{"$error":"#DIV/0!"},{"$error":"#DIV/0!"},{"$error":"#DIV/0!"}]
[null,null,null,null,null,null,null,null,0,{"$error":"#DIV/0!"},{"$error":"#DIV/0!"},{"$error":"#DIV/0!"}]
[null,null,null,null,null,null,null,null,0,{"$error":"#DIV/0!"},{"$error":"#DIV/0!"},{"$error":"#DIV/0!"}]
[null,null,null,null,null,null,null,null,0,{"$error":"#DIV/0!"},{"$error":"#DIV/0!"},{"$error":"#DIV/0!"}]
[null,null,null,null,null,null,null,null,0,{"$error":"#DIV/0!"},{"$error":"#DIV/0!"},{"$error":"#DIV/0!"}]
[null,null,null,null,null,null,null,null,0,{"$error":"#DIV/0!"},{"$error":"#DIV/0!"},{"$error":"#DIV/0!"}]
[null,null,null,null,null,null,null,null,0,{"$error":"#DIV/0!"},{"$error":"#DIV/0!"},{"$error":"#DIV/0!"}]
[null,null,null,null,null,null,null,null,0,{"$error":"#DIV/0!"},{"$error":"#DIV/0!"},{"$error":"#DIV/0!"}]
[null,null,null,null,null,null,null,null,0,{"$error":"#DIV/0!"},{"$error":"#DIV/0!"},{"$error":"#DIV/0!"}]
[null,null,null,null,null,null,null,null,0,{"$error":"#DIV/0!"},{"$error":"#DIV/0!"},{"$error":"#DIV/0!"}]
[null,null,null,null,null,null,null,null,0,{"$error":"#DIV/0!"},{"$error":"#DIV/0!"},{"$error":"#DIV/0!"}]
[null,null,null,null,null,null,null,null,0,{"$error":"#DIV/0!"},{"$error":"#DIV/0!"},{"$error":"#DIV/0!"}]
[null,null,null,null,null,null,null,null,0,{"$error":"#DIV/0!"},{"$error":"#DIV/0!"},{"$error":"#DIV/0!"}]
[null,null,null,null,null,null,null,null,0,{"$error":"#DIV/0!"},{"$error":"#DIV/0!"},{"$error":"#DIV/0!"}]
[null,null,null,null,null,null,null,null,0,{"$error":"#DIV/0!"},{"$error":"#DIV/0!"},{"$error":"#DIV/0!"}]
[null,null,null,null,null,null,null,null,0,{"$error":"#DIV/0!"},{"$error":"#DIV/0!"},{"$error":"#DIV/0!"}]
[null,null,null,null,null,null,null,null,0,{"$error":"#DIV/0!"},{"$error":"#DIV/0!"},{"$error":"#DIV/0!"}]
[null,null,null,null,null,null,null,null,0,{"$error":"#DIV/0!"},{"$error":"#DIV/0!"},{"$error":"#DIV/0!"}]
[null,null,null,null,null,null,null,null,0,{"$error":"#DIV/0!"},{"$error":"#DIV/0!"},{"$error":"#DIV/0!"}]
[null,null,null,null,null,null,null,null,0,{"$error":"#DIV/0!"},{"$error":"#DIV/0!"},{"$error":"#DIV/0!"}]
[null,null,null,null,null,null,null,null,0,{"$error":"#DIV/0!"},{"$error":"#DIV/0!"},{"$error":"#DIV/0!"}]
[null,null,null,null,null,null,null,null,0,{"$error":"#DIV/0!"},{"$error":"#DIV/0!"},{"$error":"#DIV/0!"}]
[null,null,null,null,null,null,null,null,0,{"$error":"#DIV/0!"},{"$error":"#DIV/0!"},{"$error":"#DIV/0!"}]
[null,null,null,null,null,null,null,null,0,{"$error":"#DIV/0!"},{"$error":"#DIV/0!"},{"$error":"#DIV/0!"}]
[null,null,null,null,null,null,null,null,0,{"$error":"#DIV/0!"},{"$error":"#DIV/0!"},{"$error":"#DIV/0!"}]
[null,null,null,null,null,null,null,null,0,{"$error":"#DIV/0!"},{"$error":"#DIV/0!"},{"$error":"#DIV/0!"}]
[null,null,null,null,null,null,null,null,0,{"$error":"#DIV/0!"},{"$error":"#DIV/0!"},{"$error":"#DIV/0!"}]
[null,null,null,null,null,null,null,null,0,{"$error":"#DIV/0!"},{"$error":"#DIV/0!"},{"$error":"#DIV/0!"}]
[null,null,null,null,null,null,null,null,0,{"$error":"#DIV/0!"},{"$error":"#DIV/0!"},{"$error":"#DIV/0!"}]
[null,null,null,null,null,null,null,null,0,{"$error":"#DIV/0!"},{"$error":"#DIV/0!"},{"$error":"#DIV/0!"}]
[null,null,null,null,null,null,null,null,0,{"$error":"#DIV/0!"},{"$error":"#DIV/0!"},{"$error":"#DIV/0!"}]
[null,null,null,null,null,null,null,null,0,{"$error":"#DIV/0!"},{"$error":"#DIV/0!"},{"$error":"#DIV/0!"}]
[null,null,null,null,null,null,null,null,0,{"$error":"#DIV/0!"},{"$error":"#DIV/0!"},{"$error":"#DIV/0!"}]
[null,null,null,null,null,null,null,null,0,{"$error":"#DIV/0!"},{"$error":"#DIV/0!"},{"$error":"#DIV/0!"}]
[null,null,null,null,null,null,null,null,{"$f":"IF(F22102<>G22102,1,0)","v":0},{"$error":"#DIV/0!"},{"$f":"F22102/J22102","v":{"$error":"#DIV/0!"}},{"$error":"#DIV/0!"}]
[null,null,null,null,null,null,null,null,0,{"$error":"#DIV/0!"},{"$error":"#DIV/0!"},{"$error":"#DIV/0!"}]
[null,null,null,null,null,null,null,null,0,{"$error":"#DIV/0!"},{"$error":"#DIV/0!"},{"$error":"#DIV/0!"}]
[null,null,null,null,null,null,null,null,0,{"$error":"#DIV/0!"},{"$error":"#DIV/0!"},{"$error":"#DIV/0!"}]
[null,null,null,null,null,null,null,null,0,{"$error":"#DIV/0!"},{"$error":"#DIV/0!"},{"$error":"#DIV/0!"}]
[null,null,null,null,null,null,null,null,0,{"$error":"#DIV/0!"},{"$error":"#DIV/0!"},{"$error":"#DIV/0!"}]
[null,null,null,null,null,null,null,null,0,{"$error":"#DIV/0!"},{"$error":"#DIV/0!"},{"$error":"#DIV/0!"}]
[null,null,null,null,null,null,null,null,0,{"$error":"#DIV/0!"},{"$error":"#DIV/0!"},{"$error":"#DIV/0!"}]
[null,null,null,null,null,null,null,null,0,{"$error":"#DIV/0!"},{"$error":"#DIV/0!"},{"$error":"#DIV/0!"}]
[null,null,null,null,null,null,null,null,0,{"$error":"#DIV/0!"},{"$error":"#DIV/0!"},{"$error":"#DIV/0!"}]
[null,null,null,null,null,null,null,null,0,{"$error":"#DIV/0!"},{"$error":"#DIV/0!"},{"$error":"#DIV/0!"}]
[null,null,null,null,null,null,null,null,0,{"$error":"#DIV/0!"},{"$error":"#DIV/0!"},{"$error":"#DIV/0!"}]
[null,null,null,null,null,null,null,null,0,{"$error":"#DIV/0!"},{"$error":"#DIV/0!"},{"$error":"#DIV/0!"}]
[null,null,null,null,null,null,null,null,0,{"$error":"#DIV/0!"},{"$error":"#DIV/0!"},{"$f":"G22615/J22615","v":{"$error":"#DIV/0!"}}]
[null,null,null,null,null,null,null,null,0,{"$error":"#DIV/0!"},{"$error":"#DIV/0!"},{"$error":"#DIV/0!"}]
[null,null,null,null,null,null,null,null,0,{"$error":"#DIV/0!"},{"$error":"#DIV/0!"},{"$error":"#DIV/0!"}]
[null,null,null,null,null,null,null,null,0,{"$error":"#DIV/0!"},{"$error":"#DIV/0!"},{"$error":"#DIV/0!"}]
[null,null,null,null,null,null,null,null,0,{"$error":"#DIV/0!"},{"$error":"#DIV/0!"},{"$error":"#DIV/0!"}]
[null,null,null,null,null,null,null,null,0,{"$error":"#DIV/0!"},{"$error":"#DIV/0!"},{"$error":"#DIV/0!"}]
[null,null,null,null,null,null,null,null,0,{"$error":"#DIV/0!"},{"$error":"#DIV/0!"},{"$error":"#DIV/0!"}]
[null,null,null,null,null,null,null,null,0,{"$error":"#DIV/0!"},{"$error":"#DIV/0!"},{"$error":"#DIV/0!"}]
[null,null,null,null,null,null,null,null,0,{"$error":"#DIV/0!"},{"$error":"#DIV/0!"},{"$error":"#DIV/0!"}]
[null,null,null,null,null,null,null,null,0,{"$error":"#DIV/0!"},{"$error":"#DIV/0!"},{"$error":"#DIV/0!"}]
[null,null,null,null,null,null,null,null,0,{"$error":"#DIV/0!"},{"$error":"#DIV/0!"},{"$error":"#DIV/0!"}]
[null,null,null,null,null,null,null,null,0,{"$error":"#DIV/0!"},{"$error":"#DIV/0!"},{"$error":"#DIV/0!"}]
[null,null,null,null,null,null,null,null,0,{"$error":"#DIV/0!"},{"$error":"#DIV/0!"},{"$error":"#DIV/0!"}]
[null,null,null,null,null,null,null,null,0,{"$error":"#DIV/0!"},{"$error":"#DIV/0!"},{"$error":"#DIV/0!"}]
[null,null,null,null,null,null,null,null,0,{"$error":"#DIV/0!"},{"$error":"#DIV/0!"},{"$error":"#DIV/0!"}]
[null,null,null,null,null,null,null,null,0,{"$error":"#DIV/0!"},{"$error":"#DIV/0!"},{"$error":"#DIV/0!"}]
[null,null,null,null,null,null,null,null,0,{"$error":"#DIV/0!"},{"$error":"#DIV/0!"},{"$error":"#DIV/0!"}]
[null,null,null,null,null,null,null,null,0,{"$error":"#DIV/0!"},{"$error":"#DIV/0!"},{"$error":"#DIV/0!"}]
[null,null,null,null,null,null,null,null,0,{"$error":"#DIV/0!"},{"$error":"#DIV/0!"},{"$error":"#DIV/0!"}]
[null,null,null,null,null,null,null,null,0,{"$error":"#DIV/0!"},{"$error":"#DIV/0!"},{"$error":"#DIV/0!"}]
[null,null,null,null,null,null,null,null,0,{"$error":"#DIV/0!"},{"$error":"#DIV/0!"},{"$error":"#DIV/0!"}]
[null,null,null,null,null,null,null,null,0,{"$error":"#DIV/0!"},{"$error":"#DIV/0!"},{"$error":"#DIV/0!"}]
[null,null,null,null,null,null,null,null,0,{"$error":"#DIV/0!"},{"$error":"#DIV/0!"},{"$error":"#DIV/0!"}]
[null,null,null,null,null,null,null,null,0,{"$error":"#DIV/0!"},{"$error":"#DIV/0!"},{"$error":"#DIV/0!"}]
[null,null,null,null,null,null,null,null,0,{"$error":"#DIV/0!"},{"$error":"#DIV/0!"},{"$error":"#DIV/0!"}]
[null,null,null,null,null,null,null,null,0,{"$f":"IF(F23577/G23577=1,F23577,J23576)","v":{"$error":"#DIV/0!"}},{"$error":"#DIV/0!"},{"$error":"#DIV/0!"}]
[null,null,null,null,null,null,null,null,0,{"$error":"#DIV/0!"},{"$error":"#DIV/0!"},{"$error":"#DIV/0!"}]
[null,null,null,null,null,null,null,null,0,{"$error":"#DIV/0!"},{"$error":"#DIV/0!"},{"$error":"#DIV/0!"}]
[null,null,null,null,null,null,null,null,0,{"$error":"#DIV/0!"},{"$error":"#DIV/0!"},{"$error":"#DIV/0!"}]
[null,null,null,null,null,null,null,null,0,{"$error":"#DIV/0!"},{"$error":"#DIV/0!"},{"$error":"#DIV/0!"}]
[null,null,null,null,null,null,null,null,0,{"$error":"#DIV/0!"},{"$error":"#DIV/0!"},{"$error":"#DIV/0!"}]
[null,null,null,null,null,null,null,null,0,{"$error":"#DIV/0!"},{"$error":"#DIV/0!"},{"$error":"#DIV/0!"}]
[null,null,null,null,null,null,null,null,0,{"$error":"#DIV/0!"},{"$error":"#DIV/0!"},{"$error":"#DIV/0!"}]
[null,null,null,null,null,null,null,null,0,{"$error":"#DIV/0!"},{"$error":"#DIV/0!"},{"$error":"#DIV/0!"}]
[null,null,null,null,null,null,null,null,0,{"$error":"#DIV/0!"},{"$error":"#DIV/0!"},{"$error":"#DIV/0!"}]
[null,null,null,null,null,null,null,null,0,{"$error":"#DIV/0!"},{"$error":"#DIV/0!"},{"$error":"#DIV/0!"}]
[null,null,null,null,null,null,null,null,{"$f":"IF(F24022<>G24022,1,0)","v":0},{"$error":"#DIV/0!"},{"$f":"F24022/J24022","v":{"$error":"#DIV/0!"}},{"$error":"#DIV/0!"}]
[null,null,null,null,null,null,null,null,0,{"$error":"#DIV/0!"},{"$error":"#DIV/0!"},{"$error":"#DIV/0!"}]
[null,null,null,null,null,null,null,null,0,{"$error":"#DIV/0!"},{"$error":"#DIV/0!"},{"$error":"#DIV/0!"}]
[null,null,null,null,null,null,null,null,0,{"$error":"#DIV/0!"},{"$error":"#DIV/0!"},{"$error":"#DIV/0!"}]
[null,null,null,null,null,null,null,null,0,{"$error":"#DIV/0!"},{"$error":"#DIV/0!"},{"$error":"#DIV/0!"}]
[null,null,null,null,null,null,null,null,0,{"$error":"#DIV/0!"},{"$error":"#DIV/0!"},{"$error":"#DIV/0!"}]
[null,null,null,null,null,null,null,null,0,{"$error":"#DIV/0!"},{"$error":"#DIV/0!"},{"$error":"#DIV/0!"}]
[null,null,null,null,null,null,null,null,0,{"$error":"#DIV/0!"},{"$error":"#DIV/0!"},{"$error":"#DIV/0!"}]
[null,null,null,null,null,null,null,null,0,{"$error":"#DIV/0!"},{"$error":"#DIV/0!"},{"$error":"#DIV/0!"}]
[null,null,null,null,null,null,null,null,0,{"$error":"#DIV/0!"},{"$error":"#DIV/0!"},{"$error":"#DIV/0!"}]
[null,null,null,null,null,null,null,null,0,{"$error":"#DIV/0!"},{"$error":"#DIV/0!"},{"$error":"#DIV/0!"}]
[null,null,null,null,null,null,null,null,0,{"$error":"#DIV/0!"},{"$error":"#DIV/0!"},{"$error":"#DIV/0!"}]
[null,null,null,null,null,null,null,null,0,{"$error":"#DIV/0!"},{"$error":"#DIV/0!"},{"$error":"#DIV/0!"}]
[null,null,null,null,null,null,null,null,0,{"$error":"#DIV/0!"},{"$error":"#DIV/0!"},{"$error":"#DIV/0!"}]
[null,null,null,null,null,null,null,null,0,{"$error":"#DIV/0!"},{"$error":"#DIV/0!"},{"$error":"#DIV/0!"}]
[null,null,null,null,null,null,null,null,0,{"$error":"#DIV/0!"},{"$error":"#DIV/0!"},{"$error":"#DIV/0!"}]
[null,null,null,null,null,null,null,null,0,{"$error":"#DIV/0!"},{"$error":"#DIV/0!"},{"$error":"#DIV/0!"}]
[null,null,null,null,null,null,null,null,0,{"$error":"#DIV/0!"},{"$error":"#DIV/0!"},{"$error":"#DIV/0!"}]
[null,null,null,null,null,null,null,null,0,{"$error":"#DIV/0!"},{"$error":"#DIV/0!"},{"$error":"#DIV/0!"}]
[null,null,null,null,null,null,null,null,0,{"$error":"#DIV/0!"},{"$error":"#DIV/0!"},{"$error":"#DIV/0!"}]
[null,null,null,null,null,null,null,null,0,{"$error":"#DIV/0!"},{"$error":"#DIV/0!"},{"$error":"#DIV/0!"}]
[null,null,null,null,null,null,null,null,0,{"$error":"#DIV/0!"},{"$error":"#DIV/0!"},{"$error":"#DIV/0!"}]
[null,null,null,null,null,null,null,null,0,{"$error":"#DIV/0!"},{"$error":"#DIV/0!"},{"$error":"#DIV/0!"}]
[null,null,null,null,null,null,null,null,0,{"$error":"#DIV/0!"},{"$error":"#DIV/0!"},{"$error":"#DIV/0!"}]
[null,null,null,null,null,null,null,null,0,{"$error":"#DIV/0!"},{"$error":"#DIV/0!"},{"$error":"#DIV/0!"}]
[null,null,null,null,null,null,null,null,0,{"$error":"#DIV/0!"},{"$error":"#DIV/0!"},{"$error":"#DIV/0!"}]
[null,null,null,null,null,null,null,null,0,{"$error":"#DIV/0!"},{"$error":"#DIV/0!"},{"$error":"#DIV/0!"}]
[null,null,null,null,null,null,null,null,0,{"$error":"#DIV/0!"},{"$error":"#DIV/0!"},{"$error":"#DIV/0!"}]
[null,null,null,null,null,null,null,null,0,{"$error":"#DIV/0!"},{"$error":"#DIV/0!"},{"$error":"#DIV/0!"}]
[null,null,null,null,null,null,null,null,0,{"$error":"#DIV/0!"},{"$error":"#DIV/0!"},{"$error":"#DIV/0!"}]
[null,null,null,null,null,null,null,null,0,{"$error":"#DIV/0!"},{"$error":"#DIV/0!"},{"$error":"#DIV/0!"}]
[null,null,null,null,null,null,null,null,0,{"$error":"#DIV/0!"},{"$error":"#DIV/0!"},{"$error":"#DIV/0!"}]
[null,null,null,null,null,null,null,null,0,{"$error":"#DIV/0!"},{"$error":"#DIV/0!"},{"$error":"#DIV/0!"}]
[null,null,null,null,null,null,null,null,0,{"$error":"#DIV/0!"},{"$error":"#DIV/0!"},{"$error":"#DIV/0!"}]
[null,null,null,null,null,null,null,null,0,{"$error":"#DIV/0!"},{"$error":"#DIV/0!"},{"$error":"#DIV/0!"}]
[null,null,null,null,null,null,null,null,0,{"$error":"#DIV/0!"},{"$error":"#DIV/0!"},{"$error":"#DIV/0!"}]
[null,null,null,null,null,null,null,null,0,{"$error":"#DIV/0!"},{"$error":"#DIV/0!"},{"$error":"#DIV/0!"}]
[null,null,null,null,null,null,null,null,0,{"$error":"#DIV/0!"},{"$error":"#DIV/0!"},{"$error":"#DIV/0!"}]
[null,null,null,null,null,null,null,null,0,{"$error":"#DIV/0!"},{"$error":"#DIV/0!"},{"$error":"#DIV/0!"}]
[null,null,null,null,null,null,null,null,0,{"$error":"#DIV/0!"},{"$error":"#DIV/0!"},{"$error":"#DIV/0!"}]
[null,null,null,null,null,null,null,null,0,{"$error":"#DIV/0!"},{"$error":"#DIV/0!"},{"$error":"#DIV/0!"}]
[null,null,null,null,null,null,null,null,0,{"$error":"#DIV/0!"},{"$error":"#DIV/0!"},{"$error":"#DIV/0!"}]
[null,null,null,null,null,null,null,null,0,{"$error":"#DIV/0!"},{"$error":"#DIV/0!"},{"$error":"#DIV/0!"}]
[null,null,null,null,null,null,null,null,0,{"$error":"#DIV/0!"},{"$error":"#DIV/0!"},{"$error":"#DIV/0!"}]
[null,null,null,null,null,null,null,null,0,{"$error":"#DIV/0!"},{"$error":"#DIV/0!"},{"$error":"#DIV/0!"}]
[null,null,null,null,null,null,null,null,0,{"$error":"#DIV/0!"},{"$error":"#DIV/0!"},{"$error":"#DIV/0!"}]
[null,null,null,null,null,null,null,null,0,{"$error":"#DIV/0!"},{"$error":"#DIV/0!"},{"$error":"#DIV/0!"}]
[null,null,null,null,null,null,null,null,0,{"$error":"#DIV/0!"},{"$error":"#DIV/0!"},{"$error":"#DIV/0!"}]
[null,null,null,null,null,null,null,null,0,{"$error":"#DIV/0!"},{"$error":"#DIV/0!"},{"$f":"G25879/J25879","v":{"$error":"#DIV/0!"}}]
[null,null,null,null,null,null,null,null,0,{"$error":"#DIV/0!"},{"$error":"#DIV/0!"},{"$error":"#DIV/0!"}]
[null,null,null,null,null,null,null,null,0,{"$error":"#DIV/0!"},{"$error":"#DIV/0!"},{"$error":"#DIV/0!"}]
[null,null,null,null,null,null,null,null,0,{"$error":"#DIV/0!"},{"$error":"#DIV/0!"},{"$error":"#DIV/0!"}]
[null,null,null,null,null,null,null,null,0,{"$error":"#DIV/0!"},{"$error":"#DIV/0!"},{"$error":"#DIV/0!"}]
[null,null,null,null,null,null,null,null,0,{"$error":"#DIV/0!"},{"$error":"#DIV/0!"},{"$error":"#DIV/0!"}]
[null,null,null,null,null,null,null,null,0,{"$error":"#DIV/0!"},{"$error":"#DIV/0!"},{"$error":"#DIV/0!"}]
[null,null,null,null,null,null,null,null,0,{"$error":"#DIV/0!"},{"$error":"#DIV/0!"},{"$f":"G26135/J26135","v":{"$error":"#DIV/0!"}}]
[null,null,null,null,null,null,null,null,0,{"$error":"#DIV/0!"},{"$error":"#DIV/0!"},{"$error":"#DIV/0!"}]
[null,null,null,null,null,null,null,null,0,{"$error":"#DIV/0!"},{"$error":"#DIV/0!"},{"$error":"#DIV/0!"}]
[null,null,null,null,null,null,null,null,0,{"$error":"#DIV/0!"},{"$error":"#DIV/0!"},{"$error":"#DIV/0!"}]
[null,null,null,null,null,null,null,null,0,{"$error":"#DIV/0!"},{"$error":"#DIV/0!"},{"$error":"#DIV/0!"}]
[null,null,null,null,null,null,null,null,0,{"$error":"#DIV/0!"},{"$error":"#DIV/0!"},{"$error":"#DIV/0!"}]
[null,null,null,null,null,null,null,null,0,{"$error":"#DIV/0!"},{"$error":"#DIV/0!"},{"$error":"#DIV/0!"}]
[null,null,null,null,null,null,null,null,0,{"$error":"#DIV/0!"},{"$error":"#DIV/0!"},{"$error":"#DIV/0!"}]
[null,null,null,null,null,null,null,null,0,{"$error":"#DIV/0!"},{"$error":"#DIV/0!"},{"$error":"#DIV/0!"}]
[null,null,null,null,null,null,null,null,{"$f":"IF(F26518<>G26518,1,0)","v":0},{"$error":"#DIV/0!"},{"$f":"F26518/J26518","v":{"$error":"#DIV/0!"}},{"$error":"#DIV/0!"}]
[null,null,null,null,null,null,null,null,0,{"$error":"#DIV/0!"},{"$error":"#DIV/0!"},{"$error":"#DIV/0!"}]
[null,null,null,null,null,null,null,null,0,{"$error":"#DIV/0!"},{"$error":"#DIV/0!"},{"$error":"#DIV/0!"}]
[null,null,null,null,null,null,null,null,0,{"$error":"#DIV/0!"},{"$error":"#DIV/0!"},{"$error":"#DIV/0!"}]
[null,null,null,null,null,null,null,null,0,{"$error":"#DIV/0!"},{"$error":"#DIV/0!"},{"$error":"#DIV/0!"}]
[null,null,null,null,null,null,null,null,0,{"$error":"#DIV/0!"},{"$error":"#DIV/0!"},{"$error":"#DIV/0!"}]
[null,null,null,null,null,null,null,null,0,{"$error":"#DIV/0!"},{"$error":"#DIV/0!"},{"$error":"#DIV/0!"}]
[null,null,null,null,null,null,null,null,0,{"$error":"#DIV/0!"},{"$error":"#DIV/0!"},{"$error":"#DIV/0!"}]
[null,null,null,null,null,null,null,null,0,{"$error":"#DIV/0!"},{"$error":"#DIV/0!"},{"$error":"#DIV/0!"}]
[null,null,null,null,null,null,null,null,0,{"$error":"#DIV/0!"},{"$error":"#DIV/0!"},{"$error":"#DIV/0!"}]
[null,null,null,null,null,null,null,null,0,{"$error":"#DIV/0!"},{"$error":"#DIV/0!"},{"$error":"#DIV/0!"}]
[null,null,null,null,null,null,null,null,0,{"$error":"#DIV/0!"},{"$error":"#DIV/0!"},{"$error":"#DIV/0!"}]
[null,null,null,null,null,null,null,null,0,{"$error":"#DIV/0!"},{"$error":"#DIV/0!"},{"$error":"#DIV/0!"}]
[null,null,null,null,null,null,null,null,0,{"$error":"#DIV/0!"},{"$error":"#DIV/0!"},{"$error":"#DIV/0!"}]
[null,null,null,null,null,null,null,null,0,{"$error":"#DIV/0!"},{"$error":"#DIV/0!"},{"$error":"#DIV/0!"}]
[null,null,null,null,null,null,null,null,0,{"$error":"#DIV/0!"},{"$error":"#DIV/0!"},{"$error":"#DIV/0!"}]
[null,null,null,null,null,null,null,null,0,{"$error":"#DIV/0!"},{"$error":"#DIV/0!"},{"$error":"#DIV/0!"}]
[null,null,null,null,null,null,null,null,0,{"$error":"#DIV/0!"},{"$error":"#DIV/0!"},{"$error":"#DIV/0!"}]
[null,null,null,null,null,null,null,null,0,{"$error":"#DIV/0!"},{"$error":"#DIV/0!"},{"$error":"#DIV/0!"}]
[null,null,null,null,null,null,null,null,0,{"$f":"IF(F27225/G27225=1,F27225,J27224)","v":{"$error":"#DIV/0!"}},{"$error":"#DIV/0!"},{"$error":"#DIV/0!"}]
[null,null,null,null,null,null,null,null,0,{"$f":"IF(F27289/G27289=1,F27289,J27288)","v":{"$error":"#DIV/0!"}},{"$error":"#DIV/0!"},{"$error":"#DIV/0!"}]
[null,null,null,null,null,null,null,null,0,{"$error":"#DIV/0!"},{"$error":"#DIV/0!"},{"$error":"#DIV/0!"}]
[null,null,null,null,null,null,null,null,0,{"$error":"#DIV/0!"},{"$error":"#DIV/0!"},{"$error":"#DIV/0!"}]
[null,null,null,null,null,null,null,null,0,{"$error":"#DIV/0!"},{"$error":"#DIV/0!"},{"$error":"#DIV/0!"}]
[null,null,null,null,null,null,null,null,0,{"$error":"#DIV/0!"},{"$error":"#DIV/0!"},{"$error":"#DIV/0!"}]
[null,null,null,null,null,null,null,null,0,{"$error":"#DIV/0!"},{"$error":"#DIV/0!"},{"$error":"#DIV/0!"}]
[null,null,null,null,null,null,null,null,0,{"$error":"#DIV/0!"},{"$error":"#DIV/0!"},{"$error":"#DIV/0!"}]
[null,null,null,null,null,null,null,null,0,{"$error":"#DIV/0!"},{"$error":"#DIV/0!"},{"$error":"#DIV/0!"}]
[null,null,null,null,null,null,null,null,0,{"$error":"#DIV/0!"},{"$error":"#DIV/0!"},{"$error":"#DIV/0!"}]
[null,null,null,null,null,null,null,null,0,{"$error":"#DIV/0!"},{"$error":"#DIV/0!"},{"$error":"#DIV/0!"}]
[null,null,null,null,null,null,null,null,0,{"$error":"#DIV/0!"},{"$error":"#DIV/0!"},{"$error":"#DIV/0!"}]
[null,null,null,null,null,null,null,null,0,{"$error":"#DIV/0!"},{"$error":"#DIV/0!"},{"$error":"#DIV/0!"}]
[null,null,null,null,null,null,null,null,0,{"$error":"#DIV/0!"},{"$error":"#DIV/0!"},{"$error":"#DIV/0!"}]
[null,null,null,null,null,null,null,null,0,{"$error":"#DIV/0!"},{"$error":"#DIV/0!"},{"$error":"#DIV/0!"}]
[null,null,null,null,null,null,null,null,0,{"$error":"#DIV/0!"},{"$error":"#DIV/0!"},{"$error":"#DIV/0!"}]
[null,null,null,null,null,null,null,null,0,{"$error":"#DIV/0!"},{"$error":"#DIV/0!"},{"$error":"#DIV/0!"}]
[null,null,null,null,null,null,null,null,0,{"$error":"#DIV/0!"},{"$error":"#DIV/0!"},{"$error":"#DIV/0!"}]
[null,null,null,null,null,null,null,null,0,{"$error":"#DIV/0!"},{"$error":"#DIV/0!"},{"$error":"#DIV/0!"}]
[null,null,null,null,null,null,null,null,0,{"$error":"#DIV/0!"},{"$error":"#DIV/0!"},{"$error":"#DIV/0!"}]
[null,null,null,null,null,null,null,null,0,{"$error":"#DIV/0!"},{"$error":"#DIV/0!"},{"$error":"#DIV/0!"}]
[null,null,null,null,null,null,null,null,0,{"$error":"#DIV/0!"},{"$error":"#DIV/0!"},{"$error":"#DIV/0!"}]
[null,null,null,null,null,null,null,null,0,{"$error":"#DIV/0!"},{"$error":"#DIV/0!"},{"$error":"#DIV/0!"}]
[null,null,null,null,null,null,null,null,0,{"$error":"#DIV/0!"},{"$error":"#DIV/0!"},{"$error":"#DIV/0!"}]
[null,null,null,null,null,null,null,null,0,{"$error":"#DIV/0!"},{"$error":"#DIV/0!"},{"$error":"#DIV/0!"}]
[null,null,null,null,null,null,null,null,0,{"$error":"#DIV/0!"},{"$error":"#DIV/0!"},{"$error":"#DIV/0!"}]
[null,null,null,null,null,null,null,null,0,{"$error":"#DIV/0!"},{"$error":"#DIV/0!"},{"$error":"#DIV/0!"}]
[null,null,null,null,null,null,null,null,0,{"$error":"#DIV/0!"},{"$error":"#DIV/0!"},{"$error":"#DIV/0!"}]
[null,null,null,null,null,null,null,null,0,{"$error":"#DIV/0!"},{"$error":"#DIV/0!"},{"$error":"#DIV/0!"}]
[null,null,null,null,null,null,null,null,0,{"$error":"#DIV/0!"},{"$error":"#DIV/0!"},{"$error":"#DIV/0!"}]
[null,null,null,null,null,null,null,null,0,{"$error":"#DIV/0!"},{"$error":"#DIV/0!"},{"$error":"#DIV/0!"}]
[null,null,null,null,null,null,null,null,0,{"$error":"#DIV/0!"},{"$error":"#DIV/0!"},{"$error":"#DIV/0!"}]
[null,null,null,null,null,null,null,null,0,{"$error":"#DIV/0!"},{"$error":"#DIV/0!"},{"$error":"#DIV/0!"}]
[null,null,null,null,null,null,null,null,0,{"$error":"#DIV/0!"},{"$error":"#DIV/0!"},{"$error":"#DIV/0!"}]
[null,null,null,null,null,null,null,null,0,{"$error":"#DIV/0!"},{"$error":"#DIV/0!"},{"$error":"#DIV/0!"}]
[null,null,null,null,null,null,null,null,0,{"$error":"#DIV/0!"},{"$error":"#DIV/0!"},{"$error":"#DIV/0!"}]
[null,null,null,null,null,null,null,null,0,{"$error":"#DIV/0!"},{"$error":"#DIV/0!"},{"$error":"#DIV/0!"}]
[null,null,null,null,null,null,null,null,0,{"$error":"#DIV/0!"},{"$error":"#DIV/0!"},{"$error":"#DIV/0!"}]
[null,null,null,null,null,null,null,null,{"$f":"IF(F28694<>G28694,1,0)","v":0},{"$error":"#DIV/0!"},{"$f":"F28694/J28694","v":{"$error":"#DIV/0!"}},{"$error":"#DIV/0!"}]
[null,null,null,null,null,null,null,null,0,{"$error":"#DIV/0!"},{"$error":"#DIV/0!"},{"$error":"#DIV/0!"}]
[null,null,null,null,null,null,null,null,0,{"$error":"#DIV/0!"},{"$error":"#DIV/0!"},{"$error":"#DIV/0!"}]
[null,null,null,null,null,null,null,null,0,{"$error":"#DIV/0!"},{"$error":"#DIV/0!"},{"$error":"#DIV/0!"}]
[null,null,null,null,null,null,null,null,0,{"$error":"#DIV/0!"},{"$error":"#DIV/0!"},{"$error":"#DIV/0!"}]
[null,null,null,null,null,null,null,null,0,{"$error":"#DIV/0!"},{"$error":"#DIV/0!"},{"$error":"#DIV/0!"}]
[null,null,null,null,null,null,null,null,0,{"$error":"#DIV/0!"},{"$error":"#DIV/0!"},{"$error":"#DIV/0!"}]
[null,null,null,null,null,null,null,null,0,{"$error":"#DIV/0!"},{"$error":"#DIV/0!"},{"$error":"#DIV/0!"}]
[null,null,null,null,null,null,null,null,0,{"$error":"#DIV/0!"},{"$error":"#DIV/0!"},{"$error":"#DIV/0!"}]
[null,null,null,null,null,null,null,null,0,{"$error":"#DIV/0!"},{"$error":"#DIV/0!"},{"$error":"#DIV/0!"}]
[null,null,null,null,null,null,null,null,0,{"$error":"#DIV/0!"},{"$error":"#DIV/0!"},{"$error":"#DIV/0!"}]
[null,null,null,null,null,null,null,null,0,{"$error":"#DIV/0!"},{"$error":"#DIV/0!"},{"$error":"#DIV/0!"}]
[null,null,null,null,null,null,null,null,0,{"$error":"#DIV/0!"},{"$error":"#DIV/0!"},{"$error":"#DIV/0!"}]
[null,null,null,null,null,null,null,null,0,{"$error":"#DIV/0!"},{"$error":"#DIV/0!"},{"$error":"#DIV/0!"}]
[null,null,null,null,null,null,null,null,0,{"$error":"#DIV/0!"},{"$error":"#DIV/0!"},{"$error":"#DIV/0!"}]
[null,null,null,null,null,null,null,null,0,{"$error":"#DIV/0!"},{"$error":"#DIV/0!"},{"$error":"#DIV/0!"}]
[null,null,null,null,null,null,null,null,0,{"$error":"#DIV/0!"},{"$error":"#DIV/0!"},{"$error":"#DIV/0!"}]
[null,null,null,null,null,null,null,null,0,{"$error":"#DIV/0!"},{"$error":"#DIV/0!"},{"$error":"#DIV/0!"}]
[null,null,null,null,null,null,null,null,0,{"$error":"#DIV/0!"},{"$error":"#DIV/0!"},{"$f":"G29399/J29399","v":{"$error":"#DIV/0!"}}]
[null,null,null,null,null,null,null,null,0,{"$error":"#DIV/0!"},{"$error":"#DIV/0!"},{"$error":"#DIV/0!"}]
[null,null,null,null,null,null,null,null,0,{"$error":"#DIV/0!"},{"$error":"#DIV/0!"},{"$error":"#DIV/0!"}]
[null,null,null,null,null,null,null,null,0,{"$error":"#DIV/0!"},{"$error":"#DIV/0!"},{"$error":"#DIV/0!"}]
[null,null,null,null,null,null,null,null,0,{"$error":"#DIV/0!"},{"$error":"#DIV/0!"},{"$error":"#DIV/0!"}]
[null,null,null,null,null,null,null,null,0,{"$error":"#DIV/0!"},{"$error":"#DIV/0!"},{"$error":"#DIV/0!"}]
[null,null,null,null,null,null,null,null,0,{"$error":"#DIV/0!"},{"$error":"#DIV/0!"},{"$error":"#DIV/0!"}]
[null,null,null,null,null,null,null,null,0,{"$error":"#DIV/0!"},{"$error":"#DIV/0!"},{"$error":"#DIV/0!"}]
[null,null,null,null,null,null,null,null,0,{"$error":"#DIV/0!"},{"$error":"#DIV/0!"},{"$error":"#DIV/0!"}]
[null,null,null,null,null,null,null,null,0,{"$error":"#DIV/0!"},{"$error":"#DIV/0!"},{"$error":"#DIV/0!"}]
[null,null,null,null,null,null,null,null,0,{"$error":"#DIV/0!"},{"$error":"#DIV/0!"},{"$error":"#DIV/0!"}]
[null,null,null,null,null,null,null,null,0,{"$error":"#DIV/0!"},{"$error":"#DIV/0!"},{"$error":"#DIV/0!"}]
[null,null,null,null,null,null,null,null,0,{"$error":"#DIV/0!"},{"$error":"#DIV/0!"},{"$error":"#DIV/0!"}]
[null,null,null,null,null,null,null,null,0,{"$error":"#DIV/0!"},{"$error":"#DIV/0!"},{"$error":"#DIV/0!"}]
[null,null,null,null,null,null,null,null,0,{"$error":"#DIV/0!"},{"$error":"#DIV/0!"},{"$error":"#DIV/0!"}]
[null,null,null,null,null,null,null,null,0,{"$error":"#DIV/0!"},{"$error":"#DIV/0!"},{"$error":"#DIV/0!"}]
[null,null,null,null,null,null,null,null,0,{"$error":"#DIV/0!"},{"$error":"#DIV/0!"},{"$error":"#DIV/0!"}]
[null,null,null,null,null,null,null,null,0,{"$error":"#DIV/0!"},{"$error":"#DIV/0!"},{"$error":"#DIV/0!"}]
[null,null,null,null,null,null,null,null,0,{"$error":"#DIV/0!"},{"$error":"#DIV/0!"},{"$error":"#DIV/0!"}]
[null,null,null,null,null,null,null,null,0,{"$error":"#DIV/0!"},{"$error":"#DIV/0!"},{"$error":"#DIV/0!"}]
[null,null,null,null,null,null,null,null,0,{"$error":"#DIV/0!"},{"$error":"#DIV/0!"},{"$error":"#DIV/0!"}]
[null,null,null,null,null,null,null,null,0,{"$error":"#DIV/0!"},{"$error":"#DIV/0!"},{"$error":"#DIV/0!"}]
[null,null,null,null,null,null,null,null,0,{"$error":"#DIV/0!"},{"$error":"#DIV/0!"},{"$error":"#DIV/0!"}]
[null,null,null,null,null,null,null,null,0,{"$error":"#DIV/0!"},{"$error":"#DIV/0!"},{"$error":"#DIV/0!"}]
[null,null,null,null,null,null,null,null,0,{"$error":"#DIV/0!"},{"$error":"#DIV/0!"},{"$error":"#DIV/0!"}]
[null,null,null,null,null,null,null,null,0,{"$f":"IF(F30361/G30361=1,F30361,J30360)","v":{"$error":"#DIV/0!"}},{"$error":"#DIV/0!"},{"$error":"#DIV/0!"}]
[null,null,null,null,null,null,null,null,0,{"$error":"#DIV/0!"},{"$error":"#DIV/0!"},{"$error":"#DIV/0!"}]
[null,null,null,null,null,null,null,null,0,{"$error":"#DIV/0!"},{"$error":"#DIV/0!"},{"$error":"#DIV/0!"}]
[null,null,null,null,null,null,null,null,0,{"$error":"#DIV/0!"},{"$error":"#DIV/0!"},{"$error":"#DIV/0!"}]
[null,null,null,null,null,null,null,null,0,{"$f":"IF(F30553/G30553=1,F30553,J30552)","v":{"$error":"#DIV/0!"}},{"$error":"#DIV/0!"},{"$error":"#DIV/0!"}]
[null,null,null,null,null,null,null,null,0,{"$error":"#DIV/0!"},{"$error":"#DIV/0!"},{"$error":"#DIV/0!"}]
[null,null,null,null,null,null,null,null,0,{"$error":"#DIV/0!"},{"$error":"#DIV/0!"},{"$error":"#DIV/0!"}]
[null,null,null,null,null,null,null,null,0,{"$error":"#DIV/0!"},{"$error":"#DIV/0!"},{"$error":"#DIV/0!"}]
[null,null,null,null,null,null,null,null,0,{"$error":"#DIV/0!"},{"$error":"#DIV/0!"},{"$error":"#DIV/0!"}]
[null,null,null,null,null,null,null,null,0,{"$error":"#DIV/0!"},{"$error":"#DIV/0!"},{"$error":"#DIV/0!"}]
[null,null,null,null,null,null,null,null,0,{"$error":"#DIV/0!"},{"$error":"#DIV/0!"},{"$error":"#DIV/0!"}]
[null,null,null,null,null,null,null,null,0,{"$error":"#DIV/0!"},{"$error":"#DIV/0!"},{"$error":"#DIV/0!"}]
[null,null,null,null,null,null,null,null,0,{"$error":"#DIV/0!"},{"$error":"#DIV/0!"},{"$error":"#DIV/0!"}]
[null,null,null,null,null,null,null,null,0,{"$error":"#DIV/0!"},{"$error":"#DIV/0!"},{"$error":"#DIV/0!"}]
[null,null,null,null,null,null,null,null,0,{"$error":"#DIV/0!"},{"$error":"#DIV/0!"},{"$error":"#DIV/0!"}]
[null,null,null,null,null,null,null,null,0,{"$error":"#DIV/0!"},{"$error":"#DIV/0!"},{"$error":"#DIV/0!"}]
[null,null,null,null,null,null,null,null,0,{"$error":"#DIV/0!"},{"$error":"#DIV/0!"},{"$error":"#DIV/0!"}]
[null,null,null,null,null,null,null,null,0,{"$error":"#DIV/0!"},{"$error":"#DIV/0!"},{"$error":"#DIV/0!"}]
[null,null,null,null,null,null,null,null,0,{"$error":"#DIV/0!"},{"$error":"#DIV/0!"},{"$error":"#DIV/0!"}]
[null,null,null,null,null,null,null,null,0,{"$error":"#DIV/0!"},{"$error":"#DIV/0!"},{"$error":"#DIV/0!"}]
[null,null,null,null,null,null,null,null,0,{"$error":"#DIV/0!"},{"$error":"#DIV/0!"},{"$error":"#DIV/0!"}]
[null,null,null,null,null,null,null,null,0,{"$error":"#DIV/0!"},{"$error":"#DIV/0!"},{"$error":"#DIV/0!"}]
[null,null,null,null,null,null,null,null,0,{"$error":"#DIV/0!"},{"$error":"#DIV/0!"},{"$error":"#DIV/0!"}]
[null,null,null,null,null,null,null,null,0,{"$error":"#DIV/0!"},{"$error":"#DIV/0!"},{"$error":"#DIV/0!"}]
[null,null,null,null,null,null,null,null,0,{"$error":"#DIV/0!"},{"$error":"#DIV/0!"},{"$error":"#DIV/0!"}]
[null,null,null,null,null,null,null,null,0,{"$error":"#DIV/0!"},{"$error":"#DIV/0!"},{"$error":"#DIV/0!"}]
[null,null,null,null,null,null,null,null,0,{"$error":"#DIV/0!"},{"$error":"#DIV/0!"},{"$error":"#DIV/0!"}]
[null,null,null,null,null,null,null,null,0,{"$error":"#DIV/0!"},{"$error":"#DIV/0!"},{"$error":"#DIV/0!"}]
[null,null,null,null,null,null,null,null,0,{"$error":"#DIV/0!"},{"$error":"#DIV/0!"},{"$error":"#DIV/0!"}]
[null,null,null,null,null,null,null,null,0,{"$error":"#DIV/0!"},{"$error":"#DIV/0!"},{"$error":"#DIV/0!"}]
[null,null,null,null,null,null,null,null,0,{"$error":"#DIV/0!"},{"$error":"#DIV/0!"},{"$error":"#DIV/0!"}]
[null,null,null,null,null,null,null,null,0,{"$error":"#DIV/0!"},{"$error":"#DIV/0!"},{"$error":"#DIV/0!"}]
[null,null,null,null,null,null,null,null,0,{"$error":"#DIV/0!"},{"$error":"#DIV/0!"},{"$error":"#DIV/0!"}]
[null,null,null,null,null,null,null,null,0,{"$error":"#DIV/0!"},{"$error":"#DIV/0!"},{"$error":"#DIV/0!"}]
[null,null,null,null,null,null,null,null,0,{"$error":"#DIV/0!"},{"$error":"#DIV/0!"},{"$error":"#DIV/0!"}]
[null,null,null,null,null,null,null,null,0,{"$error":"#DIV/0!"},{"$error":"#DIV/0!"},{"$error":"#DIV/0!"}]
[null,null,null,null,null,null,null,null,0,{"$error":"#DIV/0!"},{"$error":"#DIV/0!"},{"$error":"#DIV/0!"}]
[null,null,null,null,null,null,null,null,0,{"$error":"#DIV/0!"},{"$error":"#DIV/0!"},{"$error":"#DIV/0!"}]
[null,null,null,null,null,null,null,null,0,{"$error":"#DIV/0!"},{"$error":"#DIV/0!"},{"$error":"#DIV/0!"}]
[null,null,null,null,null,null,null,null,0,{"$error":"#DIV/0!"},{"$error":"#DIV/0!"},{"$error":"#DIV/0!"}]
[null,null,null,null,null,null,null,null,0,{"$error":"#DIV/0!"},{"$error":"#DIV/0!"},{"$error":"#DIV/0!"}]
[null,null,null,null,null,null,null,null,0,{"$error":"#DIV/0!"},{"$error":"#DIV/0!"},{"$error":"#DIV/0!"}]
[null,null,null,null,null,null,null,null,0,{"$error":"#DIV/0!"},{"$error":"#DIV/0!"},{"$error":"#DIV/0!"}]
[null,null,null,null,null,null,null,null,0,{"$error":"#DIV/0!"},{"$error":"#DIV/0!"},{"$error":"#DIV/0!"}]
[null,null,null,null,null,null,null,null,0,{"$error":"#DIV/0!"},{"$error":"#DIV/0!"},{"$error":"#DIV/0!"}]
[null,null,null,null,null,null,null,null,0,{"$error":"#DIV/0!"},{"$error":"#DIV/0!"},{"$error":"#DIV/0!"}]
[null,null,null,null,null,null,null,null,0,{"$error":"#DIV/0!"},{"$error":"#DIV/0!"},{"$error":"#DIV/0!"}]
[null,null,null,null,null,null,null,null,0,{"$error":"#DIV/0!"},{"$error":"#DIV/0!"},{"$error":"#DIV/0!"}]
[null,null,null,null,null,null,null,null,0,{"$error":"#DIV/0!"},{"$error":"#DIV/0!"},{"$error":"#DIV/0!"}]
[null,null,null,null,null,null,null,null,0,{"$error":"#DIV/0!"},{"$error":"#DIV/0!"},{"$error":"#DIV/0!"}]
[null,null,null,null,null,null,null,null,0,{"$error":"#DIV/0!"},{"$error":"#DIV/0!"},{"$error":"#DIV/0!"}]
[null,null,null,null,null,null,null,null,{"$f":"IF(F32342<>G32342,1,0)","v":0},{"$error":"#DIV/0!"},{"$f":"F32342/J32342","v":{"$error":"#DIV/0!"}},{"$error":"#DIV/0!"}]
[null,null,null,null,null,null,null,null,0,{"$error":"#DIV/0!"},{"$error":"#DIV/0!"},{"$error":"#DIV/0!"}]
[null,null,null,null,null,null,null,null,0,{"$error":"#DIV/0!"},{"$error":"#DIV/0!"},{"$error":"#DIV/0!"}]
[null,null,null,null,null,null,null,null,0,{"$error":"#DIV/0!"},{"$error":"#DIV/0!"},{"$error":"#DIV/0!"}]
[null,null,null,null,null,null,null,null,0,{"$error":"#DIV/0!"},{"$error":"#DIV/0!"},{"$error":"#DIV/0!"}]
[null,null,null,null,null,null,null,null,0,{"$error":"#DIV/0!"},{"$error":"#DIV/0!"},{"$error":"#DIV/0!"}]
[null,null,null,null,null,null,null,null,0,{"$error":"#DIV/0!"},{"$error":"#DIV/0!"},{"$error":"#DIV/0!"}]
[null,null,null,null,null,null,null,null,0,{"$error":"#DIV/0!"},{"$error":"#DIV/0!"},{"$error":"#DIV/0!"}]
[null,null,null,null,null,null,null,null,0,{"$error":"#DIV/0!"},{"$error":"#DIV/0!"},{"$f":"G32663/J32663","v":{"$error":"#DIV/0!"}}]
[null,null,null,null,null,null,null,null,0,{"$error":"#DIV/0!"},{"$error":"#DIV/0!"},{"$error":"#DIV/0!"}]
[null,null,null,null,null,null,null,null,0,{"$error":"#DIV/0!"},{"$error":"#DIV/0!"},{"$error":"#DIV/0!"}]
[null,null,null,null,null,null,null,null,0,{"$error":"#DIV/0!"},{"$error":"#DIV/0!"},{"$error":"#DIV/0!"}]
[null,null,null,null,null,null,null,null,0,{"$error":"#DIV/0!"},{"$error":"#DIV/0!"},{"$error":"#DIV/0!"}]
[null,null,null,null,null,null,null,null,0,{"$error":"#DIV/0!"},{"$error":"#DIV/0!"},{"$error":"#DIV/0!"}]
[null,null,null,null,null,null,null,null,0,{"$error":"#DIV/0!"},{"$error":"#DIV/0!"},{"$error":"#DIV/0!"}]
[null,null,null,null,null,null,null,null,0,{"$error":"#DIV/0!"},{"$error":"#DIV/0!"},{"$error":"#DIV/0!"}]
[null,null,null,null,null,null,null,null,0,{"$error":"#DIV/0!"},{"$error":"#DIV/0!"},{"$error":"#DIV/0!"}]
[null,null,null,null,null,null,null,null,0,{"$error":"#DIV/0!"},{"$error":"#DIV/0!"},{"$error":"#DIV/0!"}]
[null,null,null,null,null,null,null,null,0,{"$error":"#DIV/0!"},{"$error":"#DIV/0!"},{"$error":"#DIV/0!"}]
[null,null,null,null,null,null,null,null,0,{"$error":"#DIV/0!"},{"$error":"#DIV/0!"},{"$error":"#DIV/0!"}]
[null,null,null,null,null,null,null,null,0,{"$error":"#DIV/0!"},{"$error":"#DIV/0!"},{"$error":"#DIV/0!"}]
[null,null,null,null,null,null,null,null,0,{"$error":"#DIV/0!"},{"$error":"#DIV/0!"},{"$error":"#DIV/0!"}]
[null,null,null,null,null,null,null,null,0,{"$error":"#DIV/0!"},{"$error":"#DIV/0!"},{"$error":"#DIV/0!"}]
[null,null,null,null,null,null,null,null,0,{"$error":"#DIV/0!"},{"$error":"#DIV/0!"},{"$error":"#DIV/0!"}]
[null,null,null,null,null,null,null,null,0,{"$error":"#DIV/0!"},{"$error":"#DIV/0!"},{"$error":"#DIV/0!"}]
[null,null,null,null,null,null,null,null,0,{"$error":"#DIV/0!"},{"$error":"#DIV/0!"},{"$error":"#DIV/0!"}]
[null,null,null,null,null,null,null,null,0,{"$error":"#DIV/0!"},{"$error":"#DIV/0!"},{"$error":"#DIV/0!"}]
[null,null,null,null,null,null,null,null,0,{"$error":"#DIV/0!"},{"$error":"#DIV/0!"},{"$error":"#DIV/0!"}]
[null,null,null,null,null,null,null,null,0,{"$error":"#DIV/0!"},{"$error":"#DIV/0!"},{"$error":"#DIV/0!"}]
[null,null,null,null,null,null,null,null,0,{"$error":"#DIV/0!"},{"$error":"#DIV/0!"},{"$error":"#DIV/0!"}]
[null,null,null,null,null,null,null,null,0,{"$error":"#DIV/0!"},{"$error":"#DIV/0!"},{"$error":"#DIV/0!"}]
[null,null,null,null,null,null,null,null,0,{"$error":"#DIV/0!"},{"$error":"#DIV/0!"},{"$error":"#DIV/0!"}]
[null,null,null,null,null,null,null,null,0,{"$error":"#DIV/0!"},{"$error":"#DIV/0!"},{"$error":"#DIV/0!"}]
[null,null,null,null,null,null,null,null,0,{"$f":"IF(F33625/G33625=1,F33625,J33624)","v":{"$error":"#DIV/0!"}},{"$error":"#DIV/0!"},{"$error":"#DIV/0!"}]
[null,null,null,null,null,null,null,null,0,{"$error":"#DIV/0!"},{"$error":"#DIV/0!"},{"$error":"#DIV/0!"}]
[null,null,null,null,null,null,null,null,0,{"$error":"#DIV/0!"},{"$error":"#DIV/0!"},{"$error":"#DIV/0!"}]
[null,null,null,null,null,null,null,null,0,{"$error":"#DIV/0!"},{"$error":"#DIV/0!"},{"$error":"#DIV/0!"}]
[null,null,null,null,null,null,null,null,0,{"$error":"#DIV/0!"},{"$error":"#DIV/0!"},{"$error":"#DIV/0!"}]
[null,null,null,null,null,null,null,null,0,{"$error":"#DIV/0!"},{"$error":"#DIV/0!"},{"$error":"#DIV/0!"}]
[null,null,null,null,null,null,null,null,0,{"$error":"#DIV/0!"},{"$error":"#DIV/0!"},{"$error":"#DIV/0!"}]
[null,null,null,null,null,null,null,null,0,{"$error":"#DIV/0!"},{"$error":"#DIV/0!"},{"$error":"#DIV/0!"}]
[null,null,null,null,null,null,null,null,0,{"$error":"#DIV/0!"},{"$error":"#DIV/0!"},{"$error":"#DIV/0!"}]
[null,null,null,null,null,null,null,null,0,{"$error":"#DIV/0!"},{"$error":"#DIV/0!"},{"$error":"#DIV/0!"}]
[null,null,null,null,null,null,null,null,0,{"$error":"#DIV/0!"},{"$error":"#DIV/0!"},{"$error":"#DIV/0!"}]
[null,null,null,null,null,null,null,null,0,{"$error":"#DIV/0!"},{"$error":"#DIV/0!"},{"$error":"#DIV/0!"}]
[null,null,null,null,null,null,null,null,0,{"$error":"#DIV/0!"},{"$error":"#DIV/0!"},{"$error":"#DIV/0!"}]
[null,null,null,null,null,null,null,null,0,{"$error":"#DIV/0!"},{"$error":"#DIV/0!"},{"$error":"#DIV/0!"}]
[null,null,null,null,null,null,null,null,0,{"$error":"#DIV/0!"},{"$error":"#DIV/0!"},{"$error":"#DIV/0!"}]
[null,null,null,null,null,null,null,null,0,{"$error":"#DIV/0!"},{"$error":"#DIV/0!"},{"$error":"#DIV/0!"}]
[null,null,null,null,null,null,null,null,{"$f":"IF(F34262<>G34262,1,0)","v":0},{"$error":"#DIV/0!"},{"$f":"F34262/J34262","v":{"$error":"#DIV/0!"}},{"$error":"#DIV/0!"}]
[null,null,null,null,null,null,null,null,0,{"$error":"#DIV/0!"},{"$error":"#DIV/0!"},{"$error":"#DIV/0!"}]
[null,null,null,null,null,null,null,null,0,{"$error":"#DIV/0!"},{"$error":"#DIV/0!"},{"$error":"#DIV/0!"}]
[null,null,null,null,null,null,null,null,0,{"$error":"#DIV/0!"},{"$error":"#DIV/0!"},{"$error":"#DIV/0!"}]
[null,null,null,null,null,null,null,null,0,{"$error":"#DIV/0!"},{"$error":"#DIV/0!"},{"$error":"#DIV/0!"}]
[null,null,null,null,null,null,null,null,0,{"$error":"#DIV/0!"},{"$error":"#DIV/0!"},{"$error":"#DIV/0!"}]
[null,null,null,null,null,null,null,null,0,{"$error":"#DIV/0!"},{"$error":"#DIV/0!"},{"$error":"#DIV/0!"}]
[null,null,null,null,null,null,null,null,0,{"$error":"#DIV/0!"},{"$error":"#DIV/0!"},{"$error":"#DIV/0!"}]
[null,null,null,null,null,null,null,null,0,{"$error":"#DIV/0!"},{"$error":"#DIV/0!"},{"$error":"#DIV/0!"}]
[null,null,null,null,null,null,null,null,0,{"$error":"#DIV/0!"},{"$error":"#DIV/0!"},{"$error":"#DIV/0!"}]
[null,null,null,null,null,null,null,null,0,{"$error":"#DIV/0!"},{"$error":"#DIV/0!"},{"$error":"#DIV/0!"}]
[null,null,null,null,null,null,null,null,0,{"$error":"#DIV/0!"},{"$error":"#DIV/0!"},{"$error":"#DIV/0!"}]
[null,null,null,null,null,null,null,null,0,{"$error":"#DIV/0!"},{"$error":"#DIV/0!"},{"$error":"#DIV/0!"}]
[null,null,null,null,null,null,null,null,0,{"$error":"#DIV/0!"},{"$error":"#DIV/0!"},{"$error":"#DIV/0!"}]
[null,null,null,null,null,null,null,null,0,{"$error":"#DIV/0!"},{"$error":"#DIV/0!"},{"$error":"#DIV/0!"}]
[null,null,null,null,null,null,null,null,0,{"$error":"#DIV/0!"},{"$error":"#DIV/0!"},{"$error":"#DIV/0!"}]
[null,null,null,null,null,null,null,null,0,{"$error":"#DIV/0!"},{"$error":"#DIV/0!"},{"$error":"#DIV/0!"}]
[null,null,null,null,null,null,null,null,0,{"$error":"#DIV/0!"},{"$error":"#DIV/0!"},{"$error":"#DIV/0!"}]
[null,null,null,null,null,null,null,null,0,{"$error":"#DIV/0!"},{"$error":"#DIV/0!"},{"$error":"#DIV/0!"}]
[null,null,null,null,null,null,null,null,0,{"$error":"#DIV/0!"},{"$error":"#DIV/0!"},{"$error":"#DIV/0!"}]
[null,null,null,null,null,null,null,null,0,{"$error":"#DIV/0!"},{"$error":"#DIV/0!"},{"$error":"#DIV/0!"}]
[null,null,null,null,null,null,null,null,0,{"$error":"#DIV/0!"},{"$error":"#DIV/0!"},{"$error":"#DIV/0!"}]
[null,null,null,null,null,null,null,null,0,{"$error":"#DIV/0!"},{"$error":"#DIV/0!"},{"$error":"#DIV/0!"}]
[null,null,null,null,null,null,null,null,0,{"$error":"#DIV/0!"},{"$error":"#DIV/0!"},{"$error":"#DIV/0!"}]
[null,null,null,null,null,null,null,null,0,{"$error":"#DIV/0!"},{"$error":"#DIV/0!"},{"$error":"#DIV/0!"}]
[null,null,null,null,null,null,null,null,0,{"$error":"#DIV/0!"},{"$error":"#DIV/0!"},{"$error":"#DIV/0!"}]
[null,null,null,null,null,null,null,null,0,{"$error":"#DIV/0!"},{"$error":"#DIV/0!"},{"$error":"#DIV/0!"}]
[null,null,null,null,null,null,null,null,0,{"$error":"#DIV/0!"},{"$error":"#DIV/0!"},{"$error":"#DIV/0!"}]
[null,null,null,null,null,null,null,null,0,{"$error":"#DIV/0!"},{"$error":"#DIV/0!"},{"$error":"#DIV/0!"}]
[null,null,null,null,null,null,null,null,0,{"$error":"#DIV/0!"},{"$error":"#DIV/0!"},{"$error":"#DIV/0!"}]
[null,null,null,null,null,null,null,null,0,{"$error":"#DIV/0!"},{"$error":"#DIV/0!"},{"$error":"#DIV/0!"}]
[null,null,null,null,null,null,null,null,0,{"$error":"#DIV/0!"},{"$error":"#DIV/0!"},{"$error":"#DIV/0!"}]
[null,null,null,null,null,null,null,null,0,{"$error":"#DIV/0!"},{"$error":"#DIV/0!"},{"$error":"#DIV/0!"}]
[null,null,null,null,null,null,null,null,0,{"$error":"#DIV/0!"},{"$error":"#DIV/0!"},{"$error":"#DIV/0!"}]
[null,null,null,null,null,null,null,null,0,{"$error":"#DIV/0!"},{"$error":"#DIV/0!"},{"$error":"#DIV/0!"}]
[null,null,null,null,null,null,null,null,0,{"$error":"#DIV/0!"},{"$error":"#DIV/0!"},{"$error":"#DIV/0!"}]
[null,null,null,null,null,null,null,null,0,{"$error":"#DIV/0!"},{"$error":"#DIV/0!"},{"$error":"#DIV/0!"}]
[null,null,null,null,null,null,null,null,0,{"$error":"#DIV/0!"},{"$error":"#DIV/0!"},{"$error":"#DIV/0!"}]
[null,null,null,null,null,null,null,null,0,{"$error":"#DIV/0!"},{"$error":"#DIV/0!"},{"$error":"#DIV/0!"}]
[null,null,null,null,null,null,null,null,0,{"$error":"#DIV/0!"},{"$error":"#DIV/0!"},{"$error":"#DIV/0!"}]
[null,null,null,null,null,null,null,null,0,{"$error":"#DIV/0!"},{"$error":"#DIV/0!"},{"$error":"#DIV/0!"}]
[null,null,null,null,null,null,null,null,0,{"$error":"#DIV/0!"},{"$error":"#DIV/0!"},{"$error":"#DIV/0!"}]
[null,null,null,null,null,null,null,null,0,{"$error":"#DIV/0!"},{"$error":"#DIV/0!"},{"$error":"#DIV/0!"}]
[null,null,null,null,null,null,null,null,0,{"$error":"#DIV/0!"},{"$error":"#DIV/0!"},{"$f":"G35927/J35927","v":{"$error":"#DIV/0!"}}]
[null,null,null,null,null,null,null,null,0,{"$error":"#DIV/0!"},{"$error":"#DIV/0!"},{"$error":"#DIV/0!"}]
[null,null,null,null,null,null,null,null,0,{"$error":"#DIV/0!"},{"$error":"#DIV/0!"},{"$error":"#DIV/0!"}]
[null,null,null,null,null,null,null,null,0,{"$error":"#DIV/0!"},{"$error":"#DIV/0!"},{"$error":"#DIV/0!"}]
[null,null,null,null,null,null,null,null,0,{"$error":"#DIV/0!"},{"$error":"#DIV/0!"},{"$error":"#DIV/0!"}]
[null,null,null,null,null,null,null,null,0,{"$error":"#DIV/0!"},{"$error":"#DIV/0!"},{"$error":"#DIV/0!"}]
[null,null,null,null,null,null,null,null,0,{"$error":"#DIV/0!"},{"$error":"#DIV/0!"},{"$error":"#DIV/0!"}]
[null,null,null,null,null,null,null,null,0,{"$error":"#DIV/0!"},{"$error":"#DIV/0!"},{"$f":"G36183/J36183","v":{"$error":"#DIV/0!"}}]
[null,null,null,null,null,null,null,null,0,{"$error":"#DIV/0!"},{"$error":"#DIV/0!"},{"$error":"#DIV/0!"}]
[null,null,null,null,null,null,null,null,0,{"$error":"#DIV/0!"},{"$error":"#DIV/0!"},{"$error":"#DIV/0!"}]
[null,null,null,null,null,null,null,null,0,{"$error":"#DIV/0!"},{"$error":"#DIV/0!"},{"$error":"#DIV/0!"}]
[null,null,null,null,null,null,null,null,0,{"$error":"#DIV/0!"},{"$error":"#DIV/0!"},{"$error":"#DIV/0!"}]
[null,null,null,null,null,null,null,null,0,{"$error":"#DIV/0!"},{"$error":"#DIV/0!"},{"$error":"#DIV/0!"}]
[null,null,null,null,null,null,null,null,0,{"$error":"#DIV/0!"},{"$error":"#DIV/0!"},{"$error":"#DIV/0!"}]
[null,null,null,null,null,null,null,null,0,{"$error":"#DIV/0!"},{"$error":"#DIV/0!"},{"$error":"#DIV/0!"}]
[null,null,null,null,null,null,null,null,0,{"$error":"#DIV/0!"},{"$error":"#DIV/0!"},{"$error":"#DIV/0!"}]
[null,null,null,null,null,null,null,null,0,{"$error":"#DIV/0!"},{"$error":"#DIV/0!"},{"$error":"#DIV/0!"}]
[null,null,null,null,null,null,null,null,0,{"$error":"#DIV/0!"},{"$error":"#DIV/0!"},{"$error":"#DIV/0!"}]
[null,null,null,null,null,null,null,null,0,{"$error":"#DIV/0!"},{"$error":"#DIV/0!"},{"$error":"#DIV/0!"}]
[null,null,null,null,null,null,null,null,0,{"$error":"#DIV/0!"},{"$error":"#DIV/0!"},{"$error":"#DIV/0!"}]
[null,null,null,null,null,null,null,null,0,{"$error":"#DIV/0!"},{"$error":"#DIV/0!"},{"$error":"#DIV/0!"}]
[null,null,null,null,null,null,null,null,0,{"$error":"#DIV/0!"},{"$error":"#DIV/0!"},{"$error":"#DIV/0!"}]
[null,null,null,null,null,null,null,null,0,{"$error":"#DIV/0!"},{"$error":"#DIV/0!"},{"$error":"#DIV/0!"}]
[null,null,null,null,null,null,null,null,0,{"$error":"#DIV/0!"},{"$error":"#DIV/0!"},{"$error":"#DIV/0!"}]
[null,null,null,null,null,null,null,null,0,{"$error":"#DIV/0!"},{"$error":"#DIV/0!"},{"$error":"#DIV/0!"}]
[null,null,null,null,null,null,null,null,0,{"$error":"#DIV/0!"},{"$error":"#DIV/0!"},{"$error":"#DIV/0!"}]
[null,null,null,null,null,null,null,null,0,{"$error":"#DIV/0!"},{"$error":"#DIV/0!"},{"$error":"#DIV/0!"}]
[null,null,null,null,null,null,null,null,0,{"$error":"#DIV/0!"},{"$error":"#DIV/0!"},{"$error":"#DIV/0!"}]
[null,null,null,null,null,null,null,null,0,{"$error":"#DIV/0!"},{"$error":"#DIV/0!"},{"$error":"#DIV/0!"}]
[null,null,null,null,null,null,null,null,0,{"$error":"#DIV/0!"},{"$error":"#DIV/0!"},{"$error":"#DIV/0!"}]
[null,null,null,null,null,null,null,null,0,{"$error":"#DIV/0!"},{"$error":"#DIV/0!"},{"$error":"#DIV/0!"}]
[null,null,null,null,null,null,null,null,0,{"$error":"#DIV/0!"},{"$error":"#DIV/0!"},{"$error":"#DIV/0!"}]
[null,null,null,null,null,null,null,null,0,{"$error":"#DIV/0!"},{"$error":"#DIV/0!"},{"$error":"#DIV/0!"}]
[null,null,null,null,null,null,null,null,0,{"$error":"#DIV/0!"},{"$error":"#DIV/0!"},{"$error":"#DIV/0!"}]
[null,null,null,null,null,null,null,null,0,{"$error":"#DIV/0!"},{"$error":"#DIV/0!"},{"$error":"#DIV/0!"}]
[null,null,null,null,null,null,null,null,0,{"$error":"#DIV/0!"},{"$error":"#DIV/0!"},{"$error":"#DIV/0!"}]
[null,null,null,null,null,null,null,null,0,{"$f":"IF(F37337/G37337=1,F37337,J37336)","v":{"$error":"#DIV/0!"}},{"$error":"#DIV/0!"},{"$error":"#DIV/0!"}]
[null,null,null,null,null,null,null,null,0,{"$error":"#DIV/0!"},{"$error":"#DIV/0!"},{"$error":"#DIV/0!"}]
[null,null,null,null,null,null,null,null,0,{"$error":"#DIV/0!"},{"$error":"#DIV/0!"},{"$error":"#DIV/0!"}]
[null,null,null,null,null,null,null,null,0,{"$error":"#DIV/0!"},{"$error":"#DIV/0!"},{"$error":"#DIV/0!"}]
[null,null,null,null,null,null,null,null,0,{"$f":"IF(F37465/G37465=1,F37465,J37464)","v":{"$error":"#DIV/0!"}},{"$error":"#DIV/0!"},{"$error":"#DIV/0!"}]
[null,null,null,null,null,null,null,null,0,{"$error":"#DIV/0!"},{"$error":"#DIV/0!"},{"$error":"#DIV/0!"}]
[null,null,null,null,null,null,null,null,0,{"$error":"#DIV/0!"},{"$error":"#DIV/0!"},{"$error":"#DIV/0!"}]
[null,null,null,null,null,null,null,null,0,{"$error":"#DIV/0!"},{"$error":"#DIV/0!"},{"$error":"#DIV/0!"}]
[null,null,null,null,null,null,null,null,0,{"$error":"#DIV/0!"},{"$error":"#DIV/0!"},{"$error":"#DIV/0!"}]
[null,null,null,null,null,null,null,null,0,{"$error":"#DIV/0!"},{"$error":"#DIV/0!"},{"$error":"#DIV/0!"}]
[null,null,null,null,null,null,null,null,0,{"$error":"#DIV/0!"},{"$error":"#DIV/0!"},{"$error":"#DIV/0!"}]
[null,null,null,null,null,null,null,null,0,{"$error":"#DIV/0!"},{"$error":"#DIV/0!"},{"$error":"#DIV/0!"}]
[null,null,null,null,null,null,null,null,0,{"$error":"#DIV/0!"},{"$error":"#DIV/0!"},{"$error":"#DIV/0!"}]
[null,null,null,null,null,null,null,null,0,{"$error":"#DIV/0!"},{"$error":"#DIV/0!"},{"$error":"#DIV/0!"}]
[null,null,null,null,null,null,null,null,0,{"$error":"#DIV/0!"},{"$error":"#DIV/0!"},{"$error":"#DIV/0!"}]
[null,null,null,null,null,null,null,null,0,{"$error":"#DIV/0!"},{"$error":"#DIV/0!"},{"$error":"#DIV/0!"}]
[null,null,null,null,null,null,null,null,0,{"$error":"#DIV/0!"},{"$error":"#DIV/0!"},{"$error":"#DIV/0!"}]
[null,null,null,null,null,null,null,null,0,{"$error":"#DIV/0!"},{"$error":"#DIV/0!"},{"$error":"#DIV/0!"}]
[null,null,null,null,null,null,null,null,0,{"$error":"#DIV/0!"},{"$error":"#DIV/0!"},{"$error":"#DIV/0!"}]
[null,null,null,null,null,null,null,null,0,{"$error":"#DIV/0!"},{"$error":"#DIV/0!"},{"$error":"#DIV/0!"}]
[null,null,null,null,null,null,null,null,0,{"$error":"#DIV/0!"},{"$error":"#DIV/0!"},{"$error":"#DIV/0!"}]
[null,null,null,null,null,null,null,null,0,{"$error":"#DIV/0!"},{"$error":"#DIV/0!"},{"$error":"#DIV/0!"}]
[null,null,null,null,null,null,null,null,0,{"$error":"#DIV/0!"},{"$error":"#DIV/0!"},{"$error":"#DIV/0!"}]
[null,null,null,null,null,null,null,null,0,{"$error":"#DIV/0!"},{"$error":"#DIV/0!"},{"$error":"#DIV/0!"}]
[null,null,null,null,null,null,null,null,0,{"$error":"#DIV/0!"},{"$error":"#DIV/0!"},{"$error":"#DIV/0!"}]
[null,null,null,null,null,null,null,null,0,{"$error":"#DIV/0!"},{"$error":"#DIV/0!"},{"$error":"#DIV/0!"}]
[null,null,null,null,null,null,null,null,0,{"$error":"#DIV/0!"},{"$error":"#DIV/0!"},{"$error":"#DIV/0!"}]
[null,null,null,null,null,null,null,null,0,{"$error":"#DIV/0!"},{"$error":"#DIV/0!"},{"$error":"#DIV/0!"}]
[null,null,null,null,null,null,null,null,0,{"$error":"#DIV/0!"},{"$error":"#DIV/0!"},{"$error":"#DIV/0!"}]
[null,null,null,null,null,null,null,null,0,{"$error":"#DIV/0!"},{"$error":"#DIV/0!"},{"$error":"#DIV/0!"}]
[null,null,null,null,null,null,null,null,0,{"$error":"#DIV/0!"},{"$error":"#DIV/0!"},{"$error":"#DIV/0!"}]
[null,null,null,null,null,null,null,null,0,{"$error":"#DIV/0!"},{"$error":"#DIV/0!"},{"$error":"#DIV/0!"}]
[null,null,null,null,null,null,null,null,0,{"$error":"#DIV/0!"},{"$error":"#DIV/0!"},{"$error":"#DIV/0!"}]
[null,null,null,null,null,null,null,null,0,{"$error":"#DIV/0!"},{"$error":"#DIV/0!"},{"$error":"#DIV/0!"}]
[null,null,null,null,null,null,null,null,0,{"$error":"#DIV/0!"},{"$error":"#DIV/0!"},{"$error":"#DIV/0!"}]
[null,null,null,null,null,null,null,null,0,{"$error":"#DIV/0!"},{"$error":"#DIV/0!"},{"$error":"#DIV/0!"}]
[null,null,null,null,null,null,null,null,0,{"$error":"#DIV/0!"},{"$error":"#DIV/0!"},{"$error":"#DIV/0!"}]
[null,null,null,null,null,null,null,null,{"$f":"IF(F38742<>G38742,1,0)","v":0},{"$error":"#DIV/0!"},{"$f":"F38742/J38742","v":{"$error":"#DIV/0!"}},{"$error":"#DIV/0!"}]
[null,null,null,null,null,null,null,null,0,{"$error":"#DIV/0!"},{"$error":"#DIV/0!"},{"$error":"#DIV/0!"}]
[null,null,null,null,null,null,null,null,0,{"$error":"#DIV/0!"},{"$error":"#DIV/0!"},{"$error":"#DIV/0!"}]
[null,null,null,null,null,null,null,null,0,{"$error":"#DIV/0!"},{"$error":"#DIV/0!"},{"$error":"#DIV/0!"}]
[null,null,null,null,null,null,null,null,0,{"$error":"#DIV/0!"},{"$error":"#DIV/0!"},{"$error":"#DIV/0!"}]
[null,null,null,null,null,null,null,null,0,{"$error":"#DIV/0!"},{"$error":"#DIV/0!"},{"$error":"#DIV/0!"}]
[null,null,null,null,null,null,null,null,0,{"$error":"#DIV/0!"},{"$error":"#DIV/0!"},{"$error":"#DIV/0!"}]
[null,null,null,null,null,null,null,null,0,{"$error":"#DIV/0!"},{"$error":"#DIV/0!"},{"$error":"#DIV/0!"}]
[null,null,null,null,null,null,null,null,0,{"$error":"#DIV/0!"},{"$error":"#DIV/0!"},{"$error":"#DIV/0!"}]
[null,null,null,null,null,null,null,null,0,{"$error":"#DIV/0!"},{"$error":"#DIV/0!"},{"$error":"#DIV/0!"}]
[null,null,null,null,null,null,null,null,0,{"$error":"#DIV/0!"},{"$error":"#DIV/0!"},{"$error":"#DIV/0!"}]
[null,null,null,null,null,null,null,null,0,{"$error":"#DIV/0!"},{"$error":"#DIV/0!"},{"$error":"#DIV/0!"}]
[null,null,null,null,null,null,null,null,0,{"$error":"#DIV/0!"},{"$error":"#DIV/0!"},{"$error":"#DIV/0!"}]
[null,null,null,null,null,null,null,null,0,{"$error":"#DIV/0!"},{"$error":"#DIV/0!"},{"$error":"#DIV/0!"}]
[null,null,null,null,null,null,null,null,0,{"$error":"#DIV/0!"},{"$error":"#DIV/0!"},{"$error":"#DIV/0!"}]
[null,null,null,null,null,null,null,null,0,{"$error":"#DIV/0!"},{"$error":"#DIV/0!"},{"$error":"#DIV/0!"}]
[null,null,null,null,null,null,null,null,0,{"$error":"#DIV/0!"},{"$error":"#DIV/0!"},{"$error":"#DIV/0!"}]
[null,null,null,null,null,null,null,null,0,{"$error":"#DIV/0!"},{"$error":"#DIV/0!"},{"$error":"#DIV/0!"}]
[null,null,null,null,null,null,null,null,0,{"$error":"#DIV/0!"},{"$error":"#DIV/0!"},{"$f":"G39447/J39447","v":{"$error":"#DIV/0!"}}]
[null,null,null,null,null,null,null,null,0,{"$error":"#DIV/0!"},{"$error":"#DIV/0!"},{"$error":"#DIV/0!"}]
[null,null,null,null,null,null,null,null,0,{"$error":"#DIV/0!"},{"$error":"#DIV/0!"},{"$error":"#DIV/0!"}]
[null,null,null,null,null,null,null,null,0,{"$error":"#DIV/0!"},{"$error":"#DIV/0!"},{"$error":"#DIV/0!"}]
[null,null,null,null,null,null,null,null,0,{"$error":"#DIV/0!"},{"$error":"#DIV/0!"},{"$error":"#DIV/0!"}]
[null,null,null,null,null,null,null,null,0,{"$error":"#DIV/0!"},{"$error":"#DIV/0!"},{"$error":"#DIV/0!"}]
[null,null,null,null,null,null,null,null,0,{"$error":"#DIV/0!"},{"$error":"#DIV/0!"},{"$error":"#DIV/0!"}]
[null,null,null,null,null,null,null,null,0,{"$error":"#DIV/0!"},{"$error":"#DIV/0!"},{"$error":"#DIV/0!"}]
[null,null,null,null,null,null,null,null,0,{"$error":"#DIV/0!"},{"$error":"#DIV/0!"},{"$error":"#DIV/0!"}]
[null,null,null,null,null,null,null,null,0,{"$error":"#DIV/0!"},{"$error":"#DIV/0!"},{"$error":"#DIV/0!"}]
[null,null,null,null,null,null,null,null,0,{"$error":"#DIV/0!"},{"$error":"#DIV/0!"},{"$error":"#DIV/0!"}]
[null,null,null,null,null,null,null,null,0,{"$error":"#DIV/0!"},{"$error":"#DIV/0!"},{"$error":"#DIV/0!"}]
[null,null,null,null,null,null,null,null,0,{"$error":"#DIV/0!"},{"$error":"#DIV/0!"},{"$error":"#DIV/0!"}]
[null,null,null,null,null,null,null,null,0,{"$error":"#DIV/0!"},{"$error":"#DIV/0!"},{"$error":"#DIV/0!"}]
[null,null,null,null,null,null,null,null,0,{"$error":"#DIV/0!"},{"$error":"#DIV/0!"},{"$error":"#DIV/0!"}]
[null,null,null,null,null,null,null,null,0,{"$error":"#DIV/0!"},{"$error":"#DIV/0!"},{"$error":"#DIV/0!"}]
[null,null,null,null,null,null,null,null,0,{"$error":"#DIV/0!"},{"$error":"#DIV/0!"},{"$error":"#DIV/0!"}]
[null,null,null,null,null,null,null,null,0,{"$error":"#DIV/0!"},{"$error":"#DIV/0!"},{"$error":"#DIV/0!"}]
[null,null,null,null,null,null,null,null,0,{"$error":"#DIV/0!"},{"$error":"#DIV/0!"},{"$error":"#DIV/0!"}]
[null,null,null,null,null,null,null,null,0,{"$error":"#DIV/0!"},{"$error":"#DIV/0!"},{"$error":"#DIV/0!"}]
[null,null,null,null,null,null,null,null,0,{"$error":"#DIV/0!"},{"$error":"#DIV/0!"},{"$error":"#DIV/0!"}]
[null,null,null,null,null,null,null,null,0,{"$error":"#DIV/0!"},{"$error":"#DIV/0!"},{"$error":"#DIV/0!"}]
[null,null,null,null,null,null,null,null,0,{"$error":"#DIV/0!"},{"$error":"#DIV/0!"},{"$error":"#DIV/0!"}]
[null,null,null,null,null,null,null,null,0,{"$error":"#DIV/0!"},{"$error":"#DIV/0!"},{"$error":"#DIV/0!"}]
[null,null,null,null,null,null,null,null,0,{"$error":"#DIV/0!"},{"$error":"#DIV/0!"},{"$error":"#DIV/0!"}]
[null,null,null,null,null,null,null,null,0,{"$f":"IF(F40409/G40409=1,F40409,J40408)","v":{"$error":"#DIV/0!"}},{"$error":"#DIV/0!"},{"$error":"#DIV/0!"}]
[null,null,null,null,null,null,null,null,0,{"$error":"#DIV/0!"},{"$error":"#DIV/0!"},{"$error":"#DIV/0!"}]
[null,null,null,null,null,null,null,null,0,{"$error":"#DIV/0!"},{"$error":"#DIV/0!"},{"$error":"#DIV/0!"}]
[null,null,null,null,null,null,null,null,0,{"$error":"#DIV/0!"},{"$error":"#DIV/0!"},{"$error":"#DIV/0!"}]
[null,null,null,null,null,null,null,null,0,{"$f":"IF(F40601/G40601=1,F40601,J40600)","v":{"$error":"#DIV/0!"}},{"$error":"#DIV/0!"},{"$error":"#DIV/0!"}]
[null,null,null,null,null,null,null,null,0,{"$error":"#DIV/0!"},{"$error":"#DIV/0!"},{"$error":"#DIV/0!"}]
[null,null,null,null,null,null,null,null,0,{"$error":"#DIV/0!"},{"$error":"#DIV/0!"},{"$error":"#DIV/0!"}]
[null,null,null,null,null,null,null,null,0,{"$error":"#DIV/0!"},{"$error":"#DIV/0!"},{"$error":"#DIV/0!"}]
[null,null,null,null,null,null,null,null,0,{"$error":"#DIV/0!"},{"$error":"#DIV/0!"},{"$error":"#DIV/0!"}]
[null,null,null,null,null,null,null,null,0,{"$error":"#DIV/0!"},{"$error":"#DIV/0!"},{"$error":"#DIV/0!"}]
[null,null,null,null,null,null,null,null,0,{"$error":"#DIV/0!"},{"$error":"#DIV/0!"},{"$error":"#DIV/0!"}]
[null,null,null,null,null,null,null,null,0,{"$error":"#DIV/0!"},{"$error":"#DIV/0!"},{"$error":"#DIV/0!"}]
[null,null,null,null,null,null,null,null,0,{"$error":"#DIV/0!"},{"$error":"#DIV/0!"},{"$error":"#DIV/0!"}]
[null,null,null,null,null,null,null,null,0,{"$error":"#DIV/0!"},{"$error":"#DIV/0!"},{"$error":"#DIV/0!"}]
[null,null,null,null,null,null,null,null,0,{"$error":"#DIV/0!"},{"$error":"#DIV/0!"},{"$error":"#DIV/0!"}]
[null,null,null,null,null,null,null,null,0,{"$error":"#DIV/0!"},{"$error":"#DIV/0!"},{"$error":"#DIV/0!"}]
[null,null,null,null,null,null,null,null,0,{"$error":"#DIV/0!"},{"$error":"#DIV/0!"},{"$error":"#DIV/0!"}]
[null,null,null,null,null,null,null,null,0,{"$error":"#DIV/0!"},{"$error":"#DIV/0!"},{"$error":"#DIV/0!"}]
[null,null,null,null,null,null,null,null,0,{"$error":"#DIV/0!"},{"$error":"#DIV/0!"},{"$error":"#DIV/0!"}]
[null,null,null,null,null,null,null,null,0,{"$error":"#DIV/0!"},{"$error":"#DIV/0!"},{"$error":"#DIV/0!"}]
[null,null,null,null,null,null,null,null,0,{"$error":"#DIV/0!"},{"$error":"#DIV/0!"},{"$error":"#DIV/0!"}]
[null,null,null,null,null,null,null,null,0,{"$error":"#DIV/0!"},{"$error":"#DIV/0!"},{"$error":"#DIV/0!"}]
[null,null,null,null,null,null,null,null,0,{"$error":"#DIV/0!"},{"$error":"#DIV/0!"},{"$error":"#DIV/0!"}]
[null,null,null,null,null,null,null,null,0,{"$error":"#DIV/0!"},{"$error":"#DIV/0!"},{"$error":"#DIV/0!"}]
[null,null,null,null,null,null,null,null,0,{"$error":"#DIV/0!"},{"$error":"#DIV/0!"},{"$error":"#DIV/0!"}]
[null,null,null,null,null,null,null,null,0,{"$error":"#DIV/0!"},{"$error":"#DIV/0!"},{"$error":"#DIV/0!"}]
[null,null,null,null,null,null,null,null,0,{"$error":"#DIV/0!"},{"$error":"#DIV/0!"},{"$error":"#DIV/0!"}]
[null,null,null,null,null,null,null,null,0,{"$error":"#DIV/0!"},{"$error":"#DIV/0!"},{"$error":"#DIV/0!"}]
[null,null,null,null,null,null,null,null,0,{"$error":"#DIV/0!"},{"$error":"#DIV/0!"},{"$error":"#DIV/0!"}]
[null,null,null,null,null,null,null,null,0,{"$error":"#DIV/0!"},{"$error":"#DIV/0!"},{"$error":"#DIV/0!"}]
[null,null,null,null,null,null,null,null,0,{"$error":"#DIV/0!"},{"$error":"#DIV/0!"},{"$error":"#DIV/0!"}]
[null,null,null,null,null,null,null,null,0,{"$error":"#DIV/0!"},{"$error":"#DIV/0!"},{"$error":"#DIV/0!"}]
[null,null,null,null,null,null,null,null,0,{"$error":"#DIV/0!"},{"$error":"#DIV/0!"},{"$error":"#DIV/0!"}]
[null,null,null,null,null,null,null,null,0,{"$error":"#DIV/0!"},{"$error":"#DIV/0!"},{"$error":"#DIV/0!"}]
[null,null,null,null,null,null,null,null,0,{"$error":"#DIV/0!"},{"$error":"#DIV/0!"},{"$error":"#DIV/0!"}]
[null,null,null,null,null,null,null,null,0,{"$error":"#DIV/0!"},{"$error":"#DIV/0!"},{"$error":"#DIV/0!"}]
[null,null,null,null,null,null,null,null,0,{"$error":"#DIV/0!"},{"$error":"#DIV/0!"},{"$error":"#DIV/0!"}]
[null,null,null,null,null,null,null,null,0,{"$error":"#DIV/0!"},{"$error":"#DIV/0!"},{"$error":"#DIV/0!"}]
[null,null,null,null,null,null,null,null,0,{"$error":"#DIV/0!"},{"$error":"#DIV/0!"},{"$error":"#DIV/0!"}]
[null,null,null,null,null,null,null,null,0,{"$error":"#DIV/0!"},{"$error":"#DIV/0!"},{"$error":"#DIV/0!"}]
[null,null,null,null,null,null,null,null,0,{"$error":"#DIV/0!"},{"$error":"#DIV/0!"},{"$error":"#DIV/0!"}]
[null,null,null,null,null,null,null,null,0,{"$error":"#DIV/0!"},{"$error":"#DIV/0!"},{"$error":"#DIV/0!"}]
[null,null,null,null,null,null,null,null,0,{"$error":"#DIV/0!"},{"$error":"#DIV/0!"},{"$error":"#DIV/0!"}]
[null,null,null,null,null,null,null,null,0,{"$error":"#DIV/0!"},{"$error":"#DIV/0!"},{"$error":"#DIV/0!"}]
[null,null,null,null,null,null,null,null,0,{"$error":"#DIV/0!"},{"$error":"#DIV/0!"},{"$error":"#DIV/0!"}]
[null,null,null,null,null,null,null,null,0,{"$error":"#DIV/0!"},{"$error":"#DIV/0!"},{"$error":"#DIV/0!"}]
[null,null,null,null,null,null,null,null,0,{"$error":"#DIV/0!"},{"$error":"#DIV/0!"},{"$error":"#DIV/0!"}]
[null,null,null,null,null,null,null,null,0,{"$error":"#DIV/0!"},{"$error":"#DIV/0!"},{"$error":"#DIV/0!"}]
[null,null,null,null,null,null,null,null,0,{"$error":"#DIV/0!"},{"$error":"#DIV/0!"},{"$error":"#DIV/0!"}]
[null,null,null,null,null,null,null,null,0,{"$error":"#DIV/0!"},{"$error":"#DIV/0!"},{"$error":"#DIV/0!"}]
[null,null,null,null,null,null,null,null,0,{"$error":"#DIV/0!"},{"$error":"#DIV/0!"},{"$error":"#DIV/0!"}]
[null,null,null,null,null,null,null,null,0,{"$error":"#DIV/0!"},{"$error":"#DIV/0!"},{"$error":"#DIV/0!"}]
[null,null,null,null,null,null,null,null,0,{"$error":"#DIV/0!"},{"$error":"#DIV/0!"},{"$error":"#DIV/0!"}]
[null,null,null,null,null,null,null,null,0,{"$error":"#DIV/0!"},{"$error":"#DIV/0!"},{"$error":"#DIV/0!"}]
[null,null,null,null,null,null,null,null,0,{"$error":"#DIV/0!"},{"$error":"#DIV/0!"},{"$error":"#DIV/0!"}]
[null,null,null,null,null,null,null,null,0,{"$error":"#DIV/0!"},{"$error":"#DIV/0!"},{"$error":"#DIV/0!"}]
[null,null,null,null,null,null,null,null,{"$f":"IF(F42582<>G42582,1,0)","v":0},{"$error":"#DIV/0!"},{"$f":"F42582/J42582","v":{"$error":"#DIV/0!"}},{"$error":"#DIV/0!"}]
[null,null,null,null,null,null,null,null,0,{"$error":"#DIV/0!"},{"$error":"#DIV/0!"},{"$error":"#DIV/0!"}]
[null,null,null,null,null,null,null,null,0,{"$error":"#DIV/0!"},{"$error":"#DIV/0!"},{"$error":"#DIV/0!"}]
[null,null,null,null,null,null,null,null,0,{"$error":"#DIV/0!"},{"$error":"#DIV/0!"},{"$f":"G42711/J42711","v":{"$error":"#DIV/0!"}}]
[null,null,null,null,null,null,null,null,0,{"$error":"#DIV/0!"},{"$error":"#DIV/0!"},{"$error":"#DIV/0!"}]
[null,null,null,null,null,null,null,null,0,{"$error":"#DIV/0!"},{"$error":"#DIV/0!"},{"$error":"#DIV/0!"}]
[null,null,null,null,null,null,null,null,0,{"$error":"#DIV/0!"},{"$error":"#DIV/0!"},{"$error":"#DIV/0!"}]
[null,null,null,null,null,null,null,null,0,{"$error":"#DIV/0!"},{"$error":"#DIV/0!"},{"$error":"#DIV/0!"}]
[null,null,null,null,null,null,null,null,0,{"$error":"#DIV/0!"},{"$error":"#DIV/0!"},{"$error":"#DIV/0!"}]
[null,null,null,null,null,null,null,null,0,{"$error":"#DIV/0!"},{"$error":"#DIV/0!"},{"$error":"#DIV/0!"}]
[null,null,null,null,null,null,null,null,0,{"$error":"#DIV/0!"},{"$error":"#DIV/0!"},{"$error":"#DIV/0!"}]
[null,null,null,null,null,null,null,null,0,{"$error":"#DIV/0!"},{"$error":"#DIV/0!"},{"$error":"#DIV/0!"}]
[null,null,null,null,null,null,null,null,0,{"$error":"#DIV/0!"},{"$error":"#DIV/0!"},{"$error":"#DIV/0!"}]
[null,null,null,null,null,null,null,null,0,{"$error":"#DIV/0!"},{"$error":"#DIV/0!"},{"$error":"#DIV/0!"}]
[null,null,null,null,null,null,null,null,0,{"$error":"#DIV/0!"},{"$error":"#DIV/0!"},{"$error":"#DIV/0!"}]
[null,null,null,null,null,null,null,null,0,{"$error":"#DIV/0!"},{"$error":"#DIV/0!"},{"$error":"#DIV/0!"}]
[null,null,null,null,null,null,null,null,0,{"$error":"#DIV/0!"},{"$error":"#DIV/0!"},{"$error":"#DIV/0!"}]
[null,null,null,null,null,null,null,null,0,{"$error":"#DIV/0!"},{"$error":"#DIV/0!"},{"$error":"#DIV/0!"}]
[null,null,null,null,null,null,null,null,0,{"$error":"#DIV/0!"},{"$error":"#DIV/0!"},{"$error":"#DIV/0!"}]
[null,null,null,null,null,null,null,null,0,{"$error":"#DIV/0!"},{"$error":"#DIV/0!"},{"$error":"#DIV/0!"}]
[null,null,null,null,null,null,null,null,0,{"$error":"#DIV/0!"},{"$error":"#DIV/0!"},{"$error":"#DIV/0!"}]
[null,null,null,null,null,null,null,null,0,{"$error":"#DIV/0!"},{"$error":"#DIV/0!"},{"$error":"#DIV/0!"}]
[null,null,null,null,null,null,null,null,0,{"$error":"#DIV/0!"},{"$error":"#DIV/0!"},{"$error":"#DIV/0!"}]
[null,null,null,null,null,null,null,null,0,{"$error":"#DIV/0!"},{"$error":"#DIV/0!"},{"$error":"#DIV/0!"}]
[null,null,null,null,null,null,null,null,0,{"$error":"#DIV/0!"},{"$error":"#DIV/0!"},{"$error":"#DIV/0!"}]
[null,null,null,null,null,null,null,null,0,{"$error":"#DIV/0!"},{"$error":"#DIV/0!"},{"$error":"#DIV/0!"}]
[null,null,null,null,null,null,null,null,0,{"$error":"#DIV/0!"},{"$error":"#DIV/0!"},{"$error":"#DIV/0!"}]
[null,null,null,null,null,null,null,null,0,{"$error":"#DIV/0!"},{"$error":"#DIV/0!"},{"$error":"#DIV/0!"}]
[null,null,null,null,null,null,null,null,0,{"$f":"IF(F43673/G43673=1,F43673,J43672)","v":{"$error":"#DIV/0!"}},{"$error":"#DIV/0!"},{"$error":"#DIV/0!"}]
[null,null,null,null,null,null,null,null,0,{"$error":"#DIV/0!"},{"$error":"#DIV/0!"},{"$error":"#DIV/0!"}]
[null,null,null,null,null,null,null,null,0,{"$error":"#DIV/0!"},{"$error":"#DIV/0!"},{"$error":"#DIV/0!"}]
[null,null,null,null,null,null,null,null,0,{"$error":"#DIV/0!"},{"$error":"#DIV/0!"},{"$error":"#DIV/0!"}]
[null,null,null,null,null,null,null,null,0,{"$error":"#DIV/0!"},{"$error":"#DIV/0!"},{"$error":"#DIV/0!"}]
[null,null,null,null,null,null,null,null,0,{"$error":"#DIV/0!"},{"$error":"#DIV/0!"},{"$error":"#DIV/0!"}]
[null,null,null,null,null,null,null,null,0,{"$error":"#DIV/0!"},{"$error":"#DIV/0!"},{"$error":"#DIV/0!"}]
[null,null,null,null,null,null,null,null,0,{"$error":"#DIV/0!"},{"$error":"#DIV/0!"},{"$error":"#DIV/0!"}]
[null,null,null,null,null,null,null,null,0,{"$error":"#DIV/0!"},{"$error":"#DIV/0!"},{"$error":"#DIV/0!"}]
[null,null,null,null,null,null,null,null,0,{"$error":"#DIV/0!"},{"$error":"#DIV/0!"},{"$error":"#DIV/0!"}]
[null,null,null,null,null,null,null,null,0,{"$error":"#DIV/0!"},{"$error":"#DIV/0!"},{"$error":"#DIV/0!"}]
[null,null,null,null,null,null,null,null,0,{"$error":"#DIV/0!"},{"$error":"#DIV/0!"},{"$error":"#DIV/0!"}]
[null,null,null,null,null,null,null,null,0,{"$error":"#DIV/0!"},{"$error":"#DIV/0!"},{"$error":"#DIV/0!"}]
[null,null,null,null,null,null,null,null,0,{"$error":"#DIV/0!"},{"$error":"#DIV/0!"},{"$error":"#DIV/0!"}]
[null,null,null,null,null,null,null,null,0,{"$error":"#DIV/0!"},{"$error":"#DIV/0!"},{"$error":"#DIV/0!"}]
[null,null,null,null,null,null,null,null,0,{"$error":"#DIV/0!"},{"$error":"#DIV/0!"},{"$error":"#DIV/0!"}]
[null,null,null,null,null,null,null,null,0,{"$error":"#DIV/0!"},{"$error":"#DIV/0!"},{"$error":"#DIV/0!"}]
[null,null,null,null,null,null,null,null,0,{"$error":"#DIV/0!"},{"$error":"#DIV/0!"},{"$error":"#DIV/0!"}]
[null,null,null,null,null,null,null,null,0,{"$error":"#DIV/0!"},{"$error":"#DIV/0!"},{"$error":"#DIV/0!"}]
[null,null,null,null,null,null,null,null,0,{"$error":"#DIV/0!"},{"$error":"#DIV/0!"},{"$error":"#DIV/0!"}]
[null,null,null,null,null,null,null,null,0,{"$error":"#DIV/0!"},{"$error":"#DIV/0!"},{"$error":"#DIV/0!"}]
[null,null,null,null,null,null,null,null,{"$f":"IF(F44502<>G44502,1,0)","v":0},{"$error":"#DIV/0!"},{"$f":"F44502/J44502","v":{"$error":"#DIV/0!"}},{"$error":"#DIV/0!"}]
[null,null,null,null,null,null,null,null,0,{"$error":"#DIV/0!"},{"$error":"#DIV/0!"},{"$error":"#DIV/0!"}]
[null,null,null,null,null,null,null,null,0,{"$error":"#DIV/0!"},{"$error":"#DIV/0!"},{"$error":"#DIV/0!"}]
[null,null,null,null,null,null,null,null,0,{"$error":"#DIV/0!"},{"$error":"#DIV/0!"},{"$error":"#DIV/0!"}]
[null,null,null,null,null,null,null,null,0,{"$error":"#DIV/0!"},{"$error":"#DIV/0!"},{"$error":"#DIV/0!"}]
[null,null,null,null,null,null,null,null,0,{"$error":"#DIV/0!"},{"$error":"#DIV/0!"},{"$error":"#DIV/0!"}]
[null,null,null,null,null,null,null,null,0,{"$error":"#DIV/0!"},{"$error":"#DIV/0!"},{"$error":"#DIV/0!"}]
[null,null,null,null,null,null,null,null,0,{"$error":"#DIV/0!"},{"$error":"#DIV/0!"},{"$error":"#DIV/0!"}]
[null,null,null,null,null,null,null,null,0,{"$error":"#DIV/0!"},{"$error":"#DIV/0!"},{"$error":"#DIV/0!"}]
[null,null,null,null,null,null,null,null,0,{"$error":"#DIV/0!"},{"$error":"#DIV/0!"},{"$error":"#DIV/0!"}]
[null,null,null,null,null,null,null,null,0,{"$error":"#DIV/0!"},{"$error":"#DIV/0!"},{"$error":"#DIV/0!"}]
[null,null,null,null,null,null,null,null,0,{"$error":"#DIV/0!"},{"$error":"#DIV/0!"},{"$error":"#DIV/0!"}]
[null,null,null,null,null,null,null,null,0,{"$error":"#DIV/0!"},{"$error":"#DIV/0!"},{"$error":"#DIV/0!"}]
[null,null,null,null,null,null,null,null,0,{"$error":"#DIV/0!"},{"$error":"#DIV/0!"},{"$error":"#DIV/0!"}]
[null,null,null,null,null,null,null,null,0,{"$error":"#DIV/0!"},{"$error":"#DIV/0!"},{"$error":"#DIV/0!"}]
[null,null,null,null,null,null,null,null,0,{"$error":"#DIV/0!"},{"$error":"#DIV/0!"},{"$error":"#DIV/0!"}]
[null,null,null,null,null,null,null,null,0,{"$error":"#DIV/0!"},{"$error":"#DIV/0!"},{"$error":"#DIV/0!"}]
[null,null,null,null,null,null,null,null,0,{"$error":"#DIV/0!"},{"$error":"#DIV/0!"},{"$error":"#DIV/0!"}]
[null,null,null,null,null,null,null,null,0,{"$error":"#DIV/0!"},{"$error":"#DIV/0!"},{"$error":"#DIV/0!"}]
[null,null,null,null,null,null,null,null,0,{"$error":"#DIV/0!"},{"$error":"#DIV/0!"},{"$error":"#DIV/0!"}]
[null,null,null,null,null,null,null,null,0,{"$error":"#DIV/0!"},{"$error":"#DIV/0!"},{"$error":"#DIV/0!"}]
[null,null,null,null,null,null,null,null,0,{"$error":"#DIV/0!"},{"$error":"#DIV/0!"},{"$error":"#DIV/0!"}]
[null,null,null,null,null,null,null,null,0,{"$error":"#DIV/0!"},{"$error":"#DIV/0!"},{"$error":"#DIV/0!"}]
[null,null,null,null,null,null,null,null,0,{"$error":"#DIV/0!"},{"$error":"#DIV/0!"},{"$error":"#DIV/0!"}]
[null,null,null,null,null,null,null,null,0,{"$error":"#DIV/0!"},{"$error":"#DIV/0!"},{"$error":"#DIV/0!"}]
[null,null,null,null,null,null,null,null,0,{"$error":"#DIV/0!"},{"$error":"#DIV/0!"},{"$error":"#DIV/0!"}]
[null,null,null,null,null,null,null,null,0,{"$error":"#DIV/0!"},{"$error":"#DIV/0!"},{"$error":"#DIV/0!"}]
[null,null,null,null,null,null,null,null,0,{"$error":"#DIV/0!"},{"$error":"#DIV/0!"},{"$error":"#DIV/0!"}]
[null,null,null,null,null,null,null,null,0,{"$error":"#DIV/0!"},{"$error":"#DIV/0!"},{"$error":"#DIV/0!"}]
[null,null,null,null,null,null,null,null,0,{"$error":"#DIV/0!"},{"$error":"#DIV/0!"},{"$error":"#DIV/0!"}]
[null,null,null,null,null,null,null,null,0,{"$error":"#DIV/0!"},{"$error":"#DIV/0!"},{"$error":"#DIV/0!"}]
[null,null,null,null,null,null,null,null,0,{"$error":"#DIV/0!"},{"$error":"#DIV/0!"},{"$error":"#DIV/0!"}]
[null,null,null,null,null,null,null,null,0,{"$error":"#DIV/0!"},{"$error":"#DIV/0!"},{"$error":"#DIV/0!"}]
[null,null,null,null,null,null,null,null,0,{"$error":"#DIV/0!"},{"$error":"#DIV/0!"},{"$error":"#DIV/0!"}]
[null,null,null,null,null,null,null,null,0,{"$error":"#DIV/0!"},{"$error":"#DIV/0!"},{"$error":"#DIV/0!"}]
[null,null,null,null,null,null,null,null,0,{"$error":"#DIV/0!"},{"$error":"#DIV/0!"},{"$error":"#DIV/0!"}]
[null,null,null,null,null,null,null,null,0,{"$error":"#DIV/0!"},{"$error":"#DIV/0!"},{"$error":"#DIV/0!"}]
[null,null,null,null,null,null,null,null,0,{"$error":"#DIV/0!"},{"$error":"#DIV/0!"},{"$error":"#DIV/0!"}]
[null,null,null,null,null,null,null,null,0,{"$error":"#DIV/0!"},{"$error":"#DIV/0!"},{"$f":"G45975/J45975","v":{"$error":"#DIV/0!"}}]
[null,null,null,null,null,null,null,null,0,{"$error":"#DIV/0!"},{"$error":"#DIV/0!"},{"$error":"#DIV/0!"}]
[null,null,null,null,null,null,null,null,0,{"$error":"#DIV/0!"},{"$error":"#DIV/0!"},{"$error":"#DIV/0!"}]
[null,null,null,null,null,null,null,null,0,{"$error":"#DIV/0!"},{"$error":"#DIV/0!"},{"$error":"#DIV/0!"}]
[null,null,null,null,null,null,null,null,0,{"$error":"#DIV/0!"},{"$error":"#DIV/0!"},{"$error":"#DIV/0!"}]
[null,null,null,null,null,null,null,null,0,{"$error":"#DIV/0!"},{"$error":"#DIV/0!"},{"$error":"#DIV/0!"}]
[null,null,null,null,null,null,null,null,0,{"$error":"#DIV/0!"},{"$error":"#DIV/0!"},{"$error":"#DIV/0!"}]
[null,null,null,null,null,null,null,null,0,{"$error":"#DIV/0!"},{"$error":"#DIV/0!"},{"$f":"G46231/J46231","v":{"$error":"#DIV/0!"}}]
[null,null,null,null,null,null,null,null,0,{"$error":"#DIV/0!"},{"$error":"#DIV/0!"},{"$error":"#DIV/0!"}]
[null,null,null,null,null,null,null,null,0,{"$error":"#DIV/0!"},{"$error":"#DIV/0!"},{"$error":"#DIV/0!"}]
[null,null,null,null,null,null,null,null,0,{"$error":"#DIV/0!"},{"$error":"#DIV/0!"},{"$error":"#DIV/0!"}]
[null,null,null,null,null,null,null,null,0,{"$error":"#DIV/0!"},{"$error":"#DIV/0!"},{"$error":"#DIV/0!"}]
[null,null,null,null,null,null,null,null,0,{"$error":"#DIV/0!"},{"$error":"#DIV/0!"},{"$error":"#DIV/0!"}]
[null,null,null,null,null,null,null,null,0,{"$error":"#DIV/0!"},{"$error":"#DIV/0!"},{"$error":"#DIV/0!"}]
[null,null,null,null,null,null,null,null,0,{"$error":"#DIV/0!"},{"$error":"#DIV/0!"},{"$error":"#DIV/0!"}]
[null,null,null,null,null,null,null,null,0,{"$error":"#DIV/0!"},{"$error":"#DIV/0!"},{"$error":"#DIV/0!"}]
[null,null,null,null,null,null,null,null,0,{"$error":"#DIV/0!"},{"$error":"#DIV/0!"},{"$error":"#DIV/0!"}]
[null,null,null,null,null,null,null,null,0,{"$error":"#DIV/0!"},{"$error":"#DIV/0!"},{"$error":"#DIV/0!"}]
[null,null,null,null,null,null,null,null,0,{"$error":"#DIV/0!"},{"$error":"#DIV/0!"},{"$error":"#DIV/0!"}]
[null,null,null,null,null,null,null,null,0,{"$error":"#DIV/0!"},{"$error":"#DIV/0!"},{"$error":"#DIV/0!"}]
[null,null,null,null,null,null,null,null,0,{"$error":"#DIV/0!"},{"$error":"#DIV/0!"},{"$error":"#DIV/0!"}]
[null,null,null,null,null,null,null,null,0,{"$error":"#DIV/0!"},{"$error":"#DIV/0!"},{"$error":"#DIV/0!"}]
[null,null,null,null,null,null,null,null,0,{"$error":"#DIV/0!"},{"$error":"#DIV/0!"},{"$error":"#DIV/0!"}]
[null,null,null,null,null,null,null,null,0,{"$error":"#DIV/0!"},{"$error":"#DIV/0!"},{"$error":"#DIV/0!"}]
[null,null,null,null,null,null,null,null,0,{"$error":"#DIV/0!"},{"$error":"#DIV/0!"},{"$error":"#DIV/0!"}]
[null,null,null,null,null,null,null,null,0,{"$error":"#DIV/0!"},{"$error":"#DIV/0!"},{"$error":"#DIV/0!"}]
[null,null,null,null,null,null,null,null,0,{"$error":"#DIV/0!"},{"$error":"#DIV/0!"},{"$error":"#DIV/0!"}]
[null,null,null,null,null,null,null,null,0,{"$error":"#DIV/0!"},{"$error":"#DIV/0!"},{"$error":"#DIV/0!"}]
[null,null,null,null,null,null,null,null,0,{"$error":"#DIV/0!"},{"$error":"#DIV/0!"},{"$error":"#DIV/0!"}]
[null,null,null,null,null,null,null,null,0,{"$error":"#DIV/0!"},{"$error":"#DIV/0!"},{"$error":"#DIV/0!"}]
[null,null,null,null,null,null,null,null,0,{"$error":"#DIV/0!"},{"$error":"#DIV/0!"},{"$error":"#DIV/0!"}]
[null,null,null,null,null,null,null,null,0,{"$error":"#DIV/0!"},{"$error":"#DIV/0!"},{"$error":"#DIV/0!"}]
[null,null,null,null,null,null,null,null,0,{"$error":"#DIV/0!"},{"$error":"#DIV/0!"},{"$error":"#DIV/0!"}]
[null,null,null,null,null,null,null,null,0,{"$error":"#DIV/0!"},{"$error":"#DIV/0!"},{"$error":"#DIV/0!"}]
[null,null,null,null,null,null,null,null,0,{"$error":"#DIV/0!"},{"$error":"#DIV/0!"},{"$error":"#DIV/0!"}]
[null,null,null,null,null,null,null,null,0,{"$error":"#DIV/0!"},{"$error":"#DIV/0!"},{"$error":"#DIV/0!"}]
[null,null,null,null,null,null,null,null,0,{"$f":"IF(F47385/G47385=1,F47385,J47384)","v":{"$error":"#DIV/0!"}},{"$error":"#DIV/0!"},{"$error":"#DIV/0!"}]
[null,null,null,null,null,null,null,null,0,{"$error":"#DIV/0!"},{"$error":"#DIV/0!"},{"$error":"#DIV/0!"}]
[null,null,null,null,null,null,null,null,0,{"$error":"#DIV/0!"},{"$error":"#DIV/0!"},{"$error":"#DIV/0!"}]
[null,null,null,null,null,null,null,null,0,{"$error":"#DIV/0!"},{"$error":"#DIV/0!"},{"$error":"#DIV/0!"}]
[null,null,null,null,null,null,null,null,0,{"$error":"#DIV/0!"},{"$error":"#DIV/0!"},{"$error":"#DIV/0!"}]
[null,null,null,null,null,null,null,null,0,{"$error":"#DIV/0!"},{"$error":"#DIV/0!"},{"$error":"#DIV/0!"}]
[null,null,null,null,null,null,null,null,0,{"$error":"#DIV/0!"},{"$error":"#DIV/0!"},{"$error":"#DIV/0!"}]
[null,null,null,null,null,null,null,null,0,{"$error":"#DIV/0!"},{"$error":"#DIV/0!"},{"$error":"#DIV/0!"}]
[null,null,null,null,null,null,null,null,0,{"$error":"#DIV/0!"},{"$error":"#DIV/0!"},{"$error":"#DIV/0!"}]
[null,null,null,null,null,null,null,null,0,{"$error":"#DIV/0!"},{"$error":"#DIV/0!"},{"$error":"#DIV/0!"}]
[null,null,null,null,null,null,null,null,0,{"$error":"#DIV/0!"},{"$error":"#DIV/0!"},{"$error":"#DIV/0!"}]
[null,null,null,null,null,null,null,null,0,{"$error":"#DIV/0!"},{"$error":"#DIV/0!"},{"$error":"#DIV/0!"}]
[null,null,null,null,null,null,null,null,0,{"$error":"#DIV/0!"},{"$error":"#DIV/0!"},{"$error":"#DIV/0!"}]
[null,null,null,null,null,null,null,null,0,{"$error":"#DIV/0!"},{"$error":"#DIV/0!"},{"$error":"#DIV/0!"}]
[null,null,null,null,null,null,null,null,0,{"$error":"#DIV/0!"},{"$error":"#DIV/0!"},{"$error":"#DIV/0!"}]
[null,null,null,null,null,null,null,null,0,{"$error":"#DIV/0!"},{"$error":"#DIV/0!"},{"$error":"#DIV/0!"}]
[null,null,null,null,null,null,null,null,0,{"$error":"#DIV/0!"},{"$error":"#DIV/0!"},{"$error":"#DIV/0!"}]
[null,null,null,null,null,null,null,null,0,{"$error":"#DIV/0!"},{"$error":"#DIV/0!"},{"$error":"#DIV/0!"}]
[null,null,null,null,null,null,null,null,0,{"$error":"#DIV/0!"},{"$error":"#DIV/0!"},{"$error":"#DIV/0!"}]
[null,null,null,null,null,null,null,null,0,{"$error":"#DIV/0!"},{"$error":"#DIV/0!"},{"$error":"#DIV/0!"}]
[null,null,null,null,null,null,null,null,0,{"$error":"#DIV/0!"},{"$error":"#DIV/0!"},{"$error":"#DIV/0!"}]
[null,null,null,null,null,null,null,null,0,{"$error":"#DIV/0!"},{"$error":"#DIV/0!"},{"$error":"#DIV/0!"}]
[null,null,null,null,null,null,null,null,0,{"$error":"#DIV/0!"},{"$error":"#DIV/0!"},{"$error":"#DIV/0!"}]
[null,null,null,null,null,null,null,null,0,{"$error":"#DIV/0!"},{"$error":"#DIV/0!"},{"$error":"#DIV/0!"}]
[null,null,null,null,null,null,null,null,0,{"$error":"#DIV/0!"},{"$error":"#DIV/0!"},{"$error":"#DIV/0!"}]
[null,null,null,null,null,null,null,null,0,{"$error":"#DIV/0!"},{"$error":"#DIV/0!"},{"$error":"#DIV/0!"}]
[null,null,null,null,null,null,null,null,0,{"$error":"#DIV/0!"},{"$error":"#DIV/0!"},{"$error":"#DIV/0!"}]
[null,null,null,null,null,null,null,null,0,{"$error":"#DIV/0!"},{"$error":"#DIV/0!"},{"$error":"#DIV/0!"}]
[null,null,null,null,null,null,null,null,0,{"$error":"#DIV/0!"},{"$error":"#DIV/0!"},{"$error":"#DIV/0!"}]
[null,null,null,null,null,null,null,null,0,{"$error":"#DIV/0!"},{"$error":"#DIV/0!"},{"$error":"#DIV/0!"}]
[null,null,null,null,null,null,null,null,0,{"$error":"#DIV/0!"},{"$error":"#DIV/0!"},{"$error":"#DIV/0!"}]
[null,null,null,null,null,null,null,null,0,{"$error":"#DIV/0!"},{"$error":"#DIV/0!"},{"$error":"#DIV/0!"}]
[null,null,null,null,null,null,null,null,0,{"$error":"#DIV/0!"},{"$error":"#DIV/0!"},{"$error":"#DIV/0!"}]
[null,null,null,null,null,null,null,null,0,{"$error":"#DIV/0!"},{"$error":"#DIV/0!"},{"$error":"#DIV/0!"}]
[null,null,null,null,null,null,null,null,0,{"$error":"#DIV/0!"},{"$error":"#DIV/0!"},{"$error":"#DIV/0!"}]
[null,null,null,null,null,null,null,null,0,{"$error":"#DIV/0!"},{"$error":"#DIV/0!"},{"$error":"#DIV/0!"}]
[null,null,null,null,null,null,null,null,0,{"$error":"#DIV/0!"},{"$error":"#DIV/0!"},{"$error":"#DIV/0!"}]
[null,null,null,null,null,null,null,null,{"$f":"IF(F48790<>G48790,1,0)","v":0},{"$error":"#DIV/0!"},{"$f":"F48790/J48790","v":{"$error":"#DIV/0!"}},{"$error":"#DIV/0!"}]
[null,null,null,null,null,null,null,null,0,{"$error":"#DIV/0!"},{"$error":"#DIV/0!"},{"$error":"#DIV/0!"}]
[null,null,null,null,null,null,null,null,0,{"$error":"#DIV/0!"},{"$error":"#DIV/0!"},{"$error":"#DIV/0!"}]
[null,null,null,null,null,null,null,null,0,{"$error":"#DIV/0!"},{"$error":"#DIV/0!"},{"$error":"#DIV/0!"}]
[null,null,null,null,null,null,null,null,0,{"$error":"#DIV/0!"},{"$error":"#DIV/0!"},{"$error":"#DIV/0!"}]
[null,null,null,null,null,null,null,null,0,{"$error":"#DIV/0!"},{"$error":"#DIV/0!"},{"$error":"#DIV/0!"}]
[null,null,null,null,null,null,null,null,0,{"$error":"#DIV/0!"},{"$error":"#DIV/0!"},{"$error":"#DIV/0!"}]
[null,null,null,null,null,null,null,null,0,{"$error":"#DIV/0!"},{"$error":"#DIV/0!"},{"$error":"#DIV/0!"}]
[null,null,null,null,null,null,null,null,0,{"$error":"#DIV/0!"},{"$error":"#DIV/0!"},{"$error":"#DIV/0!"}]
[null,null,null,null,null,null,null,null,0,{"$error":"#DIV/0!"},{"$error":"#DIV/0!"},{"$error":"#DIV/0!"}]
[null,null,null,null,null,null,null,null,0,{"$error":"#DIV/0!"},{"$error":"#DIV/0!"},{"$error":"#DIV/0!"}]
[null,null,null,null,null,null,null,null,0,{"$error":"#DIV/0!"},{"$error":"#DIV/0!"},{"$error":"#DIV/0!"}]
[null,null,null,null,null,null,null,null,0,{"$error":"#DIV/0!"},{"$error":"#DIV/0!"},{"$error":"#DIV/0!"}]
[null,null,null,null,null,null,null,null,0,{"$error":"#DIV/0!"},{"$error":"#DIV/0!"},{"$error":"#DIV/0!"}]
[null,null,null,null,null,null,null,null,0,{"$error":"#DIV/0!"},{"$error":"#DIV/0!"},{"$error":"#DIV/0!"}]
[null,null,null,null,null,null,null,null,0,{"$error":"#DIV/0!"},{"$error":"#DIV/0!"},{"$error":"#DIV/0!"}]
[null,null,null,null,null,null,null,null,0,{"$error":"#DIV/0!"},{"$error":"#DIV/0!"},{"$error":"#DIV/0!"}]
[null,null,null,null,null,null,null,null,0,{"$error":"#DIV/0!"},{"$error":"#DIV/0!"},{"$error":"#DIV/0!"}]
[null,null,null,null,null,null,null,null,0,{"$error":"#DIV/0!"},{"$error":"#DIV/0!"},{"$f":"G49495/J49495","v":{"$error":"#DIV/0!"}}]
[null,null,null,null,null,null,null,null,0,{"$error":"#DIV/0!"},{"$error":"#DIV/0!"},{"$error":"#DIV/0!"}]
[null,null,null,null,null,null,null,null,0,{"$error":"#DIV/0!"},{"$error":"#DIV/0!"},{"$error":"#DIV/0!"}]
[null,null,null,null,null,null,null,null,0,{"$error":"#DIV/0!"},{"$error":"#DIV/0!"},{"$error":"#DIV/0!"}]
[null,null,null,null,null,null,null,null,0,{"$error":"#DIV/0!"},{"$error":"#DIV/0!"},{"$error":"#DIV/0!"}]
[null,null,null,null,null,null,null,null,0,{"$error":"#DIV/0!"},{"$error":"#DIV/0!"},{"$error":"#DIV/0!"}]
[null,null,null,null,null,null,null,null,0,{"$error":"#DIV/0!"},{"$error":"#DIV/0!"},{"$error":"#DIV/0!"}]
[null,null,null,null,null,null,null,null,0,{"$error":"#DIV/0!"},{"$error":"#DIV/0!"},{"$error":"#DIV/0!"}]
[null,null,null,null,null,null,null,null,0,{"$error":"#DIV/0!"},{"$error":"#DIV/0!"},{"$error":"#DIV/0!"}]
[null,null,null,null,null,null,null,null,0,{"$error":"#DIV/0!"},{"$error":"#DIV/0!"},{"$error":"#DIV/0!"}]
[null,null,null,null,null,null,null,null,0,{"$error":"#DIV/0!"},{"$error":"#DIV/0!"},{"$error":"#DIV/0!"}]
[null,null,null,null,null,null,null,null,0,{"$error":"#DIV/0!"},{"$error":"#DIV/0!"},{"$error":"#DIV/0!"}]
[null,null,null,null,null,null,null,null,0,{"$error":"#DIV/0!"},{"$error":"#DIV/0!"},{"$error":"#DIV/0!"}]
[null,null,null,null,null,null,null,null,0,{"$error":"#DIV/0!"},{"$error":"#DIV/0!"},{"$error":"#DIV/0!"}]
[null,null,null,null,null,null,null,null,0,{"$error":"#DIV/0!"},{"$error":"#DIV/0!"},{"$error":"#DIV/0!"}]
[null,null,null,null,null,null,null,null,0,{"$error":"#DIV/0!"},{"$error":"#DIV/0!"},{"$error":"#DIV/0!"}]
[null,null,null,null,null,null,null,null,0,{"$error":"#DIV/0!"},{"$error":"#DIV/0!"},{"$error":"#DIV/0!"}]
[null,null,null,null,null,null,null,null,0,{"$error":"#DIV/0!"},{"$error":"#DIV/0!"},{"$error":"#DIV/0!"}]
[null,null,null,null,null,null,null,null,0,{"$error":"#DIV/0!"},{"$error":"#DIV/0!"},{"$error":"#DIV/0!"}]
[null,null,null,null,null,null,null,null,0,{"$error":"#DIV/0!"},{"$error":"#DIV/0!"},{"$error":"#DIV/0!"}]
[null,null,null,null,null,null,null,null,0,{"$error":"#DIV/0!"},{"$error":"#DIV/0!"},{"$error":"#DIV/0!"}]
[null,null,null,null,null,null,null,null,0,{"$error":"#DIV/0!"},{"$error":"#DIV/0!"},{"$error":"#DIV/0!"}]
[null,null,null,null,null,null,null,null,0,{"$error":"#DIV/0!"},{"$error":"#DIV/0!"},{"$error":"#DIV/0!"}]
[null,null,null,null,null,null,null,null,0,{"$error":"#DIV/0!"},{"$error":"#DIV/0!"},{"$error":"#DIV/0!"}]
[null,null,null,null,null,null,null,null,0,{"$error":"#DIV/0!"},{"$error":"#DIV/0!"},{"$error":"#DIV/0!"}]
[null,null,null,null,null,null,null,null,0,{"$f":"IF(F50457/G50457=1,F50457,J50456)","v":{"$error":"#DIV/0!"}},{"$error":"#DIV/0!"},{"$error":"#DIV/0!"}]
[null,null,null,null,null,null,null,null,0,{"$error":"#DIV/0!"},{"$error":"#DIV/0!"},{"$error":"#DIV/0!"}]
[null,null,null,null,null,null,null,null,0,{"$error":"#DIV/0!"},{"$error":"#DIV/0!"},{"$error":"#DIV/0!"}]
[null,null,null,null,null,null,null,null,0,{"$error":"#DIV/0!"},{"$error":"#DIV/0!"},{"$error":"#DIV/0!"}]
[null,null,null,null,null,null,null,null,0,{"$f":"IF(F50649/G50649=1,F50649,J50648)","v":{"$error":"#DIV/0!"}},{"$error":"#DIV/0!"},{"$error":"#DIV/0!"}]
[null,null,null,null,null,null,null,null,0,{"$error":"#DIV/0!"},{"$error":"#DIV/0!"},{"$error":"#DIV/0!"}]
[null,null,null,null,null,null,null,null,0,{"$error":"#DIV/0!"},{"$error":"#DIV/0!"},{"$error":"#DIV/0!"}]
[null,null,null,null,null,null,null,null,0,{"$error":"#DIV/0!"},{"$error":"#DIV/0!"},{"$error":"#DIV/0!"}]
[null,null,null,null,null,null,null,null,0,{"$error":"#DIV/0!"},{"$error":"#DIV/0!"},{"$error":"#DIV/0!"}]
[null,null,null,null,null,null,null,null,0,{"$error":"#DIV/0!"},{"$error":"#DIV/0!"},{"$error":"#DIV/0!"}]
[null,null,null,null,null,null,null,null,0,{"$error":"#DIV/0!"},{"$error":"#DIV/0!"},{"$error":"#DIV/0!"}]
[null,null,null,null,null,null,null,null,0,{"$error":"#DIV/0!"},{"$error":"#DIV/0!"},{"$error":"#DIV/0!"}]
[null,null,null,null,null,null,null,null,0,{"$error":"#DIV/0!"},{"$error":"#DIV/0!"},{"$error":"#DIV/0!"}]
[null,null,null,null,null,null,null,null,0,{"$error":"#DIV/0!"},{"$error":"#DIV/0!"},{"$error":"#DIV/0!"}]
[null,null,null,null,null,null,null,null,0,{"$error":"#DIV/0!"},{"$error":"#DIV/0!"},{"$error":"#DIV/0!"}]
[null,null,null,null,null,null,null,null,0,{"$error":"#DIV/0!"},{"$error":"#DIV/0!"},{"$error":"#DIV/0!"}]
[null,null,null,null,null,null,null,null,0,{"$error":"#DIV/0!"},{"$error":"#DIV/0!"},{"$error":"#DIV/0!"}]
[null,null,null,null,null,null,null,null,0,{"$error":"#DIV/0!"},{"$error":"#DIV/0!"},{"$error":"#DIV/0!"}]
[null,null,null,null,null,null,null,null,0,{"$error":"#DIV/0!"},{"$error":"#DIV/0!"},{"$error":"#DIV/0!"}]
[null,null,null,null,null,null,null,null,0,{"$error":"#DIV/0!"},{"$error":"#DIV/0!"},{"$error":"#DIV/0!"}]
[null,null,null,null,null,null,null,null,0,{"$error":"#DIV/0!"},{"$error":"#DIV/0!"},{"$error":"#DIV/0!"}]
[null,null,null,null,null,null,null,null,0,{"$error":"#DIV/0!"},{"$error":"#DIV/0!"},{"$error":"#DIV/0!"}]
[null,null,null,null,null,null,null,null,0,{"$error":"#DIV/0!"},{"$error":"#DIV/0!"},{"$error":"#DIV/0!"}]
[null,null,null,null,null,null,null,null,0,{"$error":"#DIV/0!"},{"$error":"#DIV/0!"},{"$error":"#DIV/0!"}]
[null,null,null,null,null,null,null,null,0,{"$error":"#DIV/0!"},{"$error":"#DIV/0!"},{"$error":"#DIV/0!"}]
[null,null,null,null,null,null,null,null,0,{"$error":"#DIV/0!"},{"$error":"#DIV/0!"},{"$error":"#DIV/0!"}]
[null,null,null,null,null,null,null,null,0,{"$error":"#DIV/0!"},{"$error":"#DIV/0!"},{"$error":"#DIV/0!"}]
[null,null,null,null,null,null,null,null,0,{"$error":"#DIV/0!"},{"$error":"#DIV/0!"},{"$error":"#DIV/0!"}]
[null,null,null,null,null,null,null,null,0,{"$error":"#DIV/0!"},{"$error":"#DIV/0!"},{"$error":"#DIV/0!"}]
[null,null,null,null,null,null,null,null,0,{"$error":"#DIV/0!"},{"$error":"#DIV/0!"},{"$error":"#DIV/0!"}]
[null,null,null,null,null,null,null,null,0,{"$error":"#DIV/0!"},{"$error":"#DIV/0!"},{"$error":"#DIV/0!"}]
[null,null,null,null,null,null,null,null,0,{"$error":"#DIV/0!"},{"$error":"#DIV/0!"},{"$error":"#DIV/0!"}]
[null,null,null,null,null,null,null,null,0,{"$error":"#DIV/0!"},{"$error":"#DIV/0!"},{"$error":"#DIV/0!"}]
[null,null,null,null,null,null,null,null,0,{"$error":"#DIV/0!"},{"$error":"#DIV/0!"},{"$error":"#DIV/0!"}]
[null,null,null,null,null,null,null,null,0,{"$error":"#DIV/0!"},{"$error":"#DIV/0!"},{"$error":"#DIV/0!"}]
[null,null,null,null,null,null,null,null,0,{"$error":"#DIV/0!"},{"$error":"#DIV/0!"},{"$error":"#DIV/0!"}]
[null,null,null,null,null,null,null,null,0,{"$error":"#DIV/0!"},{"$error":"#DIV/0!"},{"$error":"#DIV/0!"}]
[null,null,null,null,null,null,null,null,0,{"$error":"#DIV/0!"},{"$error":"#DIV/0!"},{"$error":"#DIV/0!"}]
[null,null,null,null,null,null,null,null,0,{"$error":"#DIV/0!"},{"$error":"#DIV/0!"},{"$error":"#DIV/0!"}]
[null,null,null,null,null,null,null,null,0,{"$error":"#DIV/0!"},{"$error":"#DIV/0!"},{"$error":"#DIV/0!"}]
[null,null,null,null,null,null,null,null,0,{"$error":"#DIV/0!"},{"$error":"#DIV/0!"},{"$error":"#DIV/0!"}]
[null,null,null,null,null,null,null,null,0,{"$error":"#DIV/0!"},{"$error":"#DIV/0!"},{"$error":"#DIV/0!"}]
[null,null,null,null,null,null,null,null,0,{"$error":"#DIV/0!"},{"$error":"#DIV/0!"},{"$error":"#DIV/0!"}]
[null,null,null,null,null,null,null,null,0,{"$error":"#DIV/0!"},{"$error":"#DIV/0!"},{"$error":"#DIV/0!"}]
[null,null,null,null,null,null,null,null,0,{"$error":"#DIV/0!"},{"$error":"#DIV/0!"},{"$error":"#DIV/0!"}]
[null,null,null,null,null,null,null,null,0,{"$error":"#DIV/0!"},{"$error":"#DIV/0!"},{"$error":"#DIV/0!"}]
[null,null,null,null,null,null,null,null,0,{"$error":"#DIV/0!"},{"$error":"#DIV/0!"},{"$error":"#DIV/0!"}]
[null,null,null,null,null,null,null,null,0,{"$error":"#DIV/0!"},{"$error":"#DIV/0!"},{"$error":"#DIV/0!"}]
[null,null,null,null,null,null,null,null,0,{"$error":"#DIV/0!"},{"$error":"#DIV/0!"},{"$error":"#DIV/0!"}]
[null,null,null,null,null,null,null,null,0,{"$error":"#DIV/0!"},{"$error":"#DIV/0!"},{"$error":"#DIV/0!"}]
[null,null,null,null,null,null,null,null,0,{"$error":"#DIV/0!"},{"$error":"#DIV/0!"},{"$error":"#DIV/0!"}]
[null,null,null,null,null,null,null,null,0,{"$error":"#DIV/0!"},{"$error":"#DIV/0!"},{"$error":"#DIV/0!"}]
[null,null,null,null,null,null,null,null,{"$f":"IF(F52502<>G52502,1,0)","v":0},{"$error":"#DIV/0!"},{"$f":"F52502/J52502","v":{"$error":"#DIV/0!"}},{"$error":"#DIV/0!"}]
[null,null,null,null,null,null,null,null,0,{"$error":"#DIV/0!"},{"$error":"#DIV/0!"},{"$error":"#DIV/0!"}]
[null,null,null,null,null,null,null,null,0,{"$error":"#DIV/0!"},{"$error":"#DIV/0!"},{"$error":"#DIV/0!"}]
[null,null,null,null,null,null,null,null,0,{"$error":"#DIV/0!"},{"$error":"#DIV/0!"},{"$error":"#DIV/0!"}]
[null,null,null,null,null,null,null,null,0,{"$error":"#DIV/0!"},{"$error":"#DIV/0!"},{"$error":"#DIV/0!"}]
[null,null,null,null,null,null,null,null,0,{"$error":"#DIV/0!"},{"$error":"#DIV/0!"},{"$error":"#DIV/0!"}]
[null,null,null,null,null,null,null,null,0,{"$error":"#DIV/0!"},{"$error":"#DIV/0!"},{"$error":"#DIV/0!"}]
[null,null,null,null,null,null,null,null,0,{"$error":"#DIV/0!"},{"$error":"#DIV/0!"},{"$f":"G52759/J52759","v":{"$error":"#DIV/0!"}}]
[null,null,null,null,null,null,null,null,0,{"$error":"#DIV/0!"},{"$error":"#DIV/0!"},{"$error":"#DIV/0!"}]
[null,null,null,null,null,null,null,null,0,{"$error":"#DIV/0!"},{"$error":"#DIV/0!"},{"$error":"#DIV/0!"}]
[null,null,null,null,null,null,null,null,0,{"$error":"#DIV/0!"},{"$error":"#DIV/0!"},{"$error":"#DIV/0!"}]
[null,null,null,null,null,null,null,null,0,{"$error":"#DIV/0!"},{"$error":"#DIV/0!"},{"$error":"#DIV/0!"}]
[null,null,null,null,null,null,null,null,0,{"$error":"#DIV/0!"},{"$error":"#DIV/0!"},{"$error":"#DIV/0!"}]
[null,null,null,null,null,null,null,null,0,{"$error":"#DIV/0!"},{"$error":"#DIV/0!"},{"$error":"#DIV/0!"}]
[null,null,null,null,null,null,null,null,0,{"$error":"#DIV/0!"},{"$error":"#DIV/0!"},{"$error":"#DIV/0!"}]
[null,null,null,null,null,null,null,null,0,{"$error":"#DIV/0!"},{"$error":"#DIV/0!"},{"$error":"#DIV/0!"}]
[null,null,null,null,null,null,null,null,0,{"$error":"#DIV/0!"},{"$error":"#DIV/0!"},{"$error":"#DIV/0!"}]
[null,null,null,null,null,null,null,null,0,{"$error":"#DIV/0!"},{"$error":"#DIV/0!"},{"$error":"#DIV/0!"}]
[null,null,null,null,null,null,null,null,0,{"$error":"#DIV/0!"},{"$error":"#DIV/0!"},{"$error":"#DIV/0!"}]
[null,null,null,null,null,null,null,null,0,{"$error":"#DIV/0!"},{"$error":"#DIV/0!"},{"$error":"#DIV/0!"}]
[null,null,null,null,null,null,null,null,0,{"$error":"#DIV/0!"},{"$error":"#DIV/0!"},{"$error":"#DIV/0!"}]
[null,null,null,null,null,null,null,null,0,{"$error":"#DIV/0!"},{"$error":"#DIV/0!"},{"$error":"#DIV/0!"}]
[null,null,null,null,null,null,null,null,0,{"$error":"#DIV/0!"},{"$error":"#DIV/0!"},{"$error":"#DIV/0!"}]
[null,null,null,null,null,null,null,null,0,{"$error":"#DIV/0!"},{"$error":"#DIV/0!"},{"$error":"#DIV/0!"}]
[null,null,null,null,null,null,null,null,0,{"$error":"#DIV/0!"},{"$error":"#DIV/0!"},{"$error":"#DIV/0!"}]
[null,null,null,null,null,null,null,null,0,{"$error":"#DIV/0!"},{"$error":"#DIV/0!"},{"$error":"#DIV/0!"}]
[null,null,null,null,null,null,null,null,0,{"$error":"#DIV/0!"},{"$error":"#DIV/0!"},{"$error":"#DIV/0!"}]
[null,null,null,null,null,null,null,null,0,{"$error":"#DIV/0!"},{"$error":"#DIV/0!"},{"$error":"#DIV/0!"}]
[null,null,null,null,null,null,null,null,0,{"$error":"#DIV/0!"},{"$error":"#DIV/0!"},{"$error":"#DIV/0!"}]
[null,null,null,null,null,null,null,null,0,{"$error":"#DIV/0!"},{"$error":"#DIV/0!"},{"$error":"#DIV/0!"}]
[null,null,null,null,null,null,null,null,0,{"$error":"#DIV/0!"},{"$error":"#DIV/0!"},{"$error":"#DIV/0!"}]
[null,null,null,null,null,null,null,null,0,{"$error":"#DIV/0!"},{"$error":"#DIV/0!"},{"$error":"#DIV/0!"}]
[null,null,null,null,null,null,null,null,0,{"$f":"IF(F53721/G53721=1,F53721,J53720)","v":{"$error":"#DIV/0!"}},{"$error":"#DIV/0!"},{"$error":"#DIV/0!"}]
[null,null,null,null,null,null,null,null,0,{"$error":"#DIV/0!"},{"$error":"#DIV/0!"},{"$error":"#DIV/0!"}]
[null,null,null,null,null,null,null,null,0,{"$error":"#DIV/0!"},{"$error":"#DIV/0!"},{"$error":"#DIV/0!"}]
[null,null,null,null,null,null,null,null,0,{"$error":"#DIV/0!"},{"$error":"#DIV/0!"},{"$error":"#DIV/0!"}]
[null,null,null,null,null,null,null,null,0,{"$error":"#DIV/0!"},{"$error":"#DIV/0!"},{"$error":"#DIV/0!"}]
[null,null,null,null,null,null,null,null,0,{"$error":"#DIV/0!"},{"$error":"#DIV/0!"},{"$error":"#DIV/0!"}]
[null,null,null,null,null,null,null,null,0,{"$error":"#DIV/0!"},{"$error":"#DIV/0!"},{"$error":"#DIV/0!"}]
[null,null,null,null,null,null,null,null,0,{"$error":"#DIV/0!"},{"$error":"#DIV/0!"},{"$error":"#DIV/0!"}]
[null,null,null,null,null,null,null,null,0,{"$error":"#DIV/0!"},{"$error":"#DIV/0!"},{"$error":"#DIV/0!"}]
[null,null,null,null,null,null,null,null,0,{"$error":"#DIV/0!"},{"$error":"#DIV/0!"},{"$error":"#DIV/0!"}]
[null,null,null,null,null,null,null,null,0,{"$error":"#DIV/0!"},{"$error":"#DIV/0!"},{"$error":"#DIV/0!"}]
[null,null,null,null,null,null,null,null,0,{"$error":"#DIV/0!"},{"$error":"#DIV/0!"},{"$error":"#DIV/0!"}]
[null,null,null,null,null,null,null,null,0,{"$error":"#DIV/0!"},{"$error":"#DIV/0!"},{"$error":"#DIV/0!"}]
[null,null,null,null,null,null,null,null,0,{"$error":"#DIV/0!"},{"$error":"#DIV/0!"},{"$error":"#DIV/0!"}]
[null,null,null,null,null,null,null,null,0,{"$error":"#DIV/0!"},{"$error":"#DIV/0!"},{"$error":"#DIV/0!"}]
[null,null,null,null,null,null,null,null,0,{"$error":"#DIV/0!"},{"$error":"#DIV/0!"},{"$error":"#DIV/0!"}]
[null,null,null,null,null,null,null,null,0,{"$error":"#DIV/0!"},{"$error":"#DIV/0!"},{"$error":"#DIV/0!"}]
[null,null,null,null,null,null,null,null,0,{"$error":"#DIV/0!"},{"$error":"#DIV/0!"},{"$error":"#DIV/0!"}]
[null,null,null,null,null,null,null,null,0,{"$error":"#DIV/0!"},{"$error":"#DIV/0!"},{"$error":"#DIV/0!"}]
[null,null,null,null,null,null,null,null,0,{"$error":"#DIV/0!"},{"$error":"#DIV/0!"},{"$error":"#DIV/0!"}]
[null,null,null,null,null,null,null,null,0,{"$error":"#DIV/0!"},{"$error":"#DIV/0!"},{"$error":"#DIV/0!"}]
[null,null,null,null,null,null,null,null,0,{"$error":"#DIV/0!"},{"$error":"#DIV/0!"},{"$error":"#DIV/0!"}]
[null,null,null,null,null,null,null,null,0,{"$error":"#DIV/0!"},{"$error":"#DIV/0!"},{"$error":"#DIV/0!"}]
[null,null,null,null,null,null,null,null,0,{"$error":"#DIV/0!"},{"$error":"#DIV/0!"},{"$error":"#DIV/0!"}]
[null,null,null,null,null,null,null,null,0,{"$error":"#DIV/0!"},{"$error":"#DIV/0!"},{"$error":"#DIV/0!"}]
[null,null,null,null,null,null,null,null,0,{"$error":"#DIV/0!"},{"$error":"#DIV/0!"},{"$error":"#DIV/0!"}]
[null,null,null,null,null,null,null,null,{"$f":"IF(F54742<>G54742,1,0)","v":0},{"$error":"#DIV/0!"},{"$f":"F54742/J54742","v":{"$error":"#DIV/0!"}},{"$error":"#DIV/0!"}]
[null,null,null,null,null,null,null,null,0,{"$error":"#DIV/0!"},{"$error":"#DIV/0!"},{"$error":"#DIV/0!"}]
[null,null,null,null,null,null,null,null,0,{"$error":"#DIV/0!"},{"$error":"#DIV/0!"},{"$error":"#DIV/0!"}]
[null,null,null,null,null,null,null,null,0,{"$error":"#DIV/0!"},{"$error":"#DIV/0!"},{"$error":"#DIV/0!"}]
[null,null,null,null,null,null,null,null,0,{"$error":"#DIV/0!"},{"$error":"#DIV/0!"},{"$error":"#DIV/0!"}]
[null,null,null,null,null,null,null,null,0,{"$error":"#DIV/0!"},{"$error":"#DIV/0!"},{"$error":"#DIV/0!"}]
[null,null,null,null,null,null,null,null,0,{"$error":"#DIV/0!"},{"$error":"#DIV/0!"},{"$error":"#DIV/0!"}]
[null,null,null,null,null,null,null,null,0,{"$error":"#DIV/0!"},{"$error":"#DIV/0!"},{"$error":"#DIV/0!"}]
[null,null,null,null,null,null,null,null,0,{"$error":"#DIV/0!"},{"$error":"#DIV/0!"},{"$error":"#DIV/0!"}]
[null,null,null,null,null,null,null,null,0,{"$error":"#DIV/0!"},{"$error":"#DIV/0!"},{"$error":"#DIV/0!"}]
[null,null,null,null,null,null,null,null,0,{"$error":"#DIV/0!"},{"$error":"#DIV/0!"},{"$error":"#DIV/0!"}]
[null,null,null,null,null,null,null,null,0,{"$error":"#DIV/0!"},{"$error":"#DIV/0!"},{"$error":"#DIV/0!"}]
[null,null,null,null,null,null,null,null,0,{"$error":"#DIV/0!"},{"$error":"#DIV/0!"},{"$error":"#DIV/0!"}]
[null,null,null,null,null,null,null,null,0,{"$error":"#DIV/0!"},{"$error":"#DIV/0!"},{"$error":"#DIV/0!"}]
[null,null,null,null,null,null,null,null,0,{"$error":"#DIV/0!"},{"$error":"#DIV/0!"},{"$error":"#DIV/0!"}]
[null,null,null,null,null,null,null,null,0,{"$error":"#DIV/0!"},{"$error":"#DIV/0!"},{"$error":"#DIV/0!"}]
[null,null,null,null,null,null,null,null,0,{"$error":"#DIV/0!"},{"$error":"#DIV/0!"},{"$error":"#DIV/0!"}]
[null,null,null,null,null,null,null,null,0,{"$error":"#DIV/0!"},{"$error":"#DIV/0!"},{"$error":"#DIV/0!"}]
[null,null,null,null,null,null,null,null,0,{"$error":"#DIV/0!"},{"$error":"#DIV/0!"},{"$error":"#DIV/0!"}]
[null,null,null,null,null,null,null,null,0,{"$error":"#DIV/0!"},{"$error":"#DIV/0!"},{"$error":"#DIV/0!"}]
[null,null,null,null,null,null,null,null,0,{"$error":"#DIV/0!"},{"$error":"#DIV/0!"},{"$error":"#DIV/0!"}]
[null,null,null,null,null,null,null,null,0,{"$error":"#DIV/0!"},{"$error":"#DIV/0!"},{"$error":"#DIV/0!"}]
[null,null,null,null,null,null,null,null,0,{"$error":"#DIV/0!"},{"$error":"#DIV/0!"},{"$error":"#DIV/0!"}]
[null,null,null,null,null,null,null,null,0,{"$error":"#DIV/0!"},{"$error":"#DIV/0!"},{"$error":"#DIV/0!"}]
[null,null,null,null,null,null,null,null,0,{"$error":"#DIV/0!"},{"$error":"#DIV/0!"},{"$error":"#DIV/0!"}]
[null,null,null,null,null,null,null,null,0,{"$error":"#DIV/0!"},{"$error":"#DIV/0!"},{"$error":"#DIV/0!"}]
[null,null,null,null,null,null,null,null,0,{"$error":"#DIV/0!"},{"$error":"#DIV/0!"},{"$error":"#DIV/0!"}]
[null,null,null,null,null,null,null,null,0,{"$error":"#DIV/0!"},{"$error":"#DIV/0!"},{"$error":"#DIV/0!"}]
[null,null,null,null,null,null,null,null,0,{"$error":"#DIV/0!"},{"$error":"#DIV/0!"},{"$error":"#DIV/0!"}]
[null,null,null,null,null,null,null,null,0,{"$error":"#DIV/0!"},{"$error":"#DIV/0!"},{"$error":"#DIV/0!"}]
[null,null,null,null,null,null,null,null,0,{"$error":"#DIV/0!"},{"$error":"#DIV/0!"},{"$error":"#DIV/0!"}]
[null,null,null,null,null,null,null,null,0,{"$error":"#DIV/0!"},{"$error":"#DIV/0!"},{"$error":"#DIV/0!"}]
[null,null,null,null,null,null,null,null,0,{"$error":"#DIV/0!"},{"$error":"#DIV/0!"},{"$error":"#DIV/0!"}]
[null,null,null,null,null,null,null,null,0,{"$error":"#DIV/0!"},{"$error":"#DIV/0!"},{"$f":"G56023/J56023","v":{"$error":"#DIV/0!"}}]
[null,null,null,null,null,null,null,null,0,{"$error":"#DIV/0!"},{"$error":"#DIV/0!"},{"$error":"#DIV/0!"}]
[null,null,null,null,null,null,null,null,0,{"$error":"#DIV/0!"},{"$error":"#DIV/0!"},{"$error":"#DIV/0!"}]
[null,null,null,null,null,null,null,null,0,{"$error":"#DIV/0!"},{"$error":"#DIV/0!"},{"$error":"#DIV/0!"}]
[null,null,null,null,null,null,null,null,0,{"$error":"#DIV/0!"},{"$error":"#DIV/0!"},{"$error":"#DIV/0!"}]
[null,null,null,null,null,null,null,null,0,{"$error":"#DIV/0!"},{"$error":"#DIV/0!"},{"$error":"#DIV/0!"}]
[null,null,null,null,null,null,null,null,0,{"$error":"#DIV/0!"},{"$error":"#DIV/0!"},{"$error":"#DIV/0!"}]
[null,null,null,null,null,null,null,null,0,{"$error":"#DIV/0!"},{"$error":"#DIV/0!"},{"$f":"G56279/J56279","v":{"$error":"#DIV/0!"}}]
[null,null,null,null,null,null,null,null,0,{"$error":"#DIV/0!"},{"$error":"#DIV/0!"},{"$error":"#DIV/0!"}]
[null,null,null,null,null,null,null,null,0,{"$error":"#DIV/0!"},{"$error":"#DIV/0!"},{"$error":"#DIV/0!"}]
[null,null,null,null,null,null,null,null,0,{"$error":"#DIV/0!"},{"$error":"#DIV/0!"},{"$error":"#DIV/0!"}]
[null,null,null,null,null,null,null,null,0,{"$error":"#DIV/0!"},{"$error":"#DIV/0!"},{"$error":"#DIV/0!"}]
[null,null,null,null,null,null,null,null,0,{"$error":"#DIV/0!"},{"$error":"#DIV/0!"},{"$error":"#DIV/0!"}]
[null,null,null,null,null,null,null,null,0,{"$error":"#DIV/0!"},{"$error":"#DIV/0!"},{"$error":"#DIV/0!"}]
[null,null,null,null,null,null,null,null,0,{"$error":"#DIV/0!"},{"$error":"#DIV/0!"},{"$error":"#DIV/0!"}]
[null,null,null,null,null,null,null,null,0,{"$error":"#DIV/0!"},{"$error":"#DIV/0!"},{"$error":"#DIV/0!"}]
[null,null,null,null,null,null,null,null,0,{"$error":"#DIV/0!"},{"$error":"#DIV/0!"},{"$error":"#DIV/0!"}]
[null,null,null,null,null,null,null,null,0,{"$error":"#DIV/0!"},{"$error":"#DIV/0!"},{"$error":"#DIV/0!"}]
[null,null,null,null,null,null,null,null,0,{"$error":"#DIV/0!"},{"$error":"#DIV/0!"},{"$error":"#DIV/0!"}]
[null,null,null,null,null,null,null,null,0,{"$error":"#DIV/0!"},{"$error":"#DIV/0!"},{"$error":"#DIV/0!"}]
[null,null,null,null,null,null,null,null,0,{"$error":"#DIV/0!"},{"$error":"#DIV/0!"},{"$error":"#DIV/0!"}]
[null,null,null,null,null,null,null,null,0,{"$error":"#DIV/0!"},{"$error":"#DIV/0!"},{"$error":"#DIV/0!"}]
[null,null,null,null,null,null,null,null,0,{"$error":"#DIV/0!"},{"$error":"#DIV/0!"},{"$error":"#DIV/0!"}]
[null,null,null,null,null,null,null,null,0,{"$error":"#DIV/0!"},{"$error":"#DIV/0!"},{"$error":"#DIV/0!"}]
[null,null,null,null,null,null,null,null,0,{"$error":"#DIV/0!"},{"$error":"#DIV/0!"},{"$error":"#DIV/0!"}]
[null,null,null,null,null,null,null,null,0,{"$f":"IF(F56985/G56985=1,F56985,J56984)","v":{"$error":"#DIV/0!"}},{"$error":"#DIV/0!"},{"$error":"#DIV/0!"}]
[null,null,null,null,null,null,null,null,0,{"$error":"#DIV/0!"},{"$error":"#DIV/0!"},{"$error":"#DIV/0!"}]
[null,null,null,null,null,null,null,null,0,{"$error":"#DIV/0!"},{"$error":"#DIV/0!"},{"$error":"#DIV/0!"}]
[null,null,null,null,null,null,null,null,0,{"$error":"#DIV/0!"},{"$error":"#DIV/0!"},{"$error":"#DIV/0!"}]
[null,null,null,null,null,null,null,null,0,{"$error":"#DIV/0!"},{"$error":"#DIV/0!"},{"$error":"#DIV/0!"}]
[null,null,null,null,null,null,null,null,0,{"$error":"#DIV/0!"},{"$error":"#DIV/0!"},{"$error":"#DIV/0!"}]
[null,null,null,null,null,null,null,null,0,{"$error":"#DIV/0!"},{"$error":"#DIV/0!"},{"$error":"#DIV/0!"}]
[null,null,null,null,null,null,null,null,0,{"$error":"#DIV/0!"},{"$error":"#DIV/0!"},{"$error":"#DIV/0!"}]
[null,null,null,null,null,null,null,null,0,{"$error":"#DIV/0!"},{"$error":"#DIV/0!"},{"$error":"#DIV/0!"}]
[null,null,null,null,null,null,null,null,0,{"$error":"#DIV/0!"},{"$error":"#DIV/0!"},{"$error":"#DIV/0!"}]
[null,null,null,null,null,null,null,null,0,{"$error":"#DIV/0!"},{"$error":"#DIV/0!"},{"$error":"#DIV/0!"}]
[null,null,null,null,null,null,null,null,0,{"$f":"IF(F57433/G57433=1,F57433,J57432)","v":{"$error":"#DIV/0!"}},{"$error":"#DIV/0!"},{"$error":"#DIV/0!"}]
[null,null,null,null,null,null,null,null,0,{"$error":"#DIV/0!"},{"$error":"#DIV/0!"},{"$error":"#DIV/0!"}]
[null,null,null,null,null,null,null,null,0,{"$error":"#DIV/0!"},{"$error":"#DIV/0!"},{"$error":"#DIV/0!"}]
[null,null,null,null,null,null,null,null,0,{"$error":"#DIV/0!"},{"$error":"#DIV/0!"},{"$error":"#DIV/0!"}]
[null,null,null,null,null,null,null,null,0,{"$error":"#DIV/0!"},{"$error":"#DIV/0!"},{"$error":"#DIV/0!"}]
[null,null,null,null,null,null,null,null,0,{"$error":"#DIV/0!"},{"$error":"#DIV/0!"},{"$error":"#DIV/0!"}]
[null,null,null,null,null,null,null,null,0,{"$error":"#DIV/0!"},{"$error":"#DIV/0!"},{"$error":"#DIV/0!"}]
[null,null,null,null,null,null,null,null,0,{"$error":"#DIV/0!"},{"$error":"#DIV/0!"},{"$error":"#DIV/0!"}]
[null,null,null,null,null,null,null,null,0,{"$error":"#DIV/0!"},{"$error":"#DIV/0!"},{"$error":"#DIV/0!"}]
[null,null,null,null,null,null,null,null,0,{"$error":"#DIV/0!"},{"$error":"#DIV/0!"},{"$error":"#DIV/0!"}]
[null,null,null,null,null,null,null,null,0,{"$error":"#DIV/0!"},{"$error":"#DIV/0!"},{"$error":"#DIV/0!"}]
[null,null,null,null,null,null,null,null,0,{"$error":"#DIV/0!"},{"$error":"#DIV/0!"},{"$error":"#DIV/0!"}]
[null,null,null,null,null,null,null,null,0,{"$error":"#DIV/0!"},{"$error":"#DIV/0!"},{"$error":"#DIV/0!"}]
[null,null,null,null,null,null,null,null,0,{"$error":"#DIV/0!"},{"$error":"#DIV/0!"},{"$error":"#DIV/0!"}]
[null,null,null,null,null,null,null,null,0,{"$error":"#DIV/0!"},{"$error":"#DIV/0!"},{"$error":"#DIV/0!"}]
[null,null,null,null,null,null,null,null,0,{"$error":"#DIV/0!"},{"$error":"#DIV/0!"},{"$error":"#DIV/0!"}]
[null,null,null,null,null,null,null,null,0,{"$error":"#DIV/0!"},{"$error":"#DIV/0!"},{"$error":"#DIV/0!"}]
[null,null,null,null,null,null,null,null,0,{"$error":"#DIV/0!"},{"$error":"#DIV/0!"},{"$error":"#DIV/0!"}]
[null,null,null,null,null,null,null,null,0,{"$error":"#DIV/0!"},{"$error":"#DIV/0!"},{"$error":"#DIV/0!"}]
[null,null,null,null,null,null,null,null,0,{"$error":"#DIV/0!"},{"$error":"#DIV/0!"},{"$error":"#DIV/0!"}]
[null,null,null,null,null,null,null,null,0,{"$error":"#DIV/0!"},{"$error":"#DIV/0!"},{"$error":"#DIV/0!"}]
[null,null,null,null,null,null,null,null,0,{"$error":"#DIV/0!"},{"$error":"#DIV/0!"},{"$error":"#DIV/0!"}]
[null,null,null,null,null,null,null,null,0,{"$error":"#DIV/0!"},{"$error":"#DIV/0!"},{"$error":"#DIV/0!"}]
[null,null,null,null,null,null,null,null,0,{"$error":"#DIV/0!"},{"$error":"#DIV/0!"},{"$error":"#DIV/0!"}]
[null,null,null,null,null,null,null,null,0,{"$error":"#DIV/0!"},{"$error":"#DIV/0!"},{"$error":"#DIV/0!"}]
[null,null,null,null,null,null,null,null,0,{"$error":"#DIV/0!"},{"$error":"#DIV/0!"},{"$error":"#DIV/0!"}]
[null,null,null,null,null,null,null,null,0,{"$error":"#DIV/0!"},{"$error":"#DIV/0!"},{"$error":"#DIV/0!"}]
[null,null,null,null,null,null,null,null,0,{"$error":"#DIV/0!"},{"$error":"#DIV/0!"},{"$error":"#DIV/0!"}]
[null,null,null,null,null,null,null,null,0,{"$error":"#DIV/0!"},{"$error":"#DIV/0!"},{"$error":"#DIV/0!"}]
[null,null,null,null,null,null,null,null,0,{"$error":"#DIV/0!"},{"$error":"#DIV/0!"},{"$error":"#DIV/0!"}]
[null,null,null,null,null,null,null,null,0,{"$error":"#DIV/0!"},{"$error":"#DIV/0!"},{"$error":"#DIV/0!"}]
[null,null,null,null,null,null,null,null,0,{"$error":"#DIV/0!"},{"$error":"#DIV/0!"},{"$error":"#DIV/0!"}]
[null,null,null,null,null,null,null,null,0,{"$error":"#DIV/0!"},{"$error":"#DIV/0!"},{"$error":"#DIV/0!"}]
[null,null,null,null,null,null,null,null,0,{"$error":"#DIV/0!"},{"$error":"#DIV/0!"},{"$error":"#DIV/0!"}]
[null,null,null,null,null,null,null,null,0,{"$error":"#DIV/0!"},{"$error":"#DIV/0!"},{"$error":"#DIV/0!"}]
[null,null,null,null,null,null,null,null,0,{"$error":"#DIV/0!"},{"$error":"#DIV/0!"},{"$error":"#DIV/0!"}]
[null,null,null,null,null,null,null,null,0,{"$error":"#DIV/0!"},{"$error":"#DIV/0!"},{"$error":"#DIV/0!"}]
[null,null,null,null,null,null,null,null,{"$f":"IF(F58838<>G58838,1,0)","v":0},{"$error":"#DIV/0!"},{"$f":"F58838/J58838","v":{"$error":"#DIV/0!"}},{"$error":"#DIV/0!"}]
[null,null,null,null,null,null,null,null,0,{"$error":"#DIV/0!"},{"$error":"#DIV/0!"},{"$error":"#DIV/0!"}]
[null,null,null,null,null,null,null,null,0,{"$error":"#DIV/0!"},{"$error":"#DIV/0!"},{"$error":"#DIV/0!"}]
[null,null,null,null,null,null,null,null,0,{"$error":"#DIV/0!"},{"$error":"#DIV/0!"},{"$error":"#DIV/0!"}]
[null,null,null,null,null,null,null,null,0,{"$error":"#DIV/0!"},{"$error":"#DIV/0!"},{"$error":"#DIV/0!"}]
[null,null,null,null,null,null,null,null,0,{"$error":"#DIV/0!"},{"$error":"#DIV/0!"},{"$error":"#DIV/0!"}]
[null,null,null,null,null,null,null,null,0,{"$error":"#DIV/0!"},{"$error":"#DIV/0!"},{"$error":"#DIV/0!"}]
[null,null,null,null,null,null,null,null,0,{"$error":"#DIV/0!"},{"$error":"#DIV/0!"},{"$error":"#DIV/0!"}]
[null,null,null,null,null,null,null,null,0,{"$error":"#DIV/0!"},{"$error":"#DIV/0!"},{"$error":"#DIV/0!"}]
[null,null,null,null,null,null,null,null,0,{"$error":"#DIV/0!"},{"$error":"#DIV/0!"},{"$error":"#DIV/0!"}]
[null,null,null,null,null,null,null,null,0,{"$error":"#DIV/0!"},{"$error":"#DIV/0!"},{"$error":"#DIV/0!"}]
[null,null,null,null,null,null,null,null,0,{"$error":"#DIV/0!"},{"$error":"#DIV/0!"},{"$error":"#DIV/0!"}]
[null,null,null,null,null,null,null,null,0,{"$error":"#DIV/0!"},{"$error":"#DIV/0!"},{"$error":"#DIV/0!"}]
[null,null,null,null,null,null,null,null,0,{"$error":"#DIV/0!"},{"$error":"#DIV/0!"},{"$error":"#DIV/0!"}]
[null,null,null,null,null,null,null,null,0,{"$error":"#DIV/0!"},{"$error":"#DIV/0!"},{"$error":"#DIV/0!"}]
[null,null,null,null,null,null,null,null,0,{"$error":"#DIV/0!"},{"$error":"#DIV/0!"},{"$error":"#DIV/0!"}]
[null,null,null,null,null,null,null,null,0,{"$error":"#DIV/0!"},{"$error":"#DIV/0!"},{"$error":"#DIV/0!"}]
[null,null,null,null,null,null,null,null,0,{"$error":"#DIV/0!"},{"$error":"#DIV/0!"},{"$error":"#DIV/0!"}]
[null,null,null,null,null,null,null,null,0,{"$error":"#DIV/0!"},{"$error":"#DIV/0!"},{"$f":"G59543/J59543","v":{"$error":"#DIV/0!"}}]
[null,null,null,null,null,null,null,null,0,{"$error":"#DIV/0!"},{"$error":"#DIV/0!"},{"$error":"#DIV/0!"}]
[null,null,null,null,null,null,null,null,0,{"$error":"#DIV/0!"},{"$error":"#DIV/0!"},{"$error":"#DIV/0!"}]
[null,null,null,null,null,null,null,null,0,{"$error":"#DIV/0!"},{"$error":"#DIV/0!"},{"$error":"#DIV/0!"}]
[null,null,null,null,null,null,null,null,0,{"$error":"#DIV/0!"},{"$error":"#DIV/0!"},{"$error":"#DIV/0!"}]
[null,null,null,null,null,null,null,null,0,{"$error":"#DIV/0!"},{"$error":"#DIV/0!"},{"$error":"#DIV/0!"}]
[null,null,null,null,null,null,null,null,0,{"$error":"#DIV/0!"},{"$error":"#DIV/0!"},{"$error":"#DIV/0!"}]
[null,null,null,null,null,null,null,null,0,{"$error":"#DIV/0!"},{"$error":"#DIV/0!"},{"$error":"#DIV/0!"}]
[null,null,null,null,null,null,null,null,0,{"$error":"#DIV/0!"},{"$error":"#DIV/0!"},{"$error":"#DIV/0!"}]
[null,null,null,null,null,null,null,null,0,{"$error":"#DIV/0!"},{"$error":"#DIV/0!"},{"$error":"#DIV/0!"}]
[null,null,null,null,null,null,null,null,0,{"$error":"#DIV/0!"},{"$error":"#DIV/0!"},{"$error":"#DIV/0!"}]
[null,null,null,null,null,null,null,null,0,{"$error":"#DIV/0!"},{"$error":"#DIV/0!"},{"$error":"#DIV/0!"}]
[null,null,null,null,null,null,null,null,0,{"$error":"#DIV/0!"},{"$error":"#DIV/0!"},{"$error":"#DIV/0!"}]
[null,null,null,null,null,null,null,null,0,{"$error":"#DIV/0!"},{"$error":"#DIV/0!"},{"$error":"#DIV/0!"}]
[null,null,null,null,null,null,null,null,0,{"$error":"#DIV/0!"},{"$error":"#DIV/0!"},{"$error":"#DIV/0!"}]
[null,null,null,null,null,null,null,null,0,{"$error":"#DIV/0!"},{"$error":"#DIV/0!"},{"$error":"#DIV/0!"}]
[null,null,null,null,null,null,null,null,0,{"$error":"#DIV/0!"},{"$error":"#DIV/0!"},{"$error":"#DIV/0!"}]
[null,null,null,null,null,null,null,null,0,{"$error":"#DIV/0!"},{"$error":"#DIV/0!"},{"$error":"#DIV/0!"}]
[null,null,null,null,null,null,null,null,0,{"$error":"#DIV/0!"},{"$error":"#DIV/0!"},{"$error":"#DIV/0!"}]
[null,null,null,null,null,null,null,null,0,{"$error":"#DIV/0!"},{"$error":"#DIV/0!"},{"$error":"#DIV/0!"}]
[null,null,null,null,null,null,null,null,0,{"$error":"#DIV/0!"},{"$error":"#DIV/0!"},{"$error":"#DIV/0!"}]
[null,null,null,null,null,null,null,null,0,{"$error":"#DIV/0!"},{"$error":"#DIV/0!"},{"$error":"#DIV/0!"}]
[null,null,null,null,null,null,null,null,0,{"$error":"#DIV/0!"},{"$error":"#DIV/0!"},{"$error":"#DIV/0!"}]
[null,null,null,null,null,null,null,null,0,{"$error":"#DIV/0!"},{"$error":"#DIV/0!"},{"$error":"#DIV/0!"}]
[null,null,null,null,null,null,null,null,0,{"$error":"#DIV/0!"},{"$error":"#DIV/0!"},{"$error":"#DIV/0!"}]
[null,null,null,null,null,null,null,null,0,{"$f":"IF(F60505/G60505=1,F60505,J60504)","v":{"$error":"#DIV/0!"}},{"$error":"#DIV/0!"},{"$error":"#DIV/0!"}]
[null,null,null,null,null,null,null,null,0,{"$error":"#DIV/0!"},{"$error":"#DIV/0!"},{"$error":"#DIV/0!"}]
[null,null,null,null,null,null,null,null,0,{"$error":"#DIV/0!"},{"$error":"#DIV/0!"},{"$error":"#DIV/0!"}]
[null,null,null,null,null,null,null,null,0,{"$error":"#DIV/0!"},{"$error":"#DIV/0!"},{"$error":"#DIV/0!"}]
[null,null,null,null,null,null,null,null,0,{"$f":"IF(F60697/G60697=1,F60697,J60696)","v":{"$error":"#DIV/0!"}},{"$error":"#DIV/0!"},{"$error":"#DIV/0!"}]
[null,null,null,null,null,null,null,null,0,{"$error":"#DIV/0!"},{"$error":"#DIV/0!"},{"$error":"#DIV/0!"}]
[null,null,null,null,null,null,null,null,0,{"$error":"#DIV/0!"},{"$error":"#DIV/0!"},{"$error":"#DIV/0!"}]
[null,null,null,null,null,null,null,null,0,{"$error":"#DIV/0!"},{"$error":"#DIV/0!"},{"$error":"#DIV/0!"}]
[null,null,null,null,null,null,null,null,0,{"$error":"#DIV/0!"},{"$error":"#DIV/0!"},{"$error":"#DIV/0!"}]
[null,null,null,null,null,null,null,null,0,{"$error":"#DIV/0!"},{"$error":"#DIV/0!"},{"$error":"#DIV/0!"}]
[null,null,null,null,null,null,null,null,0,{"$error":"#DIV/0!"},{"$error":"#DIV/0!"},{"$error":"#DIV/0!"}]
[null,null,null,null,null,null,null,null,0,{"$error":"#DIV/0!"},{"$error":"#DIV/0!"},{"$error":"#DIV/0!"}]
[null,null,null,null,null,null,null,null,0,{"$error":"#DIV/0!"},{"$error":"#DIV/0!"},{"$error":"#DIV/0!"}]
[null,null,null,null,null,null,null,null,0,{"$error":"#DIV/0!"},{"$error":"#DIV/0!"},{"$error":"#DIV/0!"}]
[null,null,null,null,null,null,null,null,0,{"$error":"#DIV/0!"},{"$error":"#DIV/0!"},{"$error":"#DIV/0!"}]
[null,null,null,null,null,null,null,null,0,{"$error":"#DIV/0!"},{"$error":"#DIV/0!"},{"$error":"#DIV/0!"}]
[null,null,null,null,null,null,null,null,0,{"$error":"#DIV/0!"},{"$error":"#DIV/0!"},{"$error":"#DIV/0!"}]
[null,null,null,null,null,null,null,null,0,{"$error":"#DIV/0!"},{"$error":"#DIV/0!"},{"$error":"#DIV/0!"}]
[null,null,null,null,null,null,null,null,0,{"$error":"#DIV/0!"},{"$error":"#DIV/0!"},{"$error":"#DIV/0!"}]
[null,null,null,null,null,null,null,null,0,{"$error":"#DIV/0!"},{"$error":"#DIV/0!"},{"$error":"#DIV/0!"}]
[null,null,null,null,null,null,null,null,0,{"$error":"#DIV/0!"},{"$error":"#DIV/0!"},{"$error":"#DIV/0!"}]
[null,null,null,null,null,null,null,null,0,{"$error":"#DIV/0!"},{"$error":"#DIV/0!"},{"$error":"#DIV/0!"}]
[null,null,null,null,null,null,null,null,0,{"$error":"#DIV/0!"},{"$error":"#DIV/0!"},{"$error":"#DIV/0!"}]
[null,null,null,null,null,null,null,null,0,{"$error":"#DIV/0!"},{"$error":"#DIV/0!"},{"$error":"#DIV/0!"}]
[null,null,null,null,null,null,null,null,0,{"$error":"#DIV/0!"},{"$error":"#DIV/0!"},{"$error":"#DIV/0!"}]
[null,null,null,null,null,null,null,null,0,{"$error":"#DIV/0!"},{"$error":"#DIV/0!"},{"$error":"#DIV/0!"}]
[null,null,null,null,null,null,null,null,0,{"$error":"#DIV/0!"},{"$error":"#DIV/0!"},{"$error":"#DIV/0!"}]
[null,null,null,null,null,null,null,null,0,{"$error":"#DIV/0!"},{"$error":"#DIV/0!"},{"$error":"#DIV/0!"}]
[null,null,null,null,null,null,null,null,0,{"$error":"#DIV/0!"},{"$error":"#DIV/0!"},{"$error":"#DIV/0!"}]
[null,null,null,null,null,null,null,null,0,{"$error":"#DIV/0!"},{"$error":"#DIV/0!"},{"$error":"#DIV/0!"}]
[null,null,null,null,null,null,null,null,0,{"$error":"#DIV/0!"},{"$error":"#DIV/0!"},{"$error":"#DIV/0!"}]
[null,null,null,null,null,null,null,null,0,{"$error":"#DIV/0!"},{"$error":"#DIV/0!"},{"$error":"#DIV/0!"}]
[null,null,null,null,null,null,null,null,0,{"$error":"#DIV/0!"},{"$error":"#DIV/0!"},{"$error":"#DIV/0!"}]
[null,null,null,null,null,null,null,null,0,{"$error":"#DIV/0!"},{"$error":"#DIV/0!"},{"$error":"#DIV/0!"}]
[null,null,null,null,null,null,null,null,0,{"$error":"#DIV/0!"},{"$error":"#DIV/0!"},{"$error":"#DIV/0!"}]
[null,null,null,null,null,null,null,null,0,{"$error":"#DIV/0!"},{"$error":"#DIV/0!"},{"$error":"#DIV/0!"}]
[null,null,null,null,null,null,null,null,0,{"$error":"#DIV/0!"},{"$error":"#DIV/0!"},{"$error":"#DIV/0!"}]
[null,null,null,null,null,null,null,null,0,{"$error":"#DIV/0!"},{"$error":"#DIV/0!"},{"$error":"#DIV/0!"}]
[null,null,null,null,null,null,null,null,0,{"$error":"#DIV/0!"},{"$error":"#DIV/0!"},{"$error":"#DIV/0!"}]
[null,null,null,null,null,null,null,null,0,{"$error":"#DIV/0!"},{"$error":"#DIV/0!"},{"$error":"#DIV/0!"}]
[null,null,null,null,null,null,null,null,0,{"$error":"#DIV/0!"},{"$error":"#DIV/0!"},{"$error":"#DIV/0!"}]
[null,null,null,null,null,null,null,null,{"$f":"IF(F62102<>G62102,1,0)","v":0},{"$error":"#DIV/0!"},{"$f":"F62102/J62102","v":{"$error":"#DIV/0!"}},{"$error":"#DIV/0!"}]
[null,null,null,null,null,null,null,null,0,{"$error":"#DIV/0!"},{"$error":"#DIV/0!"},{"$error":"#DIV/0!"}]
[null,null,null,null,null,null,null,null,0,{"$error":"#DIV/0!"},{"$error":"#DIV/0!"},{"$error":"#DIV/0!"}]
[null,null,null,null,null,null,null,null,0,{"$error":"#DIV/0!"},{"$error":"#DIV/0!"},{"$error":"#DIV/0!"}]
[null,null,null,null,null,null,null,null,0,{"$error":"#DIV/0!"},{"$error":"#DIV/0!"},{"$error":"#DIV/0!"}]
[null,null,null,null,null,null,null,null,0,{"$error":"#DIV/0!"},{"$error":"#DIV/0!"},{"$error":"#DIV/0!"}]
[null,null,null,null,null,null,null,null,0,{"$error":"#DIV/0!"},{"$error":"#DIV/0!"},{"$error":"#DIV/0!"}]
[null,null,null,null,null,null,null,null,0,{"$error":"#DIV/0!"},{"$error":"#DIV/0!"},{"$error":"#DIV/0!"}]
[null,null,null,null,null,null,null,null,0,{"$error":"#DIV/0!"},{"$error":"#DIV/0!"},{"$error":"#DIV/0!"}]
[null,null,null,null,null,null,null,null,0,{"$error":"#DIV/0!"},{"$error":"#DIV/0!"},{"$error":"#DIV/0!"}]
[null,null,null,null,null,null,null,null,0,{"$error":"#DIV/0!"},{"$error":"#DIV/0!"},{"$error":"#DIV/0!"}]
[null,null,null,null,null,null,null,null,{"$f":"IF(F62550<>G62550,1,0)","v":0},{"$error":"#DIV/0!"},{"$f":"F62550/J62550","v":{"$error":"#DIV/0!"}},{"$error":"#DIV/0!"}]
[null,null,null,null,null,null,null,null,0,{"$error":"#DIV/0!"},{"$error":"#DIV/0!"},{"$error":"#DIV/0!"}]
[null,null,null,null,null,null,null,null,0,{"$error":"#DIV/0!"},{"$error":"#DIV/0!"},{"$error":"#DIV/0!"}]
[null,null,null,null,null,null,null,null,0,{"$error":"#DIV/0!"},{"$error":"#DIV/0!"},{"$error":"#DIV/0!"}]
[null,null,null,null,null,null,null,null,0,{"$error":"#DIV/0!"},{"$error":"#DIV/0!"},{"$error":"#DIV/0!"}]
[null,null,null,null,null,null,null,null,0,{"$error":"#DIV/0!"},{"$error":"#DIV/0!"},{"$error":"#DIV/0!"}]
[null,null,null,null,null,null,null,null,0,{"$error":"#DIV/0!"},{"$error":"#DIV/0!"},{"$error":"#DIV/0!"}]
[null,null,null,null,null,null,null,null,0,{"$error":"#DIV/0!"},{"$error":"#DIV/0!"},{"$f":"G62807/J62807","v":{"$error":"#DIV/0!"}}]
[null,null,null,null,null,null,null,null,0,{"$error":"#DIV/0!"},{"$error":"#DIV/0!"},{"$error":"#DIV/0!"}]
[null,null,null,null,null,null,null,null,0,{"$error":"#DIV/0!"},{"$error":"#DIV/0!"},{"$error":"#DIV/0!"}]
[null,null,null,null,null,null,null,null,0,{"$error":"#DIV/0!"},{"$error":"#DIV/0!"},{"$error":"#DIV/0!"}]
[null,null,null,null,null,null,null,null,0,{"$error":"#DIV/0!"},{"$error":"#DIV/0!"},{"$error":"#DIV/0!"}]
[null,null,null,null,null,null,null,null,0,{"$error":"#DIV/0!"},{"$error":"#DIV/0!"},{"$error":"#DIV/0!"}]
[null,null,null,null,null,null,null,null,0,{"$error":"#DIV/0!"},{"$error":"#DIV/0!"},{"$error":"#DIV/0!"}]
[null,null,null,null,null,null,null,null,0,{"$error":"#DIV/0!"},{"$error":"#DIV/0!"},{"$error":"#DIV/0!"}]
[null,null,null,null,null,null,null,null,0,{"$error":"#DIV/0!"},{"$error":"#DIV/0!"},{"$error":"#DIV/0!"}]
[null,null,null,null,null,null,null,null,0,{"$error":"#DIV/0!"},{"$error":"#DIV/0!"},{"$error":"#DIV/0!"}]
[null,null,null,null,null,null,null,null,0,{"$error":"#DIV/0!"},{"$error":"#DIV/0!"},{"$error":"#DIV/0!"}]
[null,null,null,null,null,null,null,null,0,{"$error":"#DIV/0!"},{"$error":"#DIV/0!"},{"$error":"#DIV/0!"}]
[null,null,null,null,null,null,null,null,0,{"$error":"#DIV/0!"},{"$error":"#DIV/0!"},{"$error":"#DIV/0!"}]
[null,null,null,null,null,null,null,null,0,{"$error":"#DIV/0!"},{"$error":"#DIV/0!"},{"$error":"#DIV/0!"}]
[null,null,null,null,null,null,null,null,0,{"$error":"#DIV/0!"},{"$error":"#DIV/0!"},{"$error":"#DIV/0!"}]
[null,null,null,null,null,null,null,null,0,{"$error":"#DIV/0!"},{"$error":"#DIV/0!"},{"$error":"#DIV/0!"}]
[null,null,null,null,null,null,null,null,0,{"$error":"#DIV/0!"},{"$error":"#DIV/0!"},{"$error":"#DIV/0!"}]
[null,null,null,null,null,null,null,null,0,{"$error":"#DIV/0!"},{"$error":"#DIV/0!"},{"$error":"#DIV/0!"}]
[null,null,null,null,null,null,null,null,0,{"$error":"#DIV/0!"},{"$error":"#DIV/0!"},{"$error":"#DIV/0!"}]
[null,null,null,null,null,null,null,null,0,{"$error":"#DIV/0!"},{"$error":"#DIV/0!"},{"$error":"#DIV/0!"}]
[null,null,null,null,null,null,null,null,0,{"$error":"#DIV/0!"},{"$error":"#DIV/0!"},{"$error":"#DIV/0!"}]
[null,null,null,null,null,null,null,null,0,{"$error":"#DIV/0!"},{"$error":"#DIV/0!"},{"$error":"#DIV/0!"}]
[null,null,null,null,null,null,null,null,0,{"$error":"#DIV/0!"},{"$error":"#DIV/0!"},{"$error":"#DIV/0!"}]
[null,null,null,null,null,null,null,null,0,{"$error":"#DIV/0!"},{"$error":"#DIV/0!"},{"$error":"#DIV/0!"}]
[null,null,null,null,null,null,null,null,0,{"$error":"#DIV/0!"},{"$error":"#DIV/0!"},{"$error":"#DIV/0!"}]
[null,null,null,null,null,null,null,null,0,{"$f":"IF(F63769/G63769=1,F63769,J63768)","v":{"$error":"#DIV/0!"}},{"$error":"#DIV/0!"},{"$error":"#DIV/0!"}]
[null,null,null,null,null,null,null,null,0,{"$error":"#DIV/0!"},{"$error":"#DIV/0!"},{"$error":"#DIV/0!"}]
[null,null,null,null,null,null,null,null,0,{"$error":"#DIV/0!"},{"$error":"#DIV/0!"},{"$error":"#DIV/0!"}]
[null,null,null,null,null,null,null,null,0,{"$error":"#DIV/0!"},{"$error":"#DIV/0!"},{"$error":"#DIV/0!"}]
[null,null,null,null,null,null,null,null,0,{"$error":"#DIV/0!"},{"$error":"#DIV/0!"},{"$error":"#DIV/0!"}]
[null,null,null,null,null,null,null,null,0,{"$error":"#DIV/0!"},{"$error":"#DIV/0!"},{"$error":"#DIV/0!"}]
[null,null,null,null,null,null,null,null,0,{"$error":"#DIV/0!"},{"$error":"#DIV/0!"},{"$error":"#DIV/0!"}]
[null,null,null,null,null,null,null,null,0,{"$error":"#DIV/0!"},{"$error":"#DIV/0!"},{"$error":"#DIV/0!"}]
[null,null,null,null,null,null,null,null,0,{"$error":"#DIV/0!"},{"$error":"#DIV/0!"},{"$error":"#DIV/0!"}]
[null,null,null,null,null,null,null,null,0,{"$error":"#DIV/0!"},{"$error":"#DIV/0!"},{"$error":"#DIV/0!"}]
[null,null,null,null,null,null,null,null,0,{"$error":"#DIV/0!"},{"$error":"#DIV/0!"},{"$error":"#DIV/0!"}]
[null,null,null,null,null,null,null,null,0,{"$error":"#DIV/0!"},{"$error":"#DIV/0!"},{"$error":"#DIV/0!"}]
[null,null,null,null,null,null,null,null,0,{"$error":"#DIV/0!"},{"$error":"#DIV/0!"},{"$error":"#DIV/0!"}]
[null,null,null,null,null,null,null,null,0,{"$error":"#DIV/0!"},{"$error":"#DIV/0!"},{"$error":"#DIV/0!"}]
[null,null,null,null,null,null,null,null,0,{"$error":"#DIV/0!"},{"$error":"#DIV/0!"},{"$error":"#DIV/0!"}]
[null,null,null,null,null,null,null,null,0,{"$error":"#DIV/0!"},{"$error":"#DIV/0!"},{"$error":"#DIV/0!"}]
[null,null,null,null,null,null,null,null,0,{"$error":"#DIV/0!"},{"$error":"#DIV/0!"},{"$error":"#DIV/0!"}]
[null,null,null,null,null,null,null,null,0,{"$error":"#DIV/0!"},{"$error":"#DIV/0!"},{"$error":"#DIV/0!"}]
[null,null,null,null,null,null,null,null,0,{"$error":"#DIV/0!"},{"$error":"#DIV/0!"},{"$error":"#DIV/0!"}]
[null,null,null,null,null,null,null,null,0,{"$error":"#DIV/0!"},{"$error":"#DIV/0!"},{"$error":"#DIV/0!"}]
[null,null,null,null,null,null,null,null,0,{"$error":"#DIV/0!"},{"$error":"#DIV/0!"},{"$error":"#DIV/0!"}]
[null,null,null,null,null,null,null,null,0,{"$error":"#DIV/0!"},{"$error":"#DIV/0!"},{"$error":"#DIV/0!"}]
[null,null,null,null,null,null,null,null,0,{"$error":"#DIV/0!"},{"$error":"#DIV/0!"},{"$error":"#DIV/0!"}]
[null,null,null,null,null,null,null,null,0,{"$error":"#DIV/0!"},{"$error":"#DIV/0!"},{"$error":"#DIV/0!"}]
[null,null,null,null,null,null,null,null,0,{"$error":"#DIV/0!"},{"$error":"#DIV/0!"},{"$error":"#DIV/0!"}]
[null,null,null,null,null,null,null,null,0,{"$error":"#DIV/0!"},{"$error":"#DIV/0!"},{"$error":"#DIV/0!"}]
[null,null,null,null,null,null,null,null,0,{"$error":"#DIV/0!"},{"$error":"#DIV/0!"},{"$error":"#DIV/0!"}]
[null,null,null,null,null,null,null,null,0,{"$error":"#DIV/0!"},{"$error":"#DIV/0!"},{"$error":"#DIV/0!"}]
[null,null,null,null,null,null,null,null,0,{"$error":"#DIV/0!"},{"$error":"#DIV/0!"},{"$error":"#DIV/0!"}]
[null,null,null,null,null,null,null,null,0,{"$error":"#DIV/0!"},{"$error":"#DIV/0!"},{"$error":"#DIV/0!"}]
[null,null,null,null,null,null,null,null,0,{"$error":"#DIV/0!"},{"$error":"#DIV/0!"},{"$error":"#DIV/0!"}]
[null,null,null,null,null,null,null,null,0,{"$error":"#DIV/0!"},{"$error":"#DIV/0!"},{"$error":"#DIV/0!"}]
[null,null,null,null,null,null,null,null,0,{"$error":"#DIV/0!"},{"$error":"#DIV/0!"},{"$error":"#DIV/0!"}]
[null,null,null,null,null,null,null,null,0,{"$error":"#DIV/0!"},{"$error":"#DIV/0!"},{"$error":"#DIV/0!"}]
[null,null,null,null,null,null,null,null,0,{"$error":"#DIV/0!"},{"$error":"#DIV/0!"},{"$error":"#DIV/0!"}]
[null,null,null,null,null,null,null,null,0,{"$error":"#DIV/0!"},{"$error":"#DIV/0!"},{"$error":"#DIV/0!"}]
[null,null,null,null,null,null,null,null,0,{"$error":"#DIV/0!"},{"$error":"#DIV/0!"},{"$error":"#DIV/0!"}]
[null,null,null,null,null,null,null,null,0,{"$error":"#DIV/0!"},{"$error":"#DIV/0!"},{"$error":"#DIV/0!"}]
[null,null,null,null,null,null,null,null,0,{"$error":"#DIV/0!"},{"$error":"#DIV/0!"},{"$error":"#DIV/0!"}]
[null,null,null,null,null,null,null,null,0,{"$error":"#DIV/0!"},{"$error":"#DIV/0!"},{"$error":"#DIV/0!"}]
[null,null,null,null,null,null,null,null,0,{"$error":"#DIV/0!"},{"$error":"#DIV/0!"},{"$error":"#DIV/0!"}]
[null,null,null,null,null,null,null,null,0,{"$error":"#DIV/0!"},{"$error":"#DIV/0!"},{"$error":"#DIV/0!"}]
[null,null,null,null,null,null,null,null,0,{"$error":"#DIV/0!"},{"$error":"#DIV/0!"},{"$error":"#DIV/0!"}]
[null,null,null,null,null,null,null,null,0,{"$error":"#DIV/0!"},{"$error":"#DIV/0!"},{"$error":"#DIV/0!"}]
[null,null,null,null,null,null,null,null,0,{"$error":"#DIV/0!"},{"$error":"#DIV/0!"},{"$error":"#DIV/0!"}]
[null,null,null,null,null,null,null,null,0,{"$error":"#DIV/0!"},{"$error":"#DIV/0!"},{"$error":"#DIV/0!"}]
[null,null,null,null,null,null,null,null,0,{"$error":"#DIV/0!"},{"$error":"#DIV/0!"},{"$error":"#DIV/0!"}]
[null,null,null,null,null,null,null,null,0,{"$error":"#DIV/0!"},{"$error":"#DIV/0!"},{"$error":"#DIV/0!"}]
[null,null,null,null,null,null,null,null,0,{"$error":"#DIV/0!"},{"$error":"#DIV/0!"},{"$error":"#DIV/0!"}]
[null,null,null,null,null,null,null,null,0,{"$error":"#DIV/0!"},{"$error":"#DIV/0!"},{"$error":"#DIV/0!"}]
[null,null,null,null,null,null,null,null,0,{"$error":"#DIV/0!"},{"$error":"#DIV/0!"},{"$error":"#DIV/0!"}]
[null,null,null,null,null,null,null,null,0,{"$error":"#DIV/0!"},{"$error":"#DIV/0!"},{"$error":"#DIV/0!"}]
[null,null,null,null,null,null,null,null,{"$f":"IF(F65814<>G65814,1,0)","v":0},{"$error":"#DIV/0!"},{"$f":"F65814/J65814","v":{"$error":"#DIV/0!"}},{"$error":"#DIV/0!"}]
[null,null,null,null,null,null,null,null,0,{"$error":"#DIV/0!"},{"$error":"#DIV/0!"},{"$error":"#DIV/0!"}]
[null,null,null,null,null,null,null,null,0,{"$error":"#DIV/0!"},{"$error":"#DIV/0!"},{"$error":"#DIV/0!"}]
[null,null,null,null,null,null,null,null,0,{"$error":"#DIV/0!"},{"$error":"#DIV/0!"},{"$error":"#DIV/0!"}]
[null,null,null,null,null,null,null,null,0,{"$error":"#DIV/0!"},{"$error":"#DIV/0!"},{"$error":"#DIV/0!"}]
[null,null,null,null,null,null,null,null,0,{"$error":"#DIV/0!"},{"$error":"#DIV/0!"},{"$error":"#DIV/0!"}]
[null,null,null,null,null,null,null,null,0,{"$error":"#DIV/0!"},{"$error":"#DIV/0!"},{"$error":"#DIV/0!"}]
[null,null,null,null,null,null,null,null,0,{"$error":"#DIV/0!"},{"$error":"#DIV/0!"},{"$f":"G66071/J66071","v":{"$error":"#DIV/0!"}}]
[null,null,null,null,null,null,null,null,0,{"$error":"#DIV/0!"},{"$error":"#DIV/0!"},{"$error":"#DIV/0!"}]
[null,null,null,null,null,null,null,null,0,{"$error":"#DIV/0!"},{"$error":"#DIV/0!"},{"$error":"#DIV/0!"}]
[null,null,null,null,null,null,null,null,0,{"$error":"#DIV/0!"},{"$error":"#DIV/0!"},{"$error":"#DIV/0!"}]
[null,null,null,null,null,null,null,null,0,{"$error":"#DIV/0!"},{"$error":"#DIV/0!"},{"$error":"#DIV/0!"}]
[null,null,null,null,null,null,null,null,0,{"$error":"#DIV/0!"},{"$error":"#DIV/0!"},{"$error":"#DIV/0!"}]
[null,null,null,null,null,null,null,null,0,{"$error":"#DIV/0!"},{"$error":"#DIV/0!"},{"$error":"#DIV/0!"}]
[null,null,null,null,null,null,null,null,0,{"$error":"#DIV/0!"},{"$error":"#DIV/0!"},{"$f":"G66327/J66327","v":{"$error":"#DIV/0!"}}]
[null,null,null,null,null,null,null,null,0,{"$error":"#DIV/0!"},{"$error":"#DIV/0!"},{"$error":"#DIV/0!"}]
[null,null,null,null,null,null,null,null,0,{"$error":"#DIV/0!"},{"$error":"#DIV/0!"},{"$error":"#DIV/0!"}]
[null,null,null,null,null,null,null,null,0,{"$error":"#DIV/0!"},{"$error":"#DIV/0!"},{"$error":"#DIV/0!"}]
[null,null,null,null,null,null,null,null,0,{"$error":"#DIV/0!"},{"$error":"#DIV/0!"},{"$error":"#DIV/0!"}]
[null,null,null,null,null,null,null,null,0,{"$error":"#DIV/0!"},{"$error":"#DIV/0!"},{"$error":"#DIV/0!"}]
[null,null,null,null,null,null,null,null,0,{"$error":"#DIV/0!"},{"$error":"#DIV/0!"},{"$error":"#DIV/0!"}]
[null,null,null,null,null,null,null,null,0,{"$error":"#DIV/0!"},{"$error":"#DIV/0!"},{"$error":"#DIV/0!"}]
[null,null,null,null,null,null,null,null,0,{"$error":"#DIV/0!"},{"$error":"#DIV/0!"},{"$error":"#DIV/0!"}]
[null,null,null,null,null,null,null,null,0,{"$error":"#DIV/0!"},{"$error":"#DIV/0!"},{"$error":"#DIV/0!"}]
[null,null,null,null,null,null,null,null,0,{"$error":"#DIV/0!"},{"$error":"#DIV/0!"},{"$error":"#DIV/0!"}]
[null,null,null,null,null,null,null,null,0,{"$error":"#DIV/0!"},{"$error":"#DIV/0!"},{"$error":"#DIV/0!"}]
[null,null,null,null,null,null,null,null,0,{"$error":"#DIV/0!"},{"$error":"#DIV/0!"},{"$error":"#DIV/0!"}]
[null,null,null,null,null,null,null,null,0,{"$error":"#DIV/0!"},{"$error":"#DIV/0!"},{"$error":"#DIV/0!"}]
[null,null,null,null,null,null,null,null,0,{"$error":"#DIV/0!"},{"$error":"#DIV/0!"},{"$error":"#DIV/0!"}]
[null,null,null,null,null,null,null,null,0,{"$error":"#DIV/0!"},{"$error":"#DIV/0!"},{"$error":"#DIV/0!"}]
[null,null,null,null,null,null,null,null,0,{"$error":"#DIV/0!"},{"$error":"#DIV/0!"},{"$error":"#DIV/0!"}]
[null,null,null,null,null,null,null,null,0,{"$error":"#DIV/0!"},{"$error":"#DIV/0!"},{"$error":"#DIV/0!"}]
[null,null,null,null,null,null,null,null,0,{"$f":"IF(F67033/G67033=1,F67033,J67032)","v":{"$error":"#DIV/0!"}},{"$error":"#DIV/0!"},{"$error":"#DIV/0!"}]
[null,null,null,null,null,null,null,null,0,{"$error":"#DIV/0!"},{"$error":"#DIV/0!"},{"$error":"#DIV/0!"}]
[null,null,null,null,null,null,null,null,0,{"$error":"#DIV/0!"},{"$error":"#DIV/0!"},{"$error":"#DIV/0!"}]
[null,null,null,null,null,null,null,null,0,{"$error":"#DIV/0!"},{"$error":"#DIV/0!"},{"$error":"#DIV/0!"}]
[null,null,null,null,null,null,null,null,0,{"$error":"#DIV/0!"},{"$error":"#DIV/0!"},{"$error":"#DIV/0!"}]
[null,null,null,null,null,null,null,null,0,{"$error":"#DIV/0!"},{"$error":"#DIV/0!"},{"$error":"#DIV/0!"}]
[null,null,null,null,null,null,null,null,0,{"$error":"#DIV/0!"},{"$error":"#DIV/0!"},{"$error":"#DIV/0!"}]
[null,null,null,null,null,null,null,null,0,{"$error":"#DIV/0!"},{"$error":"#DIV/0!"},{"$error":"#DIV/0!"}]
[null,null,null,null,null,null,null,null,0,{"$error":"#DIV/0!"},{"$error":"#DIV/0!"},{"$error":"#DIV/0!"}]
[null,null,null,null,null,null,null,null,0,{"$error":"#DIV/0!"},{"$error":"#DIV/0!"},{"$error":"#DIV/0!"}]
[null,null,null,null,null,null,null,null,0,{"$error":"#DIV/0!"},{"$error":"#DIV/0!"},{"$error":"#DIV/0!"}]
[null,null,null,null,null,null,null,null,0,{"$error":"#DIV/0!"},{"$error":"#DIV/0!"},{"$error":"#DIV/0!"}]
[null,null,null,null,null,null,null,null,0,{"$error":"#DIV/0!"},{"$error":"#DIV/0!"},{"$error":"#DIV/0!"}]
[null,null,null,null,null,null,null,null,0,{"$error":"#DIV/0!"},{"$error":"#DIV/0!"},{"$error":"#DIV/0!"}]
[null,null,null,null,null,null,null,null,0,{"$error":"#DIV/0!"},{"$error":"#DIV/0!"},{"$error":"#DIV/0!"}]
[null,null,null,null,null,null,null,null,0,{"$error":"#DIV/0!"},{"$error":"#DIV/0!"},{"$error":"#DIV/0!"}]
[null,null,null,null,null,null,null,null,0,{"$error":"#DIV/0!"},{"$error":"#DIV/0!"},{"$error":"#DIV/0!"}]
[null,null,null,null,null,null,null,null,0,{"$error":"#DIV/0!"},{"$error":"#DIV/0!"},{"$error":"#DIV/0!"}]
[null,null,null,null,null,null,null,null,0,{"$error":"#DIV/0!"},{"$error":"#DIV/0!"},{"$error":"#DIV/0!"}]
[null,null,null,null,null,null,null,null,0,{"$error":"#DIV/0!"},{"$error":"#DIV/0!"},{"$error":"#DIV/0!"}]
[null,null,null,null,null,null,null,null,0,{"$error":"#DIV/0!"},{"$error":"#DIV/0!"},{"$error":"#DIV/0!"}]
[null,null,null,null,null,null,null,null,0,{"$error":"#DIV/0!"},{"$error":"#DIV/0!"},{"$error":"#DIV/0!"}]
[null,null,null,null,null,null,null,null,0,{"$error":"#DIV/0!"},{"$error":"#DIV/0!"},{"$error":"#DIV/0!"}]
[null,null,null,null,null,null,null,null,0,{"$error":"#DIV/0!"},{"$error":"#DIV/0!"},{"$error":"#DIV/0!"}]
[null,null,null,null,null,null,null,null,0,{"$error":"#DIV/0!"},{"$error":"#DIV/0!"},{"$error":"#DIV/0!"}]
[null,null,null,null,null,null,null,null,0,{"$error":"#DIV/0!"},{"$error":"#DIV/0!"},{"$error":"#DIV/0!"}]
[null,null,null,null,null,null,null,null,0,{"$error":"#DIV/0!"},{"$error":"#DIV/0!"},{"$error":"#DIV/0!"}]
[null,null,null,null,null,null,null,null,0,{"$error":"#DIV/0!"},{"$error":"#DIV/0!"},{"$error":"#DIV/0!"}]
[null,null,null,null,null,null,null,null,0,{"$error":"#DIV/0!"},{"$error":"#DIV/0!"},{"$error":"#DIV/0!"}]
[null,null,null,null,null,null,null,null,0,{"$error":"#DIV/0!"},{"$error":"#DIV/0!"},{"$error":"#DIV/0!"}]
[null,null,null,null,null,null,null,null,0,{"$error":"#DIV/0!"},{"$error":"#DIV/0!"},{"$error":"#DIV/0!"}]
[null,null,null,null,null,null,null,null,0,{"$error":"#DIV/0!"},{"$error":"#DIV/0!"},{"$error":"#DIV/0!"}]
[null,null,null,null,null,null,null,null,0,{"$error":"#DIV/0!"},{"$error":"#DIV/0!"},{"$error":"#DIV/0!"}]
[null,null,null,null,null,null,null,null,0,{"$error":"#DIV/0!"},{"$error":"#DIV/0!"},{"$error":"#DIV/0!"}]
[null,null,null,null,null,null,null,null,0,{"$error":"#DIV/0!"},{"$error":"#DIV/0!"},{"$error":"#DIV/0!"}]
[null,null,null,null,null,null,null,null,0,{"$error":"#DIV/0!"},{"$error":"#DIV/0!"},{"$error":"#DIV/0!"}]
[null,null,null,null,null,null,null,null,0,{"$error":"#DIV/0!"},{"$error":"#DIV/0!"},{"$error":"#DIV/0!"}]
[null,null,null,null,null,null,null,null,0,{"$error":"#DIV/0!"},{"$error":"#DIV/0!"},{"$error":"#DIV/0!"}]
[null,null,null,null,null,null,null,null,0,{"$error":"#DIV/0!"},{"$error":"#DIV/0!"},{"$error":"#DIV/0!"}]
[null,null,null,null,null,null,null,null,0,{"$error":"#DIV/0!"},{"$error":"#DIV/0!"},{"$error":"#DIV/0!"}]
[null,null,null,null,null,null,null,null,0,{"$error":"#DIV/0!"},{"$error":"#DIV/0!"},{"$error":"#DIV/0!"}]
[null,null,null,null,null,null,null,null,0,{"$error":"#DIV/0!"},{"$error":"#DIV/0!"},{"$error":"#DIV/0!"}]
[null,null,null,null,null,null,null,null,0,{"$error":"#DIV/0!"},{"$error":"#DIV/0!"},{"$error":"#DIV/0!"}]
[null,null,null,null,null,null,null,null,0,{"$error":"#DIV/0!"},{"$error":"#DIV/0!"},{"$error":"#DIV/0!"}]
[null,null,null,null,null,null,null,null,0,{"$error":"#DIV/0!"},{"$error":"#DIV/0!"},{"$error":"#DIV/0!"}]
[null,null,null,null,null,null,null,null,0,{"$error":"#DIV/0!"},{"$error":"#DIV/0!"},{"$error":"#DIV/0!"}]
[null,null,null,null,null,null,null,null,0,{"$error":"#DIV/0!"},{"$error":"#DIV/0!"},{"$error":"#DIV/0!"}]
[null,null,null,null,null,null,null,null,0,{"$error":"#DIV/0!"},{"$error":"#DIV/0!"},{"$error":"#DIV/0!"}]
[null,null,null,null,null,null,null,null,{"$f":"IF(F68886<>G68886,1,0)","v":0},{"$error":"#DIV/0!"},{"$f":"F68886/J68886","v":{"$error":"#DIV/0!"}},{"$error":"#DIV/0!"}]
[null,null,null,null,null,null,null,null,0,{"$error":"#DIV/0!"},{"$error":"#DIV/0!"},{"$error":"#DIV/0!"}]
[null,null,null,null,null,null,null,null,0,{"$error":"#DIV/0!"},{"$error":"#DIV/0!"},{"$error":"#DIV/0!"}]
[null,null,null,null,null,null,null,null,0,{"$error":"#DIV/0!"},{"$error":"#DIV/0!"},{"$error":"#DIV/0!"}]
[null,null,null,null,null,null,null,null,0,{"$error":"#DIV/0!"},{"$error":"#DIV/0!"},{"$error":"#DIV/0!"}]
[null,null,null,null,null,null,null,null,0,{"$error":"#DIV/0!"},{"$error":"#DIV/0!"},{"$error":"#DIV/0!"}]
[null,null,null,null,null,null,null,null,0,{"$error":"#DIV/0!"},{"$error":"#DIV/0!"},{"$error":"#DIV/0!"}]
[null,null,null,null,null,null,null,null,0,{"$error":"#DIV/0!"},{"$error":"#DIV/0!"},{"$error":"#DIV/0!"}]
[null,null,null,null,null,null,null,null,0,{"$error":"#DIV/0!"},{"$error":"#DIV/0!"},{"$error":"#DIV/0!"}]
[null,null,null,null,null,null,null,null,0,{"$error":"#DIV/0!"},{"$error":"#DIV/0!"},{"$error":"#DIV/0!"}]
[null,null,null,null,null,null,null,null,0,{"$error":"#DIV/0!"},{"$error":"#DIV/0!"},{"$error":"#DIV/0!"}]
[null,null,null,null,null,null,null,null,0,{"$error":"#DIV/0!"},{"$error":"#DIV/0!"},{"$error":"#DIV/0!"}]
[null,null,null,null,null,null,null,null,0,{"$error":"#DIV/0!"},{"$error":"#DIV/0!"},{"$error":"#DIV/0!"}]
[null,null,null,null,null,null,null,null,0,{"$error":"#DIV/0!"},{"$error":"#DIV/0!"},{"$error":"#DIV/0!"}]
[null,null,null,null,null,null,null,null,0,{"$error":"#DIV/0!"},{"$error":"#DIV/0!"},{"$error":"#DIV/0!"}]
[null,null,null,null,null,null,null,null,0,{"$error":"#DIV/0!"},{"$error":"#DIV/0!"},{"$error":"#DIV/0!"}]
[null,null,null,null,null,null,null,null,0,{"$error":"#DIV/0!"},{"$error":"#DIV/0!"},{"$error":"#DIV/0!"}]
[null,null,null,null,null,null,null,null,0,{"$error":"#DIV/0!"},{"$error":"#DIV/0!"},{"$error":"#DIV/0!"}]
[null,null,null,null,null,null,null,null,0,{"$error":"#DIV/0!"},{"$error":"#DIV/0!"},{"$f":"G69591/J69591","v":{"$error":"#DIV/0!"}}]
[null,null,null,null,null,null,null,null,0,{"$error":"#DIV/0!"},{"$error":"#DIV/0!"},{"$error":"#DIV/0!"}]
[null,null,null,null,null,null,null,null,0,{"$error":"#DIV/0!"},{"$error":"#DIV/0!"},{"$error":"#DIV/0!"}]
[null,null,null,null,null,null,null,null,0,{"$error":"#DIV/0!"},{"$error":"#DIV/0!"},{"$error":"#DIV/0!"}]
[null,null,null,null,null,null,null,null,0,{"$error":"#DIV/0!"},{"$error":"#DIV/0!"},{"$error":"#DIV/0!"}]
[null,null,null,null,null,null,null,null,0,{"$error":"#DIV/0!"},{"$error":"#DIV/0!"},{"$error":"#DIV/0!"}]
[null,null,null,null,null,null,null,null,0,{"$error":"#DIV/0!"},{"$error":"#DIV/0!"},{"$error":"#DIV/0!"}]
[null,null,null,null,null,null,null,null,0,{"$error":"#DIV/0!"},{"$error":"#DIV/0!"},{"$error":"#DIV/0!"}]
[null,null,null,null,null,null,null,null,0,{"$error":"#DIV/0!"},{"$error":"#DIV/0!"},{"$error":"#DIV/0!"}]
[null,null,null,null,null,null,null,null,0,{"$error":"#DIV/0!"},{"$error":"#DIV/0!"},{"$error":"#DIV/0!"}]
[null,null,null,null,null,null,null,null,0,{"$error":"#DIV/0!"},{"$error":"#DIV/0!"},{"$error":"#DIV/0!"}]
[null,null,null,null,null,null,null,null,0,{"$error":"#DIV/0!"},{"$error":"#DIV/0!"},{"$error":"#DIV/0!"}]
[null,null,null,null,null,null,null,null,0,{"$error":"#DIV/0!"},{"$error":"#DIV/0!"},{"$error":"#DIV/0!"}]
[null,null,null,null,null,null,null,null,0,{"$error":"#DIV/0!"},{"$error":"#DIV/0!"},{"$error":"#DIV/0!"}]
[null,null,null,null,null,null,null,null,0,{"$error":"#DIV/0!"},{"$error":"#DIV/0!"},{"$error":"#DIV/0!"}]
[null,null,null,null,null,null,null,null,0,{"$error":"#DIV/0!"},{"$error":"#DIV/0!"},{"$error":"#DIV/0!"}]
[null,null,null,null,null,null,null,null,0,{"$error":"#DIV/0!"},{"$error":"#DIV/0!"},{"$error":"#DIV/0!"}]
[null,null,null,null,null,null,null,null,0,{"$error":"#DIV/0!"},{"$error":"#DIV/0!"},{"$error":"#DIV/0!"}]
[null,null,null,null,null,null,null,null,0,{"$error":"#DIV/0!"},{"$error":"#DIV/0!"},{"$error":"#DIV/0!"}]
[null,null,null,null,null,null,null,null,0,{"$error":"#DIV/0!"},{"$error":"#DIV/0!"},{"$error":"#DIV/0!"}]
[null,null,null,null,null,null,null,null,0,{"$error":"#DIV/0!"},{"$error":"#DIV/0!"},{"$error":"#DIV/0!"}]
[null,null,null,null,null,null,null,null,0,{"$error":"#DIV/0!"},{"$error":"#DIV/0!"},{"$error":"#DIV/0!"}]
[null,null,null,null,null,null,null,null,0,{"$error":"#DIV/0!"},{"$error":"#DIV/0!"},{"$error":"#DIV/0!"}]
[null,null,null,null,null,null,null,null,0,{"$error":"#DIV/0!"},{"$error":"#DIV/0!"},{"$error":"#DIV/0!"}]
[null,null,null,null,null,null,null,null,0,{"$error":"#DIV/0!"},{"$error":"#DIV/0!"},{"$error":"#DIV/0!"}]
[null,null,null,null,null,null,null,null,0,{"$error":"#DIV/0!"},{"$error":"#DIV/0!"},{"$error":"#DIV/0!"}]
[null,null,null,null,null,null,null,null,0,{"$error":"#DIV/0!"},{"$error":"#DIV/0!"},{"$error":"#DIV/0!"}]
[null,null,null,null,null,null,null,null,0,{"$error":"#DIV/0!"},{"$error":"#DIV/0!"},{"$error":"#DIV/0!"}]
[null,null,null,null,null,null,null,null,0,{"$error":"#DIV/0!"},{"$error":"#DIV/0!"},{"$error":"#DIV/0!"}]
[null,null,null,null,null,null,null,null,0,{"$f":"IF(F70745/G70745=1,F70745,J70744)","v":{"$error":"#DIV/0!"}},{"$error":"#DIV/0!"},{"$error":"#DIV/0!"}]
[null,null,null,null,null,null,null,null,0,{"$error":"#DIV/0!"},{"$error":"#DIV/0!"},{"$error":"#DIV/0!"}]
[null,null,null,null,null,null,null,null,0,{"$error":"#DIV/0!"},{"$error":"#DIV/0!"},{"$error":"#DIV/0!"}]
[null,null,null,null,null,null,null,null,0,{"$error":"#DIV/0!"},{"$error":"#DIV/0!"},{"$error":"#DIV/0!"}]
[null,null,null,null,null,null,null,null,0,{"$error":"#DIV/0!"},{"$error":"#DIV/0!"},{"$error":"#DIV/0!"}]
[null,null,null,null,null,null,null,null,0,{"$error":"#DIV/0!"},{"$error":"#DIV/0!"},{"$error":"#DIV/0!"}]
[null,null,null,null,null,null,null,null,0,{"$error":"#DIV/0!"},{"$error":"#DIV/0!"},{"$error":"#DIV/0!"}]
[null,null,null,null,null,null,null,null,0,{"$error":"#DIV/0!"},{"$error":"#DIV/0!"},{"$error":"#DIV/0!"}]
[null,null,null,null,null,null,null,null,0,{"$error":"#DIV/0!"},{"$error":"#DIV/0!"},{"$error":"#DIV/0!"}]
[null,null,null,null,null,null,null,null,0,{"$error":"#DIV/0!"},{"$error":"#DIV/0!"},{"$error":"#DIV/0!"}]
[null,null,null,null,null,null,null,null,0,{"$error":"#DIV/0!"},{"$error":"#DIV/0!"},{"$error":"#DIV/0!"}]
[null,null,null,null,null,null,null,null,0,{"$error":"#DIV/0!"},{"$error":"#DIV/0!"},{"$error":"#DIV/0!"}]
[null,null,null,null,null,null,null,null,0,{"$error":"#DIV/0!"},{"$error":"#DIV/0!"},{"$error":"#DIV/0!"}]
[null,null,null,null,null,null,null,null,0,{"$error":"#DIV/0!"},{"$error":"#DIV/0!"},{"$error":"#DIV/0!"}]
[null,null,null,null,null,null,null,null,0,{"$error":"#DIV/0!"},{"$error":"#DIV/0!"},{"$error":"#DIV/0!"}]
[null,null,null,null,null,null,null,null,0,{"$error":"#DIV/0!"},{"$error":"#DIV/0!"},{"$error":"#DIV/0!"}]
[null,null,null,null,null,null,null,null,0,{"$error":"#DIV/0!"},{"$error":"#DIV/0!"},{"$error":"#DIV/0!"}]
[null,null,null,null,null,null,null,null,0,{"$error":"#DIV/0!"},{"$error":"#DIV/0!"},{"$error":"#DIV/0!"}]
[null,null,null,null,null,null,null,null,0,{"$error":"#DIV/0!"},{"$error":"#DIV/0!"},{"$error":"#DIV/0!"}]
[null,null,null,null,null,null,null,null,0,{"$error":"#DIV/0!"},{"$error":"#DIV/0!"},{"$error":"#DIV/0!"}]
[null,null,null,null,null,null,null,null,0,{"$error":"#DIV/0!"},{"$error":"#DIV/0!"},{"$error":"#DIV/0!"}]
[null,null,null,null,null,null,null,null,0,{"$error":"#DIV/0!"},{"$error":"#DIV/0!"},{"$error":"#DIV/0!"}]
[null,null,null,null,null,null,null,null,0,{"$error":"#DIV/0!"},{"$error":"#DIV/0!"},{"$error":"#DIV/0!"}]
[null,null,null,null,null,null,null,null,0,{"$error":"#DIV/0!"},{"$error":"#DIV/0!"},{"$error":"#DIV/0!"}]
[null,null,null,null,null,null,null,null,0,{"$error":"#DIV/0!"},{"$error":"#DIV/0!"},{"$error":"#DIV/0!"}]
[null,null,null,null,null,null,null,null,0,{"$error":"#DIV/0!"},{"$error":"#DIV/0!"},{"$error":"#DIV/0!"}]
[null,null,null,null,null,null,null,null,0,{"$error":"#DIV/0!"},{"$error":"#DIV/0!"},{"$error":"#DIV/0!"}]
[null,null,null,null,null,null,null,null,0,{"$error":"#DIV/0!"},{"$error":"#DIV/0!"},{"$error":"#DIV/0!"}]
[null,null,null,null,null,null,null,null,0,{"$error":"#DIV/0!"},{"$error":"#DIV/0!"},{"$error":"#DIV/0!"}]
[null,null,null,null,null,null,null,null,0,{"$error":"#DIV/0!"},{"$error":"#DIV/0!"},{"$error":"#DIV/0!"}]
[null,null,null,null,null,null,null,null,0,{"$error":"#DIV/0!"},{"$error":"#DIV/0!"},{"$error":"#DIV/0!"}]
[null,null,null,null,null,null,null,null,0,{"$error":"#DIV/0!"},{"$error":"#DIV/0!"},{"$error":"#DIV/0!"}]
[null,null,null,null,null,null,null,null,0,{"$error":"#DIV/0!"},{"$error":"#DIV/0!"},{"$error":"#DIV/0!"}]
[null,null,null,null,null,null,null,null,0,{"$error":"#DIV/0!"},{"$error":"#DIV/0!"},{"$error":"#DIV/0!"}]
[null,null,null,null,null,null,null,null,0,{"$error":"#DIV/0!"},{"$error":"#DIV/0!"},{"$error":"#DIV/0!"}]
[null,null,null,null,null,null,null,null,0,{"$error":"#DIV/0!"},{"$error":"#DIV/0!"},{"$error":"#DIV/0!"}]
[null,null,null,null,null,null,null,null,0,{"$error":"#DIV/0!"},{"$error":"#DIV/0!"},{"$error":"#DIV/0!"}]
[null,null,null,null,null,null,null,null,{"$f":"IF(F72150<>G72150,1,0)","v":0},{"$error":"#DIV/0!"},{"$f":"F72150/J72150","v":{"$error":"#DIV/0!"}},{"$error":"#DIV/0!"}]
[null,null,null,null,null,null,null,null,0,{"$error":"#DIV/0!"},{"$error":"#DIV/0!"},{"$error":"#DIV/0!"}]
[null,null,null,null,null,null,null,null,0,{"$error":"#DIV/0!"},{"$error":"#DIV/0!"},{"$error":"#DIV/0!"}]
[null,null,null,null,null,null,null,null,0,{"$error":"#DIV/0!"},{"$error":"#DIV/0!"},{"$error":"#DIV/0!"}]
[null,null,null,null,null,null,null,null,0,{"$error":"#DIV/0!"},{"$error":"#DIV/0!"},{"$error":"#DIV/0!"}]
[null,null,null,null,null,null,null,null,0,{"$error":"#DIV/0!"},{"$error":"#DIV/0!"},{"$error":"#DIV/0!"}]
[null,null,null,null,null,null,null,null,0,{"$error":"#DIV/0!"},{"$error":"#DIV/0!"},{"$error":"#DIV/0!"}]
[null,null,null,null,null,null,null,null,0,{"$error":"#DIV/0!"},{"$error":"#DIV/0!"},{"$error":"#DIV/0!"}]
[null,null,null,null,null,null,null,null,0,{"$error":"#DIV/0!"},{"$error":"#DIV/0!"},{"$error":"#DIV/0!"}]
[null,null,null,null,null,null,null,null,0,{"$error":"#DIV/0!"},{"$error":"#DIV/0!"},{"$error":"#DIV/0!"}]
[null,null,null,null,null,null,null,null,0,{"$error":"#DIV/0!"},{"$error":"#DIV/0!"},{"$error":"#DIV/0!"}]
[null,null,null,null,null,null,null,null,0,{"$error":"#DIV/0!"},{"$error":"#DIV/0!"},{"$error":"#DIV/0!"}]
[null,null,null,null,null,null,null,null,0,{"$error":"#DIV/0!"},{"$error":"#DIV/0!"},{"$error":"#DIV/0!"}]
[null,null,null,null,null,null,null,null,0,{"$error":"#DIV/0!"},{"$error":"#DIV/0!"},{"$error":"#DIV/0!"}]
[null,null,null,null,null,null,null,null,0,{"$error":"#DIV/0!"},{"$error":"#DIV/0!"},{"$error":"#DIV/0!"}]
[null,null,null,null,null,null,null,null,0,{"$error":"#DIV/0!"},{"$error":"#DIV/0!"},{"$error":"#DIV/0!"}]
[null,null,null,null,null,null,null,null,0,{"$error":"#DIV/0!"},{"$error":"#DIV/0!"},{"$error":"#DIV/0!"}]
[null,null,null,null,null,null,null,null,0,{"$error":"#DIV/0!"},{"$error":"#DIV/0!"},{"$error":"#DIV/0!"}]
[null,null,null,null,null,null,null,null,0,{"$error":"#DIV/0!"},{"$error":"#DIV/0!"},{"$f":"G72855/J72855","v":{"$error":"#DIV/0!"}}]
[null,null,null,null,null,null,null,null,0,{"$error":"#DIV/0!"},{"$error":"#DIV/0!"},{"$error":"#DIV/0!"}]
[null,null,null,null,null,null,null,null,0,{"$error":"#DIV/0!"},{"$error":"#DIV/0!"},{"$error":"#DIV/0!"}]
[null,null,null,null,null,null,null,null,0,{"$error":"#DIV/0!"},{"$error":"#DIV/0!"},{"$error":"#DIV/0!"}]
[null,null,null,null,null,null,null,null,0,{"$error":"#DIV/0!"},{"$error":"#DIV/0!"},{"$error":"#DIV/0!"}]
[null,null,null,null,null,null,null,null,0,{"$error":"#DIV/0!"},{"$error":"#DIV/0!"},{"$error":"#DIV/0!"}]
[null,null,null,null,null,null,null,null,0,{"$error":"#DIV/0!"},{"$error":"#DIV/0!"},{"$error":"#DIV/0!"}]
[null,null,null,null,null,null,null,null,0,{"$error":"#DIV/0!"},{"$error":"#DIV/0!"},{"$error":"#DIV/0!"}]
[null,null,null,null,null,null,null,null,0,{"$error":"#DIV/0!"},{"$error":"#DIV/0!"},{"$error":"#DIV/0!"}]
[null,null,null,null,null,null,null,null,0,{"$error":"#DIV/0!"},{"$error":"#DIV/0!"},{"$error":"#DIV/0!"}]
[null,null,null,null,null,null,null,null,0,{"$error":"#DIV/0!"},{"$error":"#DIV/0!"},{"$error":"#DIV/0!"}]
[null,null,null,null,null,null,null,null,0,{"$error":"#DIV/0!"},{"$error":"#DIV/0!"},{"$error":"#DIV/0!"}]
[null,null,null,null,null,null,null,null,0,{"$error":"#DIV/0!"},{"$error":"#DIV/0!"},{"$error":"#DIV/0!"}]
[null,null,null,null,null,null,null,null,0,{"$error":"#DIV/0!"},{"$error":"#DIV/0!"},{"$error":"#DIV/0!"}]
[null,null,null,null,null,null,null,null,0,{"$error":"#DIV/0!"},{"$error":"#DIV/0!"},{"$error":"#DIV/0!"}]
[null,null,null,null,null,null,null,null,0,{"$error":"#DIV/0!"},{"$error":"#DIV/0!"},{"$error":"#DIV/0!"}]
[null,null,null,null,null,null,null,null,0,{"$error":"#DIV/0!"},{"$error":"#DIV/0!"},{"$error":"#DIV/0!"}]
[null,null,null,null,null,null,null,null,0,{"$error":"#DIV/0!"},{"$error":"#DIV/0!"},{"$error":"#DIV/0!"}]
[null,null,null,null,null,null,null,null,0,{"$error":"#DIV/0!"},{"$error":"#DIV/0!"},{"$error":"#DIV/0!"}]
[null,null,null,null,null,null,null,null,0,{"$error":"#DIV/0!"},{"$error":"#DIV/0!"},{"$error":"#DIV/0!"}]
[null,null,null,null,null,null,null,null,0,{"$error":"#DIV/0!"},{"$error":"#DIV/0!"},{"$error":"#DIV/0!"}]
[null,null,null,null,null,null,null,null,0,{"$error":"#DIV/0!"},{"$error":"#DIV/0!"},{"$error":"#DIV/0!"}]
[null,null,null,null,null,null,null,null,0,{"$error":"#DIV/0!"},{"$error":"#DIV/0!"},{"$error":"#DIV/0!"}]
[null,null,null,null,null,null,null,null,0,{"$error":"#DIV/0!"},{"$error":"#DIV/0!"},{"$error":"#DIV/0!"}]
[null,null,null,null,null,null,null,null,0,{"$error":"#DIV/0!"},{"$error":"#DIV/0!"},{"$error":"#DIV/0!"}]
[null,null,null,null,null,null,null,null,0,{"$f":"IF(F73817/G73817=1,F73817,J73816)","v":{"$error":"#DIV/0!"}},{"$error":"#DIV/0!"},{"$error":"#DIV/0!"}]
[null,null,null,null,null,null,null,null,0,{"$error":"#DIV/0!"},{"$error":"#DIV/0!"},{"$error":"#DIV/0!"}]
[null,null,null,null,null,null,null,null,0,{"$error":"#DIV/0!"},{"$error":"#DIV/0!"},{"$error":"#DIV/0!"}]
[null,null,null,null,null,null,null,null,0,{"$error":"#DIV/0!"},{"$error":"#DIV/0!"},{"$error":"#DIV/0!"}]
[null,null,null,null,null,null,null,null,0,{"$error":"#DIV/0!"},{"$error":"#DIV/0!"},{"$error":"#DIV/0!"}]
[null,null,null,null,null,null,null,null,0,{"$error":"#DIV/0!"},{"$error":"#DIV/0!"},{"$error":"#DIV/0!"}]
[null,null,null,null,null,null,null,null,0,{"$error":"#DIV/0!"},{"$error":"#DIV/0!"},{"$error":"#DIV/0!"}]
[null,null,null,null,null,null,null,null,0,{"$error":"#DIV/0!"},{"$error":"#DIV/0!"},{"$error":"#DIV/0!"}]
[null,null,null,null,null,null,null,null,0,{"$error":"#DIV/0!"},{"$error":"#DIV/0!"},{"$error":"#DIV/0!"}]
[null,null,null,null,null,null,null,null,0,{"$error":"#DIV/0!"},{"$error":"#DIV/0!"},{"$error":"#DIV/0!"}]
[null,null,null,null,null,null,null,null,0,{"$error":"#DIV/0!"},{"$error":"#DIV/0!"},{"$error":"#DIV/0!"}]
[null,null,null,null,null,null,null,null,0,{"$error":"#DIV/0!"},{"$error":"#DIV/0!"},{"$error":"#DIV/0!"}]
[null,null,null,null,null,null,null,null,0,{"$error":"#DIV/0!"},{"$error":"#DIV/0!"},{"$error":"#DIV/0!"}]
[null,null,null,null,null,null,null,null,0,{"$error":"#DIV/0!"},{"$error":"#DIV/0!"},{"$error":"#DIV/0!"}]
[null,null,null,null,null,null,null,null,0,{"$error":"#DIV/0!"},{"$error":"#DIV/0!"},{"$error":"#DIV/0!"}]
[null,null,null,null,null,null,null,null,0,{"$error":"#DIV/0!"},{"$error":"#DIV/0!"},{"$error":"#DIV/0!"}]
[null,null,null,null,null,null,null,null,0,{"$error":"#DIV/0!"},{"$error":"#DIV/0!"},{"$error":"#DIV/0!"}]
[null,null,null,null,null,null,null,null,0,{"$error":"#DIV/0!"},{"$error":"#DIV/0!"},{"$error":"#DIV/0!"}]
[null,null,null,null,null,null,null,null,0,{"$error":"#DIV/0!"},{"$error":"#DIV/0!"},{"$error":"#DIV/0!"}]
[null,null,null,null,null,null,null,null,0,{"$error":"#DIV/0!"},{"$error":"#DIV/0!"},{"$error":"#DIV/0!"}]
[null,null,null,null,null,null,null,null,0,{"$error":"#DIV/0!"},{"$error":"#DIV/0!"},{"$error":"#DIV/0!"}]
[null,null,null,null,null,null,null,null,0,{"$error":"#DIV/0!"},{"$error":"#DIV/0!"},{"$error":"#DIV/0!"}]
[null,null,null,null,null,null,null,null,0,{"$error":"#DIV/0!"},{"$error":"#DIV/0!"},{"$error":"#DIV/0!"}]
[null,null,null,null,null,null,null,null,0,{"$error":"#DIV/0!"},{"$error":"#DIV/0!"},{"$error":"#DIV/0!"}]
[null,null,null,null,null,null,null,null,0,{"$error":"#DIV/0!"},{"$error":"#DIV/0!"},{"$error":"#DIV/0!"}]
[null,null,null,null,null,null,null,null,0,{"$error":"#DIV/0!"},{"$error":"#DIV/0!"},{"$error":"#DIV/0!"}]
[null,null,null,null,null,null,null,null,0,{"$error":"#DIV/0!"},{"$error":"#DIV/0!"},{"$error":"#DIV/0!"}]
[null,null,null,null,null,null,null,null,0,{"$error":"#DIV/0!"},{"$error":"#DIV/0!"},{"$error":"#DIV/0!"}]
[null,null,null,null,null,null,null,null,0,{"$error":"#DIV/0!"},{"$error":"#DIV/0!"},{"$error":"#DIV/0!"}]
[null,null,null,null,null,null,null,null,0,{"$error":"#DIV/0!"},{"$error":"#DIV/0!"},{"$error":"#DIV/0!"}]
[null,null,null,null,null,null,null,null,0,{"$error":"#DIV/0!"},{"$error":"#DIV/0!"},{"$error":"#DIV/0!"}]
[null,null,null,null,null,null,null,null,0,{"$error":"#DIV/0!"},{"$error":"#DIV/0!"},{"$error":"#DIV/0!"}]
[null,null,null,null,null,null,null,null,0,{"$error":"#DIV/0!"},{"$error":"#DIV/0!"},{"$error":"#DIV/0!"}]
[null,null,null,null,null,null,null,null,0,{"$error":"#DIV/0!"},{"$error":"#DIV/0!"},{"$error":"#DIV/0!"}]
[null,null,null,null,null,null,null,null,0,{"$error":"#DIV/0!"},{"$error":"#DIV/0!"},{"$error":"#DIV/0!"}]
[null,null,null,null,null,null,null,null,0,{"$error":"#DIV/0!"},{"$error":"#DIV/0!"},{"$error":"#DIV/0!"}]
[null,null,null,null,null,null,null,null,0,{"$error":"#DIV/0!"},{"$error":"#DIV/0!"},{"$error":"#DIV/0!"}]
[null,null,null,null,null,null,null,null,0,{"$error":"#DIV/0!"},{"$error":"#DIV/0!"},{"$error":"#DIV/0!"}]
[null,null,null,null,null,null,null,null,0,{"$error":"#DIV/0!"},{"$error":"#DIV/0!"},{"$error":"#DIV/0!"}]
[null,null,null,null,null,null,null,null,0,{"$error":"#DIV/0!"},{"$error":"#DIV/0!"},{"$error":"#DIV/0!"}]
[null,null,null,null,null,null,null,null,0,{"$error":"#DIV/0!"},{"$error":"#DIV/0!"},{"$error":"#DIV/0!"}]
[null,null,null,null,null,null,null,null,0,{"$error":"#DIV/0!"},{"$error":"#DIV/0!"},{"$error":"#DIV/0!"}]
[null,null,null,null,null,null,null,null,0,{"$error":"#DIV/0!"},{"$error":"#DIV/0!"},{"$error":"#DIV/0!"}]
[null,null,null,null,null,null,null,null,0,{"$error":"#DIV/0!"},{"$error":"#DIV/0!"},{"$error":"#DIV/0!"}]
[null,null,null,null,null,null,null,null,0,{"$error":"#DIV/0!"},{"$error":"#DIV/0!"},{"$error":"#DIV/0!"}]
[null,null,null,null,null,null,null,null,0,{"$error":"#DIV/0!"},{"$error":"#DIV/0!"},{"$error":"#DIV/0!"}]
[null,null,null,null,null,null,null,null,0,{"$error":"#DIV/0!"},{"$error":"#DIV/0!"},{"$error":"#DIV/0!"}]
[null,null,null,null,null,null,null,null,0,{"$error":"#DIV/0!"},{"$error":"#DIV/0!"},{"$error":"#DIV/0!"}]
[null,null,null,null,null,null,null,null,0,{"$error":"#DIV/0!"},{"$error":"#DIV/0!"},{"$error":"#DIV/0!"}]
[null,null,null,null,null,null,null,null,0,{"$error":"#DIV/0!"},{"$error":"#DIV/0!"},{"$error":"#DIV/0!"}]
[null,null,null,null,null,null,null,null,0,{"$error":"#DIV/0!"},{"$error":"#DIV/0!"},{"$error":"#DIV/0!"}]
[null,null,null,null,null,null,null,null,0,{"$error":"#DIV/0!"},{"$error":"#DIV/0!"},{"$error":"#DIV/0!"}]
[null,null,null,null,null,null,null,null,{"$f":"IF(F75862<>G75862,1,0)","v":0},{"$error":"#DIV/0!"},{"$f":"F75862/J75862","v":{"$error":"#DIV/0!"}},{"$error":"#DIV/0!"}]
[null,null,null,null,null,null,null,null,0,{"$error":"#DIV/0!"},{"$error":"#DIV/0!"},{"$error":"#DIV/0!"}]
[null,null,null,null,null,null,null,null,0,{"$error":"#DIV/0!"},{"$error":"#DIV/0!"},{"$error":"#DIV/0!"}]
[null,null,null,null,null,null,null,null,0,{"$error":"#DIV/0!"},{"$error":"#DIV/0!"},{"$error":"#DIV/0!"}]
[null,null,null,null,null,null,null,null,0,{"$error":"#DIV/0!"},{"$error":"#DIV/0!"},{"$error":"#DIV/0!"}]
[null,null,null,null,null,null,null,null,0,{"$error":"#DIV/0!"},{"$error":"#DIV/0!"},{"$error":"#DIV/0!"}]
[null,null,null,null,null,null,null,null,0,{"$error":"#DIV/0!"},{"$error":"#DIV/0!"},{"$error":"#DIV/0!"}]
[null,null,null,null,null,null,null,null,0,{"$error":"#DIV/0!"},{"$error":"#DIV/0!"},{"$f":"G76119/J76119","v":{"$error":"#DIV/0!"}}]
[null,null,null,null,null,null,null,null,0,{"$error":"#DIV/0!"},{"$error":"#DIV/0!"},{"$error":"#DIV/0!"}]
[null,null,null,null,null,null,null,null,0,{"$error":"#DIV/0!"},{"$error":"#DIV/0!"},{"$error":"#DIV/0!"}]
[null,null,null,null,null,null,null,null,0,{"$error":"#DIV/0!"},{"$error":"#DIV/0!"},{"$error":"#DIV/0!"}]
[null,null,null,null,null,null,null,null,0,{"$error":"#DIV/0!"},{"$error":"#DIV/0!"},{"$error":"#DIV/0!"}]
[null,null,null,null,null,null,null,null,0,{"$error":"#DIV/0!"},{"$error":"#DIV/0!"},{"$error":"#DIV/0!"}]
[null,null,null,null,null,null,null,null,0,{"$error":"#DIV/0!"},{"$error":"#DIV/0!"},{"$error":"#DIV/0!"}]
[null,null,null,null,null,null,null,null,0,{"$error":"#DIV/0!"},{"$error":"#DIV/0!"},{"$f":"G76375/J76375","v":{"$error":"#DIV/0!"}}]
[null,null,null,null,null,null,null,null,0,{"$error":"#DIV/0!"},{"$error":"#DIV/0!"},{"$error":"#DIV/0!"}]
[null,null,null,null,null,null,null,null,0,{"$error":"#DIV/0!"},{"$error":"#DIV/0!"},{"$error":"#DIV/0!"}]
[null,null,null,null,null,null,null,null,0,{"$error":"#DIV/0!"},{"$error":"#DIV/0!"},{"$error":"#DIV/0!"}]
[null,null,null,null,null,null,null,null,0,{"$error":"#DIV/0!"},{"$error":"#DIV/0!"},{"$error":"#DIV/0!"}]
[null,null,null,null,null,null,null,null,0,{"$error":"#DIV/0!"},{"$error":"#DIV/0!"},{"$error":"#DIV/0!"}]
[null,null,null,null,null,null,null,null,0,{"$error":"#DIV/0!"},{"$error":"#DIV/0!"},{"$error":"#DIV/0!"}]
[null,null,null,null,null,null,null,null,0,{"$error":"#DIV/0!"},{"$error":"#DIV/0!"},{"$error":"#DIV/0!"}]
[null,null,null,null,null,null,null,null,0,{"$error":"#DIV/0!"},{"$error":"#DIV/0!"},{"$error":"#DIV/0!"}]
[null,null,null,null,null,null,null,null,0,{"$error":"#DIV/0!"},{"$error":"#DIV/0!"},{"$error":"#DIV/0!"}]
[null,null,null,null,null,null,null,null,0,{"$error":"#DIV/0!"},{"$error":"#DIV/0!"},{"$error":"#DIV/0!"}]
[null,null,null,null,null,null,null,null,0,{"$error":"#DIV/0!"},{"$error":"#DIV/0!"},{"$error":"#DIV/0!"}]
[null,null,null,null,null,null,null,null,0,{"$error":"#DIV/0!"},{"$error":"#DIV/0!"},{"$error":"#DIV/0!"}]
[null,null,null,null,null,null,null,null,0,{"$error":"#DIV/0!"},{"$error":"#DIV/0!"},{"$error":"#DIV/0!"}]
[null,null,null,null,null,null,null,null,0,{"$error":"#DIV/0!"},{"$error":"#DIV/0!"},{"$error":"#DIV/0!"}]
[null,null,null,null,null,null,null,null,0,{"$error":"#DIV/0!"},{"$error":"#DIV/0!"},{"$error":"#DIV/0!"}]
[null,null,null,null,null,null,null,null,0,{"$error":"#DIV/0!"},{"$error":"#DIV/0!"},{"$error":"#DIV/0!"}]
[null,null,null,null,null,null,null,null,0,{"$error":"#DIV/0!"},{"$error":"#DIV/0!"},{"$error":"#DIV/0!"}]
[null,null,null,null,null,null,null,null,0,{"$f":"IF(F77081/G77081=1,F77081,J77080)","v":{"$error":"#DIV/0!"}},{"$error":"#DIV/0!"},{"$error":"#DIV/0!"}]
[null,null,null,null,null,null,null,null,0,{"$error":"#DIV/0!"},{"$error":"#DIV/0!"},{"$error":"#DIV/0!"}]
[null,null,null,null,null,null,null,null,0,{"$error":"#DIV/0!"},{"$error":"#DIV/0!"},{"$error":"#DIV/0!"}]
[null,null,null,null,null,null,null,null,0,{"$error":"#DIV/0!"},{"$error":"#DIV/0!"},{"$error":"#DIV/0!"}]
[null,null,null,null,null,null,null,null,0,{"$error":"#DIV/0!"},{"$error":"#DIV/0!"},{"$error":"#DIV/0!"}]
[null,null,null,null,null,null,null,null,0,{"$error":"#DIV/0!"},{"$error":"#DIV/0!"},{"$error":"#DIV/0!"}]
[null,null,null,null,null,null,null,null,0,{"$error":"#DIV/0!"},{"$error":"#DIV/0!"},{"$error":"#DIV/0!"}]
[null,null,null,null,null,null,null,null,0,{"$error":"#DIV/0!"},{"$error":"#DIV/0!"},{"$error":"#DIV/0!"}]
[null,null,null,null,null,null,null,null,0,{"$error":"#DIV/0!"},{"$error":"#DIV/0!"},{"$error":"#DIV/0!"}]
[null,null,null,null,null,null,null,null,0,{"$error":"#DIV/0!"},{"$error":"#DIV/0!"},{"$error":"#DIV/0!"}]
[null,null,null,null,null,null,null,null,0,{"$error":"#DIV/0!"},{"$error":"#DIV/0!"},{"$error":"#DIV/0!"}]
[null,null,null,null,null,null,null,null,0,{"$error":"#DIV/0!"},{"$error":"#DIV/0!"},{"$error":"#DIV/0!"}]
[null,null,null,null,null,null,null,null,0,{"$error":"#DIV/0!"},{"$error":"#DIV/0!"},{"$error":"#DIV/0!"}]
[null,null,null,null,null,null,null,null,0,{"$error":"#DIV/0!"},{"$error":"#DIV/0!"},{"$error":"#DIV/0!"}]
[null,null,null,null,null,null,null,null,0,{"$error":"#DIV/0!"},{"$error":"#DIV/0!"},{"$error":"#DIV/0!"}]
[null,null,null,null,null,null,null,null,0,{"$error":"#DIV/0!"},{"$error":"#DIV/0!"},{"$error":"#DIV/0!"}]
[null,null,null,null,null,null,null,null,0,{"$error":"#DIV/0!"},{"$error":"#DIV/0!"},{"$error":"#DIV/0!"}]
[null,null,null,null,null,null,null,null,0,{"$error":"#DIV/0!"},{"$error":"#DIV/0!"},{"$error":"#DIV/0!"}]
[null,null,null,null,null,null,null,null,0,{"$error":"#DIV/0!"},{"$error":"#DIV/0!"},{"$error":"#DIV/0!"}]
[null,null,null,null,null,null,null,null,0,{"$error":"#DIV/0!"},{"$error":"#DIV/0!"},{"$error":"#DIV/0!"}]
[null,null,null,null,null,null,null,null,0,{"$error":"#DIV/0!"},{"$error":"#DIV/0!"},{"$error":"#DIV/0!"}]
[null,null,null,null,null,null,null,null,0,{"$error":"#DIV/0!"},{"$error":"#DIV/0!"},{"$error":"#DIV/0!"}]
[null,null,null,null,null,null,null,null,0,{"$error":"#DIV/0!"},{"$error":"#DIV/0!"},{"$error":"#DIV/0!"}]
[null,null,null,null,null,null,null,null,0,{"$error":"#DIV/0!"},{"$error":"#DIV/0!"},{"$error":"#DIV/0!"}]
[null,null,null,null,null,null,null,null,0,{"$error":"#DIV/0!"},{"$error":"#DIV/0!"},{"$error":"#DIV/0!"}]
[null,null,null,null,null,null,null,null,0,{"$error":"#DIV/0!"},{"$error":"#DIV/0!"},{"$error":"#DIV/0!"}]
[null,null,null,null,null,null,null,null,0,{"$error":"#DIV/0!"},{"$error":"#DIV/0!"},{"$error":"#DIV/0!"}]
[null,null,null,null,null,null,null,null,0,{"$error":"#DIV/0!"},{"$error":"#DIV/0!"},{"$error":"#DIV/0!"}]
[null,null,null,null,null,null,null,null,0,{"$error":"#DIV/0!"},{"$error":"#DIV/0!"},{"$error":"#DIV/0!"}]
[null,null,null,null,null,null,null,null,0,{"$error":"#DIV/0!"},{"$error":"#DIV/0!"},{"$error":"#DIV/0!"}]
[null,null,null,null,null,null,null,null,0,{"$error":"#DIV/0!"},{"$error":"#DIV/0!"},{"$error":"#DIV/0!"}]
[null,null,null,null,null,null,null,null,0,{"$error":"#DIV/0!"},{"$error":"#DIV/0!"},{"$error":"#DIV/0!"}]
[null,null,null,null,null,null,null,null,0,{"$error":"#DIV/0!"},{"$error":"#DIV/0!"},{"$error":"#DIV/0!"}]
[null,null,null,null,null,null,null,null,0,{"$error":"#DIV/0!"},{"$error":"#DIV/0!"},{"$error":"#DIV/0!"}]
[null,null,null,null,null,null,null,null,0,{"$error":"#DIV/0!"},{"$error":"#DIV/0!"},{"$error":"#DIV/0!"}]
[null,null,null,null,null,null,null,null,0,{"$error":"#DIV/0!"},{"$error":"#DIV/0!"},{"$error":"#DIV/0!"}]
[null,null,null,null,null,null,null,null,0,{"$error":"#DIV/0!"},{"$error":"#DIV/0!"},{"$error":"#DIV/0!"}]
[null,null,null,null,null,null,null,null,0,{"$error":"#DIV/0!"},{"$error":"#DIV/0!"},{"$error":"#DIV/0!"}]
[null,null,null,null,null,null,null,null,0,{"$error":"#DIV/0!"},{"$error":"#DIV/0!"},{"$error":"#DIV/0!"}]
[null,null,null,null,null,null,null,null,0,{"$error":"#DIV/0!"},{"$error":"#DIV/0!"},{"$error":"#DIV/0!"}]
[null,null,null,null,null,null,null,null,0,{"$error":"#DIV/0!"},{"$error":"#DIV/0!"},{"$error":"#DIV/0!"}]
[null,null,null,null,null,null,null,null,0,{"$error":"#DIV/0!"},{"$error":"#DIV/0!"},{"$error":"#DIV/0!"}]
[null,null,null,null,null,null,null,null,0,{"$error":"#DIV/0!"},{"$error":"#DIV/0!"},{"$error":"#DIV/0!"}]
[null,null,null,null,null,null,null,null,0,{"$error":"#DIV/0!"},{"$error":"#DIV/0!"},{"$error":"#DIV/0!"}]
[null,null,null,null,null,null,null,null,0,{"$error":"#DIV/0!"},{"$error":"#DIV/0!"},{"$error":"#DIV/0!"}]
[null,null,null,null,null,null,null,null,0,{"$error":"#DIV/0!"},{"$error":"#DIV/0!"},{"$error":"#DIV/0!"}]
[null,null,null,null,null,null,null,null,0,{"$error":"#DIV/0!"},{"$error":"#DIV/0!"},{"$error":"#DIV/0!"}]
[null,null,null,null,null,null,null,null,0,{"$error":"#DIV/0!"},{"$error":"#DIV/0!"},{"$error":"#DIV/0!"}]
[null,null,null,null,null,null,null,null,{"$f":"IF(F78934<>G78934,1,0)","v":0},{"$error":"#DIV/0!"},{"$f":"F78934/J78934","v":{"$error":"#DIV/0!"}},{"$error":"#DIV/0!"}]
[null,null,null,null,null,null,null,null,0,{"$error":"#DIV/0!"},{"$error":"#DIV/0!"},{"$error":"#DIV/0!"}]
[null,null,null,null,null,null,null,null,0,{"$error":"#DIV/0!"},{"$error":"#DIV/0!"},{"$error":"#DIV/0!"}]
[null,null,null,null,null,null,null,null,0,{"$error":"#DIV/0!"},{"$error":"#DIV/0!"},{"$error":"#DIV/0!"}]
[null,null,null,null,null,null,null,null,0,{"$error":"#DIV/0!"},{"$error":"#DIV/0!"},{"$error":"#DIV/0!"}]
[null,null,null,null,null,null,null,null,0,{"$error":"#DIV/0!"},{"$error":"#DIV/0!"},{"$error":"#DIV/0!"}]
[null,null,null,null,null,null,null,null,0,{"$error":"#DIV/0!"},{"$error":"#DIV/0!"},{"$error":"#DIV/0!"}]
[null,null,null,null,null,null,null,null,0,{"$error":"#DIV/0!"},{"$error":"#DIV/0!"},{"$error":"#DIV/0!"}]
[null,null,null,null,null,null,null,null,0,{"$error":"#DIV/0!"},{"$error":"#DIV/0!"},{"$error":"#DIV/0!"}]
[null,null,null,null,null,null,null,null,0,{"$error":"#DIV/0!"},{"$error":"#DIV/0!"},{"$error":"#DIV/0!"}]
[null,null,null,null,null,null,null,null,0,{"$error":"#DIV/0!"},{"$error":"#DIV/0!"},{"$error":"#DIV/0!"}]
[null,null,null,null,null,null,null,null,0,{"$error":"#DIV/0!"},{"$error":"#DIV/0!"},{"$f":"G79383/J79383","v":{"$error":"#DIV/0!"}}]
[null,null,null,null,null,null,null,null,0,{"$error":"#DIV/0!"},{"$error":"#DIV/0!"},{"$error":"#DIV/0!"}]
[null,null,null,null,null,null,null,null,0,{"$error":"#DIV/0!"},{"$error":"#DIV/0!"},{"$error":"#DIV/0!"}]
[null,null,null,null,null,null,null,null,0,{"$error":"#DIV/0!"},{"$error":"#DIV/0!"},{"$error":"#DIV/0!"}]
[null,null,null,null,null,null,null,null,0,{"$error":"#DIV/0!"},{"$error":"#DIV/0!"},{"$error":"#DIV/0!"}]
[null,null,null,null,null,null,null,null,0,{"$error":"#DIV/0!"},{"$error":"#DIV/0!"},{"$error":"#DIV/0!"}]
[null,null,null,null,null,null,null,null,0,{"$error":"#DIV/0!"},{"$error":"#DIV/0!"},{"$error":"#DIV/0!"}]
[null,null,null,null,null,null,null,null,0,{"$error":"#DIV/0!"},{"$error":"#DIV/0!"},{"$error":"#DIV/0!"}]
[null,null,null,null,null,null,null,null,0,{"$error":"#DIV/0!"},{"$error":"#DIV/0!"},{"$error":"#DIV/0!"}]
[null,null,null,null,null,null,null,null,0,{"$error":"#DIV/0!"},{"$error":"#DIV/0!"},{"$error":"#DIV/0!"}]
[null,null,null,null,null,null,null,null,0,{"$error":"#DIV/0!"},{"$error":"#DIV/0!"},{"$error":"#DIV/0!"}]
[null,null,null,null,null,null,null,null,0,{"$error":"#DIV/0!"},{"$error":"#DIV/0!"},{"$error":"#DIV/0!"}]
[null,null,null,null,null,null,null,null,0,{"$error":"#DIV/0!"},{"$error":"#DIV/0!"},{"$error":"#DIV/0!"}]
[null,null,null,null,null,null,null,null,0,{"$error":"#DIV/0!"},{"$error":"#DIV/0!"},{"$error":"#DIV/0!"}]
[null,null,null,null,null,null,null,null,0,{"$error":"#DIV/0!"},{"$error":"#DIV/0!"},{"$error":"#DIV/0!"}]
[null,null,null,null,null,null,null,null,0,{"$error":"#DIV/0!"},{"$error":"#DIV/0!"},{"$error":"#DIV/0!"}]
[null,null,null,null,null,null,null,null,0,{"$error":"#DIV/0!"},{"$error":"#DIV/0!"},{"$error":"#DIV/0!"}]
[null,null,null,null,null,null,null,null,0,{"$error":"#DIV/0!"},{"$error":"#DIV/0!"},{"$error":"#DIV/0!"}]
[null,null,null,null,null,null,null,null,0,{"$error":"#DIV/0!"},{"$error":"#DIV/0!"},{"$error":"#DIV/0!"}]
[null,null,null,null,null,null,null,null,0,{"$error":"#DIV/0!"},{"$error":"#DIV/0!"},{"$error":"#DIV/0!"}]
[null,null,null,null,null,null,null,null,0,{"$error":"#DIV/0!"},{"$error":"#DIV/0!"},{"$error":"#DIV/0!"}]
[null,null,null,null,null,null,null,null,0,{"$error":"#DIV/0!"},{"$error":"#DIV/0!"},{"$error":"#DIV/0!"}]
[null,null,null,null,null,null,null,null,0,{"$error":"#DIV/0!"},{"$error":"#DIV/0!"},{"$error":"#DIV/0!"}]
[null,null,null,null,null,null,null,null,0,{"$error":"#DIV/0!"},{"$error":"#DIV/0!"},{"$error":"#DIV/0!"}]
[null,null,null,null,null,null,null,null,0,{"$error":"#DIV/0!"},{"$error":"#DIV/0!"},{"$error":"#DIV/0!"}]
[null,null,null,null,null,null,null,null,0,{"$error":"#DIV/0!"},{"$error":"#DIV/0!"},{"$error":"#DIV/0!"}]
[null,null,null,null,null,null,null,null,0,{"$error":"#DIV/0!"},{"$error":"#DIV/0!"},{"$error":"#DIV/0!"}]
[null,null,null,null,null,null,null,null,0,{"$error":"#DIV/0!"},{"$error":"#DIV/0!"},{"$error":"#DIV/0!"}]
[null,null,null,null,null,null,null,null,0,{"$error":"#DIV/0!"},{"$error":"#DIV/0!"},{"$error":"#DIV/0!"}]
[null,null,null,null,null,null,null,null,0,{"$error":"#DIV/0!"},{"$error":"#DIV/0!"},{"$error":"#DIV/0!"}]
[null,null,null,null,null,null,null,null,0,{"$error":"#DIV/0!"},{"$error":"#DIV/0!"},{"$error":"#DIV/0!"}]
[null,null,null,null,null,null,null,null,0,{"$error":"#DIV/0!"},{"$error":"#DIV/0!"},{"$error":"#DIV/0!"}]
[null,null,null,null,null,null,null,null,0,{"$error":"#DIV/0!"},{"$error":"#DIV/0!"},{"$error":"#DIV/0!"}]
[null,null,null,null,null,null,null,null,0,{"$error":"#DIV/0!"},{"$error":"#DIV/0!"},{"$error":"#DIV/0!"}]
[null,null,null,null,null,null,null,null,0,{"$error":"#DIV/0!"},{"$error":"#DIV/0!"},{"$error":"#DIV/0!"}]
[null,null,null,null,null,null,null,null,0,{"$error":"#DIV/0!"},{"$error":"#DIV/0!"},{"$error":"#DIV/0!"}]
[null,null,null,null,null,null,null,null,0,{"$error":"#DIV/0!"},{"$error":"#DIV/0!"},{"$error":"#DIV/0!"}]
[null,null,null,null,null,null,null,null,0,{"$error":"#DIV/0!"},{"$error":"#DIV/0!"},{"$error":"#DIV/0!"}]
[null,null,null,null,null,null,null,null,0,{"$error":"#DIV/0!"},{"$error":"#DIV/0!"},{"$error":"#DIV/0!"}]
[null,null,null,null,null,null,null,null,0,{"$error":"#DIV/0!"},{"$error":"#DIV/0!"},{"$error":"#DIV/0!"}]
[null,null,null,null,null,null,null,null,0,{"$error":"#DIV/0!"},{"$error":"#DIV/0!"},{"$error":"#DIV/0!"}]
[null,null,null,null,null,null,null,null,0,{"$error":"#DIV/0!"},{"$error":"#DIV/0!"},{"$error":"#DIV/0!"}]
[null,null,null,null,null,null,null,null,0,{"$error":"#DIV/0!"},{"$error":"#DIV/0!"},{"$error":"#DIV/0!"}]
[null,null,null,null,null,null,null,null,0,{"$error":"#DIV/0!"},{"$error":"#DIV/0!"},{"$error":"#DIV/0!"}]
[null,null,null,null,null,null,null,null,0,{"$error":"#DIV/0!"},{"$error":"#DIV/0!"},{"$error":"#DIV/0!"}]
[null,null,null,null,null,null,null,null,0,{"$error":"#DIV/0!"},{"$error":"#DIV/0!"},{"$error":"#DIV/0!"}]
[null,null,null,null,null,null,null,null,0,{"$error":"#DIV/0!"},{"$error":"#DIV/0!"},{"$error":"#DIV/0!"}]
[null,null,null,null,null,null,null,null,0,{"$error":"#DIV/0!"},{"$error":"#DIV/0!"},{"$error":"#DIV/0!"}]
[null,null,null,null,null,null,null,null,0,{"$error":"#DIV/0!"},{"$error":"#DIV/0!"},{"$error":"#DIV/0!"}]
[null,null,null,null,null,null,null,null,0,{"$error":"#DIV/0!"},{"$error":"#DIV/0!"},{"$error":"#DIV/0!"}]
[null,null,null,null,null,null,null,null,0,{"$error":"#DIV/0!"},{"$error":"#DIV/0!"},{"$error":"#DIV/0!"}]
[null,null,null,null,null,null,null,null,0,{"$error":"#DIV/0!"},{"$error":"#DIV/0!"},{"$error":"#DIV/0!"}]
[null,null,null,null,null,null,null,null,{"$f":"IF(F79638<>G79638,1,0)","v":0},{"$error":"#DIV/0!"},{"$f":"F79638/J79638","v":{"$error":"#DIV/0!"}},{"$error":"#DIV/0!"}]
[null,null,null,null,null,null,null,null,0,{"$error":"#DIV/0!"},{"$error":"#DIV/0!"},{"$f":"G79639/J79639","v":{"$error":"#DIV/0!"}}]
[null,null,null,null,null,null,null,null,0,{"$error":"#DIV/0!"},{"$error":"#DIV/0!"},{"$error":"#DIV/0!"}]
[null,null,null,null,null,null,null,null,0,{"$f":"IF(F79641/G79641=1,F79641,J79640)","v":{"$error":"#DIV/0!"}},{"$error":"#DIV/0!"},{"$error":"#DIV/0!"}]
[null,null,null,null,null,null,null,null,0,{"$error":"#DIV/0!"},{"$error":"#DIV/0!"},{"$error":"#DIV/0!"}]
[null,null,null,null,null,null,null,null,0,{"$error":"#DIV/0!"},{"$error":"#DIV/0!"},{"$error":"#DIV/0!"}]
[null,null,null,null,null,null,null,null,0,{"$error":"#DIV/0!"},{"$error":"#DIV/0!"},{"$error":"#DIV/0!"}]
[null,null,null,null,null,null,null,null,0,{"$error":"#DIV/0!"},{"$error":"#DIV/0!"},{"$error":"#DIV/0!"}]
[null,null,null,null,null,null,null,null,0,{"$error":"#DIV/0!"},{"$error":"#DIV/0!"},{"$error":"#DIV/0!"}]
[null,null,null,null,null,null,null,null,0,{"$error":"#DIV/0!"},{"$error":"#DIV/0!"},{"$error":"#DIV/0!"}]
[null,null,null,null,null,null,null,null,0,{"$error":"#DIV/0!"},{"$error":"#DIV/0!"},{"$error":"#DIV/0!"}]
[null,null,null,null,null,null,null,null,0,{"$error":"#DIV/0!"},{"$error":"#DIV/0!"},{"$error":"#DIV/0!"}]
[null,null,null,null,null,null,null,null,0,{"$error":"#DIV/0!"},{"$error":"#DIV/0!"},{"$error":"#DIV/0!"}]
[null,null,null,null,null,null,null,null,0,{"$error":"#DIV/0!"},{"$error":"#DIV/0!"},{"$error":"#DIV/0!"}]
[null,null,null,null,null,null,null,null,0,{"$error":"#DIV/0!"},{"$error":"#DIV/0!"},{"$error":"#DIV/0!"}]
[null,null,null,null,null,null,null,null,0,{"$error":"#DIV/0!"},{"$error":"#DIV/0!"},{"$error":"#DIV/0!"}]
[null,null,null,null,null,null,null,null,0,{"$error":"#DIV/0!"},{"$error":"#DIV/0!"},{"$error":"#DIV/0!"}]
[null,null,null,null,null,null,null,null,0,{"$error":"#DIV/0!"},{"$error":"#DIV/0!"},{"$error":"#DIV/0!"}]
[null,null,null,null,null,null,null,null,0,{"$error":"#DIV/0!"},{"$error":"#DIV/0!"},{"$error":"#DIV/0!"}]
[null,null,null,null,null,null,null,null,0,{"$error":"#DIV/0!"},{"$error":"#DIV/0!"},{"$error":"#DIV/0!"}]
[null,null,null,null,null,null,null,null,0,{"$error":"#DIV/0!"},{"$error":"#DIV/0!"},{"$error":"#DIV/0!"}]
[null,null,null,null,null,null,null,null,0,{"$error":"#DIV/0!"},{"$error":"#DIV/0!"},{"$error":"#DIV/0!"}]
[null,null,null,null,null,null,null,null,0,{"$error":"#DIV/0!"},{"$error":"#DIV/0!"},{"$error":"#DIV/0!"}]
[null,null,null,null,null,null,null,null,0,{"$error":"#DIV/0!"},{"$error":"#DIV/0!"},{"$error":"#DIV/0!"}]
[null,null,null,null,null,null,null,null,0,{"$error":"#DIV/0!"},{"$error":"#DIV/0!"},{"$error":"#DIV/0!"}]
[null,null,null,null,null,null,null,null,0,{"$error":"#DIV/0!"},{"$error":"#DIV/0!"},{"$error":"#DIV/0!"}]
[null,null,null,null,null,null,null,null,0,{"$error":"#DIV/0!"},{"$error":"#DIV/0!"},{"$error":"#DIV/0!"}]
[null,null,null,null,null,null,null,null,0,{"$error":"#DIV/0!"},{"$error":"#DIV/0!"},{"$error":"#DIV/0!"}]
[null,null,null,null,null,null,null,null,0,{"$error":"#DIV/0!"},{"$error":"#DIV/0!"},{"$error":"#DIV/0!"}]
[null,null,null,null,null,null,null,null,0,{"$error":"#DIV/0!"},{"$error":"#DIV/0!"},{"$error":"#DIV/0!"}]
[null,null,null,null,null,null,null,null,0,{"$error":"#DIV/0!"},{"$error":"#DIV/0!"},{"$error":"#DIV/0!"}]
[null,null,null,null,null,null,null,null,0,{"$error":"#DIV/0!"},{"$error":"#DIV/0!"},{"$error":"#DIV/0!"}]
[null,null,null,null,null,null,null,null,0,{"$error":"#DIV/0!"},{"$error":"#DIV/0!"},{"$error":"#DIV/0!"}]
[null,null,null,null,null,null,null,null,0,{"$error":"#DIV/0!"},{"$error":"#DIV/0!"},{"$error":"#DIV/0!"}]
[null,null,null,null,null,null,null,null,0,{"$error":"#DIV/0!"},{"$error":"#DIV/0!"},{"$error":"#DIV/0!"}]
[null,null,null,null,null,null,null,null,0,{"$error":"#DIV/0!"},{"$error":"#DIV/0!"},{"$error":"#DIV/0!"}]
[null,null,null,null,null,null,null,null,0,{"$error":"#DIV/0!"},{"$error":"#DIV/0!"},{"$error":"#DIV/0!"}]
[null,null,null,null,null,null,null,null,0,{"$error":"#DIV/0!"},{"$error":"#DIV/0!"},{"$error":"#DIV/0!"}]
[null,null,null,null,null,null,null,null,0,{"$error":"#DIV/0!"},{"$error":"#DIV/0!"},{"$error":"#DIV/0!"}]
[null,null,null,null,null,null,null,null,0,{"$error":"#DIV/0!"},{"$error":"#DIV/0!"},{"$error":"#DIV/0!"}]
[null,null,null,null,null,null,null,null,0,{"$error":"#DIV/0!"},{"$error":"#DIV/0!"},{"$error":"#DIV/0!"}]
[null,null,null,null,null,null,null,null,0,{"$error":"#DIV/0!"},{"$error":"#DIV/0!"},{"$error":"#DIV/0!"}]
[null,null,null,null,null,null,null,null,0,{"$error":"#DIV/0!"},{"$error":"#DIV/0!"},{"$error":"#DIV/0!"}]
[null,null,null,null,null,null,null,null,0,{"$error":"#DIV/0!"},{"$error":"#DIV/0!"},{"$error":"#DIV/0!"}]
[null,null,null,null,null,null,null,null,0,{"$error":"#DIV/0!"},{"$error":"#DIV/0!"},{"$error":"#DIV/0!"}]
[null,null,null,null,null,null,null,null,0,{"$error":"#DIV/0!"},{"$error":"#DIV/0!"},{"$error":"#DIV/0!"}]
[null,null,null,null,null,null,null,null,0,{"$error":"#DIV/0!"},{"$error":"#DIV/0!"},{"$error":"#DIV/0!"}]
[null,null,null,null,null,null,null,null,0,{"$error":"#DIV/0!"},{"$error":"#DIV/0!"},{"$error":"#DIV/0!"}]
[null,null,null,null,null,null,null,null,0,{"$error":"#DIV/0!"},{"$error":"#DIV/0!"},{"$error":"#DIV/0!"}]
[null,null,null,null,null,null,null,null,0,{"$error":"#DIV/0!"},{"$error":"#DIV/0!"},{"$error":"#DIV/0!"}]
[null,null,null,null,null,null,null,null,0,{"$error":"#DIV/0!"},{"$error":"#DIV/0!"},{"$error":"#DIV/0!"}]
[null,null,null,null,null,null,null,null,0,{"$error":"#DIV/0!"},{"$error":"#DIV/0!"},{"$error":"#DIV/0!"}]
[null,null,null,null,null,null,null,null,0,{"$error":"#DIV/0!"},{"$error":"#DIV/0!"},{"$error":"#DIV/0!"}]
[null,null,null,null,null,null,null,null,0,{"$error":"#DIV/0!"},{"$error":"#DIV/0!"},{"$error":"#DIV/0!"}]
[null,null,null,null,null,null,null,null,0,{"$error":"#DIV/0!"},{"$error":"#DIV/0!"},{"$error":"#DIV/0!"}]
[null,null,null,null,null,null,null,null,0,{"$error":"#DIV/0!"},{"$error":"#DIV/0!"},{"$error":"#DIV/0!"}]
[null,null,null,null,null,null,null,null,0,{"$error":"#DIV/0!"},{"$error":"#DIV/0!"},{"$error":"#DIV/0!"}]
[null,null,null,null,null,null,null,null,0,{"$error":"#DIV/0!"},{"$error":"#DIV/0!"},{"$error":"#DIV/0!"}]
[null,null,null,null,null,null,null,null,0,{"$error":"#DIV/0!"},{"$error":"#DIV/0!"},{"$error":"#DIV/0!"}]
[null,null,null,null,null,null,null,null,0,{"$error":"#DIV/0!"},{"$error":"#DIV/0!"},{"$error":"#DIV/0!"}]
[null,null,null,null,null,null,null,null,0,{"$error":"#DIV/0!"},{"$error":"#DIV/0!"},{"$error":"#DIV/0!"}]
[null,null,null,null,null,null,null,null,0,{"$error":"#DIV/0!"},{"$error":"#DIV/0!"},{"$error":"#DIV/0!"}]
[null,null,null,null,null,null,null,null,0,{"$error":"#DIV/0!"},{"$error":"#DIV/0!"},{"$error":"#DIV/0!"}]
[null,null,null,null,null,null,null,null,0,{"$error":"#DIV/0!"},{"$error":"#DIV/0!"},{"$error":"#DIV/0!"}]
[null,null,null,null,null,null,null,null,{"$f":"IF(F79702<>G79702,1,0)","v":0},{"$error":"#DIV/0!"},{"$f":"F79702/J79702","v":{"$error":"#DIV/0!"}},{"$error":"#DIV/0!"}]
[null,null,null,null,null,null,null,null,0,{"$error":"#DIV/0!"},{"$error":"#DIV/0!"},{"$f":"G79703/J79703","v":{"$error":"#DIV/0!"}}]
[null,null,null,null,null,null,null,null,0,{"$error":"#DIV/0!"},{"$error":"#DIV/0!"},{"$error":"#DIV/0!"}]
[null,null,null,null,null,null,null,null,0,{"$f":"IF(F79705/G79705=1,F79705,J79704)","v":{"$error":"#DIV/0!"}},{"$error":"#DIV/0!"},{"$error":"#DIV/0!"}]
[null,null,null,null,null,null,null,null,0,{"$error":"#DIV/0!"},{"$error":"#DIV/0!"},{"$error":"#DIV/0!"}]
[null,null,null,null,null,null,null,null,0,{"$error":"#DIV/0!"},{"$error":"#DIV/0!"},{"$error":"#DIV/0!"}]
[null,null,null,null,null,null,null,null,0,{"$error":"#DIV/0!"},{"$error":"#DIV/0!"},{"$error":"#DIV/0!"}]
[null,null,null,null,null,null,null,null,0,{"$error":"#DIV/0!"},{"$error":"#DIV/0!"},{"$error":"#DIV/0!"}]
[null,null,null,null,null,null,null,null,0,{"$error":"#DIV/0!"},{"$error":"#DIV/0!"},{"$error":"#DIV/0!"}]
[null,null,null,null,null,null,null,null,0,{"$error":"#DIV/0!"},{"$error":"#DIV/0!"},{"$error":"#DIV/0!"}]
[null,null,null,null,null,null,null,null,0,{"$error":"#DIV/0!"},{"$error":"#DIV/0!"},{"$error":"#DIV/0!"}]
[null,null,null,null,null,null,null,null,0,{"$error":"#DIV/0!"},{"$error":"#DIV/0!"},{"$error":"#DIV/0!"}]
[null,null,null,null,null,null,null,null,0,{"$error":"#DIV/0!"},{"$error":"#DIV/0!"},{"$error":"#DIV/0!"}]
[null,null,null,null,null,null,null,null,0,{"$error":"#DIV/0!"},{"$error":"#DIV/0!"},{"$error":"#DIV/0!"}]
[null,null,null,null,null,null,null,null,0,{"$error":"#DIV/0!"},{"$error":"#DIV/0!"},{"$error":"#DIV/0!"}]
[null,null,null,null,null,null,null,null,0,{"$error":"#DIV/0!"},{"$error":"#DIV/0!"},{"$error":"#DIV/0!"}]
[null,null,null,null,null,null,null,null,0,{"$error":"#DIV/0!"},{"$error":"#DIV/0!"},{"$error":"#DIV/0!"}]
[null,null,null,null,null,null,null,null,0,{"$error":"#DIV/0!"},{"$error":"#DIV/0!"},{"$error":"#DIV/0!"}]
[null,null,null,null,null,null,null,null,0,{"$error":"#DIV/0!"},{"$error":"#DIV/0!"},{"$error":"#DIV/0!"}]
[null,null,null,null,null,null,null,null,0,{"$error":"#DIV/0!"},{"$error":"#DIV/0!"},{"$error":"#DIV/0!"}]
[null,null,null,null,null,null,null,null,0,{"$error":"#DIV/0!"},{"$error":"#DIV/0!"},{"$error":"#DIV/0!"}]
[null,null,null,null,null,null,null,null,0,{"$error":"#DIV/0!"},{"$error":"#DIV/0!"},{"$error":"#DIV/0!"}]
[null,null,null,null,null,null,null,null,0,{"$error":"#DIV/0!"},{"$error":"#DIV/0!"},{"$error":"#DIV/0!"}]
[null,null,null,null,null,null,null,null,0,{"$error":"#DIV/0!"},{"$error":"#DIV/0!"},{"$error":"#DIV/0!"}]
[null,null,null,null,null,null,null,null,0,{"$error":"#DIV/0!"},{"$error":"#DIV/0!"},{"$error":"#DIV/0!"}]
[null,null,null,null,null,null,null,null,0,{"$error":"#DIV/0!"},{"$error":"#DIV/0!"},{"$error":"#DIV/0!"}]
[null,null,null,null,null,null,null,null,0,{"$error":"#DIV/0!"},{"$error":"#DIV/0!"},{"$error":"#DIV/0!"}]
[null,null,null,null,null,null,null,null,0,{"$error":"#DIV/0!"},{"$error":"#DIV/0!"},{"$error":"#DIV/0!"}]
[null,null,null,null,null,null,null,null,0,{"$error":"#DIV/0!"},{"$error":"#DIV/0!"},{"$error":"#DIV/0!"}]
[null,null,null,null,null,null,null,null,0,{"$error":"#DIV/0!"},{"$error":"#DIV/0!"},{"$error":"#DIV/0!"}]
[null,null,null,null,null,null,null,null,0,{"$error":"#DIV/0!"},{"$error":"#DIV/0!"},{"$error":"#DIV/0!"}]
[null,null,null,null,null,null,null,null,0,{"$error":"#DIV/0!"},{"$error":"#DIV/0!"},{"$error":"#DIV/0!"}]
[null,null,null,null,null,null,null,null,0,{"$error":"#DIV/0!"},{"$error":"#DIV/0!"},{"$error":"#DIV/0!"}]
[null,null,null,null,null,null,null,null,0,{"$error":"#DIV/0!"},{"$error":"#DIV/0!"},{"$error":"#DIV/0!"}]
[null,null,null,null,null,null,null,null,0,{"$error":"#DIV/0!"},{"$error":"#DIV/0!"},{"$error":"#DIV/0!"}]
[null,null,null,null,null,null,null,null,0,{"$error":"#DIV/0!"},{"$error":"#DIV/0!"},{"$error":"#DIV/0!"}]
[null,null,null,null,null,null,null,null,0,{"$error":"#DIV/0!"},{"$error":"#DIV/0!"},{"$error":"#DIV/0!"}]
[null,null,null,null,null,null,null,null,0,{"$error":"#DIV/0!"},{"$error":"#DIV/0!"},{"$error":"#DIV/0!"}]
[null,null,null,null,null,null,null,null,0,{"$error":"#DIV/0!"},{"$error":"#DIV/0!"},{"$error":"#DIV/0!"}]
[null,null,null,null,null,null,null,null,0,{"$error":"#DIV/0!"},{"$error":"#DIV/0!"},{"$error":"#DIV/0!"}]
[null,null,null,null,null,null,null,null,0,{"$error":"#DIV/0!"},{"$error":"#DIV/0!"},{"$error":"#DIV/0!"}]
[null,null,null,null,null,null,null,null,0,{"$error":"#DIV/0!"},{"$error":"#DIV/0!"},{"$error":"#DIV/0!"}]
[null,null,null,null,null,null,null,null,0,{"$error":"#DIV/0!"},{"$error":"#DIV/0!"},{"$error":"#DIV/0!"}]
[null,null,null,null,null,null,null,null,0,{"$error":"#DIV/0!"},{"$error":"#DIV/0!"},{"$error":"#DIV/0!"}]
[null,null,null,null,null,null,null,null,0,{"$error":"#DIV/0!"},{"$error":"#DIV/0!"},{"$error":"#DIV/0!"}]
[null,null,null,null,null,null,null,null,0,{"$error":"#DIV/0!"},{"$error":"#DIV/0!"},{"$error":"#DIV/0!"}]
[null,null,null,null,null,null,null,null,0,{"$error":"#DIV/0!"},{"$error":"#DIV/0!"},{"$error":"#DIV/0!"}]
[null,null,null,null,null,null,null,null,0,{"$error":"#DIV/0!"},{"$error":"#DIV/0!"},{"$error":"#DIV/0!"}]
[null,null,null,null,null,null,null,null,0,{"$error":"#DIV/0!"},{"$error":"#DIV/0!"},{"$error":"#DIV/0!"}]
[null,null,null,null,null,null,null,null,0,{"$error":"#DIV/0!"},{"$error":"#DIV/0!"},{"$error":"#DIV/0!"}]
[null,null,null,null,null,null,null,null,0,{"$error":"#DIV/0!"},{"$error":"#DIV/0!"},{"$error":"#DIV/0!"}]
[null,null,null,null,null,null,null,null,0,{"$error":"#DIV/0!"},{"$error":"#DIV/0!"},{"$error":"#DIV/0!"}]
[null,null,null,null,null,null,null,null,0,{"$error":"#DIV/0!"},{"$error":"#DIV/0!"},{"$error":"#DIV/0!"}]
[null,null,null,null,null,null,null,null,0,{"$error":"#DIV/0!"},{"$error":"#DIV/0!"},{"$error":"#DIV/0!"}]
[null,null,null,null,null,null,null,null,0,{"$error":"#DIV/0!"},{"$error":"#DIV/0!"},{"$error":"#DIV/0!"}]
[null,null,null,null,null,null,null,null,0,{"$error":"#DIV/0!"},{"$error":"#DIV/0!"},{"$error":"#DIV/0!"}]
[null,null,null,null,null,null,null,null,0,{"$error":"#DIV/0!"},{"$error":"#DIV/0!"},{"$error":"#DIV/0!"}]
[null,null,null,null,null,null,null,null,0,{"$error":"#DIV/0!"},{"$error":"#DIV/0!"},{"$error":"#DIV/0!"}]
[null,null,null,null,null,null,null,null,0,{"$error":"#DIV/0!"},{"$error":"#DIV/0!"},{"$error":"#DIV/0!"}]
[null,null,null,null,null,null,null,null,0,{"$error":"#DIV/0!"},{"$error":"#DIV/0!"},{"$error":"#DIV/0!"}]
[null,null,null,null,null,null,null,null,0,{"$error":"#DIV/0!"},{"$error":"#DIV/0!"},{"$error":"#DIV/0!"}]
[null,null,null,null,null,null,null,null,0,{"$error":"#DIV/0!"},{"$error":"#DIV/0!"},{"$error":"#DIV/0!"}]
[null,null,null,null,null,null,null,null,0,{"$error":"#DIV/0!"},{"$error":"#DIV/0!"},{"$error":"#DIV/0!"}]
[null,null,null,null,null,null,null,null,0,{"$error":"#DIV/0!"},{"$error":"#DIV/0!"},{"$error":"#DIV/0!"}]
[null,null,null,null,null,null,null,null,{"$f":"IF(F79766<>G79766,1,0)","v":0},{"$error":"#DIV/0!"},{"$f":"F79766/J79766","v":{"$error":"#DIV/0!"}},{"$error":"#DIV/0!"}]
[null,null,null,null,null,null,null,null,0,{"$error":"#DIV/0!"},{"$error":"#DIV/0!"},{"$f":"G79767/J79767","v":{"$error":"#DIV/0!"}}]
[null,null,null,null,null,null,null,null,0,{"$error":"#DIV/0!"},{"$error":"#DIV/0!"},{"$error":"#DIV/0!"}]
[null,null,null,null,null,null,null,null,0,{"$f":"IF(F79769/G79769=1,F79769,J79768)","v":{"$error":"#DIV/0!"}},{"$error":"#DIV/0!"},{"$error":"#DIV/0!"}]
[null,null,null,null,null,null,null,null,0,{"$error":"#DIV/0!"},{"$error":"#DIV/0!"},{"$error":"#DIV/0!"}]
[null,null,null,null,null,null,null,null,0,{"$error":"#DIV/0!"},{"$error":"#DIV/0!"},{"$error":"#DIV/0!"}]
[null,null,null,null,null,null,null,null,0,{"$error":"#DIV/0!"},{"$error":"#DIV/0!"},{"$error":"#DIV/0!"}]
[null,null,null,null,null,null,null,null,0,{"$error":"#DIV/0!"},{"$error":"#DIV/0!"},{"$error":"#DIV/0!"}]
[null,null,null,null,null,null,null,null,0,{"$error":"#DIV/0!"},{"$error":"#DIV/0!"},{"$error":"#DIV/0!"}]
[null,null,null,null,null,null,null,null,0,{"$error":"#DIV/0!"},{"$error":"#DIV/0!"},{"$error":"#DIV/0!"}]
[null,null,null,null,null,null,null,null,0,{"$error":"#DIV/0!"},{"$error":"#DIV/0!"},{"$error":"#DIV/0!"}]
[null,null,null,null,null,null,null,null,0,{"$error":"#DIV/0!"},{"$error":"#DIV/0!"},{"$error":"#DIV/0!"}]
[null,null,null,null,null,null,null,null,0,{"$error":"#DIV/0!"},{"$error":"#DIV/0!"},{"$error":"#DIV/0!"}]
[null,null,null,null,null,null,null,null,0,{"$error":"#DIV/0!"},{"$error":"#DIV/0!"},{"$error":"#DIV/0!"}]
[null,null,null,null,null,null,null,null,0,{"$error":"#DIV/0!"},{"$error":"#DIV/0!"},{"$error":"#DIV/0!"}]
[null,null,null,null,null,null,null,null,0,{"$error":"#DIV/0!"},{"$error":"#DIV/0!"},{"$error":"#DIV/0!"}]
[null,null,null,null,null,null,null,null,0,{"$error":"#DIV/0!"},{"$error":"#DIV/0!"},{"$error":"#DIV/0!"}]
[null,null,null,null,null,null,null,null,0,{"$error":"#DIV/0!"},{"$error":"#DIV/0!"},{"$error":"#DIV/0!"}]
[null,null,null,null,null,null,null,null,0,{"$error":"#DIV/0!"},{"$error":"#DIV/0!"},{"$error":"#DIV/0!"}]
[null,null,null,null,null,null,null,null,0,{"$error":"#DIV/0!"},{"$error":"#DIV/0!"},{"$error":"#DIV/0!"}]
[null,null,null,null,null,null,null,null,0,{"$error":"#DIV/0!"},{"$error":"#DIV/0!"},{"$error":"#DIV/0!"}]
[null,null,null,null,null,null,null,null,0,{"$error":"#DIV/0!"},{"$error":"#DIV/0!"},{"$error":"#DIV/0!"}]
[null,null,null,null,null,null,null,null,0,{"$error":"#DIV/0!"},{"$error":"#DIV/0!"},{"$error":"#DIV/0!"}]
[null,null,null,null,null,null,null,null,0,{"$error":"#DIV/0!"},{"$error":"#DIV/0!"},{"$error":"#DIV/0!"}]
[null,null,null,null,null,null,null,null,0,{"$error":"#DIV/0!"},{"$error":"#DIV/0!"},{"$error":"#DIV/0!"}]
[null,null,null,null,null,null,null,null,0,{"$error":"#DIV/0!"},{"$error":"#DIV/0!"},{"$error":"#DIV/0!"}]
[null,null,null,null,null,null,null,null,0,{"$error":"#DIV/0!"},{"$error":"#DIV/0!"},{"$error":"#DIV/0!"}]
[null,null,null,null,null,null,null,null,0,{"$error":"#DIV/0!"},{"$error":"#DIV/0!"},{"$error":"#DIV/0!"}]
[null,null,null,null,null,null,null,null,0,{"$error":"#DIV/0!"},{"$error":"#DIV/0!"},{"$error":"#DIV/0!"}]
[null,null,null,null,null,null,null,null,0,{"$error":"#DIV/0!"},{"$error":"#DIV/0!"},{"$error":"#DIV/0!"}]
[null,null,null,null,null,null,null,null,0,{"$error":"#DIV/0!"},{"$error":"#DIV/0!"},{"$error":"#DIV/0!"}]
[null,null,null,null,null,null,null,null,0,{"$error":"#DIV/0!"},{"$error":"#DIV/0!"},{"$error":"#DIV/0!"}]
[null,null,null,null,null,null,null,null,0,{"$error":"#DIV/0!"},{"$error":"#DIV/0!"},{"$error":"#DIV/0!"}]
[null,null,null,null,null,null,null,null,0,{"$error":"#DIV/0!"},{"$error":"#DIV/0!"},{"$error":"#DIV/0!"}]
[null,null,null,null,null,null,null,null,0,{"$error":"#DIV/0!"},{"$error":"#DIV/0!"},{"$error":"#DIV/0!"}]
[null,null,null,null,null,null,null,null,0,{"$error":"#DIV/0!"},{"$error":"#DIV/0!"},{"$error":"#DIV/0!"}]
[null,null,null,null,null,null,null,null,0,{"$error":"#DIV/0!"},{"$error":"#DIV/0!"},{"$error":"#DIV/0!"}]
[null,null,null,null,null,null,null,null,0,{"$error":"#DIV/0!"},{"$error":"#DIV/0!"},{"$error":"#DIV/0!"}]
[null,null,null,null,null,null,null,null,0,{"$error":"#DIV/0!"},{"$error":"#DIV/0!"},{"$error":"#DIV/0!"}]
[null,null,null,null,null,null,null,null,0,{"$error":"#DIV/0!"},{"$error":"#DIV/0!"},{"$error":"#DIV/0!"}]
[null,null,null,null,null,null,null,null,0,{"$error":"#DIV/0!"},{"$error":"#DIV/0!"},{"$error":"#DIV/0!"}]
[null,null,null,null,null,null,null,null,0,{"$error":"#DIV/0!"},{"$error":"#DIV/0!"},{"$error":"#DIV/0!"}]
[null,null,null,null,null,null,null,null,0,{"$error":"#DIV/0!"},{"$error":"#DIV/0!"},{"$error":"#DIV/0!"}]
[null,null,null,null,null,null,null,null,0,{"$error":"#DIV/0!"},{"$error":"#DIV/0!"},{"$error":"#DIV/0!"}]
[null,null,null,null,null,null,null,null,0,{"$error":"#DIV/0!"},{"$error":"#DIV/0!"},{"$error":"#DIV/0!"}]
[null,null,null,null,null,null,null,null,0,{"$error":"#DIV/0!"},{"$error":"#DIV/0!"},{"$error":"#DIV/0!"}]
[null,null,null,null,null,null,null,null,0,{"$error":"#DIV/0!"},{"$error":"#DIV/0!"},{"$error":"#DIV/0!"}]
[null,null,null,null,null,null,null,null,0,{"$error":"#DIV/0!"},{"$error":"#DIV/0!"},{"$error":"#DIV/0!"}]
[null,null,null,null,null,null,null,null,0,{"$error":"#DIV/0!"},{"$error":"#DIV/0!"},{"$error":"#DIV/0!"}]
[null,null,null,null,null,null,null,null,0,{"$error":"#DIV/0!"},{"$error":"#DIV/0!"},{"$error":"#DIV/0!"}]
[null,null,null,null,null,null,null,null,0,{"$error":"#DIV/0!"},{"$error":"#DIV/0!"},{"$error":"#DIV/0!"}]
[null,null,null,null,null,null,null,null,0,{"$error":"#DIV/0!"},{"$error":"#DIV/0!"},{"$error":"#DIV/0!"}]
[null,null,null,null,null,null,null,null,0,{"$error":"#DIV/0!"},{"$error":"#DIV/0!"},{"$error":"#DIV/0!"}]
[null,null,null,null,null,null,null,null,0,{"$error":"#DIV/0!"},{"$error":"#DIV/0!"},{"$error":"#DIV/0!"}]
[null,null,null,null,null,null,null,null,0,{"$error":"#DIV/0!"},{"$error":"#DIV/0!"},{"$error":"#DIV/0!"}]
[null,null,null,null,null,null,null,null,0,{"$error":"#DIV/0!"},{"$error":"#DIV/0!"},{"$error":"#DIV/0!"}]
[null,null,null,null,null,null,null,null,0,{"$error":"#DIV/0!"},{"$error":"#DIV/0!"},{"$error":"#DIV/0!"}]
[null,null,null,null,null,null,null,null,0,{"$error":"#DIV/0!"},{"$error":"#DIV/0!"},{"$error":"#DIV/0!"}]
[null,null,null,null,null,null,null,null,0,{"$error":"#DIV/0!"},{"$error":"#DIV/0!"},{"$error":"#DIV/0!"}]
[null,null,null,null,null,null,null,null,0,{"$error":"#DIV/0!"},{"$error":"#DIV/0!"},{"$error":"#DIV/0!"}]
[null,null,null,null,null,null,null,null,0,{"$error":"#DIV/0!"},{"$error":"#DIV/0!"},{"$error":"#DIV/0!"}]
[null,null,null,null,null,null,null,null,0,{"$error":"#DIV/0!"},{"$error":"#DIV/0!"},{"$error":"#DIV/0!"}]
[null,null,null,null,null,null,null,null,0,{"$error":"#DIV/0!"},{"$error":"#DIV/0!"},{"$error":"#DIV/0!"}]
[null,null,null,null,null,null,null,null,0,{"$error":"#DIV/0!"},{"$error":"#DIV/0!"},{"$error":"#DIV/0!"}]
[null,null,null,null,null,null,null,null,{"$f":"IF(F79830<>G79830,1,0)","v":0},{"$error":"#DIV/0!"},{"$f":"F79830/J79830","v":{"$error":"#DIV/0!"}},{"$error":"#DIV/0!"}]
[null,null,null,null,null,null,null,null,0,{"$error":"#DIV/0!"},{"$error":"#DIV/0!"},{"$f":"G79831/J79831","v":{"$error":"#DIV/0!"}}]
[null,null,null,null,null,null,null,null,0,{"$error":"#DIV/0!"},{"$error":"#DIV/0!"},{"$error":"#DIV/0!"}]
[null,null,null,null,null,null,null,null,0,{"$f":"IF(F79833/G79833=1,F79833,J79832)","v":{"$error":"#DIV/0!"}},{"$error":"#DIV/0!"},{"$error":"#DIV/0!"}]
[null,null,null,null,null,null,null,null,0,{"$error":"#DIV/0!"},{"$error":"#DIV/0!"},{"$error":"#DIV/0!"}]
[null,null,null,null,null,null,null,null,0,{"$error":"#DIV/0!"},{"$error":"#DIV/0!"},{"$error":"#DIV/0!"}]
[null,null,null,null,null,null,null,null,0,{"$error":"#DIV/0!"},{"$error":"#DIV/0!"},{"$error":"#DIV/0!"}]
[null,null,null,null,null,null,null,null,0,{"$error":"#DIV/0!"},{"$error":"#DIV/0!"},{"$error":"#DIV/0!"}]
[null,null,null,null,null,null,null,null,0,{"$error":"#DIV/0!"},{"$error":"#DIV/0!"},{"$error":"#DIV/0!"}]
[null,null,null,null,null,null,null,null,0,{"$error":"#DIV/0!"},{"$error":"#DIV/0!"},{"$error":"#DIV/0!"}]
[null,null,null,null,null,null,null,null,0,{"$error":"#DIV/0!"},{"$error":"#DIV/0!"},{"$error":"#DIV/0!"}]
[null,null,null,null,null,null,null,null,0,{"$error":"#DIV/0!"},{"$error":"#DIV/0!"},{"$error":"#DIV/0!"}]
[null,null,null,null,null,null,null,null,0,{"$error":"#DIV/0!"},{"$error":"#DIV/0!"},{"$error":"#DIV/0!"}]
[null,null,null,null,null,null,null,null,0,{"$error":"#DIV/0!"},{"$error":"#DIV/0!"},{"$error":"#DIV/0!"}]
[null,null,null,null,null,null,null,null,0,{"$error":"#DIV/0!"},{"$error":"#DIV/0!"},{"$error":"#DIV/0!"}]
[null,null,null,null,null,null,null,null,0,{"$error":"#DIV/0!"},{"$error":"#DIV/0!"},{"$error":"#DIV/0!"}]
[null,null,null,null,null,null,null,null,0,{"$error":"#DIV/0!"},{"$error":"#DIV/0!"},{"$error":"#DIV/0!"}]
[null,null,null,null,null,null,null,null,0,{"$error":"#DIV/0!"},{"$error":"#DIV/0!"},{"$error":"#DIV/0!"}]
[null,null,null,null,null,null,null,null,0,{"$error":"#DIV/0!"},{"$error":"#DIV/0!"},{"$error":"#DIV/0!"}]
[null,null,null,null,null,null,null,null,0,{"$error":"#DIV/0!"},{"$error":"#DIV/0!"},{"$error":"#DIV/0!"}]
[null,null,null,null,null,null,null,null,0,{"$error":"#DIV/0!"},{"$error":"#DIV/0!"},{"$error":"#DIV/0!"}]
[null,null,null,null,null,null,null,null,0,{"$error":"#DIV/0!"},{"$error":"#DIV/0!"},{"$error":"#DIV/0!"}]
[null,null,null,null,null,null,null,null,0,{"$error":"#DIV/0!"},{"$error":"#DIV/0!"},{"$error":"#DIV/0!"}]
[null,null,null,null,null,null,null,null,0,{"$error":"#DIV/0!"},{"$error":"#DIV/0!"},{"$error":"#DIV/0!"}]
[null,null,null,null,null,null,null,null,0,{"$error":"#DIV/0!"},{"$error":"#DIV/0!"},{"$error":"#DIV/0!"}]
[null,null,null,null,null,null,null,null,0,{"$error":"#DIV/0!"},{"$error":"#DIV/0!"},{"$error":"#DIV/0!"}]
[null,null,null,null,null,null,null,null,0,{"$error":"#DIV/0!"},{"$error":"#DIV/0!"},{"$error":"#DIV/0!"}]
[null,null,null,null,null,null,null,null,0,{"$error":"#DIV/0!"},{"$error":"#DIV/0!"},{"$error":"#DIV/0!"}]
[null,null,null,null,null,null,null,null,0,{"$error":"#DIV/0!"},{"$error":"#DIV/0!"},{"$error":"#DIV/0!"}]
[null,null,null,null,null,null,null,null,0,{"$error":"#DIV/0!"},{"$error":"#DIV/0!"},{"$error":"#DIV/0!"}]
[null,null,null,null,null,null,null,null,0,{"$error":"#DIV/0!"},{"$error":"#DIV/0!"},{"$error":"#DIV/0!"}]
[null,null,null,null,null,null,null,null,0,{"$error":"#DIV/0!"},{"$error":"#DIV/0!"},{"$error":"#DIV/0!"}]
[null,null,null,null,null,null,null,null,0,{"$error":"#DIV/0!"},{"$error":"#DIV/0!"},{"$error":"#DIV/0!"}]
[null,null,null,null,null,null,null,null,0,{"$error":"#DIV/0!"},{"$error":"#DIV/0!"},{"$error":"#DIV/0!"}]
[null,null,null,null,null,null,null,null,0,{"$error":"#DIV/0!"},{"$error":"#DIV/0!"},{"$error":"#DIV/0!"}]
[null,null,null,null,null,null,null,null,0,{"$error":"#DIV/0!"},{"$error":"#DIV/0!"},{"$error":"#DIV/0!"}]
[null,null,null,null,null,null,null,null,0,{"$error":"#DIV/0!"},{"$error":"#DIV/0!"},{"$error":"#DIV/0!"}]
[null,null,null,null,null,null,null,null,0,{"$error":"#DIV/0!"},{"$error":"#DIV/0!"},{"$error":"#DIV/0!"}]
[null,null,null,null,null,null,null,null,0,{"$error":"#DIV/0!"},{"$error":"#DIV/0!"},{"$error":"#DIV/0!"}]
[null,null,null,null,null,null,null,null,0,{"$error":"#DIV/0!"},{"$error":"#DIV/0!"},{"$error":"#DIV/0!"}]
[null,null,null,null,null,null,null,null,0,{"$error":"#DIV/0!"},{"$error":"#DIV/0!"},{"$error":"#DIV/0!"}]
[null,null,null,null,null,null,null,null,0,{"$error":"#DIV/0!"},{"$error":"#DIV/0!"},{"$error":"#DIV/0!"}]
[null,null,null,null,null,null,null,null,0,{"$error":"#DIV/0!"},{"$error":"#DIV/0!"},{"$error":"#DIV/0!"}]
[null,null,null,null,null,null,null,null,0,{"$error":"#DIV/0!"},{"$error":"#DIV/0!"},{"$error":"#DIV/0!"}]
[null,null,null,null,null,null,null,null,0,{"$error":"#DIV/0!"},{"$error":"#DIV/0!"},{"$error":"#DIV/0!"}]
[null,null,null,null,null,null,null,null,0,{"$error":"#DIV/0!"},{"$error":"#DIV/0!"},{"$error":"#DIV/0!"}]
[null,null,null,null,null,null,null,null,0,{"$error":"#DIV/0!"},{"$error":"#DIV/0!"},{"$error":"#DIV/0!"}]
[null,null,null,null,null,null,null,null,0,{"$error":"#DIV/0!"},{"$error":"#DIV/0!"},{"$error":"#DIV/0!"}]
[null,null,null,null,null,null,null,null,0,{"$error":"#DIV/0!"},{"$error":"#DIV/0!"},{"$error":"#DIV/0!"}]
[null,null,null,null,null,null,null,null,0,{"$error":"#DIV/0!"},{"$error":"#DIV/0!"},{"$error":"#DIV/0!"}]
[null,null,null,null,null,null,null,null,0,{"$error":"#DIV/0!"},{"$error":"#DIV/0!"},{"$error":"#DIV/0!"}]
[null,null,null,null,null,null,null,null,0,{"$error":"#DIV/0!"},{"$error":"#DIV/0!"},{"$error":"#DIV/0!"}]
[null,null,null,null,null,null,null,null,0,{"$error":"#DIV/0!"},{"$error":"#DIV/0!"},{"$error":"#DIV/0!"}]
[null,null,null,null,null,null,null,null,0,{"$error":"#DIV/0!"},{"$error":"#DIV/0!"},{"$error":"#DIV/0!"}]
[null,null,null,null,null,null,null,null,0,{"$error":"#DIV/0!"},{"$error":"#DIV/0!"},{"$error":"#DIV/0!"}]
[null,null,null,null,null,null,null,null,0,{"$error":"#DIV/0!"},{"$error":"#DIV/0!"},{"$error":"#DIV/0!"}]
[null,null,null,null,null,null,null,null,0,{"$error":"#DIV/0!"},{"$error":"#DIV/0!"},{"$error":"#DIV/0!"}]
[null,null,null,null,null,null,null,null,0,{"$error":"#DIV/0!"},{"$error":"#DIV/0!"},{"$error":"#DIV/0!"}]
[null,null,null,null,null,null,null,null,0,{"$error":"#DIV/0!"},{"$error":"#DIV/0!"},{"$error":"#DIV/0!"}]
[null,null,null,null,null,null,null,null,0,{"$error":"#DIV/0!"},{"$error":"#DIV/0!"},{"$error":"#DIV/0!"}]
[null,null,null,null,null,null,null,null,0,{"$error":"#DIV/0!"},{"$error":"#DIV/0!"},{"$error":"#DIV/0!"}]
[null,null,null,null,null,null,null,null,0,{"$error":"#DIV/0!"},{"$error":"#DIV/0!"},{"$error":"#DIV/0!"}]
[null,null,null,null,null,null,null,null,0,{"$error":"#DIV/0!"},{"$error":"#DIV/0!"},{"$error":"#DIV/0!"}]
[null,null,null,null,null,null,null,null,0,{"$error":"#DIV/0!"},{"$error":"#DIV/0!"},{"$error":"#DIV/0!"}]
[null,null,null,null,null,null,null,null,{"$f":"IF(F79894<>G79894,1,0)","v":0},{"$error":"#DIV/0!"},{"$f":"F79894/J79894","v":{"$error":"#DIV/0!"}},{"$error":"#DIV/0!"}]
[null,null,null,null,null,null,null,null,0,{"$error":"#DIV/0!"},{"$error":"#DIV/0!"},{"$f":"G79895/J79895","v":{"$error":"#DIV/0!"}}]
[null,null,null,null,null,null,null,null,0,{"$error":"#DIV/0!"},{"$error":"#DIV/0!"},{"$error":"#DIV/0!"}]
[null,null,null,null,null,null,null,null,0,{"$f":"IF(F79897/G79897=1,F79897,J79896)","v":{"$error":"#DIV/0!"}},{"$error":"#DIV/0!"},{"$error":"#DIV/0!"}]
[null,null,null,null,null,null,null,null,0,{"$error":"#DIV/0!"},{"$error":"#DIV/0!"},{"$error":"#DIV/0!"}]
[null,null,null,null,null,null,null,null,0,{"$error":"#DIV/0!"},{"$error":"#DIV/0!"},{"$error":"#DIV/0!"}]
[null,null,null,null,null,null,null,null,0,{"$error":"#DIV/0!"},{"$error":"#DIV/0!"},{"$error":"#DIV/0!"}]
[null,null,null,null,null,null,null,null,0,{"$error":"#DIV/0!"},{"$error":"#DIV/0!"},{"$error":"#DIV/0!"}]
[null,null,null,null,null,null,null,null,0,{"$error":"#DIV/0!"},{"$error":"#DIV/0!"},{"$error":"#DIV/0!"}]
[null,null,null,null,null,null,null,null,0,{"$error":"#DIV/0!"},{"$error":"#DIV/0!"},{"$error":"#DIV/0!"}]
[null,null,null,null,null,null,null,null,0,{"$error":"#DIV/0!"},{"$error":"#DIV/0!"},{"$error":"#DIV/0!"}]
[null,null,null,null,null,null,null,null,0,{"$error":"#DIV/0!"},{"$error":"#DIV/0!"},{"$error":"#DIV/0!"}]
[null,null,null,null,null,null,null,null,0,{"$error":"#DIV/0!"},{"$error":"#DIV/0!"},{"$error":"#DIV/0!"}]
[null,null,null,null,null,null,null,null,0,{"$error":"#DIV/0!"},{"$error":"#DIV/0!"},{"$error":"#DIV/0!"}]
[null,null,null,null,null,null,null,null,0,{"$error":"#DIV/0!"},{"$error":"#DIV/0!"},{"$error":"#DIV/0!"}]
[null,null,null,null,null,null,null,null,0,{"$error":"#DIV/0!"},{"$error":"#DIV/0!"},{"$error":"#DIV/0!"}]
[null,null,null,null,null,null,null,null,0,{"$error":"#DIV/0!"},{"$error":"#DIV/0!"},{"$error":"#DIV/0!"}]
[null,null,null,null,null,null,null,null,0,{"$error":"#DIV/0!"},{"$error":"#DIV/0!"},{"$error":"#DIV/0!"}]
[null,null,null,null,null,null,null,null,0,{"$error":"#DIV/0!"},{"$error":"#DIV/0!"},{"$error":"#DIV/0!"}]
[null,null,null,null,null,null,null,null,0,{"$error":"#DIV/0!"},{"$error":"#DIV/0!"},{"$error":"#DIV/0!"}]
[null,null,null,null,null,null,null,null,0,{"$error":"#DIV/0!"},{"$error":"#DIV/0!"},{"$error":"#DIV/0!"}]
[null,null,null,null,null,null,null,null,0,{"$error":"#DIV/0!"},{"$error":"#DIV/0!"},{"$error":"#DIV/0!"}]
[null,null,null,null,null,null,null,null,0,{"$error":"#DIV/0!"},{"$error":"#DIV/0!"},{"$error":"#DIV/0!"}]
[null,null,null,null,null,null,null,null,0,{"$error":"#DIV/0!"},{"$error":"#DIV/0!"},{"$error":"#DIV/0!"}]
[null,null,null,null,null,null,null,null,0,{"$error":"#DIV/0!"},{"$error":"#DIV/0!"},{"$error":"#DIV/0!"}]
[null,null,null,null,null,null,null,null,0,{"$error":"#DIV/0!"},{"$error":"#DIV/0!"},{"$error":"#DIV/0!"}]
[null,null,null,null,null,null,null,null,0,{"$error":"#DIV/0!"},{"$error":"#DIV/0!"},{"$error":"#DIV/0!"}]
[null,null,null,null,null,null,null,null,0,{"$error":"#DIV/0!"},{"$error":"#DIV/0!"},{"$error":"#DIV/0!"}]
[null,null,null,null,null,null,null,null,0,{"$error":"#DIV/0!"},{"$error":"#DIV/0!"},{"$error":"#DIV/0!"}]
[null,null,null,null,null,null,null,null,0,{"$error":"#DIV/0!"},{"$error":"#DIV/0!"},{"$error":"#DIV/0!"}]
[null,null,null,null,null,null,null,null,0,{"$error":"#DIV/0!"},{"$error":"#DIV/0!"},{"$error":"#DIV/0!"}]
[null,null,null,null,null,null,null,null,0,{"$error":"#DIV/0!"},{"$error":"#DIV/0!"},{"$error":"#DIV/0!"}]
[null,null,null,null,null,null,null,null,0,{"$error":"#DIV/0!"},{"$error":"#DIV/0!"},{"$error":"#DIV/0!"}]
[null,null,null,null,null,null,null,null,0,{"$error":"#DIV/0!"},{"$error":"#DIV/0!"},{"$error":"#DIV/0!"}]
[null,null,null,null,null,null,null,null,0,{"$error":"#DIV/0!"},{"$error":"#DIV/0!"},{"$error":"#DIV/0!"}]
[null,null,null,null,null,null,null,null,0,{"$error":"#DIV/0!"},{"$error":"#DIV/0!"},{"$error":"#DIV/0!"}]
[null,null,null,null,null,null,null,null,0,{"$error":"#DIV/0!"},{"$error":"#DIV/0!"},{"$error":"#DIV/0!"}]
[null,null,null,null,null,null,null,null,0,{"$error":"#DIV/0!"},{"$error":"#DIV/0!"},{"$error":"#DIV/0!"}]
[null,null,null,null,null,null,null,null,0,{"$error":"#DIV/0!"},{"$error":"#DIV/0!"},{"$error":"#DIV/0!"}]
[null,null,null,null,null,null,null,null,0,{"$error":"#DIV/0!"},{"$error":"#DIV/0!"},{"$error":"#DIV/0!"}]
[null,null,null,null,null,null,null,null,0,{"$error":"#DIV/0!"},{"$error":"#DIV/0!"},{"$error":"#DIV/0!"}]
[null,null,null,null,null,null,null,null,0,{"$error":"#DIV/0!"},{"$error":"#DIV/0!"},{"$error":"#DIV/0!"}]
[null,null,null,null,null,null,null,null,0,{"$error":"#DIV/0!"},{"$error":"#DIV/0!"},{"$error":"#DIV/0!"}]
[null,null,null,null,null,null,null,null,0,{"$error":"#DIV/0!"},{"$error":"#DIV/0!"},{"$error":"#DIV/0!"}]
[null,null,null,null,null,null,null,null,0,{"$error":"#DIV/0!"},{"$error":"#DIV/0!"},{"$error":"#DIV/0!"}]
[null,null,null,null,null,null,null,null,0,{"$error":"#DIV/0!"},{"$error":"#DIV/0!"},{"$error":"#DIV/0!"}]
[null,null,null,null,null,null,null,null,0,{"$error":"#DIV/0!"},{"$error":"#DIV/0!"},{"$error":"#DIV/0!"}]
[null,null,null,null,null,null,null,null,0,{"$error":"#DIV/0!"},{"$error":"#DIV/0!"},{"$error":"#DIV/0!"}]
[null,null,null,null,null,null,null,null,0,{"$error":"#DIV/0!"},{"$error":"#DIV/0!"},{"$error":"#DIV/0!"}]
[null,null,null,null,null,null,null,null,0,{"$error":"#DIV/0!"},{"$error":"#DIV/0!"},{"$error":"#DIV/0!"}]
[null,null,null,null,null,null,null,null,0,{"$error":"#DIV/0!"},{"$error":"#DIV/0!"},{"$error":"#DIV/0!"}]
[null,null,null,null,null,null,null,null,0,{"$error":"#DIV/0!"},{"$error":"#DIV/0!"},{"$error":"#DIV/0!"}]
[null,null,null,null,null,null,null,null,0,{"$error":"#DIV/0!"},{"$error":"#DIV/0!"},{"$error":"#DIV/0!"}]
[null,null,null,null,null,null,null,null,0,{"$error":"#DIV/0!"},{"$error":"#DIV/0!"},{"$error":"#DIV/0!"}]
[null,null,null,null,null,null,null,null,0,{"$error":"#DIV/0!"},{"$error":"#DIV/0!"},{"$error":"#DIV/0!"}]
[null,null,null,null,null,null,null,null,0,{"$error":"#DIV/0!"},{"$error":"#DIV/0!"},{"$error":"#DIV/0!"}]
[null,null,null,null,null,null,null,null,0,{"$error":"#DIV/0!"},{"$error":"#DIV/0!"},{"$error":"#DIV/0!"}]
[null,null,null,null,null,null,null,null,0,{"$error":"#DIV/0!"},{"$error":"#DIV/0!"},{"$error":"#DIV/0!"}]
[null,null,null,null,null,null,null,null,0,{"$error":"#DIV/0!"},{"$error":"#DIV/0!"},{"$error":"#DIV/0!"}]
[null,null,null,null,null,null,null,null,0,{"$error":"#DIV/0!"},{"$error":"#DIV/0!"},{"$error":"#DIV/0!"}]
[null,null,null,null,null,null,null,null,0,{"$error":"#DIV/0!"},{"$error":"#DIV/0!"},{"$error":"#DIV/0!"}]
[null,null,null,null,null,null,null,null,0,{"$error":"#DIV/0!"},{"$error":"#DIV/0!"},{"$error":"#DIV/0!"}]
[null,null,null,null,null,null,null,null,0,{"$error":"#DIV/0!"},{"$error":"#DIV/0!"},{"$error":"#DIV/0!"}]
[null,null,null,null,null,null,null,null,0,{"$error":"#DIV/0!"},{"$error":"#DIV/0!"},{"$error":"#DIV/0!"}]
[null,null,null,null,null,null,null,null,{"$f":"IF(F79958<>G79958,1,0)","v":0},{"$error":"#DIV/0!"},{"$f":"F79958/J79958","v":{"$error":"#DIV/0!"}},{"$error":"#DIV/0!"}]
[null,null,null,null,null,null,null,null,0,{"$error":"#DIV/0!"},{"$error":"#DIV/0!"},{"$f":"G79959/J79959","v":{"$error":"#DIV/0!"}}]
[null,null,null,null,null,null,null,null,0,{"$error":"#DIV/0!"},{"$error":"#DIV/0!"},{"$error":"#DIV/0!"}]
[null,null,null,null,null,null,null,null,0,{"$f":"IF(F79961/G79961=1,F79961,J79960)","v":{"$error":"#DIV/0!"}},{"$error":"#DIV/0!"},{"$error":"#DIV/0!"}]
[null,null,null,null,null,null,null,null,0,{"$error":"#DIV/0!"},{"$error":"#DIV/0!"},{"$error":"#DIV/0!"}]
[null,null,null,null,null,null,null,null,0,{"$error":"#DIV/0!"},{"$error":"#DIV/0!"},{"$error":"#DIV/0!"}]
[null,null,null,null,null,null,null,null,0,{"$error":"#DIV/0!"},{"$error":"#DIV/0!"},{"$error":"#DIV/0!"}]
[null,null,null,null,null,null,null,null,0,{"$error":"#DIV/0!"},{"$error":"#DIV/0!"},{"$error":"#DIV/0!"}]
[null,null,null,null,null,null,null,null,0,{"$error":"#DIV/0!"},{"$error":"#DIV/0!"},{"$error":"#DIV/0!"}]
[null,null,null,null,null,null,null,null,0,{"$error":"#DIV/0!"},{"$error":"#DIV/0!"},{"$error":"#DIV/0!"}]
[null,null,null,null,null,null,null,null,0,{"$error":"#DIV/0!"},{"$error":"#DIV/0!"},{"$error":"#DIV/0!"}]
[null,null,null,null,null,null,null,null,0,{"$error":"#DIV/0!"},{"$error":"#DIV/0!"},{"$error":"#DIV/0!"}]
[null,null,null,null,null,null,null,null,0,{"$error":"#DIV/0!"},{"$error":"#DIV/0!"},{"$error":"#DIV/0!"}]
[null,null,null,null,null,null,null,null,0,{"$error":"#DIV/0!"},{"$error":"#DIV/0!"},{"$error":"#DIV/0!"}]
[null,null,null,null,null,null,null,null,0,{"$error":"#DIV/0!"},{"$error":"#DIV/0!"},{"$error":"#DIV/0!"}]
[null,null,null,null,null,null,null,null,0,{"$error":"#DIV/0!"},{"$error":"#DIV/0!"},{"$error":"#DIV/0!"}]
[null,null,null,null,null,null,null,null,0,{"$error":"#DIV/0!"},{"$error":"#DIV/0!"},{"$error":"#DIV/0!"}]
[null,null,null,null,null,null,null,null,0,{"$error":"#DIV/0!"},{"$error":"#DIV/0!"},{"$error":"#DIV/0!"}]
[null,null,null,null,null,null,null,null,0,{"$error":"#DIV/0!"},{"$error":"#DIV/0!"},{"$error":"#DIV/0!"}]
[null,null,null,null,null,null,null,null,0,{"$error":"#DIV/0!"},{"$error":"#DIV/0!"},{"$error":"#DIV/0!"}]
[null,null,null,null,null,null,null,null,0,{"$error":"#DIV/0!"},{"$error":"#DIV/0!"},{"$error":"#DIV/0!"}]
[null,null,null,null,null,null,null,null,0,{"$error":"#DIV/0!"},{"$error":"#DIV/0!"},{"$error":"#DIV/0!"}]
[null,null,null,null,null,null,null,null,0,{"$error":"#DIV/0!"},{"$error":"#DIV/0!"},{"$error":"#DIV/0!"}]
[null,null,null,null,null,null,null,null,0,{"$error":"#DIV/0!"},{"$error":"#DIV/0!"},{"$error":"#DIV/0!"}]
[null,null,null,null,null,null,null,null,0,{"$error":"#DIV/0!"},{"$error":"#DIV/0!"},{"$error":"#DIV/0!"}]
[null,null,null,null,null,null,null,null,0,{"$error":"#DIV/0!"},{"$error":"#DIV/0!"},{"$error":"#DIV/0!"}]
[null,null,null,null,null,null,null,null,0,{"$error":"#DIV/0!"},{"$error":"#DIV/0!"},{"$error":"#DIV/0!"}]
[null,null,null,null,null,null,null,null,0,{"$error":"#DIV/0!"},{"$error":"#DIV/0!"},{"$error":"#DIV/0!"}]
[null,null,null,null,null,null,null,null,0,{"$error":"#DIV/0!"},{"$error":"#DIV/0!"},{"$error":"#DIV/0!"}]
[null,null,null,null,null,null,null,null,0,{"$error":"#DIV/0!"},{"$error":"#DIV/0!"},{"$error":"#DIV/0!"}]
[null,null,null,null,null,null,null,null,0,{"$error":"#DIV/0!"},{"$error":"#DIV/0!"},{"$error":"#DIV/0!"}]
[null,null,null,null,null,null,null,null,0,{"$error":"#DIV/0!"},{"$error":"#DIV/0!"},{"$error":"#DIV/0!"}]
[null,null,null,null,null,null,null,null,0,{"$error":"#DIV/0!"},{"$error":"#DIV/0!"},{"$error":"#DIV/0!"}]
[null,null,null,null,null,null,null,null,0,{"$error":"#DIV/0!"},{"$error":"#DIV/0!"},{"$error":"#DIV/0!"}]
[null,null,null,null,null,null,null,null,0,{"$error":"#DIV/0!"},{"$error":"#DIV/0!"},{"$error":"#DIV/0!"}]
[null,null,null,null,null,null,null,null,0,{"$error":"#DIV/0!"},{"$error":"#DIV/0!"},{"$error":"#DIV/0!"}]
[null,null,null,null,null,null,null,null,0,{"$error":"#DIV/0!"},{"$error":"#DIV/0!"},{"$error":"#DIV/0!"}]
[null,null,null,null,null,null,null,null,0,{"$error":"#DIV/0!"},{"$error":"#DIV/0!"},{"$error":"#DIV/0!"}]
[null,null,null,null,null,null,null,null,0,{"$error":"#DIV/0!"},{"$error":"#DIV/0!"},{"$error":"#DIV/0!"}]
[null,null,null,null,null,null,null,null,0,{"$error":"#DIV/0!"},{"$error":"#DIV/0!"},{"$error":"#DIV/0!"}]
[null,null,null,null,null,null,null,null,0,{"$error":"#DIV/0!"},{"$error":"#DIV/0!"},{"$error":"#DIV/0!"}]
[null,null,null,null,null,null,null,null,0,{"$error":"#DIV/0!"},{"$error":"#DIV/0!"},{"$error":"#DIV/0!"}]
[null,null,null,null,null,null,null,null,0,{"$error":"#DIV/0!"},{"$error":"#DIV/0!"},{"$error":"#DIV/0!"}]
[null,null,null,null,null,null,null,null,0,{"$error":"#DIV/0!"},{"$error":"#DIV/0!"},{"$error":"#DIV/0!"}]
[null,null,null,null,null,null,null,null,0,{"$error":"#DIV/0!"},{"$error":"#DIV/0!"},{"$error":"#DIV/0!"}]
[null,null,null,null,null,null,null,null,0,{"$error":"#DIV/0!"},{"$error":"#DIV/0!"},{"$error":"#DIV/0!"}]
[null,null,null,null,null,null,null,null,0,{"$error":"#DIV/0!"},{"$error":"#DIV/0!"},{"$error":"#DIV/0!"}]
[null,null,null,null,null,null,null,null,0,{"$error":"#DIV/0!"},{"$error":"#DIV/0!"},{"$error":"#DIV/0!"}]
[null,null,null,null,null,null,null,null,0,{"$error":"#DIV/0!"},{"$error":"#DIV/0!"},{"$error":"#DIV/0!"}]
[null,null,null,null,null,null,null,null,0,{"$error":"#DIV/0!"},{"$error":"#DIV/0!"},{"$error":"#DIV/0!"}]
[null,null,null,null,null,null,null,null,0,{"$error":"#DIV/0!"},{"$error":"#DIV/0!"},{"$error":"#DIV/0!"}]
[null,null,null,null,null,null,null,null,0,{"$error":"#DIV/0!"},{"$error":"#DIV/0!"},{"$error":"#DIV/0!"}]
[null,null,null,null,null,null,null,null,0,{"$error":"#DIV/0!"},{"$error":"#DIV/0!"},{"$error":"#DIV/0!"}]
[null,null,null,null,null,null,null,null,0,{"$error":"#DIV/0!"},{"$error":"#DIV/0!"},{"$error":"#DIV/0!"}]
[null,null,null,null,null,null,null,null,0,{"$error":"#DIV/0!"},{"$error":"#DIV/0!"},{"$error":"#DIV/0!"}]
[null,null,null,null,null,null,null,null,0,{"$error":"#DIV/0!"},{"$error":"#DIV/0!"},{"$error":"#DIV/0!"}]
[null,null,null,null,null,null,null,null,0,{"$error":"#DIV/0!"},{"$error":"#DIV/0!"},{"$error":"#DIV/0!"}]
[null,null,null,null,null,null,null,null,0,{"$error":"#DIV/0!"},{"$error":"#DIV/0!"},{"$error":"#DIV/0!"}]
[null,null,null,null,null,null,null,null,0,{"$error":"#DIV/0!"},{"$error":"#DIV/0!"},{"$error":"#DIV/0!"}]
[null,null,null,null,null,null,null,null,0,{"$error":"#DIV/0!"},{"$error":"#DIV/0!"},{"$error":"#DIV/0!"}]
[null,null,null,null,null,null,null,null,0,{"$error":"#DIV/0!"},{"$error":"#DIV/0!"},{"$error":"#DIV/0!"}]
[null,null,null,null,null,null,null,null,0,{"$error":"#DIV/0!"},{"$error":"#DIV/0!"},{"$error":"#DIV/0!"}]
[null,null,null,null,null,null,null,null,0,{"$error":"#DIV/0!"},{"$error":"#DIV/0!"},{"$error":"#DIV/0!"}]
[null,null,null,null,null,null,null,null,0,{"$error":"#DIV/0!"},{"$error":"#DIV/0!"},{"$error":"#DIV/0!"}]
[null,null,null,null,null,null,null,null,{"$f":"IF(F80022<>G80022,1,0)","v":0},{"$error":"#DIV/0!"},{"$f":"F80022/J80022","v":{"$error":"#DIV/0!"}},{"$error":"#DIV/0!"}]
[null,null,null,null,null,null,null,null,0,{"$error":"#DIV/0!"},{"$error":"#DIV/0!"},{"$f":"G80023/J80023","v":{"$error":"#DIV/0!"}}]
[null,null,null,null,null,null,null,null,0,{"$error":"#DIV/0!"},{"$error":"#DIV/0!"},{"$error":"#DIV/0!"}]
[null,null,null,null,null,null,null,null,0,{"$f":"IF(F80025/G80025=1,F80025,J80024)","v":{"$error":"#DIV/0!"}},{"$error":"#DIV/0!"},{"$error":"#DIV/0!"}]
[null,null,null,null,null,null,null,null,0,{"$error":"#DIV/0!"},{"$error":"#DIV/0!"},{"$error":"#DIV/0!"}]
[null,null,null,null,null,null,null,null,0,{"$error":"#DIV/0!"},{"$error":"#DIV/0!"},{"$error":"#DIV/0!"}]
[null,null,null,null,null,null,null,null,0,{"$error":"#DIV/0!"},{"$error":"#DIV/0!"},{"$error":"#DIV/0!"}]
[null,null,null,null,null,null,null,null,0,{"$error":"#DIV/0!"},{"$error":"#DIV/0!"},{"$error":"#DIV/0!"}]
[null,null,null,null,null,null,null,null,0,{"$error":"#DIV/0!"},{"$error":"#DIV/0!"},{"$error":"#DIV/0!"}]
[null,null,null,null,null,null,null,null,0,{"$error":"#DIV/0!"},{"$error":"#DIV/0!"},{"$error":"#DIV/0!"}]
[null,null,null,null,null,null,null,null,0,{"$error":"#DIV/0!"},{"$error":"#DIV/0!"},{"$error":"#DIV/0!"}]
[null,null,null,null,null,null,null,null,0,{"$error":"#DIV/0!"},{"$error":"#DIV/0!"},{"$error":"#DIV/0!"}]
[null,null,null,null,null,null,null,null,0,{"$error":"#DIV/0!"},{"$error":"#DIV/0!"},{"$error":"#DIV/0!"}]
[null,null,null,null,null,null,null,null,0,{"$error":"#DIV/0!"},{"$error":"#DIV/0!"},{"$error":"#DIV/0!"}]
[null,null,null,null,null,null,null,null,0,{"$error":"#DIV/0!"},{"$error":"#DIV/0!"},{"$error":"#DIV/0!"}]
[null,null,null,null,null,null,null,null,0,{"$error":"#DIV/0!"},{"$error":"#DIV/0!"},{"$error":"#DIV/0!"}]
[null,null,null,null,null,null,null,null,0,{"$error":"#DIV/0!"},{"$error":"#DIV/0!"},{"$error":"#DIV/0!"}]
[null,null,null,null,null,null,null,null,0,{"$error":"#DIV/0!"},{"$error":"#DIV/0!"},{"$error":"#DIV/0!"}]
[null,null,null,null,null,null,null,null,0,{"$error":"#DIV/0!"},{"$error":"#DIV/0!"},{"$error":"#DIV/0!"}]
[null,null,null,null,null,null,null,null,0,{"$error":"#DIV/0!"},{"$error":"#DIV/0!"},{"$error":"#DIV/0!"}]
[null,null,null,null,null,null,null,null,0,{"$error":"#DIV/0!"},{"$error":"#DIV/0!"},{"$error":"#DIV/0!"}]
[null,null,null,null,null,null,null,null,0,{"$error":"#DIV/0!"},{"$error":"#DIV/0!"},{"$error":"#DIV/0!"}]
[null,null,null,null,null,null,null,null,0,{"$error":"#DIV/0!"},{"$error":"#DIV/0!"},{"$error":"#DIV/0!"}]
[null,null,null,null,null,null,null,null,0,{"$error":"#DIV/0!"},{"$error":"#DIV/0!"},{"$error":"#DIV/0!"}]
[null,null,null,null,null,null,null,null,0,{"$error":"#DIV/0!"},{"$error":"#DIV/0!"},{"$error":"#DIV/0!"}]
[null,null,null,null,null,null,null,null,0,{"$error":"#DIV/0!"},{"$error":"#DIV/0!"},{"$error":"#DIV/0!"}]
[null,null,null,null,null,null,null,null,0,{"$error":"#DIV/0!"},{"$error":"#DIV/0!"},{"$error":"#DIV/0!"}]
[null,null,null,null,null,null,null,null,0,{"$error":"#DIV/0!"},{"$error":"#DIV/0!"},{"$error":"#DIV/0!"}]
[null,null,null,null,null,null,null,null,0,{"$error":"#DIV/0!"},{"$error":"#DIV/0!"},{"$error":"#DIV/0!"}]
[null,null,null,null,null,null,null,null,0,{"$error":"#DIV/0!"},{"$error":"#DIV/0!"},{"$error":"#DIV/0!"}]
[null,null,null,null,null,null,null,null,0,{"$error":"#DIV/0!"},{"$error":"#DIV/0!"},{"$error":"#DIV/0!"}]
[null,null,null,null,null,null,null,null,0,{"$error":"#DIV/0!"},{"$error":"#DIV/0!"},{"$error":"#DIV/0!"}]
[null,null,null,null,null,null,null,null,0,{"$error":"#DIV/0!"},{"$error":"#DIV/0!"},{"$error":"#DIV/0!"}]
[null,null,null,null,null,null,null,null,0,{"$error":"#DIV/0!"},{"$error":"#DIV/0!"},{"$error":"#DIV/0!"}]
[null,null,null,null,null,null,null,null,0,{"$error":"#DIV/0!"},{"$error":"#DIV/0!"},{"$error":"#DIV/0!"}]
[null,null,null,null,null,null,null,null,0,{"$error":"#DIV/0!"},{"$error":"#DIV/0!"},{"$error":"#DIV/0!"}]
[null,null,null,null,null,null,null,null,0,{"$error":"#DIV/0!"},{"$error":"#DIV/0!"},{"$error":"#DIV/0!"}]
[null,null,null,null,null,null,null,null,0,{"$error":"#DIV/0!"},{"$error":"#DIV/0!"},{"$error":"#DIV/0!"}]
[null,null,null,null,null,null,null,null,0,{"$error":"#DIV/0!"},{"$error":"#DIV/0!"},{"$error":"#DIV/0!"}]
[null,null,null,null,null,null,null,null,0,{"$error":"#DIV/0!"},{"$error":"#DIV/0!"},{"$error":"#DIV/0!"}]
[null,null,null,null,null,null,null,null,0,{"$error":"#DIV/0!"},{"$error":"#DIV/0!"},{"$error":"#DIV/0!"}]
[null,null,null,null,null,null,null,null,0,{"$error":"#DIV/0!"},{"$error":"#DIV/0!"},{"$error":"#DIV/0!"}]
[null,null,null,null,null,null,null,null,0,{"$error":"#DIV/0!"},{"$error":"#DIV/0!"},{"$error":"#DIV/0!"}]
[null,null,null,null,null,null,null,null,0,{"$error":"#DIV/0!"},{"$error":"#DIV/0!"},{"$error":"#DIV/0!"}]
[null,null,null,null,null,null,null,null,0,{"$error":"#DIV/0!"},{"$error":"#DIV/0!"},{"$error":"#DIV/0!"}]
[null,null,null,null,null,null,null,null,0,{"$error":"#DIV/0!"},{"$error":"#DIV/0!"},{"$error":"#DIV/0!"}]
[null,null,null,null,null,null,null,null,0,{"$error":"#DIV/0!"},{"$error":"#DIV/0!"},{"$error":"#DIV/0!"}]
[null,null,null,null,null,null,null,null,0,{"$error":"#DIV/0!"},{"$error":"#DIV/0!"},{"$error":"#DIV/0!"}]
[null,null,null,null,null,null,null,null,0,{"$error":"#DIV/0!"},{"$error":"#DIV/0!"},{"$error":"#DIV/0!"}]
[null,null,null,null,null,null,null,null,0,{"$error":"#DIV/0!"},{"$error":"#DIV/0!"},{"$error":"#DIV/0!"}]
[null,null,null,null,null,null,null,null,0,{"$error":"#DIV/0!"},{"$error":"#DIV/0!"},{"$error":"#DIV/0!"}]
[null,null,null,null,null,null,null,null,0,{"$error":"#DIV/0!"},{"$error":"#DIV/0!"},{"$error":"#DIV/0!"}]
[null,null,null,null,null,null,null,null,0,{"$error":"#DIV/0!"},{"$error":"#DIV/0!"},{"$error":"#DIV/0!"}]
[null,null,null,null,null,null,null,null,0,{"$error":"#DIV/0!"},{"$error":"#DIV/0!"},{"$error":"#DIV/0!"}]
[null,null,null,null,null,null,null,null,0,{"$error":"#DIV/0!"},{"$error":"#DIV/0!"},{"$error":"#DIV/0!"}]
[null,null,null,null,null,null,null,null,0,{"$error":"#DIV/0!"},{"$error":"#DIV/0!"},{"$error":"#DIV/0!"}]
[null,null,null,null,null,null,null,null,0,{"$error":"#DIV/0!"},{"$error":"#DIV/0!"},{"$error":"#DIV/0!"}]
[null,null,null,null,null,null,null,null,0,{"$error":"#DIV/0!"},{"$error":"#DIV/0!"},{"$error":"#DIV/0!"}]
[null,null,null,null,null,null,null,null,0,{"$error":"#DIV/0!"},{"$error":"#DIV/0!"},{"$error":"#DIV/0!"}]
[null,null,null,null,null,null,null,null,0,{"$error":"#DIV/0!"},{"$error":"#DIV/0!"},{"$error":"#DIV/0!"}]
[null,null,null,null,null,null,null,null,0,{"$error":"#DIV/0!"},{"$error":"#DIV/0!"},{"$error":"#DIV/0!"}]
[null,null,null,null,null,null,null,null,0,{"$error":"#DIV/0!"},{"$error":"#DIV/0!"},{"$error":"#DIV/0!"}]
[null,null,null,null,null,null,null,null,0,{"$error":"#DIV/0!"},{"$error":"#DIV/0!"},{"$error":"#DIV/0!"}]
[null,null,null,null,null,null,null,null,0,{"$error":"#DIV/0!"},{"$error":"#DIV/0!"},{"$error":"#DIV/0!"}]
[null,null,null,null,null,null,null,null,{"$f":"IF(F80086<>G80086,1,0)","v":0},{"$error":"#DIV/0!"},{"$f":"F80086/J80086","v":{"$error":"#DIV/0!"}},{"$error":"#DIV/0!"}]
[null,null,null,null,null,null,null,null,0,{"$error":"#DIV/0!"},{"$error":"#DIV/0!"},{"$f":"G80087/J80087","v":{"$error":"#DIV/0!"}}]
[null,null,null,null,null,null,null,null,0,{"$error":"#DIV/0!"},{"$error":"#DIV/0!"},{"$f":"G80088/J80088","v":{"$error":"#DIV/0!"}}]
[null,null,null,null,null,null,null,null,0,{"$f":"IF(F80089/G80089=1,F80089,J80088)","v":{"$error":"#DIV/0!"}},{"$error":"#DIV/0!"},{"$f":"G80089/J80089","v":{"$error":"#DIV/0!"}}]
[null,null,null,null,null,null,null,null,0,{"$f":"IF(F80090/G80090=1,F80090,J80089)","v":{"$error":"#DIV/0!"}},{"$error":"#DIV/0!"},{"$f":"G80090/J80090","v":{"$error":"#DIV/0!"}}]
[null,null,null,null,null,null,null,null,0,{"$f":"IF(F80091/G80091=1,F80091,J80090)","v":{"$error":"#DIV/0!"}},{"$error":"#DIV/0!"},{"$f":"G80091/J80091","v":{"$error":"#DIV/0!"}}]

{"sheet":"Legende","index":11,"n_rows":41,"n_cols":7,"rows_kept":41,"cut":false,"hidden":false,"merged":[]}
[]
["Zellenname","Deutsch","Englisch","Französisch","Italienisch","Portugues","Turkish"]
[]
["L_Kuehlfall","Kühlfall:","cooling mode:","Mode de refroidissement:","In raffescamento:"]
["L_Ansaugtemperatur_K","Ansaugtemperatur:","intake air temperature","Température de l'air d'admission","Temperatura aria in ingresso "]
["L_Kuehlwasservorlauf","Kühlwasservorlauf¹:","water supply temperature¹:","Température de l'eau¹:","Temperatura acqua in ingresso¹:"]
["L_Kuehlwasservorlauf_kon","Kühlwasservorlauf \nkondensierender Betrieb²:","water supply temperature (condensation mode)²:","Température de l'eau (Mode de condensation)²","Temperatura acqua in ingresso²:"]
["L_rF_kon","relative Feuchte²:","relative humidity²:","humidité relative"]
["L_projektierte_Leistung_k","projektierte Leistung:","required capacity for design situation:","Capacité requise pour la conception:","Potenzialità richiesta di progetto:"]
["L_Nennkühlwassermenge_K","Nennwassermenge:","nominal water flow rate:","quantité d'eau nominale","Portata acqua nominale:"]
["L_Istkühlwassermenge_K","Wassermenge Kühlen:","cold water flow rate:","quantité d'eau:","Portata acqua refrigerata:"]
["L_Heizfall","Heizfall:","heating mode:","Mode chauffage","In riscaldamento:"]
[]
["L_Ansaugtemperatur_H","Ansaugtemperatur:","intake air temperature","Température de l'air d'admission","Temperatura aria in ingresso "]
["L_Heizwasservorlauf","Heizwasservorlauf:","water supply temperature:","Température de l'eau:","Temperatura acqua in ingresso:"]
["L_projektierte_Leistung_h","projektierte Leistung:","required capacity for design situation:","Capacité requise pour la conception:","Potenzialità richiesta di progetto:"]
["L_Nennheizwassermenge_H","Nennwassermenge:","nominal water mass flow (heating):","quantité d'eau nominale","Portata acqua nominale:"]
["L_Istheizwassermenge_H","Wassermenge Heizen:","hot water flow rate:","quantité d'eau:","Portata acqua calda:"]
[]
["L_Volumenstrom","Volumenstrom","air flow rate","Debit d`air","Portata aria","Caudal de ar"]
["L_Drehzahl","Drehzahl","fan Speed","nombre de révolutions","Velocità del ventilatore "]
["L_Date","Datum:","Date:","data:","Data:","Data:","Tarih:"]
["L_Projekt","Projekt:","Project:","Projet:","Progetto:","Projecto:","Proje"]
["L_Bearbeiter","Bearbeiter:","Editor:","Responsable:","Responsabile:","Responsável:","Hazirlayan:"]
["L_Auslegung","Auslegung","calculation","calculer","calcole"]
["L_Kondensat","Kondensat²","condensate²","condensé²","condensato²"]
["L_Auslegetool","Auslegetool","Selection Software","Logiciel de sélection","Software di selezione"]
["L_mitFilter","mit Filter ","with filter ","avec filtre ","con filtro"]
["L_ohneFilter","ohne Filter","without filter","sans filtre","senza filtro"]
["L_mit3D","mit 3D-Strömung","with 3D-flow-application","avec 3D-courent","con 3D-corrente"]
["L_ohne3D","ohne 3D-Strömung","without 3D-flow-application"]
["L_mitSchalld","mit Schalldämmung","with sound insulation"]
["L_ohneSchalld","ohne Schalldämmung","without Schalldämmung"]
["L_Steuerspannung","Steuerspannung    (mit Filter)","control voltage     (with filter)","tension de commande (avec filtre)","tensione di controllo (con filtro)"]
["L_BG630","Baugröße 630","Size 630","Taille 630","Grandezza 630"]
["L_BG800","Baugröße 800","Size 800","Taille 800","Grandezza 800"]
["L_BG1000","Baugröße 1000","Size 1000","Taille 1000","Grandezza 1000"]
["L_Angabe","Angaben zu Toleranzen sowie weitere Spezifikationen sind der aktuellen Technischen Dokumentation zu entnehmen. Diese finden Sie auf www.LTG.de.","Information on tolerances and other specifications can be found in the current Technical Documentation. These can be found at www.LTG.de","Vous trouverez des informations sur les tolérances et autres spécifications dans la documentation technique actuelle. Ceux-ci peuvent être trouvés à www.LTG.de","Informazioni sulle tolleranze e altre specifiche sono disponibili nella documentazione tecnica corrente. Questi possono essere trovati su www.LTG.de"]
["L_Fehlerfreiheit","Eine Fehlerfreiheit des Programms kann nicht zugesichert werden.","An error-free program can not be guaranteed.","Un programme sans erreur ne peut être garanti.","Un programma senza errori non può essere garantito."]
["L_Programmierfehler","Aus Programmierfehlern entstandener Schaden geht nicht zu Lasten der LTG Aktiengesellschaft. Technische Änderungen im Rahmen der Weiterentwicklung vorbehalten.","Damage resulting from programming errors shall not be charged to LTG Aktiengesellschaft. We reserve the right to make technical changes within the scope of further development","découlant du mal des erreurs de programmation ne sont pas au détriment de LTG. Sous réserve de modifications techniques dans le cadre du développement.","derivanti da errori di programmazione danno non va a scapito della LTG. Con riserva di modifiche tecniche come parte dello sviluppo."]
["L_Zulufttemp","Zulufttemp.²","supply air temp²","temp de l'air d'alimentation²","temp dell'aria di alimentazione²"]

{"sheet":"Legende_Abkürzungen","index":12,"n_rows":38,"n_cols":8,"rows_kept":38,"cut":false,"hidden":false,"merged":[[0,13,0,17]]}
["Tel.  +49 (0)711 8201-180   Fax -720",null,"Email:","Raumluft@LTG-AG.de"]
["Legende für LTG-Induktionsgeräte",null,null,null,{"$f":"VKL!BF1","v":1},"Abfrage"]
["LTG Aktiengesellschaft",null,null,null,1,2,3,4]
[null,{"$f":"IF($E$2=1,E4,IF($E$2=2,F4,IF($E$2=3,G4,IF($E$2=4,H4,I4))))","v":"Deutsch"},null,null,"Deutsch","Englisch","Französisch","Italienisch"]
["Dp [Pa]","statischer Luftdruck am Primärluftstutzen in Pa",null,null,"statischer Luftdruck am Primärluftstutzen in Pa","static pressure of primary air (spigot)","pression statique á la tubulure de l'air primaire","pressione statica sul canotto di entrata aria primaria"]
["VP [m³/h]","Primärluftvolmenstrom in m³/h pro Gerät (+/- 10%)",null,null,"Primärluftvolmenstrom in m³/h pro Gerät (+/- 10%)","Primary air flow rate(+/- 10%)","débit volume de l'air primaire (+/- 10%)","portata d'aria primaria (+/-10%)"]
["LWA [dB(A)]","Schallleistungspegel in dB(A) (+/- 3 dB)",null,null,"Schallleistungspegel in dB(A) (+/- 3 dB)","Sound power level (+/- 3 dB)","Niveau de puissance sonore (+/-3 dB)","Livello di potenza sonora (+/- 3 dB)"]
["LA18 [dB(A)]","Schalldruckpegel bei 18 m² Sabine in dB(A) (+/- 3 dB)",null,null,"Schalldruckpegel bei 18 m² Sabine in dB(A) (+/- 3 dB)","Sound pressure level at a room absorption of 18m² Sabine(+/-3 dB)","niveau de pression acoustique lors d'une absorption de la salle de 18m² Sabine","Livello di pressione sonora con 18m² Sabine di assorbimento"]
["QPK [W]","Kühlleistung Primärluft",null,null,"Kühlleistung Primärluft","cooling capacity primary air","puissance frigorifique de l'air primaire","potenza frigorifera aria primaria"]
["QSK1) [W]","Sekundärkühlleistung (sensibel) in W bei nicht kondensierendem Betrieb (+/- 5%)",null,null,"Sekundärkühlleistung (sensibel) in W bei nicht kondensierendem Betrieb (+/- 5%)","Secondary cooling capacity  - heat exchanger (not condensing)","Capacité de refroidissement secondaire - sur l'échangeur thermique (sans condensation)","capacità di raffreddamento secondario - scambiatore di calore (senza condensa)"]
["QKges1) [W]","Gesamtkühlleistung bei nichtkondensierendem Betrieb in W",null,null,"Gesamtkühlleistung bei nichtkondensierendem Betrieb in W","Total cooling capacity (not condensing)","Capacité totale de refroidissement (sans condensation)","Potenza frigorifera totale (senza condensa)"]
["QTotal2) [W]","Totalleistung (sensibel + latent) in W bei kondensierendem Betrieb (+/- 5%)",null,null,"Totalleistung (sensibel + latent) in W bei kondensierendem Betrieb (+/- 5%)","Total cooling capacity at condensation (sensetive + latent)","Capacité totale de refroidissement avec condensation (sensible + latent)","Potenza frigorifera totale con condensazione (sensitivo + latente)"]
["QSK2) [W]",{"$f":"IF($E$2=1,E13,IF($E$2=2,F13,IF($E$2=3,G13,IF($E$2=4,H13,I13))))","v":"Sekundärkühlleistung (sensibel) in W bei kondensierendem Betrieb (+/- 5%)"},null,null,"Sekundärkühlleistung (sensibel) in W bei kondensierendem Betrieb (+/- 5%)","Secondary cooling capacity at condensation (sensetive)","Capacité de refroidissement secondaire avec condensation (sensible)","capacità di raffreddamento secondario con condensazione (sensitivo)"]
["Qsensibel, K2) [W]",{"$f":"IF($E$2=1,E14,IF($E$2=2,F14,IF($E$2=3,G14,IF($E$2=4,H14,I14))))","v":"Sekundärkühlleistung (sensibel) in W bei kondensierendem Betrieb (+/- 5%)"},null,null,"Sekundärkühlleistung (sensibel) in W bei kondensierendem Betrieb (+/- 5%)","Secondary cooling capacity at condensation (sensetive)","Capacité de refroidissement secondaire avec condensation (sensible)","capacità di raffreddamento secondario con condensazione (sensitivo)"]
["QKges2) [W]","Gesamtkühlleistung (sensibel + primär) bei kondensierendem Betrieb in W",null,null,"Gesamtkühlleistung (sensibel + primär) bei kondensierendem Betrieb in W","cooling capacity at condensation (sensetive + primary)","Capacité de refroidissement (sensible + primaire)","capacità di raffreddamento (sensitivo + primario)"]
["QPH [W]","Primärheizleistung in W (negativ = kühlen)",null,null,"Primärheizleistung in W (negativ = kühlen)","Primary heating capacity","Primary heating capacity","riscaldamento primario"]
["QSH [W]","Sekundärheizleistung in W (+/- 5%)",null,null,"Sekundärheizleistung in W (+/- 5%)","Secondary heating capacity","chauffage secondaire","riscaldamento secondaria"]
["QHges [W]","Gesamtheizleistung in W",null,null,"Gesamtheizleistung in W","Total heating capacity","puissance de chauffage totale","potenza termica totale"]
["tRaum [°C]","Raumtemperatur in °C",null,null,"Raumtemperatur in °C","Room temperature:","Température ambiante:","Temperatura ambiente:"]
["tKWRL [°C]","Kaltwasser-Rücklauftemperatur in °C",null,null,"Kaltwasser-Rücklauftemperatur in °C","Cold water return temperature","température de retour d'eau froide","temperatura di ritorno dell'acqua fredda"]
["tKWRL2 [°C]",{"$f":"IF($E$2=1,E21,IF($E$2=2,F21,IF($E$2=3,G21,IF($E$2=4,H21,I21))))","v":"Kaltwasser-Rücklauftemperatur in °C (kondensierender Betrieb)"},null,null,"Kaltwasser-Rücklauftemperatur in °C (kondensierender Betrieb)","Cold water return temperature (at condensation)","température de retour d'eau froide (avec condensation)","temperatura di ritorno dell'acqua fredda (con condensazione)"]
["tWWRL [°C]","Warmwasser-Rücklauftemperatur in °C",null,null,"Warmwasser-Rücklauftemperatur in °C","Hot water return temperature","température de retour d'eau chaude","temperatura di ritorno dell'acqua calda"]
["wOK","Nennwassermenge Kühlen in kg/h",null,null,"Nennwassermenge Kühlen in kg/h","nominal water mass flow (cooling)","quantité d'eau nominale (refroidissement)","Portata acqua nominale (raffreddamento)"]
["wOH","Nennwassermenge Heizen in kg/h",null,null,"Nennwassermenge Heizen in kg/h","nominal water mass flow (heating)","quantité d'eau nominale (chauffage)","Portata acqua nominale (riscaldamento)"]
["wK=","gewählte Wassermenge Kühlen",null,null,"gewählte Wassermenge Kühlen","Cold Water Flow Rate","quantité d'eau (refroidissement)","Portata acqua refrigerata"]
["wH=","gewählte Wassermenge Heizen",null,null,"gewählte Wassermenge Heizen","Hot Water Flow Rate","quantité d'eau (chauffage)","Portata acqua calda"]
["DpK","wasserseitiger Druckverlust über Kühlregister in kPa",null,null,"wasserseitiger Druckverlust über Kühlregister in kPa","water-side pressure loss","perte de charge sur l'eau","perdita di carico lato acqua"]
["DpH","wasserseitiger Druckverlust Heizregister in kPa",null,null,"wasserseitiger Druckverlust Heizregister in kPa","water-side pressure loss","perte de charge sur l'eau","perdita di carico lato acqua"]
["QE","Eigenkonvektion bei Warmwasservorlaufttemperatur 55 °C, Raumlufttemperatur 20 °C, Nennwassermenge",null,null,"Eigenkonvektion bei Warmwasservorlaufttemperatur 55 °C, Raumlufttemperatur 20 °C, Nennwassermenge","heating capacity by natural convection (Water supply temperature = 55°C, Roomtemp. = 20°C, nominal water mass flow)","puissance calorifique de convection propre (Température de l'eau = 55°C; température ambiante = 20°C; quantité d'eau nominale)","potenza calorifera a convezione naturale (Temperatura acqua in ingresso = 55°C; temperatura ambiente = 20°C ; Portata acqua)"]
["1*)","nicht kondensierender Betrieb",null,null,"nicht kondensierender Betrieb","not condensing","sans condensation","senza condensa"]
["2*)","kondensierender Betrieb",null,null,"kondensierender Betrieb","at condensation","avec condensation","con condensazione"]
[]
[]
[]
["ã LTG Aktiengesellschaft: 12.04.2017, TT"]
[{"$f":"L_Angabe","v":"Angaben zu Toleranzen sowie weitere Spezifikationen sind der aktuellen Technischen Dokumentation zu entnehmen. Diese finden Sie auf www.LTG.de."}]
[{"$f":"L_Fehlerfreiheit","v":"Eine Fehlerfreiheit des Programms kann nicht zugesichert werden."}]
[{"$f":"L_Programmierfehler","v":"Aus Programmierfehlern entstandener Schaden geht nicht zu Lasten der LTG Aktiengesellschaft. Technische Änderungen im Rahmen der Weiterentwicklung vorbehalten."}]